{"text_format":"1","workbook":"xlsx","n_sheets":9,"sheets":["Návod","Seznam střelců","Položkový list","Seznam družstev","Výsledek jednotlivci","Výsledek družstva","Los a nastavení","Pom. pořadí jednotlivci","Pom. pořadí družstva"],"not_rendered":{"charts":0,"images":0,"macros":1,"external_links":0,"defined_names":3,"comments":5,"pivot_tables":0},"unopened":[],"bounds":{"document_bytes":16777216,"sheet_cells":100000,"rows_first":2000,"rows_last":500,"rows_between":2000,"halvings":0,"cell_chars":16384,"cell_head_chars":4096},"cells_cut":0,"cells_raw":0,"read":"whole","date_system":"1900"}

{"sheet":"Návod","index":0,"n_rows":83,"n_cols":1,"rows_kept":83,"cut":false,"hidden":false,"merged":[]}
["Excelovský sešit slouží jako evidence střelců a vyhodnocení výsledků při střelecké soutěži."]
[]
["Umožňuje: (1) organizaci závodu jednotlivců a družstev v celkem max. 10 disciplinách; (2) automatické vyhodnocení pořadí podle celkového nástřelu, finále a rozstřelu; (3) při shodném součtu podle nástřelu od posledního sloupce postupně ve všech disciplinách a rozstřelu; (4) poloautomaticky lze vygenerovat los startovních čísel střelců a vylosovat družstva;  (5) listy \"Výsledek jednotlivci\" a \"Výsledek družstva\" obsahují setříděné výsledkové listiny od nejlepšího; (6) lze evidovat střelce a družstva mimo závod; (7) lze tisknout položkové listy pro záznam výsledků."]
[]
["Obecné informace"]
[]
["Testováno v Excel 2003 a 2010. Pokud nefungují výpočty na listech, musí se povolit spouštění maker. "]
[]
["Zapisujte informace pouze do bílých polí (případně do zelených polí), nikdy do šedých. Buňky se vzorci jsou uzamčené a nelze je měnit, Excel zobrazí upozornění."]
[]
["Šedá políčka obsahují vzorce, které přebírají hodnoty z bílých nebo zelených polí, buňky jsou zamčené, aby se nedaly náhodně přepsat. Obsahy polí se mění průběžně při zadávání dat - to může být matoucí, ale je to vlastnost MS Excel."]
[]
["Záhlaví listů je podbarvené zeleně – je třeba doplnit název závodu, datum a další text podle potřeby."]
["Jména disciplin lze přepsat podle potřeby (sloupce F - O), názvy sloupců Finále a Rozstřel jsou pevné a nelze je měnit. Pořadí jmen disciplin zadejte/přepište tak, aby se využilo kritérium při vyhodnocení pořadí jednotlivců viz dole."]
["Buňky označené malým červeným trojúhelníkem obsahují nápovědu. Ta se zobrazí, pokud nad buňku umístíte kurzor myši."]
[]
["Jak použít:"]
["1. Vytvořte kopii souboru a přejmenujte si ji podle konkrétního závodu, dále pracujte pouze s kopií (nebo Menu \"Soubor\" -> \"Uložit jako\" pro konkrétní závod)."]
["2. V \"Seznamu střelců\" přepište záhlaví v řádcích č. 1 - 3 podle Vašeho závodu"]
["3. Na řádku č. 6 přepište jména disciplin ve sloupci F - O. POZOR: pokud je zapnutý automatický filtr, buňky nevybírejte myší, ale šipkami na klávesnici. Nejdůležitější disciplina při shodě nástřelu musí být ve sloupci O, další N a tak dále směrem doleva."]
["4. Na listu \"Los a nastavení\" můžete změnit počet členů v rundě a počet pořadí hodnocených cenou (slabě se podbarví jméno závodníka na hodnocené pozici). Až zapíšete všechny účastníky, můžete náhodně vygenerovat startovní čísla a případně i čísla družstev. Pokud budete generovat startovní čísla nebo družstva, postupujte podle návodu na listu. "]
["5. Na listu \"Seznam střelců\" vyplňte seznam střelců a pokud organizujete družstva, přidělte jim čísla družstev. Pokud budete generovat čísla družstev náhodně, proveďte to na listu \"Los a nastavení\". Pozn.: střelci bez čísla družstva se do soutěže družstev nezařazují."]
["6. Při zadávání střelců lze průběžně tisknout položkové listy."]
["7. V průběhu závodu doplňujte průběžně nástřel disciplin, finále, případně rozstřel."]
["8. Po ukončení závodu překontrolujte listy \"Výsledek jednotlivci\" a \"Výsledek družstva\". Pokud se v řádku zobrazí \"Rozstřel\", jedná se o shodu nástřelu -> postup viz popis listu Výsledek jednotlivci."]
["9. Pokud organizujete závod s menším počtem disciplin a nevyužité sloupce by rušily, lze je skrýt - myší vyberte sloupce, které nepotřebujete, klikněte na ně pravým tlačítkem myši a v menu vyberte \"Skrýt\" "]
[]
["Vyhodnocení pořadí jednotlivců"]
["Pořadí střelců (jednotlivců) se určuje automaticky na základě zadaného nástřelu dvěma způsoby:"]
[]
["A)"]
["V případě shody se určuje na základě lepšího výsledku v deseti sloupcích disciplin:"]
["  = nejprve na základě posledního sloupce discipliny (sloupec O);"]
["  = při shodě ve sloupci O podle výsledku ve sloupci předposlední discipliny (sloupec N);"]
["  = při shodě ve sloupci N podle výsledku ve sloupci vlevo od předposledního a tak dále (až po F včetně);"]
["  = pokud ani to nerozhodne, rozhoduje se podle výsledku ve sloupci Rozstřel."]
[]
["B)"]
["Jakmile se zadá střelci výsledek do sloupce Finále (sloupec P), bere se v úvahu pouze nástřel v závodě + finále a rozstřel. Tj. neuplatní se kritérium A) a při shodě rozhoduje rozstřel."]
[]
["Vyhodnocení pořadí družstev"]
["Pořadí družstev se vyhodnocuje podle kritéria A) viz výše pořadí jednotlivců."]
[]
["Výpočet nehlídá, aby se do finále pozvali střelci s odpovídajícím nástřelem - to musí zajistit organizátor. Pozn.: pokud organizujete rozstřel o účast ve finále, nezapisujte sem výsledky tohoto rozstřelu."]
[]
["Excelovský sešit sestává z následujících listů:"]
[]
["Návod - tento text."]
[]
["Seznam střelců"]
["Hlavní list, do kterého se zapisují jednotliví účastníci závodu, číslo jejich družstva a nástřel v jednotlivých disciplínách. V jeho záhlaví je třeba doplnit název, místo a datum pořádání závodu."]
["Všechny výpočty jsou podmíněny zadáním jména střelce do sloupce Jméno, jinak se celý řádek ignoruje. Jména zadávejte souvisle - nenechávejte mezi nimi volné řádky."]
["Zadání družstva je nepovinné, pokud se zadává, je třeba družstva číslovat od 1, v souvislé číselné řadě. Pro náhodné losování družstev lze použít list \"Los a nastavení\"."]
["Pokud někdo střílí mimo závod, napište do příslušného sloupce k jeho jménu např. A nebo Ano. Jakmile je buňka neprázdná, výsledky střelce se evidují, ale výsledková listina \"Výsledné pořadí\" zařadí takové střelce na konec seznamu."]
["Do seznamu lze zadat nejvýše 101 střelců."]
["Podle zadaného nástřelu se průběžně určuje pořadí v závodu, při shodě se rozhoduje podle lepšího výsledku v disciplině ve sloupcích zprava doleva. Pokud algoritmus nedokáže rozhodnout, zobrazí se ve sloupci P slovo \"Rozstřel\". Na listu \"Výsledek jednotlivci\" se pro takové střelce zobrazuje také upozornění Rozstřel. Pro tyto střelce je třeba do sloupce \"Rozstřel\" doplnit hodnoty buď podle rozstřelu nebo podle první chyby v položce (pozor: vyšší číslo znamená lepší pořadí)."]
[]
["Seznam družstev"]
["Pokud je střelci v Seznamu střelců přiděleno číslo družstva, zobrazuje se součet nástřelu členů družstva a orientační pořadí. Do sloupce R lze doplnit jméno družstva, které se použije spolu se seznamem jeho členů v prvním sloupci a na výsledkové listině. V posledním sloupci se zobrazuje pro kontrolu počet členů družstva. Do listu zadávejte pouze do sloupce Rozstřel (pokud je to potřeba), ostatní data se přenáší automaticky."]
["Lze vytvořit maximálně 34 družstev."]
[]
["Výsledek jednotlivci"]
["Na listu se automaticky průběžně vytváří seznam střelců uspořádaný podle jejich okamžitého pořadí v závodě, slouží hlavně pro tisk na konci závodu. Funguje dobře, pouze pokud je pořadí všech střelců určeno bez duplicit. Pokud mají dva nebo více střelců stejné pořadí, zobrazuje se u příslušného střelce příznak \"Rozstřel\". To lze odstranit např. tak, že se na listu \"Seznam střelců\" pro dotčené závodníky doplní výsledky z rozstřelu nebo se uměle přidá rozstřel - např. na základě první chyby v rozhodující položce 1 pro lepšího a 0 pro horšího závodníka (případně 2, 1, 0 pokud je shoda u tří závodníků); vyšší číslo znamená lepší umístění. Do listu \"Výsledek jednotlivci\" nic nezadávejte (není zde použita šedá barva). I zde lze doporučit skrytí nepotřebných sloupců."]
[]
["Výsledek družstva"]
["Na listu se automaticky vytváří seznam družstev podle jejich okamžitého pořadí v závodě, slouží hlavně pro tisk na konci závodu. Pokud mají dvě nebo více družstev stejné pořadí zobrazuje se u příslušného družstva příznak \"Rozstřel\". Do tohoto listu nic nezadávejte (není zde použita šedá barva)."]
["Družstva mimo závod se zařazují na konec."]
[]
["Los a nastavení"]
["Pomocný list, kde lze nastavit některé informace a náhodně vylosovat startovní čísla účastníků závodu a případně jejich náhodné rozřazení do družstev. Viz popis na listu. "]
["Počet hodnocených pořadí jednotlivci: pokud je nastaveno, je příslušný počet jmen střelců na prvních hodnocených pozicích v Seznamu střelců podbarven. Před zahájením závodu mají všichni nástřel 0 a jsou proto na 1 místě - může to být matoucí, ale při průběžném zadávání výsledků se zpřesňuje."]
["Počet hodnocených pořadí družstva: pokud je nastaveno, je příslušný počet Názvů družstev na hodnocené pozici podbarven."]
["Počet střelců v rundě: používá se k automatickému přidělení čísla rundy podle startovního čísla střelce."]
["Počet terčů v disciplině: používá se pro červené podbarvení absolutního nástřelu střelců. "]
["Počet členů družstva: pokud je nula, generování čísla družstva se nezobrazuje/neprovádí."]
[]
["Položkový list"]
["Položkový list umožňuje tisknout položky pro záznam výsledků závodu, a to jak pro jednotlivé závodníky (pokud nejsou pevné rundy), tak i pro celé rundy. Pokud se používají listy pro pevné rundy, je třeba nastavit na listu \"Los a nastavení\" počet členů rundy."]
[]
["Pomocné pořadí jednotlivci a Pomocné pořadí družstva"]
["Jedná se o dva pomocné listy, na kterých se počítá pořadí střelců  a družstev podle nástřelu v jednotlivých disciplinách v pořadí od posledního do prvního sloupce a sloupce rozstřel (v tomto pořadí). Pro uživatele nemají praktický význam. "]
[]
["Verze 3.5.1, květen 2014, Jiří Maša, jmasa@cmail.cz; je určeno pro příznivce sportovní střelby a jiné organizátory závodů, ale ne k prodeji nebo komerčnímu využití."]

{"sheet":"Seznam střelců","index":1,"n_rows":108,"n_cols":20,"rows_kept":108,"cut":false,"hidden":false,"merged":[[4,0,4,4],[0,0,0,18],[1,0,1,18],[2,0,2,18],[3,0,3,18],[4,5,4,17]]}
["Výsledková listina"]
["Pohár města Bystřice nad Pernštejnem"]
["Střelnice Smrček-Býšovec, 24.9.2017"]
[{"$f":"\"Celkový počet střelců: \" & COUNTA($E$7:$E$107)","v":"Celkový počet střelců: 34"}]
["Střelec",null,null,null,null,"Nástřel"]
["Start. číslo","Runda","Mimo závod","Druž-stvo č.","Jméno","Disc. 1","Disc. 2","Disc. 3","Disc. 4","Disc. 5","Disc. 6","Disc. 7","Zajíc","LK II","LK I","Finále","Rozstřel","Celkový součet","Průběžné pořadí jednotlivci",{"$f":"IF(ISNA(MATCH(\"*\",$E$7:$E$107,-1)),\n      \"\",\n      IF(COUNTA($E$7:$E$107) <> MATCH(\"*\",$E$7:$E$107,-1), \"Varování: Jména zadávejte souvisle od řádku č. 7\", \"\")\n    )","v":""}]
[{"$f":"IF(E7<>\"\",1,\"\")","v":1},{"$f":"IF(A7<>\"\",1+INT(($A7-1)/'Los a nastavení'!$B$5),\"\")","v":1},null,null,"Pešek Josef",null,null,null,null,null,null,null,18,11,12,null,null,{"$f":"IF(E7<> \"\", SUM(F7:P7),\"\")","v":41},{"$f":"'Pom. pořadí jednotlivci'!O7","v":29},{"$f":"IF($A7<>\"\",INDEX('Výsledek jednotlivci'!$R$7:$R$107,MATCH($A7,'Výsledek jednotlivci'!$B$7:$B$107,0)),\"\")","v":""}]
[{"$f":"IF(E8<>\"\",$A7+1,\"\")","v":2},{"$f":"IF(A8<>\"\",1+INT(($A8-1)/'Los a nastavení'!$B$5),\"\")","v":1},null,null,"Brunclík Jiří",null,null,null,null,null,null,null,16,19,19,null,null,{"$f":"IF(E8<> \"\", SUM(F8:P8),\"\")","v":54},{"$f":"'Pom. pořadí jednotlivci'!O8","v":3},{"$f":"IF($A8<>\"\",INDEX('Výsledek jednotlivci'!$R$7:$R$107,MATCH($A8,'Výsledek jednotlivci'!$B$7:$B$107,0)),\"\")","v":""}]
[3,{"$f":"IF(A9<>\"\",1+INT(($A9-1)/'Los a nastavení'!$B$5),\"\")","v":1},null,null,"Rusek Aleš",null,null,null,null,null,null,null,18,16,16,null,null,50,{"$f":"'Pom. pořadí jednotlivci'!O9","v":11},{"$f":"IF($A9<>\"\",INDEX('Výsledek jednotlivci'!$R$7:$R$107,MATCH($A9,'Výsledek jednotlivci'!$B$7:$B$107,0)),\"\")","v":""}]
[4,{"$f":"IF(A10<>\"\",1+INT(($A10-1)/'Los a nastavení'!$B$5),\"\")","v":1},null,null,"Žák Svatopluk",null,null,null,null,null,null,null,15,6,11,null,null,32,{"$f":"'Pom. pořadí jednotlivci'!O10","v":33},{"$f":"IF($A10<>\"\",INDEX('Výsledek jednotlivci'!$R$7:$R$107,MATCH($A10,'Výsledek jednotlivci'!$B$7:$B$107,0)),\"\")","v":""}]
[5,{"$f":"IF(A11<>\"\",1+INT(($A11-1)/'Los a nastavení'!$B$5),\"\")","v":1},null,null,"Kachlík Petr",null,null,null,null,null,null,null,12,17,17,null,null,46,{"$f":"'Pom. pořadí jednotlivci'!O11","v":22},{"$f":"IF($A11<>\"\",INDEX('Výsledek jednotlivci'!$R$7:$R$107,MATCH($A11,'Výsledek jednotlivci'!$B$7:$B$107,0)),\"\")","v":""}]
[6,{"$f":"IF(A12<>\"\",1+INT(($A12-1)/'Los a nastavení'!$B$5),\"\")","v":1},null,null,"Toufar Milan",null,null,null,null,null,null,null,11,10,13,null,null,34,{"$f":"'Pom. pořadí jednotlivci'!O12","v":32},{"$f":"IF($A12<>\"\",INDEX('Výsledek jednotlivci'!$R$7:$R$107,MATCH($A12,'Výsledek jednotlivci'!$B$7:$B$107,0)),\"\")","v":""}]
[7,{"$f":"IF(A13<>\"\",1+INT(($A13-1)/'Los a nastavení'!$B$5),\"\")","v":2},null,null,"Šimon Jaroslav",null,null,null,null,null,null,null,18,16,18,null,null,52,{"$f":"'Pom. pořadí jednotlivci'!O13","v":7},{"$f":"IF($A13<>\"\",INDEX('Výsledek jednotlivci'!$R$7:$R$107,MATCH($A13,'Výsledek jednotlivci'!$B$7:$B$107,0)),\"\")","v":""}]
[8,{"$f":"IF(A14<>\"\",1+INT(($A14-1)/'Los a nastavení'!$B$5),\"\")","v":2},null,null,"Lukeš Zdeněk",null,null,null,null,null,null,null,16,16,14,null,null,46,{"$f":"'Pom. pořadí jednotlivci'!O14","v":23},{"$f":"IF($A14<>\"\",INDEX('Výsledek jednotlivci'!$R$7:$R$107,MATCH($A14,'Výsledek jednotlivci'!$B$7:$B$107,0)),\"\")","v":""}]
[9,{"$f":"IF(A15<>\"\",1+INT(($A15-1)/'Los a nastavení'!$B$5),\"\")","v":2},null,null,"Barák Dominik",null,null,null,null,null,null,null,18,17,17,null,0,52,{"$f":"'Pom. pořadí jednotlivci'!O15","v":9},{"$f":"IF($A15<>\"\",INDEX('Výsledek jednotlivci'!$R$7:$R$107,MATCH($A15,'Výsledek jednotlivci'!$B$7:$B$107,0)),\"\")","v":""}]
[10,{"$f":"IF(A16<>\"\",1+INT(($A16-1)/'Los a nastavení'!$B$5),\"\")","v":2},null,null,"Juračka Luděk",null,null,null,null,null,null,null,16,14,14,null,null,44,{"$f":"'Pom. pořadí jednotlivci'!O16","v":25},{"$f":"IF($A16<>\"\",INDEX('Výsledek jednotlivci'!$R$7:$R$107,MATCH($A16,'Výsledek jednotlivci'!$B$7:$B$107,0)),\"\")","v":""}]
[11,{"$f":"IF(A17<>\"\",1+INT(($A17-1)/'Los a nastavení'!$B$5),\"\")","v":2},null,null,"Čupr Bohumil",null,null,null,null,null,null,null,19,11,12,null,null,42,{"$f":"'Pom. pořadí jednotlivci'!O17","v":28},{"$f":"IF($A17<>\"\",INDEX('Výsledek jednotlivci'!$R$7:$R$107,MATCH($A17,'Výsledek jednotlivci'!$B$7:$B$107,0)),\"\")","v":""}]
[12,{"$f":"IF(A18<>\"\",1+INT(($A18-1)/'Los a nastavení'!$B$5),\"\")","v":2},null,null,"Malý Pavel",null,null,null,null,null,null,null,18,15,16,null,null,49,{"$f":"'Pom. pořadí jednotlivci'!O18","v":12},{"$f":"IF($A18<>\"\",INDEX('Výsledek jednotlivci'!$R$7:$R$107,MATCH($A18,'Výsledek jednotlivci'!$B$7:$B$107,0)),\"\")","v":""}]
[13,{"$f":"IF(A19<>\"\",1+INT(($A19-1)/'Los a nastavení'!$B$5),\"\")","v":3},null,null,"Vaňhara Hynek",null,null,null,null,null,null,null,19,17,15,null,null,51,{"$f":"'Pom. pořadí jednotlivci'!O19","v":10},{"$f":"IF($A19<>\"\",INDEX('Výsledek jednotlivci'!$R$7:$R$107,MATCH($A19,'Výsledek jednotlivci'!$B$7:$B$107,0)),\"\")","v":""}]
[14,{"$f":"IF(A20<>\"\",1+INT(($A20-1)/'Los a nastavení'!$B$5),\"\")","v":3},null,null,"Marák Tomáš",null,null,null,null,null,null,null,13,19,16,null,null,48,{"$f":"'Pom. pořadí jednotlivci'!O20","v":13},{"$f":"IF($A20<>\"\",INDEX('Výsledek jednotlivci'!$R$7:$R$107,MATCH($A20,'Výsledek jednotlivci'!$B$7:$B$107,0)),\"\")","v":""}]
[15,{"$f":"IF(A21<>\"\",1+INT(($A21-1)/'Los a nastavení'!$B$5),\"\")","v":3},null,null,"Hrbek Václav",null,null,null,null,null,null,null,11,14,18,null,null,43,{"$f":"'Pom. pořadí jednotlivci'!O21","v":26},{"$f":"IF($A21<>\"\",INDEX('Výsledek jednotlivci'!$R$7:$R$107,MATCH($A21,'Výsledek jednotlivci'!$B$7:$B$107,0)),\"\")","v":""}]
[16,{"$f":"IF(A22<>\"\",1+INT(($A22-1)/'Los a nastavení'!$B$5),\"\")","v":3},null,null,"Lagron Čeněk",null,null,null,null,null,null,null,19,18,19,null,null,56,{"$f":"'Pom. pořadí jednotlivci'!O22","v":2},{"$f":"IF($A22<>\"\",INDEX('Výsledek jednotlivci'!$R$7:$R$107,MATCH($A22,'Výsledek jednotlivci'!$B$7:$B$107,0)),\"\")","v":""}]
[17,{"$f":"IF(A23<>\"\",1+INT(($A23-1)/'Los a nastavení'!$B$5),\"\")","v":3},null,null,"Bělík Zdeněk",null,null,null,null,null,null,null,18,14,16,null,1,48,{"$f":"'Pom. pořadí jednotlivci'!O23","v":14},{"$f":"IF($A23<>\"\",INDEX('Výsledek jednotlivci'!$R$7:$R$107,MATCH($A23,'Výsledek jednotlivci'!$B$7:$B$107,0)),\"\")","v":""}]
[18,{"$f":"IF(A24<>\"\",1+INT(($A24-1)/'Los a nastavení'!$B$5),\"\")","v":3},null,null,"Kubín Ladislav",null,null,null,null,null,null,null,15,9,5,null,null,29,{"$f":"'Pom. pořadí jednotlivci'!O24","v":34},{"$f":"IF($A24<>\"\",INDEX('Výsledek jednotlivci'!$R$7:$R$107,MATCH($A24,'Výsledek jednotlivci'!$B$7:$B$107,0)),\"\")","v":""}]
[19,{"$f":"IF(A25<>\"\",1+INT(($A25-1)/'Los a nastavení'!$B$5),\"\")","v":4},null,null,"Vrzal Petr",null,null,null,null,null,null,null,17,18,18,null,null,53,{"$f":"'Pom. pořadí jednotlivci'!O25","v":4},{"$f":"IF($A25<>\"\",INDEX('Výsledek jednotlivci'!$R$7:$R$107,MATCH($A25,'Výsledek jednotlivci'!$B$7:$B$107,0)),\"\")","v":""}]
[20,{"$f":"IF(A26<>\"\",1+INT(($A26-1)/'Los a nastavení'!$B$5),\"\")","v":4},null,null,"Prchal Karel",null,null,null,null,null,null,null,18,16,13,null,null,47,{"$f":"'Pom. pořadí jednotlivci'!O26","v":21},{"$f":"IF($A26<>\"\",INDEX('Výsledek jednotlivci'!$R$7:$R$107,MATCH($A26,'Výsledek jednotlivci'!$B$7:$B$107,0)),\"\")","v":""}]
[21,{"$f":"IF(A27<>\"\",1+INT(($A27-1)/'Los a nastavení'!$B$5),\"\")","v":4},null,null,"Borek Miloslav",null,null,null,null,null,null,null,13,10,13,null,null,36,{"$f":"'Pom. pořadí jednotlivci'!O27","v":30},{"$f":"IF($A27<>\"\",INDEX('Výsledek jednotlivci'!$R$7:$R$107,MATCH($A27,'Výsledek jednotlivci'!$B$7:$B$107,0)),\"\")","v":""}]
[22,{"$f":"IF(A28<>\"\",1+INT(($A28-1)/'Los a nastavení'!$B$5),\"\")","v":4},null,null,"Vranka David",null,null,null,null,null,null,null,19,17,17,null,null,53,{"$f":"'Pom. pořadí jednotlivci'!O28","v":6},{"$f":"IF($A28<>\"\",INDEX('Výsledek jednotlivci'!$R$7:$R$107,MATCH($A28,'Výsledek jednotlivci'!$B$7:$B$107,0)),\"\")","v":""}]
[23,{"$f":"IF(A29<>\"\",1+INT(($A29-1)/'Los a nastavení'!$B$5),\"\")","v":4},null,null,"Sobotka Libor",null,null,null,null,null,null,null,18,15,15,null,0,48,{"$f":"'Pom. pořadí jednotlivci'!O29","v":17},{"$f":"IF($A29<>\"\",INDEX('Výsledek jednotlivci'!$R$7:$R$107,MATCH($A29,'Výsledek jednotlivci'!$B$7:$B$107,0)),\"\")","v":""}]
[24,{"$f":"IF(A30<>\"\",1+INT(($A30-1)/'Los a nastavení'!$B$5),\"\")","v":4},null,null,"Hochman Miloš",null,null,null,null,null,null,null,7,14,14,null,null,35,{"$f":"'Pom. pořadí jednotlivci'!O30","v":31},{"$f":"IF($A30<>\"\",INDEX('Výsledek jednotlivci'!$R$7:$R$107,MATCH($A30,'Výsledek jednotlivci'!$B$7:$B$107,0)),\"\")","v":""}]
[25,{"$f":"IF(A31<>\"\",1+INT(($A31-1)/'Los a nastavení'!$B$5),\"\")","v":5},null,null,"Letáček Zbyněk",null,null,null,null,null,null,null,18,17,17,null,1,52,{"$f":"'Pom. pořadí jednotlivci'!O31","v":8},{"$f":"IF($A31<>\"\",INDEX('Výsledek jednotlivci'!$R$7:$R$107,MATCH($A31,'Výsledek jednotlivci'!$B$7:$B$107,0)),\"\")","v":""}]
[26,{"$f":"IF(A32<>\"\",1+INT(($A32-1)/'Los a nastavení'!$B$5),\"\")","v":5},null,null,"Holub Robert",null,null,null,null,null,null,null,18,14,16,null,0,48,{"$f":"'Pom. pořadí jednotlivci'!O32","v":15},{"$f":"IF($A32<>\"\",INDEX('Výsledek jednotlivci'!$R$7:$R$107,MATCH($A32,'Výsledek jednotlivci'!$B$7:$B$107,0)),\"\")","v":""}]
[27,{"$f":"IF(A33<>\"\",1+INT(($A33-1)/'Los a nastavení'!$B$5),\"\")","v":5},null,null,"Holub Petr",null,null,null,null,null,null,null,14,13,15,null,null,42,{"$f":"'Pom. pořadí jednotlivci'!O33","v":27},{"$f":"IF($A33<>\"\",INDEX('Výsledek jednotlivci'!$R$7:$R$107,MATCH($A33,'Výsledek jednotlivci'!$B$7:$B$107,0)),\"\")","v":""}]
[28,{"$f":"IF(A34<>\"\",1+INT(($A34-1)/'Los a nastavení'!$B$5),\"\")","v":5},null,null,"Brunclík Tomáš",null,null,null,null,null,null,null,14,16,17,null,null,47,{"$f":"'Pom. pořadí jednotlivci'!O34","v":19},{"$f":"IF($A34<>\"\",INDEX('Výsledek jednotlivci'!$R$7:$R$107,MATCH($A34,'Výsledek jednotlivci'!$B$7:$B$107,0)),\"\")","v":""}]
[29,{"$f":"IF(A35<>\"\",1+INT(($A35-1)/'Los a nastavení'!$B$5),\"\")","v":5},null,null,"Bělík Michal",null,null,null,null,null,null,null,17,19,17,null,null,53,{"$f":"'Pom. pořadí jednotlivci'!O35","v":5},{"$f":"IF($A35<>\"\",INDEX('Výsledek jednotlivci'!$R$7:$R$107,MATCH($A35,'Výsledek jednotlivci'!$B$7:$B$107,0)),\"\")","v":""}]
[30,{"$f":"IF(A36<>\"\",1+INT(($A36-1)/'Los a nastavení'!$B$5),\"\")","v":5},null,null,"Kašpar Jiří",null,null,null,null,null,null,null,16,15,16,null,null,47,{"$f":"'Pom. pořadí jednotlivci'!O36","v":20},{"$f":"IF($A36<>\"\",INDEX('Výsledek jednotlivci'!$R$7:$R$107,MATCH($A36,'Výsledek jednotlivci'!$B$7:$B$107,0)),\"\")","v":""}]
[31,{"$f":"IF(A37<>\"\",1+INT(($A37-1)/'Los a nastavení'!$B$5),\"\")","v":6},null,null,"Vrbas Josef",null,null,null,null,null,null,null,18,15,15,null,1,48,{"$f":"'Pom. pořadí jednotlivci'!O37","v":16},{"$f":"IF($A37<>\"\",INDEX('Výsledek jednotlivci'!$R$7:$R$107,MATCH($A37,'Výsledek jednotlivci'!$B$7:$B$107,0)),\"\")","v":""}]
[32,{"$f":"IF(A38<>\"\",1+INT(($A38-1)/'Los a nastavení'!$B$5),\"\")","v":6},null,null,"Šváb Antonín",null,null,null,null,null,null,null,13,16,16,null,null,45,{"$f":"'Pom. pořadí jednotlivci'!O38","v":24},{"$f":"IF($A38<>\"\",INDEX('Výsledek jednotlivci'!$R$7:$R$107,MATCH($A38,'Výsledek jednotlivci'!$B$7:$B$107,0)),\"\")","v":""}]
[33,{"$f":"IF(A39<>\"\",1+INT(($A39-1)/'Los a nastavení'!$B$5),\"\")","v":6},null,null,"Minář Jaroslav",null,null,null,null,null,null,null,14,15,18,null,null,47,{"$f":"'Pom. pořadí jednotlivci'!O39","v":18},{"$f":"IF($A39<>\"\",INDEX('Výsledek jednotlivci'!$R$7:$R$107,MATCH($A39,'Výsledek jednotlivci'!$B$7:$B$107,0)),\"\")","v":""}]
[{"$f":"IF(E40<>\"\",$A39+1,\"\")","v":34},{"$f":"IF(A40<>\"\",1+INT(($A40-1)/'Los a nastavení'!$B$5),\"\")","v":6},null,null,"Podsedník Ladislav",null,null,null,null,null,null,null,20,19,19,null,null,58,{"$f":"'Pom. pořadí jednotlivci'!O40","v":1},{"$f":"IF($A40<>\"\",INDEX('Výsledek jednotlivci'!$R$7:$R$107,MATCH($A40,'Výsledek jednotlivci'!$B$7:$B$107,0)),\"\")","v":""}]
["",{"$f":"IF(A41<>\"\",1+INT(($A41-1)/'Los a nastavení'!$B$5),\"\")","v":""},null,null,null,null,null,null,null,null,null,null,null,null,null,null,null,"",{"$f":"'Pom. pořadí jednotlivci'!O41","v":""},{"$f":"IF($A41<>\"\",INDEX('Výsledek jednotlivci'!$R$7:$R$107,MATCH($A41,'Výsledek jednotlivci'!$B$7:$B$107,0)),\"\")","v":""}]
["",{"$f":"IF(A42<>\"\",1+INT(($A42-1)/'Los a nastavení'!$B$5),\"\")","v":""},null,null,null,null,null,null,null,null,null,null,null,null,null,null,null,"",{"$f":"'Pom. pořadí jednotlivci'!O42","v":""},{"$f":"IF($A42<>\"\",INDEX('Výsledek jednotlivci'!$R$7:$R$107,MATCH($A42,'Výsledek jednotlivci'!$B$7:$B$107,0)),\"\")","v":""}]
["",{"$f":"IF(A43<>\"\",1+INT(($A43-1)/'Los a nastavení'!$B$5),\"\")","v":""},null,null,null,null,null,null,null,null,null,null,null,null,null,null,null,"",{"$f":"'Pom. pořadí jednotlivci'!O43","v":""},{"$f":"IF($A43<>\"\",INDEX('Výsledek jednotlivci'!$R$7:$R$107,MATCH($A43,'Výsledek jednotlivci'!$B$7:$B$107,0)),\"\")","v":""}]
["",{"$f":"IF(A44<>\"\",1+INT(($A44-1)/'Los a nastavení'!$B$5),\"\")","v":""},null,{"$f":"'Los a nastavení'!J44","v":""},null,null,null,null,null,null,null,null,null,null,null,null,null,"",{"$f":"'Pom. pořadí jednotlivci'!O44","v":""},{"$f":"IF($A44<>\"\",INDEX('Výsledek jednotlivci'!$R$7:$R$107,MATCH($A44,'Výsledek jednotlivci'!$B$7:$B$107,0)),\"\")","v":""}]
["",{"$f":"IF(A45<>\"\",1+INT(($A45-1)/'Los a nastavení'!$B$5),\"\")","v":""},null,{"$f":"'Los a nastavení'!J45","v":""},null,null,null,null,null,null,null,null,null,null,null,null,null,"",{"$f":"'Pom. pořadí jednotlivci'!O45","v":""},{"$f":"IF($A45<>\"\",INDEX('Výsledek jednotlivci'!$R$7:$R$107,MATCH($A45,'Výsledek jednotlivci'!$B$7:$B$107,0)),\"\")","v":""}]
["",{"$f":"IF(A46<>\"\",1+INT(($A46-1)/'Los a nastavení'!$B$5),\"\")","v":""},null,{"$f":"'Los a nastavení'!J46","v":""},null,null,null,null,null,null,null,null,null,null,null,null,null,"",{"$f":"'Pom. pořadí jednotlivci'!O46","v":""},{"$f":"IF($A46<>\"\",INDEX('Výsledek jednotlivci'!$R$7:$R$107,MATCH($A46,'Výsledek jednotlivci'!$B$7:$B$107,0)),\"\")","v":""}]
["",{"$f":"IF(A47<>\"\",1+INT(($A47-1)/'Los a nastavení'!$B$5),\"\")","v":""},null,{"$f":"'Los a nastavení'!J47","v":""},null,null,null,null,null,null,null,null,null,null,null,null,null,"",{"$f":"'Pom. pořadí jednotlivci'!O47","v":""},{"$f":"IF($A47<>\"\",INDEX('Výsledek jednotlivci'!$R$7:$R$107,MATCH($A47,'Výsledek jednotlivci'!$B$7:$B$107,0)),\"\")","v":""}]
["",{"$f":"IF(A48<>\"\",1+INT(($A48-1)/'Los a nastavení'!$B$5),\"\")","v":""},null,{"$f":"'Los a nastavení'!J48","v":""},null,null,null,null,null,null,null,null,null,null,null,null,null,"",{"$f":"'Pom. pořadí jednotlivci'!O48","v":""},{"$f":"IF($A48<>\"\",INDEX('Výsledek jednotlivci'!$R$7:$R$107,MATCH($A48,'Výsledek jednotlivci'!$B$7:$B$107,0)),\"\")","v":""}]
["",{"$f":"IF(A49<>\"\",1+INT(($A49-1)/'Los a nastavení'!$B$5),\"\")","v":""},null,{"$f":"'Los a nastavení'!J49","v":""},null,null,null,null,null,null,null,null,null,null,null,null,null,"",{"$f":"'Pom. pořadí jednotlivci'!O49","v":""},{"$f":"IF($A49<>\"\",INDEX('Výsledek jednotlivci'!$R$7:$R$107,MATCH($A49,'Výsledek jednotlivci'!$B$7:$B$107,0)),\"\")","v":""}]
["",{"$f":"IF(A50<>\"\",1+INT(($A50-1)/'Los a nastavení'!$B$5),\"\")","v":""},null,{"$f":"'Los a nastavení'!J50","v":""},null,null,null,null,null,null,null,null,null,null,null,null,null,"",{"$f":"'Pom. pořadí jednotlivci'!O50","v":""},{"$f":"IF($A50<>\"\",INDEX('Výsledek jednotlivci'!$R$7:$R$107,MATCH($A50,'Výsledek jednotlivci'!$B$7:$B$107,0)),\"\")","v":""}]
["",{"$f":"IF(A51<>\"\",1+INT(($A51-1)/'Los a nastavení'!$B$5),\"\")","v":""},null,{"$f":"'Los a nastavení'!J51","v":""},null,null,null,null,null,null,null,null,null,null,null,null,null,"",{"$f":"'Pom. pořadí jednotlivci'!O51","v":""},{"$f":"IF($A51<>\"\",INDEX('Výsledek jednotlivci'!$R$7:$R$107,MATCH($A51,'Výsledek jednotlivci'!$B$7:$B$107,0)),\"\")","v":""}]
["",{"$f":"IF(A52<>\"\",1+INT(($A52-1)/'Los a nastavení'!$B$5),\"\")","v":""},null,{"$f":"'Los a nastavení'!J52","v":""},null,null,null,null,null,null,null,null,null,null,null,null,null,"",{"$f":"'Pom. pořadí jednotlivci'!O52","v":""},{"$f":"IF($A52<>\"\",INDEX('Výsledek jednotlivci'!$R$7:$R$107,MATCH($A52,'Výsledek jednotlivci'!$B$7:$B$107,0)),\"\")","v":""}]
["",{"$f":"IF(A53<>\"\",1+INT(($A53-1)/'Los a nastavení'!$B$5),\"\")","v":""},null,{"$f":"'Los a nastavení'!J53","v":""},null,null,null,null,null,null,null,null,null,null,null,null,null,"",{"$f":"'Pom. pořadí jednotlivci'!O53","v":""},{"$f":"IF($A53<>\"\",INDEX('Výsledek jednotlivci'!$R$7:$R$107,MATCH($A53,'Výsledek jednotlivci'!$B$7:$B$107,0)),\"\")","v":""}]
["",{"$f":"IF(A54<>\"\",1+INT(($A54-1)/'Los a nastavení'!$B$5),\"\")","v":""},null,{"$f":"'Los a nastavení'!J54","v":""},null,null,null,null,null,null,null,null,null,null,null,null,null,"",{"$f":"'Pom. pořadí jednotlivci'!O54","v":""},{"$f":"IF($A54<>\"\",INDEX('Výsledek jednotlivci'!$R$7:$R$107,MATCH($A54,'Výsledek jednotlivci'!$B$7:$B$107,0)),\"\")","v":""}]
["",{"$f":"IF(A55<>\"\",1+INT(($A55-1)/'Los a nastavení'!$B$5),\"\")","v":""},null,{"$f":"'Los a nastavení'!J55","v":""},null,null,null,null,null,null,null,null,null,null,null,null,null,"",{"$f":"'Pom. pořadí jednotlivci'!O55","v":""},{"$f":"IF($A55<>\"\",INDEX('Výsledek jednotlivci'!$R$7:$R$107,MATCH($A55,'Výsledek jednotlivci'!$B$7:$B$107,0)),\"\")","v":""}]
["",{"$f":"IF(A56<>\"\",1+INT(($A56-1)/'Los a nastavení'!$B$5),\"\")","v":""},null,{"$f":"'Los a nastavení'!J56","v":""},null,null,null,null,null,null,null,null,null,null,null,null,null,"",{"$f":"'Pom. pořadí jednotlivci'!O56","v":""},{"$f":"IF($A56<>\"\",INDEX('Výsledek jednotlivci'!$R$7:$R$107,MATCH($A56,'Výsledek jednotlivci'!$B$7:$B$107,0)),\"\")","v":""}]
["",{"$f":"IF(A57<>\"\",1+INT(($A57-1)/'Los a nastavení'!$B$5),\"\")","v":""},null,{"$f":"'Los a nastavení'!J57","v":""},null,null,null,null,null,null,null,null,null,null,null,null,null,"",{"$f":"'Pom. pořadí jednotlivci'!O57","v":""},{"$f":"IF($A57<>\"\",INDEX('Výsledek jednotlivci'!$R$7:$R$107,MATCH($A57,'Výsledek jednotlivci'!$B$7:$B$107,0)),\"\")","v":""}]
["",{"$f":"IF(A58<>\"\",1+INT(($A58-1)/'Los a nastavení'!$B$5),\"\")","v":""},null,{"$f":"'Los a nastavení'!J58","v":""},null,null,null,null,null,null,null,null,null,null,null,null,null,"",{"$f":"'Pom. pořadí jednotlivci'!O58","v":""},{"$f":"IF($A58<>\"\",INDEX('Výsledek jednotlivci'!$R$7:$R$107,MATCH($A58,'Výsledek jednotlivci'!$B$7:$B$107,0)),\"\")","v":""}]
["",{"$f":"IF(A59<>\"\",1+INT(($A59-1)/'Los a nastavení'!$B$5),\"\")","v":""},null,{"$f":"'Los a nastavení'!J59","v":""},null,null,null,null,null,null,null,null,null,null,null,null,null,"",{"$f":"'Pom. pořadí jednotlivci'!O59","v":""},{"$f":"IF($A59<>\"\",INDEX('Výsledek jednotlivci'!$R$7:$R$107,MATCH($A59,'Výsledek jednotlivci'!$B$7:$B$107,0)),\"\")","v":""}]
["",{"$f":"IF(A60<>\"\",1+INT(($A60-1)/'Los a nastavení'!$B$5),\"\")","v":""},null,{"$f":"'Los a nastavení'!J60","v":""},null,null,null,null,null,null,null,null,null,null,null,null,null,"",{"$f":"'Pom. pořadí jednotlivci'!O60","v":""},{"$f":"IF($A60<>\"\",INDEX('Výsledek jednotlivci'!$R$7:$R$107,MATCH($A60,'Výsledek jednotlivci'!$B$7:$B$107,0)),\"\")","v":""}]
["",{"$f":"IF(A61<>\"\",1+INT(($A61-1)/'Los a nastavení'!$B$5),\"\")","v":""},null,{"$f":"'Los a nastavení'!J61","v":""},null,null,null,null,null,null,null,null,null,null,null,null,null,"",{"$f":"'Pom. pořadí jednotlivci'!O61","v":""},{"$f":"IF($A61<>\"\",INDEX('Výsledek jednotlivci'!$R$7:$R$107,MATCH($A61,'Výsledek jednotlivci'!$B$7:$B$107,0)),\"\")","v":""}]
["",{"$f":"IF(A62<>\"\",1+INT(($A62-1)/'Los a nastavení'!$B$5),\"\")","v":""},null,{"$f":"'Los a nastavení'!J62","v":""},null,null,null,null,null,null,null,null,null,null,null,null,null,"",{"$f":"'Pom. pořadí jednotlivci'!O62","v":""},{"$f":"IF($A62<>\"\",INDEX('Výsledek jednotlivci'!$R$7:$R$107,MATCH($A62,'Výsledek jednotlivci'!$B$7:$B$107,0)),\"\")","v":""}]
["",{"$f":"IF(A63<>\"\",1+INT(($A63-1)/'Los a nastavení'!$B$5),\"\")","v":""},null,{"$f":"'Los a nastavení'!J63","v":""},null,null,null,null,null,null,null,null,null,null,null,null,null,"",{"$f":"'Pom. pořadí jednotlivci'!O63","v":""},{"$f":"IF($A63<>\"\",INDEX('Výsledek jednotlivci'!$R$7:$R$107,MATCH($A63,'Výsledek jednotlivci'!$B$7:$B$107,0)),\"\")","v":""}]
["",{"$f":"IF(A64<>\"\",1+INT(($A64-1)/'Los a nastavení'!$B$5),\"\")","v":""},null,{"$f":"'Los a nastavení'!J64","v":""},null,null,null,null,null,null,null,null,null,null,null,null,null,"",{"$f":"'Pom. pořadí jednotlivci'!O64","v":""},{"$f":"IF($A64<>\"\",INDEX('Výsledek jednotlivci'!$R$7:$R$107,MATCH($A64,'Výsledek jednotlivci'!$B$7:$B$107,0)),\"\")","v":""}]
["",{"$f":"IF(A65<>\"\",1+INT(($A65-1)/'Los a nastavení'!$B$5),\"\")","v":""},null,{"$f":"'Los a nastavení'!J65","v":""},null,null,null,null,null,null,null,null,null,null,null,null,null,"",{"$f":"'Pom. pořadí jednotlivci'!O65","v":""},{"$f":"IF($A65<>\"\",INDEX('Výsledek jednotlivci'!$R$7:$R$107,MATCH($A65,'Výsledek jednotlivci'!$B$7:$B$107,0)),\"\")","v":""}]
["",{"$f":"IF(A66<>\"\",1+INT(($A66-1)/'Los a nastavení'!$B$5),\"\")","v":""},null,{"$f":"'Los a nastavení'!J66","v":""},null,null,null,null,null,null,null,null,null,null,null,null,null,"",{"$f":"'Pom. pořadí jednotlivci'!O66","v":""},{"$f":"IF($A66<>\"\",INDEX('Výsledek jednotlivci'!$R$7:$R$107,MATCH($A66,'Výsledek jednotlivci'!$B$7:$B$107,0)),\"\")","v":""}]
["",{"$f":"IF(A67<>\"\",1+INT(($A67-1)/'Los a nastavení'!$B$5),\"\")","v":""},null,{"$f":"'Los a nastavení'!J67","v":""},null,null,null,null,null,null,null,null,null,null,null,null,null,"",{"$f":"'Pom. pořadí jednotlivci'!O67","v":""},{"$f":"IF($A67<>\"\",INDEX('Výsledek jednotlivci'!$R$7:$R$107,MATCH($A67,'Výsledek jednotlivci'!$B$7:$B$107,0)),\"\")","v":""}]
["",{"$f":"IF(A68<>\"\",1+INT(($A68-1)/'Los a nastavení'!$B$5),\"\")","v":""},null,{"$f":"'Los a nastavení'!J68","v":""},null,null,null,null,null,null,null,null,null,null,null,null,null,"",{"$f":"'Pom. pořadí jednotlivci'!O68","v":""},{"$f":"IF($A68<>\"\",INDEX('Výsledek jednotlivci'!$R$7:$R$107,MATCH($A68,'Výsledek jednotlivci'!$B$7:$B$107,0)),\"\")","v":""}]
["",{"$f":"IF(A69<>\"\",1+INT(($A69-1)/'Los a nastavení'!$B$5),\"\")","v":""},null,{"$f":"'Los a nastavení'!J69","v":""},null,null,null,null,null,null,null,null,null,null,null,null,null,"",{"$f":"'Pom. pořadí jednotlivci'!O69","v":""},{"$f":"IF($A69<>\"\",INDEX('Výsledek jednotlivci'!$R$7:$R$107,MATCH($A69,'Výsledek jednotlivci'!$B$7:$B$107,0)),\"\")","v":""}]
["",{"$f":"IF(A70<>\"\",1+INT(($A70-1)/'Los a nastavení'!$B$5),\"\")","v":""},null,{"$f":"'Los a nastavení'!J70","v":""},null,null,null,null,null,null,null,null,null,null,null,null,null,"",{"$f":"'Pom. pořadí jednotlivci'!O70","v":""},{"$f":"IF($A70<>\"\",INDEX('Výsledek jednotlivci'!$R$7:$R$107,MATCH($A70,'Výsledek jednotlivci'!$B$7:$B$107,0)),\"\")","v":""}]
["",{"$f":"IF(A71<>\"\",1+INT(($A71-1)/'Los a nastavení'!$B$5),\"\")","v":""},null,{"$f":"'Los a nastavení'!J71","v":""},null,null,null,null,null,null,null,null,null,null,null,null,null,"",{"$f":"'Pom. pořadí jednotlivci'!O71","v":""},{"$f":"IF($A71<>\"\",INDEX('Výsledek jednotlivci'!$R$7:$R$107,MATCH($A71,'Výsledek jednotlivci'!$B$7:$B$107,0)),\"\")","v":""}]
[{"$f":"IF(E72<>\"\",$A71+1,\"\")","v":""},{"$f":"IF(A72<>\"\",1+INT(($A72-1)/'Los a nastavení'!$B$5),\"\")","v":""},null,{"$f":"'Los a nastavení'!J72","v":""},null,null,null,null,null,null,null,null,null,null,null,null,null,{"$f":"IF(E72<> \"\", SUM(F72:P72),\"\")","v":""},{"$f":"'Pom. pořadí jednotlivci'!O72","v":""},{"$f":"IF($A72<>\"\",INDEX('Výsledek jednotlivci'!$R$7:$R$107,MATCH($A72,'Výsledek jednotlivci'!$B$7:$B$107,0)),\"\")","v":""}]
["",{"$f":"IF(A73<>\"\",1+INT(($A73-1)/'Los a nastavení'!$B$5),\"\")","v":""},null,{"$f":"'Los a nastavení'!J73","v":""},null,null,null,null,null,null,null,null,null,null,null,null,null,"",{"$f":"'Pom. pořadí jednotlivci'!O73","v":""},{"$f":"IF($A73<>\"\",INDEX('Výsledek jednotlivci'!$R$7:$R$107,MATCH($A73,'Výsledek jednotlivci'!$B$7:$B$107,0)),\"\")","v":""}]
["",{"$f":"IF(A74<>\"\",1+INT(($A74-1)/'Los a nastavení'!$B$5),\"\")","v":""},null,{"$f":"'Los a nastavení'!J74","v":""},null,null,null,null,null,null,null,null,null,null,null,null,null,"",{"$f":"'Pom. pořadí jednotlivci'!O74","v":""},{"$f":"IF($A74<>\"\",INDEX('Výsledek jednotlivci'!$R$7:$R$107,MATCH($A74,'Výsledek jednotlivci'!$B$7:$B$107,0)),\"\")","v":""}]
["",{"$f":"IF(A75<>\"\",1+INT(($A75-1)/'Los a nastavení'!$B$5),\"\")","v":""},null,{"$f":"'Los a nastavení'!J75","v":""},null,null,null,null,null,null,null,null,null,null,null,null,null,"",{"$f":"'Pom. pořadí jednotlivci'!O75","v":""},{"$f":"IF($A75<>\"\",INDEX('Výsledek jednotlivci'!$R$7:$R$107,MATCH($A75,'Výsledek jednotlivci'!$B$7:$B$107,0)),\"\")","v":""}]
["",{"$f":"IF(A76<>\"\",1+INT(($A76-1)/'Los a nastavení'!$B$5),\"\")","v":""},null,{"$f":"'Los a nastavení'!J76","v":""},null,null,null,null,null,null,null,null,null,null,null,null,null,"",{"$f":"'Pom. pořadí jednotlivci'!O76","v":""},{"$f":"IF($A76<>\"\",INDEX('Výsledek jednotlivci'!$R$7:$R$107,MATCH($A76,'Výsledek jednotlivci'!$B$7:$B$107,0)),\"\")","v":""}]
["",{"$f":"IF(A77<>\"\",1+INT(($A77-1)/'Los a nastavení'!$B$5),\"\")","v":""},null,{"$f":"'Los a nastavení'!J77","v":""},null,null,null,null,null,null,null,null,null,null,null,null,null,"",{"$f":"'Pom. pořadí jednotlivci'!O77","v":""},{"$f":"IF($A77<>\"\",INDEX('Výsledek jednotlivci'!$R$7:$R$107,MATCH($A77,'Výsledek jednotlivci'!$B$7:$B$107,0)),\"\")","v":""}]
["",{"$f":"IF(A78<>\"\",1+INT(($A78-1)/'Los a nastavení'!$B$5),\"\")","v":""},null,{"$f":"'Los a nastavení'!J78","v":""},null,null,null,null,null,null,null,null,null,null,null,null,null,"",{"$f":"'Pom. pořadí jednotlivci'!O78","v":""},{"$f":"IF($A78<>\"\",INDEX('Výsledek jednotlivci'!$R$7:$R$107,MATCH($A78,'Výsledek jednotlivci'!$B$7:$B$107,0)),\"\")","v":""}]
["",{"$f":"IF(A79<>\"\",1+INT(($A79-1)/'Los a nastavení'!$B$5),\"\")","v":""},null,{"$f":"'Los a nastavení'!J79","v":""},null,null,null,null,null,null,null,null,null,null,null,null,null,"",{"$f":"'Pom. pořadí jednotlivci'!O79","v":""},{"$f":"IF($A79<>\"\",INDEX('Výsledek jednotlivci'!$R$7:$R$107,MATCH($A79,'Výsledek jednotlivci'!$B$7:$B$107,0)),\"\")","v":""}]
["",{"$f":"IF(A80<>\"\",1+INT(($A80-1)/'Los a nastavení'!$B$5),\"\")","v":""},null,{"$f":"'Los a nastavení'!J80","v":""},null,null,null,null,null,null,null,null,null,null,null,null,null,"",{"$f":"'Pom. pořadí jednotlivci'!O80","v":""},{"$f":"IF($A80<>\"\",INDEX('Výsledek jednotlivci'!$R$7:$R$107,MATCH($A80,'Výsledek jednotlivci'!$B$7:$B$107,0)),\"\")","v":""}]
["",{"$f":"IF(A81<>\"\",1+INT(($A81-1)/'Los a nastavení'!$B$5),\"\")","v":""},null,{"$f":"'Los a nastavení'!J81","v":""},null,null,null,null,null,null,null,null,null,null,null,null,null,"",{"$f":"'Pom. pořadí jednotlivci'!O81","v":""},{"$f":"IF($A81<>\"\",INDEX('Výsledek jednotlivci'!$R$7:$R$107,MATCH($A81,'Výsledek jednotlivci'!$B$7:$B$107,0)),\"\")","v":""}]
["",{"$f":"IF(A82<>\"\",1+INT(($A82-1)/'Los a nastavení'!$B$5),\"\")","v":""},null,{"$f":"'Los a nastavení'!J82","v":""},null,null,null,null,null,null,null,null,null,null,null,null,null,"",{"$f":"'Pom. pořadí jednotlivci'!O82","v":""},{"$f":"IF($A82<>\"\",INDEX('Výsledek jednotlivci'!$R$7:$R$107,MATCH($A82,'Výsledek jednotlivci'!$B$7:$B$107,0)),\"\")","v":""}]
["",{"$f":"IF(A83<>\"\",1+INT(($A83-1)/'Los a nastavení'!$B$5),\"\")","v":""},null,{"$f":"'Los a nastavení'!J83","v":""},null,null,null,null,null,null,null,null,null,null,null,null,null,"",{"$f":"'Pom. pořadí jednotlivci'!O83","v":""},{"$f":"IF($A83<>\"\",INDEX('Výsledek jednotlivci'!$R$7:$R$107,MATCH($A83,'Výsledek jednotlivci'!$B$7:$B$107,0)),\"\")","v":""}]
["",{"$f":"IF(A84<>\"\",1+INT(($A84-1)/'Los a nastavení'!$B$5),\"\")","v":""},null,{"$f":"'Los a nastavení'!J84","v":""},null,null,null,null,null,null,null,null,null,null,null,null,null,"",{"$f":"'Pom. pořadí jednotlivci'!O84","v":""},{"$f":"IF($A84<>\"\",INDEX('Výsledek jednotlivci'!$R$7:$R$107,MATCH($A84,'Výsledek jednotlivci'!$B$7:$B$107,0)),\"\")","v":""}]
["",{"$f":"IF(A85<>\"\",1+INT(($A85-1)/'Los a nastavení'!$B$5),\"\")","v":""},null,{"$f":"'Los a nastavení'!J85","v":""},null,null,null,null,null,null,null,null,null,null,null,null,null,"",{"$f":"'Pom. pořadí jednotlivci'!O85","v":""},{"$f":"IF($A85<>\"\",INDEX('Výsledek jednotlivci'!$R$7:$R$107,MATCH($A85,'Výsledek jednotlivci'!$B$7:$B$107,0)),\"\")","v":""}]
["",{"$f":"IF(A86<>\"\",1+INT(($A86-1)/'Los a nastavení'!$B$5),\"\")","v":""},null,{"$f":"'Los a nastavení'!J86","v":""},null,null,null,null,null,null,null,null,null,null,null,null,null,"",{"$f":"'Pom. pořadí jednotlivci'!O86","v":""},{"$f":"IF($A86<>\"\",INDEX('Výsledek jednotlivci'!$R$7:$R$107,MATCH($A86,'Výsledek jednotlivci'!$B$7:$B$107,0)),\"\")","v":""}]
["",{"$f":"IF(A87<>\"\",1+INT(($A87-1)/'Los a nastavení'!$B$5),\"\")","v":""},null,{"$f":"'Los a nastavení'!J87","v":""},null,null,null,null,null,null,null,null,null,null,null,null,null,"",{"$f":"'Pom. pořadí jednotlivci'!O87","v":""},{"$f":"IF($A87<>\"\",INDEX('Výsledek jednotlivci'!$R$7:$R$107,MATCH($A87,'Výsledek jednotlivci'!$B$7:$B$107,0)),\"\")","v":""}]
["",{"$f":"IF(A88<>\"\",1+INT(($A88-1)/'Los a nastavení'!$B$5),\"\")","v":""},null,{"$f":"'Los a nastavení'!J88","v":""},null,null,null,null,null,null,null,null,null,null,null,null,null,"",{"$f":"'Pom. pořadí jednotlivci'!O88","v":""},{"$f":"IF($A88<>\"\",INDEX('Výsledek jednotlivci'!$R$7:$R$107,MATCH($A88,'Výsledek jednotlivci'!$B$7:$B$107,0)),\"\")","v":""}]
["",{"$f":"IF(A89<>\"\",1+INT(($A89-1)/'Los a nastavení'!$B$5),\"\")","v":""},null,{"$f":"'Los a nastavení'!J89","v":""},null,null,null,null,null,null,null,null,null,null,null,null,null,"",{"$f":"'Pom. pořadí jednotlivci'!O89","v":""},{"$f":"IF($A89<>\"\",INDEX('Výsledek jednotlivci'!$R$7:$R$107,MATCH($A89,'Výsledek jednotlivci'!$B$7:$B$107,0)),\"\")","v":""}]
["",{"$f":"IF(A90<>\"\",1+INT(($A90-1)/'Los a nastavení'!$B$5),\"\")","v":""},null,{"$f":"'Los a nastavení'!J90","v":""},null,null,null,null,null,null,null,null,null,null,null,null,null,"",{"$f":"'Pom. pořadí jednotlivci'!O90","v":""},{"$f":"IF($A90<>\"\",INDEX('Výsledek jednotlivci'!$R$7:$R$107,MATCH($A90,'Výsledek jednotlivci'!$B$7:$B$107,0)),\"\")","v":""}]
["",{"$f":"IF(A91<>\"\",1+INT(($A91-1)/'Los a nastavení'!$B$5),\"\")","v":""},null,{"$f":"'Los a nastavení'!J91","v":""},null,null,null,null,null,null,null,null,null,null,null,null,null,"",{"$f":"'Pom. pořadí jednotlivci'!O91","v":""},{"$f":"IF($A91<>\"\",INDEX('Výsledek jednotlivci'!$R$7:$R$107,MATCH($A91,'Výsledek jednotlivci'!$B$7:$B$107,0)),\"\")","v":""}]
["",{"$f":"IF(A92<>\"\",1+INT(($A92-1)/'Los a nastavení'!$B$5),\"\")","v":""},null,{"$f":"'Los a nastavení'!J92","v":""},null,null,null,null,null,null,null,null,null,null,null,null,null,"",{"$f":"'Pom. pořadí jednotlivci'!O92","v":""},{"$f":"IF($A92<>\"\",INDEX('Výsledek jednotlivci'!$R$7:$R$107,MATCH($A92,'Výsledek jednotlivci'!$B$7:$B$107,0)),\"\")","v":""}]
["",{"$f":"IF(A93<>\"\",1+INT(($A93-1)/'Los a nastavení'!$B$5),\"\")","v":""},null,{"$f":"'Los a nastavení'!J93","v":""},null,null,null,null,null,null,null,null,null,null,null,null,null,"",{"$f":"'Pom. pořadí jednotlivci'!O93","v":""},{"$f":"IF($A93<>\"\",INDEX('Výsledek jednotlivci'!$R$7:$R$107,MATCH($A93,'Výsledek jednotlivci'!$B$7:$B$107,0)),\"\")","v":""}]
["",{"$f":"IF(A94<>\"\",1+INT(($A94-1)/'Los a nastavení'!$B$5),\"\")","v":""},null,{"$f":"'Los a nastavení'!J94","v":""},null,null,null,null,null,null,null,null,null,null,null,null,null,"",{"$f":"'Pom. pořadí jednotlivci'!O94","v":""},{"$f":"IF($A94<>\"\",INDEX('Výsledek jednotlivci'!$R$7:$R$107,MATCH($A94,'Výsledek jednotlivci'!$B$7:$B$107,0)),\"\")","v":""}]
["",{"$f":"IF(A95<>\"\",1+INT(($A95-1)/'Los a nastavení'!$B$5),\"\")","v":""},null,{"$f":"'Los a nastavení'!J95","v":""},null,null,null,null,null,null,null,null,null,null,null,null,null,"",{"$f":"'Pom. pořadí jednotlivci'!O95","v":""},{"$f":"IF($A95<>\"\",INDEX('Výsledek jednotlivci'!$R$7:$R$107,MATCH($A95,'Výsledek jednotlivci'!$B$7:$B$107,0)),\"\")","v":""}]
["",{"$f":"IF(A96<>\"\",1+INT(($A96-1)/'Los a nastavení'!$B$5),\"\")","v":""},null,{"$f":"'Los a nastavení'!J96","v":""},null,null,null,null,null,null,null,null,null,null,null,null,null,"",{"$f":"'Pom. pořadí jednotlivci'!O96","v":""},{"$f":"IF($A96<>\"\",INDEX('Výsledek jednotlivci'!$R$7:$R$107,MATCH($A96,'Výsledek jednotlivci'!$B$7:$B$107,0)),\"\")","v":""}]
["",{"$f":"IF(A97<>\"\",1+INT(($A97-1)/'Los a nastavení'!$B$5),\"\")","v":""},null,{"$f":"'Los a nastavení'!J97","v":""},null,null,null,null,null,null,null,null,null,null,null,null,null,"",{"$f":"'Pom. pořadí jednotlivci'!O97","v":""},{"$f":"IF($A97<>\"\",INDEX('Výsledek jednotlivci'!$R$7:$R$107,MATCH($A97,'Výsledek jednotlivci'!$B$7:$B$107,0)),\"\")","v":""}]
["",{"$f":"IF(A98<>\"\",1+INT(($A98-1)/'Los a nastavení'!$B$5),\"\")","v":""},null,{"$f":"'Los a nastavení'!J98","v":""},null,null,null,null,null,null,null,null,null,null,null,null,null,"",{"$f":"'Pom. pořadí jednotlivci'!O98","v":""},{"$f":"IF($A98<>\"\",INDEX('Výsledek jednotlivci'!$R$7:$R$107,MATCH($A98,'Výsledek jednotlivci'!$B$7:$B$107,0)),\"\")","v":""}]
["",{"$f":"IF(A99<>\"\",1+INT(($A99-1)/'Los a nastavení'!$B$5),\"\")","v":""},null,{"$f":"'Los a nastavení'!J99","v":""},null,null,null,null,null,null,null,null,null,null,null,null,null,"",{"$f":"'Pom. pořadí jednotlivci'!O99","v":""},{"$f":"IF($A99<>\"\",INDEX('Výsledek jednotlivci'!$R$7:$R$107,MATCH($A99,'Výsledek jednotlivci'!$B$7:$B$107,0)),\"\")","v":""}]
["",{"$f":"IF(A100<>\"\",1+INT(($A100-1)/'Los a nastavení'!$B$5),\"\")","v":""},null,{"$f":"'Los a nastavení'!J100","v":""},null,null,null,null,null,null,null,null,null,null,null,null,null,"",{"$f":"'Pom. pořadí jednotlivci'!O100","v":""},{"$f":"IF($A100<>\"\",INDEX('Výsledek jednotlivci'!$R$7:$R$107,MATCH($A100,'Výsledek jednotlivci'!$B$7:$B$107,0)),\"\")","v":""}]
["",{"$f":"IF(A101<>\"\",1+INT(($A101-1)/'Los a nastavení'!$B$5),\"\")","v":""},null,{"$f":"'Los a nastavení'!J101","v":""},null,null,null,null,null,null,null,null,null,null,null,null,null,"",{"$f":"'Pom. pořadí jednotlivci'!O101","v":""},{"$f":"IF($A101<>\"\",INDEX('Výsledek jednotlivci'!$R$7:$R$107,MATCH($A101,'Výsledek jednotlivci'!$B$7:$B$107,0)),\"\")","v":""}]
["",{"$f":"IF(A102<>\"\",1+INT(($A102-1)/'Los a nastavení'!$B$5),\"\")","v":""},null,{"$f":"'Los a nastavení'!J102","v":""},null,null,null,null,null,null,null,null,null,null,null,null,null,"",{"$f":"'Pom. pořadí jednotlivci'!O102","v":""},{"$f":"IF($A102<>\"\",INDEX('Výsledek jednotlivci'!$R$7:$R$107,MATCH($A102,'Výsledek jednotlivci'!$B$7:$B$107,0)),\"\")","v":""}]
["",{"$f":"IF(A103<>\"\",1+INT(($A103-1)/'Los a nastavení'!$B$5),\"\")","v":""},null,{"$f":"'Los a nastavení'!J103","v":""},null,null,null,null,null,null,null,null,null,null,null,null,null,"",{"$f":"'Pom. pořadí jednotlivci'!O103","v":""},{"$f":"IF($A103<>\"\",INDEX('Výsledek jednotlivci'!$R$7:$R$107,MATCH($A103,'Výsledek jednotlivci'!$B$7:$B$107,0)),\"\")","v":""}]
["",{"$f":"IF(A104<>\"\",1+INT(($A104-1)/'Los a nastavení'!$B$5),\"\")","v":""},null,{"$f":"'Los a nastavení'!J104","v":""},null,null,null,null,null,null,null,null,null,null,null,null,null,"",{"$f":"'Pom. pořadí jednotlivci'!O104","v":""},{"$f":"IF($A104<>\"\",INDEX('Výsledek jednotlivci'!$R$7:$R$107,MATCH($A104,'Výsledek jednotlivci'!$B$7:$B$107,0)),\"\")","v":""}]
["",{"$f":"IF(A105<>\"\",1+INT(($A105-1)/'Los a nastavení'!$B$5),\"\")","v":""},null,{"$f":"'Los a nastavení'!J105","v":""},null,null,null,null,null,null,null,null,null,null,null,null,null,"",{"$f":"'Pom. pořadí jednotlivci'!O105","v":""},{"$f":"IF($A105<>\"\",INDEX('Výsledek jednotlivci'!$R$7:$R$107,MATCH($A105,'Výsledek jednotlivci'!$B$7:$B$107,0)),\"\")","v":""}]
["",{"$f":"IF(A106<>\"\",1+INT(($A106-1)/'Los a nastavení'!$B$5),\"\")","v":""},null,{"$f":"'Los a nastavení'!J106","v":""},null,null,null,null,null,null,null,null,null,null,null,null,null,"",{"$f":"'Pom. pořadí jednotlivci'!O106","v":""},{"$f":"IF($A106<>\"\",INDEX('Výsledek jednotlivci'!$R$7:$R$107,MATCH($A106,'Výsledek jednotlivci'!$B$7:$B$107,0)),\"\")","v":""}]
["",{"$f":"IF(A107<>\"\",1+INT(($A107-1)/'Los a nastavení'!$B$5),\"\")","v":""},null,{"$f":"'Los a nastavení'!J107","v":""},null,null,null,null,null,null,null,null,null,null,null,null,null,"",{"$f":"'Pom. pořadí jednotlivci'!O107","v":""},{"$f":"IF($A107<>\"\",INDEX('Výsledek jednotlivci'!$R$7:$R$107,MATCH($A107,'Výsledek jednotlivci'!$B$7:$B$107,0)),\"\")","v":""}]
["Počet terčů v disciplině",null,null,null,null,{"$f":"IF('Los a nastavení'!H$5 > 0,'Los a nastavení'!H$5,\"\")","v":""},{"$f":"IF('Los a nastavení'!I$5 > 0,'Los a nastavení'!I$5,\"\")","v":""},{"$f":"IF('Los a nastavení'!J$5 > 0,'Los a nastavení'!J$5,\"\")","v":""},{"$f":"IF('Los a nastavení'!K$5 > 0,'Los a nastavení'!K$5,\"\")","v":""},{"$f":"IF('Los a nastavení'!L$5 > 0,'Los a nastavení'!L$5,\"\")","v":""},{"$f":"IF('Los a nastavení'!M$5 > 0,'Los a nastavení'!M$5,\"\")","v":""},{"$f":"IF('Los a nastavení'!N$5 > 0,'Los a nastavení'!N$5,\"\")","v":""},{"$f":"IF('Los a nastavení'!O$5 > 0,'Los a nastavení'!O$5,\"\")","v":""},{"$f":"IF('Los a nastavení'!P$5 > 0,'Los a nastavení'!P$5,\"\")","v":""},{"$f":"IF('Los a nastavení'!Q$5 > 0,'Los a nastavení'!Q$5,\"\")","v":""},{"$f":"IF('Los a nastavení'!R$5 > 0,'Los a nastavení'!R$5,\"\")","v":""},null,null,{"$f":"'Los a nastavení'!$B$4","v":3}]

{"sheet":"Položkový list","index":2,"n_rows":139,"n_cols":21,"rows_kept":139,"cut":false,"hidden":false,"merged":[[130,0,130,4],[130,5,130,20],[137,0,137,4],[137,5,137,20],[97,0,97,20],[109,0,109,4],[109,5,109,20],[116,0,116,4],[116,5,116,20],[123,0,123,4],[123,5,123,20],[99,0,99,20],[100,0,100,11],[100,12,100,20],[101,0,101,20],[102,0,102,4],[72,0,72,4],[77,0,77,4],[102,5,102,20],[82,0,82,4],[87,0,87,4],[92,0,92,4],[72,5,72,20],[77,5,77,20],[82,5,82,20],[87,5,87,20],[92,5,92,20],[65,0,65,11],[65,12,65,20],[66,0,66,20],[67,0,67,4],[67,5,67,20],[14,0,14,4],[14,5,14,14],[14,15,14,20],[64,0,64,20],[62,0,62,20],[0,0,0,20],[8,0,8,4],[8,5,8,14],[8,15,8,20],[13,0,13,20],[7,0,7,20],[2,0,2,4],[2,5,2,14],[2,15,2,20],[1,0,1,20]]}
[]
[{"$f":"'Seznam střelců'!$A$2 & \", \" & 'Seznam střelců'!$A$3","v":"Pohár města Bystřice nad Pernštejnem, Střelnice Smrček-Býšovec, 24.9.2017"}]
[{"$f":" \"Start. č.  \" &  IF(OR(F3=\"\", ISNA(MATCH(F3, 'Seznam střelců'!$E$7:$E$107,0))), \"\", MATCH(F3, 'Seznam střelců'!$E$7:$E$107,0))","v":"Start. č.  34"},null,null,null,null,{"$f":"IF(A1<>\"\", A1, IF(COUNTA('Seznam střelců'!$E$7:$E$107) > 0,INDEX('Seznam střelců'!$E$7:$E$107,COUNTA('Seznam střelců'!$E$7:$E$107)),\"\"))","v":"Podsedník Ladislav"},null,null,null,null,null,null,null,null,null,{"$f":"'Seznam střelců'!$O$6","v":"LK I"}]
[1,2,3,4,5,6,7,8,9,10,11,12,13,14,15,16,17,18,19,20,"Celkem"]
[]
[]
[]
[{"$f":"$A$2","v":"Pohár města Bystřice nad Pernštejnem, Střelnice Smrček-Býšovec, 24.9.2017"}]
[{"$f":"$A$3","v":"Start. č.  34"},null,null,null,null,{"$f":"$F$3","v":"Podsedník Ladislav"},null,null,null,null,null,null,null,null,null,{"$f":"'Seznam střelců'!$N$6","v":"LK II"}]
[1,2,3,4,5,6,7,8,9,10,11,12,13,14,15,16,17,18,19,20,"Celkem"]
[]
[]
[]
[{"$f":"$A$2","v":"Pohár města Bystřice nad Pernštejnem, Střelnice Smrček-Býšovec, 24.9.2017"}]
[{"$f":"$A$3","v":"Start. č.  34"},null,null,null,null,{"$f":"$F$3","v":"Podsedník Ladislav"},null,null,null,null,null,null,null,null,null,{"$f":"'Seznam střelců'!$M$6","v":"Zajíc"}]
[1,2,3,4,5,6,7,8,9,10,11,12,13,14,15,16,17,18,19,20,"Celkem"]
[]
[]
[]
[]
[]
[]
[]
[]
[]
[]
[]
[]
[]
[]
[]
[]
[]
[]
[]
[]
[]
[]
[]
[]
[]
[]
[]
[]
[]
[]
[]
[]
[]
[]
[]
[]
[]
[]
[]
[]
[]
[]
[]
[]
[]
[]
[1]
[]
[{"$f":"$A$2","v":"Pohár města Bystřice nad Pernštejnem, Střelnice Smrček-Býšovec, 24.9.2017"}]
[{"$f":" \"Runda  č. \" & IF(ISNA(MATCH(A63,'Seznam střelců'!$B$7:$B$107,0)), \"\", A63)","v":"Runda  č. 1"},null,null,null,null,null,null,null,null,null,null,null,"Disciplina: "]
[]
[{"$f":"IF(F68 <> \"\", INDEX('Seznam střelců'!$A$7:$A$107,  MATCH(F68,'Seznam střelců'!$E$7:$E$107,0)),\"\")","v":1},null,null,null,null,{"$f":"IF(ISNA(MATCH(A63, 'Seznam střelců'!$B$7:$B$107,0)), \"\", INDEX('Seznam střelců'!$E$7:$E$107, MATCH(A63,'Seznam střelců'!$B$7:$B$107,0)))","v":"Pešek Josef"}]
[1,2,3,4,5,6,7,8,9,10,11,12,13,14,15,16,17,18,19,20]
[]
[]
[]
[{"$f":"IF(F73 <> \"\", INDEX('Seznam střelců'!$A$7:$A$107,  MATCH(F73,'Seznam střelců'!$E$7:$E$107,0)),\"\")","v":2},null,null,null,null,{"$f":"IF(ISNA(MATCH(A63,'Seznam střelců'!$B$7:$B$107,0)), \"\", IF(INDEX('Seznam střelců'!$B$7:$B$107, 1 + MATCH(A63,'Seznam střelců'!$B$7:$B$107,0)) <> A63, \"\", INDEX('Seznam střelců'!$E$7:$E$107, 1 + MATCH(A63,'Seznam střelců'!$B$7:$B$107,0))))","v":"Brunclík Jiří"}]
[1,2,3,4,5,6,7,8,9,10,11,12,13,14,15,16,17,18,19,20]
[]
[]
[]
[{"$f":"IF(F78 <> \"\", INDEX('Seznam střelců'!$A$7:$A$107,  MATCH(F78,'Seznam střelců'!$E$7:$E$107,0)),\"\")","v":3},null,null,null,null,{"$f":"IF(ISNA(MATCH(A63,'Seznam střelců'!$B$7:$B$107,0)), \"\", IF(INDEX('Seznam střelců'!$B$7:$B$107, 2 + MATCH(A63,'Seznam střelců'!$B$7:$B$107,0)) <> A63, \"\", INDEX('Seznam střelců'!$E$7:$E$107, 2 + MATCH(A63,'Seznam střelců'!$B$7:$B$107,0))))","v":"Rusek Aleš"}]
[1,2,3,4,5,6,7,8,9,10,11,12,13,14,15,16,17,18,19,20]
[]
[]
[]
[{"$f":"IF(F83 <> \"\", INDEX('Seznam střelců'!$A$7:$A$107,  MATCH(F83,'Seznam střelců'!$E$7:$E$107,0)),\"\")","v":4},null,null,null,null,{"$f":"IF(ISNA(MATCH(A63,'Seznam střelců'!$B$7:$B$107,0)), \"\", IF(INDEX('Seznam střelců'!$B$7:$B$107, 3 + MATCH(A63,'Seznam střelců'!$B$7:$B$107,0)) <> A63, \"\", INDEX('Seznam střelců'!$E$7:$E$107, 3 + MATCH(A63,'Seznam střelců'!$B$7:$B$107,0))))","v":"Žák Svatopluk"}]
[1,2,3,4,5,6,7,8,9,10,11,12,13,14,15,16,17,18,19,20]
[]
[]
[]
[{"$f":"IF(F88 <> \"\", INDEX('Seznam střelců'!$A$7:$A$107,  MATCH(F88,'Seznam střelců'!$E$7:$E$107,0)),\"\")","v":5},null,null,null,null,{"$f":"IF(ISNA(MATCH(A63,'Seznam střelců'!$B$7:$B$107,0)), \"\", IF(INDEX('Seznam střelců'!$B$7:$B$107, 4 + MATCH(A63,'Seznam střelců'!$B$7:$B$107,0)) <> A63, \"\", INDEX('Seznam střelců'!$E$7:$E$107, 4 + MATCH(A63,'Seznam střelců'!$B$7:$B$107,0))))","v":"Kachlík Petr"}]
[1,2,3,4,5,6,7,8,9,10,11,12,13,14,15,16,17,18,19,20]
[]
[]
[]
[{"$f":"IF(F93 <> \"\", INDEX('Seznam střelců'!$A$7:$A$107,  MATCH(F93,'Seznam střelců'!$E$7:$E$107,0)),\"\")","v":6},null,null,null,null,{"$f":"IF(ISNA(MATCH(A63,'Seznam střelců'!$B$7:$B$107,0)), \"\", IF(INDEX('Seznam střelců'!$B$7:$B$107, 5 + MATCH(A63,'Seznam střelců'!$B$7:$B$107,0)) <> A63, \"\", INDEX('Seznam střelců'!$E$7:$E$107, 5 + MATCH(A63,'Seznam střelců'!$B$7:$B$107,0))))","v":"Toufar Milan"}]
[1,2,3,4,5,6,7,8,9,10,11,12,13,14,15,16,17,18,19,20]
[]
[]
[]
[1]
[]
[{"$f":"$A$2","v":"Pohár města Bystřice nad Pernštejnem, Střelnice Smrček-Býšovec, 24.9.2017"}]
[{"$f":" \"Runda  č. \" & IF(ISNA(MATCH(A98,'Seznam střelců'!$B$7:$B$107,0)), \"\", A98)","v":"Runda  č. 1"}]
[]
[{"$f":"IF(F103 <> \"\", INDEX('Seznam střelců'!$A$7:$A$107,  MATCH(F103,'Seznam střelců'!$E$7:$E$107,0)),\"\")","v":1},null,null,null,null,{"$f":"IF(ISNA(MATCH(A98, 'Seznam střelců'!$B$7:$B$107,0)), \"\", INDEX('Seznam střelců'!$E$7:$E$107, MATCH(A98,'Seznam střelců'!$B$7:$B$107,0)))","v":"Pešek Josef"}]
[1,2,3,4,5,6,7,8,9,10,11,12,13,14,15,16,17,18,19,20]
[]
[]
[]
[]
[]
[{"$f":"IF(F110 <> \"\", INDEX('Seznam střelců'!$A$7:$A$107,  MATCH(F110,'Seznam střelců'!$E$7:$E$107,0)),\"\")","v":2},null,null,null,null,{"$f":"IF(ISNA(MATCH(A98,'Seznam střelců'!$B$7:$B$107,0)), \"\", IF(INDEX('Seznam střelců'!$B$7:$B$107, 1 + MATCH(A98,'Seznam střelců'!$B$7:$B$107,0)) <> A98, \"\", INDEX('Seznam střelců'!$E$7:$E$107, 1 + MATCH(A98,'Seznam střelců'!$B$7:$B$107,0))))","v":"Brunclík Jiří"}]
[1,2,3,4,5,6,7,8,9,10,11,12,13,14,15,16,17,18,19,20]
[]
[]
[]
[]
[]
[{"$f":"IF(F117 <> \"\", INDEX('Seznam střelců'!$A$7:$A$107,  MATCH(F117,'Seznam střelců'!$E$7:$E$107,0)),\"\")","v":3},null,null,null,null,{"$f":"IF(ISNA(MATCH(A98,'Seznam střelců'!$B$7:$B$107,0)), \"\", IF(INDEX('Seznam střelců'!$B$7:$B$107, 2 + MATCH(A98,'Seznam střelců'!$B$7:$B$107,0)) <> A98, \"\", INDEX('Seznam střelců'!$E$7:$E$107, 2 + MATCH(A98,'Seznam střelců'!$B$7:$B$107,0))))","v":"Rusek Aleš"}]
[1,2,3,4,5,6,7,8,9,10,11,12,13,14,15,16,17,18,19,20]
[]
[]
[]
[]
[]
[{"$f":"IF(F124 <> \"\", INDEX('Seznam střelců'!$A$7:$A$107,  MATCH(F124,'Seznam střelců'!$E$7:$E$107,0)),\"\")","v":4},null,null,null,null,{"$f":"IF(ISNA(MATCH(A98,'Seznam střelců'!$B$7:$B$107,0)), \"\", IF(INDEX('Seznam střelců'!$B$7:$B$107, 3 + MATCH(A98,'Seznam střelců'!$B$7:$B$107,0)) <> A98, \"\", INDEX('Seznam střelců'!$E$7:$E$107, 3 + MATCH(A98,'Seznam střelců'!$B$7:$B$107,0))))","v":"Žák Svatopluk"}]
[1,2,3,4,5,6,7,8,9,10,11,12,13,14,15,16,17,18,19,20]
[]
[]
[]
[]
[]
[{"$f":"IF(F131 <> \"\", INDEX('Seznam střelců'!$A$7:$A$107,  MATCH(F131,'Seznam střelců'!$E$7:$E$107,0)),\"\")","v":5},null,null,null,null,{"$f":"IF(ISNA(MATCH(A98,'Seznam střelců'!$B$7:$B$107,0)), \"\", IF(INDEX('Seznam střelců'!$B$7:$B$107, 4 + MATCH(A98,'Seznam střelců'!$B$7:$B$107,0)) <> A98, \"\", INDEX('Seznam střelců'!$E$7:$E$107, 4 + MATCH(A98,'Seznam střelců'!$B$7:$B$107,0))))","v":"Kachlík Petr"}]
[1,2,3,4,5,6,7,8,9,10,11,12,13,14,15,16,17,18,19,20]
[]
[]
[]
[]
[]
[{"$f":"IF(F138 <> \"\", INDEX('Seznam střelců'!$A$7:$A$107,  MATCH(F138,'Seznam střelců'!$E$7:$E$107,0)),\"\")","v":6},null,null,null,null,{"$f":"IF(ISNA(MATCH(A98,'Seznam střelců'!$B$7:$B$107,0)), \"\", IF(INDEX('Seznam střelců'!$B$7:$B$107, 5 + MATCH(A98,'Seznam střelců'!$B$7:$B$107,0)) <> A98, \"\", INDEX('Seznam střelců'!$E$7:$E$107, 5 + MATCH(A98,'Seznam střelců'!$B$7:$B$107,0))))","v":"Toufar Milan"}]
[1,2,3,4,5,6,7,8,9,10,11,12,13,14,15,16,17,18,19,20]

{"sheet":"Seznam družstev","index":3,"n_rows":41,"n_cols":19,"rows_kept":41,"cut":false,"hidden":false,"merged":[[0,17,5,17],[0,16,5,16],[0,0,0,15],[1,0,1,15],[2,0,2,15],[3,0,3,15],[4,2,4,13],[4,0,4,1]]}
[{"$f":"'Seznam střelců'!A1","v":"Výsledková listina"},null,null,null,null,null,null,null,null,null,null,null,null,null,null,null,"Pro kontrolu: počet členů družstva","Jméno družstva"]
[{"$f":"'Seznam střelců'!A2","v":"Pohár města Bystřice nad Pernštejnem"}]
[{"$f":"'Seznam střelců'!A3","v":"Střelnice Smrček-Býšovec, 24.9.2017"}]
[{"$f":"\"Celkový počet družstev: \" & COUNT(B7:B40)","v":"Celkový počet družstev: 0"}]
[null,null,"Nástřel"]
["Družstvo","Číslo družstva",{"$f":"'Seznam střelců'!R6","v":"Celkový součet"},{"$f":"'Seznam střelců'!F$6","v":"Disc. 1"},{"$f":"'Seznam střelců'!G$6","v":"Disc. 2"},{"$f":"'Seznam střelců'!H$6","v":"Disc. 3"},{"$f":"'Seznam střelců'!I$6","v":"Disc. 4"},{"$f":"'Seznam střelců'!J$6","v":"Disc. 5"},{"$f":"'Seznam střelců'!K$6","v":"Disc. 6"},{"$f":"'Seznam střelců'!L$6","v":"Disc. 7"},{"$f":"'Seznam střelců'!M$6","v":"Zajíc"},{"$f":"'Seznam střelců'!N$6","v":"LK II"},{"$f":"'Seznam střelců'!O$6","v":"LK I"},{"$f":"'Seznam střelců'!Q6","v":"Rozstřel"},"Orientační průběžné pořadí","Mimo závod",null,null,"Příznak rozstřel"]
[{"$f":"IF(B7 <> \"\", IF($R7<>\"\", $R7 & \" ve složení \", \"\") & StringConcat(\", \",  IF('Seznam střelců'!$D$7:$D$107='Seznam družstev'!$B7, 'Seznam střelců'!$E$7:$E$107, \"\")), \"\")","v":""},{"$f":"IF(MAX('Seznam střelců'!$D$7:$D$107) > 0, MIN('Seznam střelců'!$D$7:$D$107),\"\")","v":""},{"$f":"IF($B7<>\"\", SUM($D7:$M7), \"\")","v":""},{"$f":"IF($B7<>\"\", SUMIF('Seznam střelců'!$D$7:$D$107,'Seznam družstev'!$B7,'Seznam střelců'!F$7:F$107), \"\")","v":""},{"$f":"IF($B7<>\"\", SUMIF('Seznam střelců'!$D$7:$D$107,'Seznam družstev'!$B7,'Seznam střelců'!G$7:G$107), \"\")","v":""},{"$f":"IF($B7<>\"\", SUMIF('Seznam střelců'!$D$7:$D$107,'Seznam družstev'!$B7,'Seznam střelců'!H$7:H$107), \"\")","v":""},{"$f":"IF($B7<>\"\", SUMIF('Seznam střelců'!$D$7:$D$107,'Seznam družstev'!$B7,'Seznam střelců'!I$7:I$107), \"\")","v":""},{"$f":"IF($B7<>\"\", SUMIF('Seznam střelců'!$D$7:$D$107,'Seznam družstev'!$B7,'Seznam střelců'!J$7:J$107), \"\")","v":""},{"$f":"IF($B7<>\"\", SUMIF('Seznam střelců'!$D$7:$D$107,'Seznam družstev'!$B7,'Seznam střelců'!K$7:K$107), \"\")","v":""},{"$f":"IF($B7<>\"\", SUMIF('Seznam střelců'!$D$7:$D$107,'Seznam družstev'!$B7,'Seznam střelců'!L$7:L$107), \"\")","v":""},{"$f":"IF($B7<>\"\", SUMIF('Seznam střelců'!$D$7:$D$107,'Seznam družstev'!$B7,'Seznam střelců'!M$7:M$107), \"\")","v":""},{"$f":"IF($B7<>\"\", SUMIF('Seznam střelců'!$D$7:$D$107,'Seznam družstev'!$B7,'Seznam střelců'!N$7:N$107), \"\")","v":""},{"$f":"IF($B7<>\"\", SUMIF('Seznam střelců'!$D$7:$D$107,'Seznam družstev'!$B7,'Seznam střelců'!O$7:O$107), \"\")","v":""},null,{"$f":"'Pom. pořadí družstva'!O7","v":""},null,{"$f":"IF(B7<>\"\",COUNTIF('Seznam střelců'!$D$7:$D$107,'Seznam družstev'!$B7),\"\")","v":""}]
[{"$f":"IF(B8 <> \"\", IF($R8<>\"\", $R8 & \" ve složení \", \"\") & StringConcat(\", \",  IF('Seznam střelců'!$D$7:$D$107='Seznam družstev'!$B8, 'Seznam střelců'!$E$7:$E$107, \"\")), \"\")","v":""},{"$f":"IF(MAX('Seznam střelců'!$D$7:$D$107) > $B7, $B7+1,\"\")","v":""},{"$f":"IF($B8<>\"\", SUM($D8:$M8), \"\")","v":""},{"$f":"IF($B8<>\"\", SUMIF('Seznam střelců'!$D$7:$D$107,'Seznam družstev'!$B8,'Seznam střelců'!F$7:F$107), \"\")","v":""},{"$f":"IF($B8<>\"\", SUMIF('Seznam střelců'!$D$7:$D$107,'Seznam družstev'!$B8,'Seznam střelců'!G$7:G$107), \"\")","v":""},{"$f":"IF($B8<>\"\", SUMIF('Seznam střelců'!$D$7:$D$107,'Seznam družstev'!$B8,'Seznam střelců'!H$7:H$107), \"\")","v":""},{"$f":"IF($B8<>\"\", SUMIF('Seznam střelců'!$D$7:$D$107,'Seznam družstev'!$B8,'Seznam střelců'!I$7:I$107), \"\")","v":""},{"$f":"IF($B8<>\"\", SUMIF('Seznam střelců'!$D$7:$D$107,'Seznam družstev'!$B8,'Seznam střelců'!J$7:J$107), \"\")","v":""},{"$f":"IF($B8<>\"\", SUMIF('Seznam střelců'!$D$7:$D$107,'Seznam družstev'!$B8,'Seznam střelců'!K$7:K$107), \"\")","v":""},{"$f":"IF($B8<>\"\", SUMIF('Seznam střelců'!$D$7:$D$107,'Seznam družstev'!$B8,'Seznam střelců'!L$7:L$107), \"\")","v":""},{"$f":"IF($B8<>\"\", SUMIF('Seznam střelců'!$D$7:$D$107,'Seznam družstev'!$B8,'Seznam střelců'!M$7:M$107), \"\")","v":""},{"$f":"IF($B8<>\"\", SUMIF('Seznam střelců'!$D$7:$D$107,'Seznam družstev'!$B8,'Seznam střelců'!N$7:N$107), \"\")","v":""},{"$f":"IF($B8<>\"\", SUMIF('Seznam střelců'!$D$7:$D$107,'Seznam družstev'!$B8,'Seznam střelců'!O$7:O$107), \"\")","v":""},null,{"$f":"'Pom. pořadí družstva'!O8","v":""},null,{"$f":"IF(B8<>\"\",COUNTIF('Seznam střelců'!$D$7:$D$107,'Seznam družstev'!$B8),\"\")","v":""}]
[{"$f":"IF(B9 <> \"\", IF($R9<>\"\", $R9 & \" ve složení \", \"\") & StringConcat(\", \",  IF('Seznam střelců'!$D$7:$D$107='Seznam družstev'!$B9, 'Seznam střelců'!$E$7:$E$107, \"\")), \"\")","v":""},{"$f":"IF(MAX('Seznam střelců'!$D$7:$D$107) > $B8, $B8+1,\"\")","v":""},"",{"$f":"IF($B9<>\"\", SUMIF('Seznam střelců'!$D$7:$D$107,'Seznam družstev'!$B9,'Seznam střelců'!F$7:F$107), \"\")","v":""},{"$f":"IF($B9<>\"\", SUMIF('Seznam střelců'!$D$7:$D$107,'Seznam družstev'!$B9,'Seznam střelců'!G$7:G$107), \"\")","v":""},{"$f":"IF($B9<>\"\", SUMIF('Seznam střelců'!$D$7:$D$107,'Seznam družstev'!$B9,'Seznam střelců'!H$7:H$107), \"\")","v":""},{"$f":"IF($B9<>\"\", SUMIF('Seznam střelců'!$D$7:$D$107,'Seznam družstev'!$B9,'Seznam střelců'!I$7:I$107), \"\")","v":""},{"$f":"IF($B9<>\"\", SUMIF('Seznam střelců'!$D$7:$D$107,'Seznam družstev'!$B9,'Seznam střelců'!J$7:J$107), \"\")","v":""},{"$f":"IF($B9<>\"\", SUMIF('Seznam střelců'!$D$7:$D$107,'Seznam družstev'!$B9,'Seznam střelců'!K$7:K$107), \"\")","v":""},{"$f":"IF($B9<>\"\", SUMIF('Seznam střelců'!$D$7:$D$107,'Seznam družstev'!$B9,'Seznam střelců'!L$7:L$107), \"\")","v":""},{"$f":"IF($B9<>\"\", SUMIF('Seznam střelců'!$D$7:$D$107,'Seznam družstev'!$B9,'Seznam střelců'!M$7:M$107), \"\")","v":""},{"$f":"IF($B9<>\"\", SUMIF('Seznam střelců'!$D$7:$D$107,'Seznam družstev'!$B9,'Seznam střelců'!N$7:N$107), \"\")","v":""},{"$f":"IF($B9<>\"\", SUMIF('Seznam střelců'!$D$7:$D$107,'Seznam družstev'!$B9,'Seznam střelců'!O$7:O$107), \"\")","v":""},null,{"$f":"'Pom. pořadí družstva'!O9","v":""},null,{"$f":"IF(B9<>\"\",COUNTIF('Seznam střelců'!$D$7:$D$107,'Seznam družstev'!$B9),\"\")","v":""}]
[{"$f":"IF(B10 <> \"\", IF($R10<>\"\", $R10 & \" ve složení \", \"\") & StringConcat(\", \",  IF('Seznam střelců'!$D$7:$D$107='Seznam družstev'!$B10, 'Seznam střelců'!$E$7:$E$107, \"\")), \"\")","v":""},{"$f":"IF(MAX('Seznam střelců'!$D$7:$D$107) > $B9, $B9+1,\"\")","v":""},"",{"$f":"IF($B10<>\"\", SUMIF('Seznam střelců'!$D$7:$D$107,'Seznam družstev'!$B10,'Seznam střelců'!F$7:F$107), \"\")","v":""},{"$f":"IF($B10<>\"\", SUMIF('Seznam střelců'!$D$7:$D$107,'Seznam družstev'!$B10,'Seznam střelců'!G$7:G$107), \"\")","v":""},{"$f":"IF($B10<>\"\", SUMIF('Seznam střelců'!$D$7:$D$107,'Seznam družstev'!$B10,'Seznam střelců'!H$7:H$107), \"\")","v":""},{"$f":"IF($B10<>\"\", SUMIF('Seznam střelců'!$D$7:$D$107,'Seznam družstev'!$B10,'Seznam střelců'!I$7:I$107), \"\")","v":""},{"$f":"IF($B10<>\"\", SUMIF('Seznam střelců'!$D$7:$D$107,'Seznam družstev'!$B10,'Seznam střelců'!J$7:J$107), \"\")","v":""},{"$f":"IF($B10<>\"\", SUMIF('Seznam střelců'!$D$7:$D$107,'Seznam družstev'!$B10,'Seznam střelců'!K$7:K$107), \"\")","v":""},{"$f":"IF($B10<>\"\", SUMIF('Seznam střelců'!$D$7:$D$107,'Seznam družstev'!$B10,'Seznam střelců'!L$7:L$107), \"\")","v":""},{"$f":"IF($B10<>\"\", SUMIF('Seznam střelců'!$D$7:$D$107,'Seznam družstev'!$B10,'Seznam střelců'!M$7:M$107), \"\")","v":""},{"$f":"IF($B10<>\"\", SUMIF('Seznam střelců'!$D$7:$D$107,'Seznam družstev'!$B10,'Seznam střelců'!N$7:N$107), \"\")","v":""},{"$f":"IF($B10<>\"\", SUMIF('Seznam střelců'!$D$7:$D$107,'Seznam družstev'!$B10,'Seznam střelců'!O$7:O$107), \"\")","v":""},null,{"$f":"'Pom. pořadí družstva'!O10","v":""},null,{"$f":"IF(B10<>\"\",COUNTIF('Seznam střelců'!$D$7:$D$107,'Seznam družstev'!$B10),\"\")","v":""}]
[{"$f":"IF(B11 <> \"\", IF($R11<>\"\", $R11 & \" ve složení \", \"\") & StringConcat(\", \",  IF('Seznam střelců'!$D$7:$D$107='Seznam družstev'!$B11, 'Seznam střelců'!$E$7:$E$107, \"\")), \"\")","v":""},{"$f":"IF(MAX('Seznam střelců'!$D$7:$D$107) > $B10, $B10+1,\"\")","v":""},"",{"$f":"IF($B11<>\"\", SUMIF('Seznam střelců'!$D$7:$D$107,'Seznam družstev'!$B11,'Seznam střelců'!F$7:F$107), \"\")","v":""},{"$f":"IF($B11<>\"\", SUMIF('Seznam střelců'!$D$7:$D$107,'Seznam družstev'!$B11,'Seznam střelců'!G$7:G$107), \"\")","v":""},{"$f":"IF($B11<>\"\", SUMIF('Seznam střelců'!$D$7:$D$107,'Seznam družstev'!$B11,'Seznam střelců'!H$7:H$107), \"\")","v":""},{"$f":"IF($B11<>\"\", SUMIF('Seznam střelců'!$D$7:$D$107,'Seznam družstev'!$B11,'Seznam střelců'!I$7:I$107), \"\")","v":""},{"$f":"IF($B11<>\"\", SUMIF('Seznam střelců'!$D$7:$D$107,'Seznam družstev'!$B11,'Seznam střelců'!J$7:J$107), \"\")","v":""},{"$f":"IF($B11<>\"\", SUMIF('Seznam střelců'!$D$7:$D$107,'Seznam družstev'!$B11,'Seznam střelců'!K$7:K$107), \"\")","v":""},{"$f":"IF($B11<>\"\", SUMIF('Seznam střelců'!$D$7:$D$107,'Seznam družstev'!$B11,'Seznam střelců'!L$7:L$107), \"\")","v":""},{"$f":"IF($B11<>\"\", SUMIF('Seznam střelců'!$D$7:$D$107,'Seznam družstev'!$B11,'Seznam střelců'!M$7:M$107), \"\")","v":""},{"$f":"IF($B11<>\"\", SUMIF('Seznam střelců'!$D$7:$D$107,'Seznam družstev'!$B11,'Seznam střelců'!N$7:N$107), \"\")","v":""},{"$f":"IF($B11<>\"\", SUMIF('Seznam střelců'!$D$7:$D$107,'Seznam družstev'!$B11,'Seznam střelců'!O$7:O$107), \"\")","v":""},null,{"$f":"'Pom. pořadí družstva'!O11","v":""},null,{"$f":"IF(B11<>\"\",COUNTIF('Seznam střelců'!$D$7:$D$107,'Seznam družstev'!$B11),\"\")","v":""}]
[{"$f":"IF(B12 <> \"\", IF($R12<>\"\", $R12 & \" ve složení \", \"\") & StringConcat(\", \",  IF('Seznam střelců'!$D$7:$D$107='Seznam družstev'!$B12, 'Seznam střelců'!$E$7:$E$107, \"\")), \"\")","v":""},{"$f":"IF(MAX('Seznam střelců'!$D$7:$D$107) > $B11, $B11+1,\"\")","v":""},"",{"$f":"IF($B12<>\"\", SUMIF('Seznam střelců'!$D$7:$D$107,'Seznam družstev'!$B12,'Seznam střelců'!F$7:F$107), \"\")","v":""},{"$f":"IF($B12<>\"\", SUMIF('Seznam střelců'!$D$7:$D$107,'Seznam družstev'!$B12,'Seznam střelců'!G$7:G$107), \"\")","v":""},{"$f":"IF($B12<>\"\", SUMIF('Seznam střelců'!$D$7:$D$107,'Seznam družstev'!$B12,'Seznam střelců'!H$7:H$107), \"\")","v":""},{"$f":"IF($B12<>\"\", SUMIF('Seznam střelců'!$D$7:$D$107,'Seznam družstev'!$B12,'Seznam střelců'!I$7:I$107), \"\")","v":""},{"$f":"IF($B12<>\"\", SUMIF('Seznam střelců'!$D$7:$D$107,'Seznam družstev'!$B12,'Seznam střelců'!J$7:J$107), \"\")","v":""},{"$f":"IF($B12<>\"\", SUMIF('Seznam střelců'!$D$7:$D$107,'Seznam družstev'!$B12,'Seznam střelců'!K$7:K$107), \"\")","v":""},{"$f":"IF($B12<>\"\", SUMIF('Seznam střelců'!$D$7:$D$107,'Seznam družstev'!$B12,'Seznam střelců'!L$7:L$107), \"\")","v":""},{"$f":"IF($B12<>\"\", SUMIF('Seznam střelců'!$D$7:$D$107,'Seznam družstev'!$B12,'Seznam střelců'!M$7:M$107), \"\")","v":""},{"$f":"IF($B12<>\"\", SUMIF('Seznam střelců'!$D$7:$D$107,'Seznam družstev'!$B12,'Seznam střelců'!N$7:N$107), \"\")","v":""},{"$f":"IF($B12<>\"\", SUMIF('Seznam střelců'!$D$7:$D$107,'Seznam družstev'!$B12,'Seznam střelců'!O$7:O$107), \"\")","v":""},null,{"$f":"'Pom. pořadí družstva'!O12","v":""},null,{"$f":"IF(B12<>\"\",COUNTIF('Seznam střelců'!$D$7:$D$107,'Seznam družstev'!$B12),\"\")","v":""}]
[{"$f":"IF(B13 <> \"\", IF($R13<>\"\", $R13 & \" ve složení \", \"\") & StringConcat(\", \",  IF('Seznam střelců'!$D$7:$D$107='Seznam družstev'!$B13, 'Seznam střelců'!$E$7:$E$107, \"\")), \"\")","v":""},{"$f":"IF(MAX('Seznam střelců'!$D$7:$D$107) > $B12, $B12+1,\"\")","v":""},"",{"$f":"IF($B13<>\"\", SUMIF('Seznam střelců'!$D$7:$D$107,'Seznam družstev'!$B13,'Seznam střelců'!F$7:F$107), \"\")","v":""},{"$f":"IF($B13<>\"\", SUMIF('Seznam střelců'!$D$7:$D$107,'Seznam družstev'!$B13,'Seznam střelců'!G$7:G$107), \"\")","v":""},{"$f":"IF($B13<>\"\", SUMIF('Seznam střelců'!$D$7:$D$107,'Seznam družstev'!$B13,'Seznam střelců'!H$7:H$107), \"\")","v":""},{"$f":"IF($B13<>\"\", SUMIF('Seznam střelců'!$D$7:$D$107,'Seznam družstev'!$B13,'Seznam střelců'!I$7:I$107), \"\")","v":""},{"$f":"IF($B13<>\"\", SUMIF('Seznam střelců'!$D$7:$D$107,'Seznam družstev'!$B13,'Seznam střelců'!J$7:J$107), \"\")","v":""},{"$f":"IF($B13<>\"\", SUMIF('Seznam střelců'!$D$7:$D$107,'Seznam družstev'!$B13,'Seznam střelců'!K$7:K$107), \"\")","v":""},{"$f":"IF($B13<>\"\", SUMIF('Seznam střelců'!$D$7:$D$107,'Seznam družstev'!$B13,'Seznam střelců'!L$7:L$107), \"\")","v":""},{"$f":"IF($B13<>\"\", SUMIF('Seznam střelců'!$D$7:$D$107,'Seznam družstev'!$B13,'Seznam střelců'!M$7:M$107), \"\")","v":""},{"$f":"IF($B13<>\"\", SUMIF('Seznam střelců'!$D$7:$D$107,'Seznam družstev'!$B13,'Seznam střelců'!N$7:N$107), \"\")","v":""},{"$f":"IF($B13<>\"\", SUMIF('Seznam střelců'!$D$7:$D$107,'Seznam družstev'!$B13,'Seznam střelců'!O$7:O$107), \"\")","v":""},null,{"$f":"'Pom. pořadí družstva'!O13","v":""},null,{"$f":"IF(B13<>\"\",COUNTIF('Seznam střelců'!$D$7:$D$107,'Seznam družstev'!$B13),\"\")","v":""}]
[{"$f":"IF(B14 <> \"\", IF($R14<>\"\", $R14 & \" ve složení \", \"\") & StringConcat(\", \",  IF('Seznam střelců'!$D$7:$D$107='Seznam družstev'!$B14, 'Seznam střelců'!$E$7:$E$107, \"\")), \"\")","v":""},{"$f":"IF(MAX('Seznam střelců'!$D$7:$D$107) > $B13, $B13+1,\"\")","v":""},"",{"$f":"IF($B14<>\"\", SUMIF('Seznam střelců'!$D$7:$D$107,'Seznam družstev'!$B14,'Seznam střelců'!F$7:F$107), \"\")","v":""},{"$f":"IF($B14<>\"\", SUMIF('Seznam střelců'!$D$7:$D$107,'Seznam družstev'!$B14,'Seznam střelců'!G$7:G$107), \"\")","v":""},{"$f":"IF($B14<>\"\", SUMIF('Seznam střelců'!$D$7:$D$107,'Seznam družstev'!$B14,'Seznam střelců'!H$7:H$107), \"\")","v":""},{"$f":"IF($B14<>\"\", SUMIF('Seznam střelců'!$D$7:$D$107,'Seznam družstev'!$B14,'Seznam střelců'!I$7:I$107), \"\")","v":""},{"$f":"IF($B14<>\"\", SUMIF('Seznam střelců'!$D$7:$D$107,'Seznam družstev'!$B14,'Seznam střelců'!J$7:J$107), \"\")","v":""},{"$f":"IF($B14<>\"\", SUMIF('Seznam střelců'!$D$7:$D$107,'Seznam družstev'!$B14,'Seznam střelců'!K$7:K$107), \"\")","v":""},{"$f":"IF($B14<>\"\", SUMIF('Seznam střelců'!$D$7:$D$107,'Seznam družstev'!$B14,'Seznam střelců'!L$7:L$107), \"\")","v":""},{"$f":"IF($B14<>\"\", SUMIF('Seznam střelců'!$D$7:$D$107,'Seznam družstev'!$B14,'Seznam střelců'!M$7:M$107), \"\")","v":""},{"$f":"IF($B14<>\"\", SUMIF('Seznam střelců'!$D$7:$D$107,'Seznam družstev'!$B14,'Seznam střelců'!N$7:N$107), \"\")","v":""},{"$f":"IF($B14<>\"\", SUMIF('Seznam střelců'!$D$7:$D$107,'Seznam družstev'!$B14,'Seznam střelců'!O$7:O$107), \"\")","v":""},null,{"$f":"'Pom. pořadí družstva'!O14","v":""},null,{"$f":"IF(B14<>\"\",COUNTIF('Seznam střelců'!$D$7:$D$107,'Seznam družstev'!$B14),\"\")","v":""}]
[{"$f":"IF(B15 <> \"\", IF($R15<>\"\", $R15 & \" ve složení \", \"\") & StringConcat(\", \",  IF('Seznam střelců'!$D$7:$D$107='Seznam družstev'!$B15, 'Seznam střelců'!$E$7:$E$107, \"\")), \"\")","v":""},{"$f":"IF(MAX('Seznam střelců'!$D$7:$D$107) > $B14, $B14+1,\"\")","v":""},"",{"$f":"IF($B15<>\"\", SUMIF('Seznam střelců'!$D$7:$D$107,'Seznam družstev'!$B15,'Seznam střelců'!F$7:F$107), \"\")","v":""},{"$f":"IF($B15<>\"\", SUMIF('Seznam střelců'!$D$7:$D$107,'Seznam družstev'!$B15,'Seznam střelců'!G$7:G$107), \"\")","v":""},{"$f":"IF($B15<>\"\", SUMIF('Seznam střelců'!$D$7:$D$107,'Seznam družstev'!$B15,'Seznam střelců'!H$7:H$107), \"\")","v":""},{"$f":"IF($B15<>\"\", SUMIF('Seznam střelců'!$D$7:$D$107,'Seznam družstev'!$B15,'Seznam střelců'!I$7:I$107), \"\")","v":""},{"$f":"IF($B15<>\"\", SUMIF('Seznam střelců'!$D$7:$D$107,'Seznam družstev'!$B15,'Seznam střelců'!J$7:J$107), \"\")","v":""},{"$f":"IF($B15<>\"\", SUMIF('Seznam střelců'!$D$7:$D$107,'Seznam družstev'!$B15,'Seznam střelců'!K$7:K$107), \"\")","v":""},{"$f":"IF($B15<>\"\", SUMIF('Seznam střelců'!$D$7:$D$107,'Seznam družstev'!$B15,'Seznam střelců'!L$7:L$107), \"\")","v":""},{"$f":"IF($B15<>\"\", SUMIF('Seznam střelců'!$D$7:$D$107,'Seznam družstev'!$B15,'Seznam střelců'!M$7:M$107), \"\")","v":""},{"$f":"IF($B15<>\"\", SUMIF('Seznam střelců'!$D$7:$D$107,'Seznam družstev'!$B15,'Seznam střelců'!N$7:N$107), \"\")","v":""},{"$f":"IF($B15<>\"\", SUMIF('Seznam střelců'!$D$7:$D$107,'Seznam družstev'!$B15,'Seznam střelců'!O$7:O$107), \"\")","v":""},null,{"$f":"'Pom. pořadí družstva'!O15","v":""},null,{"$f":"IF(B15<>\"\",COUNTIF('Seznam střelců'!$D$7:$D$107,'Seznam družstev'!$B15),\"\")","v":""}]
[{"$f":"IF(B16 <> \"\", IF($R16<>\"\", $R16 & \" ve složení \", \"\") & StringConcat(\", \",  IF('Seznam střelců'!$D$7:$D$107='Seznam družstev'!$B16, 'Seznam střelců'!$E$7:$E$107, \"\")), \"\")","v":""},{"$f":"IF(MAX('Seznam střelců'!$D$7:$D$107) > $B15, $B15+1,\"\")","v":""},"",{"$f":"IF($B16<>\"\", SUMIF('Seznam střelců'!$D$7:$D$107,'Seznam družstev'!$B16,'Seznam střelců'!F$7:F$107), \"\")","v":""},{"$f":"IF($B16<>\"\", SUMIF('Seznam střelců'!$D$7:$D$107,'Seznam družstev'!$B16,'Seznam střelců'!G$7:G$107), \"\")","v":""},{"$f":"IF($B16<>\"\", SUMIF('Seznam střelců'!$D$7:$D$107,'Seznam družstev'!$B16,'Seznam střelců'!H$7:H$107), \"\")","v":""},{"$f":"IF($B16<>\"\", SUMIF('Seznam střelců'!$D$7:$D$107,'Seznam družstev'!$B16,'Seznam střelců'!I$7:I$107), \"\")","v":""},{"$f":"IF($B16<>\"\", SUMIF('Seznam střelců'!$D$7:$D$107,'Seznam družstev'!$B16,'Seznam střelců'!J$7:J$107), \"\")","v":""},{"$f":"IF($B16<>\"\", SUMIF('Seznam střelců'!$D$7:$D$107,'Seznam družstev'!$B16,'Seznam střelců'!K$7:K$107), \"\")","v":""},{"$f":"IF($B16<>\"\", SUMIF('Seznam střelců'!$D$7:$D$107,'Seznam družstev'!$B16,'Seznam střelců'!L$7:L$107), \"\")","v":""},{"$f":"IF($B16<>\"\", SUMIF('Seznam střelců'!$D$7:$D$107,'Seznam družstev'!$B16,'Seznam střelců'!M$7:M$107), \"\")","v":""},{"$f":"IF($B16<>\"\", SUMIF('Seznam střelců'!$D$7:$D$107,'Seznam družstev'!$B16,'Seznam střelců'!N$7:N$107), \"\")","v":""},{"$f":"IF($B16<>\"\", SUMIF('Seznam střelců'!$D$7:$D$107,'Seznam družstev'!$B16,'Seznam střelců'!O$7:O$107), \"\")","v":""},null,{"$f":"'Pom. pořadí družstva'!O16","v":""},null,{"$f":"IF(B16<>\"\",COUNTIF('Seznam střelců'!$D$7:$D$107,'Seznam družstev'!$B16),\"\")","v":""}]
[{"$f":"IF(B17 <> \"\", IF($R17<>\"\", $R17 & \" ve složení \", \"\") & StringConcat(\", \",  IF('Seznam střelců'!$D$7:$D$107='Seznam družstev'!$B17, 'Seznam střelců'!$E$7:$E$107, \"\")), \"\")","v":""},{"$f":"IF(MAX('Seznam střelců'!$D$7:$D$107) > $B16, $B16+1,\"\")","v":""},"",{"$f":"IF($B17<>\"\", SUMIF('Seznam střelců'!$D$7:$D$107,'Seznam družstev'!$B17,'Seznam střelců'!F$7:F$107), \"\")","v":""},{"$f":"IF($B17<>\"\", SUMIF('Seznam střelců'!$D$7:$D$107,'Seznam družstev'!$B17,'Seznam střelců'!G$7:G$107), \"\")","v":""},{"$f":"IF($B17<>\"\", SUMIF('Seznam střelců'!$D$7:$D$107,'Seznam družstev'!$B17,'Seznam střelců'!H$7:H$107), \"\")","v":""},{"$f":"IF($B17<>\"\", SUMIF('Seznam střelců'!$D$7:$D$107,'Seznam družstev'!$B17,'Seznam střelců'!I$7:I$107), \"\")","v":""},{"$f":"IF($B17<>\"\", SUMIF('Seznam střelců'!$D$7:$D$107,'Seznam družstev'!$B17,'Seznam střelců'!J$7:J$107), \"\")","v":""},{"$f":"IF($B17<>\"\", SUMIF('Seznam střelců'!$D$7:$D$107,'Seznam družstev'!$B17,'Seznam střelců'!K$7:K$107), \"\")","v":""},{"$f":"IF($B17<>\"\", SUMIF('Seznam střelců'!$D$7:$D$107,'Seznam družstev'!$B17,'Seznam střelců'!L$7:L$107), \"\")","v":""},{"$f":"IF($B17<>\"\", SUMIF('Seznam střelců'!$D$7:$D$107,'Seznam družstev'!$B17,'Seznam střelců'!M$7:M$107), \"\")","v":""},{"$f":"IF($B17<>\"\", SUMIF('Seznam střelců'!$D$7:$D$107,'Seznam družstev'!$B17,'Seznam střelců'!N$7:N$107), \"\")","v":""},{"$f":"IF($B17<>\"\", SUMIF('Seznam střelců'!$D$7:$D$107,'Seznam družstev'!$B17,'Seznam střelců'!O$7:O$107), \"\")","v":""},null,{"$f":"'Pom. pořadí družstva'!O17","v":""},null,{"$f":"IF(B17<>\"\",COUNTIF('Seznam střelců'!$D$7:$D$107,'Seznam družstev'!$B17),\"\")","v":""}]
[{"$f":"IF(B18 <> \"\", IF($R18<>\"\", $R18 & \" ve složení \", \"\") & StringConcat(\", \",  IF('Seznam střelců'!$D$7:$D$107='Seznam družstev'!$B18, 'Seznam střelců'!$E$7:$E$107, \"\")), \"\")","v":""},{"$f":"IF(MAX('Seznam střelců'!$D$7:$D$107) > $B17, $B17+1,\"\")","v":""},"",{"$f":"IF($B18<>\"\", SUMIF('Seznam střelců'!$D$7:$D$107,'Seznam družstev'!$B18,'Seznam střelců'!F$7:F$107), \"\")","v":""},{"$f":"IF($B18<>\"\", SUMIF('Seznam střelců'!$D$7:$D$107,'Seznam družstev'!$B18,'Seznam střelců'!G$7:G$107), \"\")","v":""},{"$f":"IF($B18<>\"\", SUMIF('Seznam střelců'!$D$7:$D$107,'Seznam družstev'!$B18,'Seznam střelců'!H$7:H$107), \"\")","v":""},{"$f":"IF($B18<>\"\", SUMIF('Seznam střelců'!$D$7:$D$107,'Seznam družstev'!$B18,'Seznam střelců'!I$7:I$107), \"\")","v":""},{"$f":"IF($B18<>\"\", SUMIF('Seznam střelců'!$D$7:$D$107,'Seznam družstev'!$B18,'Seznam střelců'!J$7:J$107), \"\")","v":""},{"$f":"IF($B18<>\"\", SUMIF('Seznam střelců'!$D$7:$D$107,'Seznam družstev'!$B18,'Seznam střelců'!K$7:K$107), \"\")","v":""},{"$f":"IF($B18<>\"\", SUMIF('Seznam střelců'!$D$7:$D$107,'Seznam družstev'!$B18,'Seznam střelců'!L$7:L$107), \"\")","v":""},{"$f":"IF($B18<>\"\", SUMIF('Seznam střelců'!$D$7:$D$107,'Seznam družstev'!$B18,'Seznam střelců'!M$7:M$107), \"\")","v":""},{"$f":"IF($B18<>\"\", SUMIF('Seznam střelců'!$D$7:$D$107,'Seznam družstev'!$B18,'Seznam střelců'!N$7:N$107), \"\")","v":""},{"$f":"IF($B18<>\"\", SUMIF('Seznam střelců'!$D$7:$D$107,'Seznam družstev'!$B18,'Seznam střelců'!O$7:O$107), \"\")","v":""},null,{"$f":"'Pom. pořadí družstva'!O18","v":""},null,{"$f":"IF(B18<>\"\",COUNTIF('Seznam střelců'!$D$7:$D$107,'Seznam družstev'!$B18),\"\")","v":""}]
[{"$f":"IF(B19 <> \"\", IF($R19<>\"\", $R19 & \" ve složení \", \"\") & StringConcat(\", \",  IF('Seznam střelců'!$D$7:$D$107='Seznam družstev'!$B19, 'Seznam střelců'!$E$7:$E$107, \"\")), \"\")","v":""},{"$f":"IF(MAX('Seznam střelců'!$D$7:$D$107) > $B18, $B18+1,\"\")","v":""},"",{"$f":"IF($B19<>\"\", SUMIF('Seznam střelců'!$D$7:$D$107,'Seznam družstev'!$B19,'Seznam střelců'!F$7:F$107), \"\")","v":""},{"$f":"IF($B19<>\"\", SUMIF('Seznam střelců'!$D$7:$D$107,'Seznam družstev'!$B19,'Seznam střelců'!G$7:G$107), \"\")","v":""},{"$f":"IF($B19<>\"\", SUMIF('Seznam střelců'!$D$7:$D$107,'Seznam družstev'!$B19,'Seznam střelců'!H$7:H$107), \"\")","v":""},{"$f":"IF($B19<>\"\", SUMIF('Seznam střelců'!$D$7:$D$107,'Seznam družstev'!$B19,'Seznam střelců'!I$7:I$107), \"\")","v":""},{"$f":"IF($B19<>\"\", SUMIF('Seznam střelců'!$D$7:$D$107,'Seznam družstev'!$B19,'Seznam střelců'!J$7:J$107), \"\")","v":""},{"$f":"IF($B19<>\"\", SUMIF('Seznam střelců'!$D$7:$D$107,'Seznam družstev'!$B19,'Seznam střelců'!K$7:K$107), \"\")","v":""},{"$f":"IF($B19<>\"\", SUMIF('Seznam střelců'!$D$7:$D$107,'Seznam družstev'!$B19,'Seznam střelců'!L$7:L$107), \"\")","v":""},{"$f":"IF($B19<>\"\", SUMIF('Seznam střelců'!$D$7:$D$107,'Seznam družstev'!$B19,'Seznam střelců'!M$7:M$107), \"\")","v":""},{"$f":"IF($B19<>\"\", SUMIF('Seznam střelců'!$D$7:$D$107,'Seznam družstev'!$B19,'Seznam střelců'!N$7:N$107), \"\")","v":""},{"$f":"IF($B19<>\"\", SUMIF('Seznam střelců'!$D$7:$D$107,'Seznam družstev'!$B19,'Seznam střelců'!O$7:O$107), \"\")","v":""},null,{"$f":"'Pom. pořadí družstva'!O19","v":""},null,{"$f":"IF(B19<>\"\",COUNTIF('Seznam střelců'!$D$7:$D$107,'Seznam družstev'!$B19),\"\")","v":""}]
[{"$f":"IF(B20 <> \"\", IF($R20<>\"\", $R20 & \" ve složení \", \"\") & StringConcat(\", \",  IF('Seznam střelců'!$D$7:$D$107='Seznam družstev'!$B20, 'Seznam střelců'!$E$7:$E$107, \"\")), \"\")","v":""},{"$f":"IF(MAX('Seznam střelců'!$D$7:$D$107) > $B19, $B19+1,\"\")","v":""},"",{"$f":"IF($B20<>\"\", SUMIF('Seznam střelců'!$D$7:$D$107,'Seznam družstev'!$B20,'Seznam střelců'!F$7:F$107), \"\")","v":""},{"$f":"IF($B20<>\"\", SUMIF('Seznam střelců'!$D$7:$D$107,'Seznam družstev'!$B20,'Seznam střelců'!G$7:G$107), \"\")","v":""},{"$f":"IF($B20<>\"\", SUMIF('Seznam střelců'!$D$7:$D$107,'Seznam družstev'!$B20,'Seznam střelců'!H$7:H$107), \"\")","v":""},{"$f":"IF($B20<>\"\", SUMIF('Seznam střelců'!$D$7:$D$107,'Seznam družstev'!$B20,'Seznam střelců'!I$7:I$107), \"\")","v":""},{"$f":"IF($B20<>\"\", SUMIF('Seznam střelců'!$D$7:$D$107,'Seznam družstev'!$B20,'Seznam střelců'!J$7:J$107), \"\")","v":""},{"$f":"IF($B20<>\"\", SUMIF('Seznam střelců'!$D$7:$D$107,'Seznam družstev'!$B20,'Seznam střelců'!K$7:K$107), \"\")","v":""},{"$f":"IF($B20<>\"\", SUMIF('Seznam střelců'!$D$7:$D$107,'Seznam družstev'!$B20,'Seznam střelců'!L$7:L$107), \"\")","v":""},{"$f":"IF($B20<>\"\", SUMIF('Seznam střelců'!$D$7:$D$107,'Seznam družstev'!$B20,'Seznam střelců'!M$7:M$107), \"\")","v":""},{"$f":"IF($B20<>\"\", SUMIF('Seznam střelců'!$D$7:$D$107,'Seznam družstev'!$B20,'Seznam střelců'!N$7:N$107), \"\")","v":""},{"$f":"IF($B20<>\"\", SUMIF('Seznam střelců'!$D$7:$D$107,'Seznam družstev'!$B20,'Seznam střelců'!O$7:O$107), \"\")","v":""},null,{"$f":"'Pom. pořadí družstva'!O20","v":""},null,{"$f":"IF(B20<>\"\",COUNTIF('Seznam střelců'!$D$7:$D$107,'Seznam družstev'!$B20),\"\")","v":""}]
[{"$f":"IF(B21 <> \"\", IF($R21<>\"\", $R21 & \" ve složení \", \"\") & StringConcat(\", \",  IF('Seznam střelců'!$D$7:$D$107='Seznam družstev'!$B21, 'Seznam střelců'!$E$7:$E$107, \"\")), \"\")","v":""},{"$f":"IF(MAX('Seznam střelců'!$D$7:$D$107) > $B20, $B20+1,\"\")","v":""},"",{"$f":"IF($B21<>\"\", SUMIF('Seznam střelců'!$D$7:$D$107,'Seznam družstev'!$B21,'Seznam střelců'!F$7:F$107), \"\")","v":""},{"$f":"IF($B21<>\"\", SUMIF('Seznam střelců'!$D$7:$D$107,'Seznam družstev'!$B21,'Seznam střelců'!G$7:G$107), \"\")","v":""},{"$f":"IF($B21<>\"\", SUMIF('Seznam střelců'!$D$7:$D$107,'Seznam družstev'!$B21,'Seznam střelců'!H$7:H$107), \"\")","v":""},{"$f":"IF($B21<>\"\", SUMIF('Seznam střelců'!$D$7:$D$107,'Seznam družstev'!$B21,'Seznam střelců'!I$7:I$107), \"\")","v":""},{"$f":"IF($B21<>\"\", SUMIF('Seznam střelců'!$D$7:$D$107,'Seznam družstev'!$B21,'Seznam střelců'!J$7:J$107), \"\")","v":""},{"$f":"IF($B21<>\"\", SUMIF('Seznam střelců'!$D$7:$D$107,'Seznam družstev'!$B21,'Seznam střelců'!K$7:K$107), \"\")","v":""},{"$f":"IF($B21<>\"\", SUMIF('Seznam střelců'!$D$7:$D$107,'Seznam družstev'!$B21,'Seznam střelců'!L$7:L$107), \"\")","v":""},{"$f":"IF($B21<>\"\", SUMIF('Seznam střelců'!$D$7:$D$107,'Seznam družstev'!$B21,'Seznam střelců'!M$7:M$107), \"\")","v":""},{"$f":"IF($B21<>\"\", SUMIF('Seznam střelců'!$D$7:$D$107,'Seznam družstev'!$B21,'Seznam střelců'!N$7:N$107), \"\")","v":""},{"$f":"IF($B21<>\"\", SUMIF('Seznam střelců'!$D$7:$D$107,'Seznam družstev'!$B21,'Seznam střelců'!O$7:O$107), \"\")","v":""},null,{"$f":"'Pom. pořadí družstva'!O21","v":""},null,{"$f":"IF(B21<>\"\",COUNTIF('Seznam střelců'!$D$7:$D$107,'Seznam družstev'!$B21),\"\")","v":""}]
[{"$f":"IF(B22 <> \"\", IF($R22<>\"\", $R22 & \" ve složení \", \"\") & StringConcat(\", \",  IF('Seznam střelců'!$D$7:$D$107='Seznam družstev'!$B22, 'Seznam střelců'!$E$7:$E$107, \"\")), \"\")","v":""},{"$f":"IF(MAX('Seznam střelců'!$D$7:$D$107) > $B21, $B21+1,\"\")","v":""},"",{"$f":"IF($B22<>\"\", SUMIF('Seznam střelců'!$D$7:$D$107,'Seznam družstev'!$B22,'Seznam střelců'!F$7:F$107), \"\")","v":""},{"$f":"IF($B22<>\"\", SUMIF('Seznam střelců'!$D$7:$D$107,'Seznam družstev'!$B22,'Seznam střelců'!G$7:G$107), \"\")","v":""},{"$f":"IF($B22<>\"\", SUMIF('Seznam střelců'!$D$7:$D$107,'Seznam družstev'!$B22,'Seznam střelců'!H$7:H$107), \"\")","v":""},{"$f":"IF($B22<>\"\", SUMIF('Seznam střelců'!$D$7:$D$107,'Seznam družstev'!$B22,'Seznam střelců'!I$7:I$107), \"\")","v":""},{"$f":"IF($B22<>\"\", SUMIF('Seznam střelců'!$D$7:$D$107,'Seznam družstev'!$B22,'Seznam střelců'!J$7:J$107), \"\")","v":""},{"$f":"IF($B22<>\"\", SUMIF('Seznam střelců'!$D$7:$D$107,'Seznam družstev'!$B22,'Seznam střelců'!K$7:K$107), \"\")","v":""},{"$f":"IF($B22<>\"\", SUMIF('Seznam střelců'!$D$7:$D$107,'Seznam družstev'!$B22,'Seznam střelců'!L$7:L$107), \"\")","v":""},{"$f":"IF($B22<>\"\", SUMIF('Seznam střelců'!$D$7:$D$107,'Seznam družstev'!$B22,'Seznam střelců'!M$7:M$107), \"\")","v":""},{"$f":"IF($B22<>\"\", SUMIF('Seznam střelců'!$D$7:$D$107,'Seznam družstev'!$B22,'Seznam střelců'!N$7:N$107), \"\")","v":""},{"$f":"IF($B22<>\"\", SUMIF('Seznam střelců'!$D$7:$D$107,'Seznam družstev'!$B22,'Seznam střelců'!O$7:O$107), \"\")","v":""},null,{"$f":"'Pom. pořadí družstva'!O22","v":""},null,{"$f":"IF(B22<>\"\",COUNTIF('Seznam střelců'!$D$7:$D$107,'Seznam družstev'!$B22),\"\")","v":""}]
[{"$f":"IF(B23 <> \"\", IF($R23<>\"\", $R23 & \" ve složení \", \"\") & StringConcat(\", \",  IF('Seznam střelců'!$D$7:$D$107='Seznam družstev'!$B23, 'Seznam střelců'!$E$7:$E$107, \"\")), \"\")","v":""},{"$f":"IF(MAX('Seznam střelců'!$D$7:$D$107) > $B22, $B22+1,\"\")","v":""},"",{"$f":"IF($B23<>\"\", SUMIF('Seznam střelců'!$D$7:$D$107,'Seznam družstev'!$B23,'Seznam střelců'!F$7:F$107), \"\")","v":""},{"$f":"IF($B23<>\"\", SUMIF('Seznam střelců'!$D$7:$D$107,'Seznam družstev'!$B23,'Seznam střelců'!G$7:G$107), \"\")","v":""},{"$f":"IF($B23<>\"\", SUMIF('Seznam střelců'!$D$7:$D$107,'Seznam družstev'!$B23,'Seznam střelců'!H$7:H$107), \"\")","v":""},{"$f":"IF($B23<>\"\", SUMIF('Seznam střelců'!$D$7:$D$107,'Seznam družstev'!$B23,'Seznam střelců'!I$7:I$107), \"\")","v":""},{"$f":"IF($B23<>\"\", SUMIF('Seznam střelců'!$D$7:$D$107,'Seznam družstev'!$B23,'Seznam střelců'!J$7:J$107), \"\")","v":""},{"$f":"IF($B23<>\"\", SUMIF('Seznam střelců'!$D$7:$D$107,'Seznam družstev'!$B23,'Seznam střelců'!K$7:K$107), \"\")","v":""},{"$f":"IF($B23<>\"\", SUMIF('Seznam střelců'!$D$7:$D$107,'Seznam družstev'!$B23,'Seznam střelců'!L$7:L$107), \"\")","v":""},{"$f":"IF($B23<>\"\", SUMIF('Seznam střelců'!$D$7:$D$107,'Seznam družstev'!$B23,'Seznam střelců'!M$7:M$107), \"\")","v":""},{"$f":"IF($B23<>\"\", SUMIF('Seznam střelců'!$D$7:$D$107,'Seznam družstev'!$B23,'Seznam střelců'!N$7:N$107), \"\")","v":""},{"$f":"IF($B23<>\"\", SUMIF('Seznam střelců'!$D$7:$D$107,'Seznam družstev'!$B23,'Seznam střelců'!O$7:O$107), \"\")","v":""},null,{"$f":"'Pom. pořadí družstva'!O23","v":""},null,{"$f":"IF(B23<>\"\",COUNTIF('Seznam střelců'!$D$7:$D$107,'Seznam družstev'!$B23),\"\")","v":""}]
[{"$f":"IF(B24 <> \"\", IF($R24<>\"\", $R24 & \" ve složení \", \"\") & StringConcat(\", \",  IF('Seznam střelců'!$D$7:$D$107='Seznam družstev'!$B24, 'Seznam střelců'!$E$7:$E$107, \"\")), \"\")","v":""},{"$f":"IF(MAX('Seznam střelců'!$D$7:$D$107) > $B23, $B23+1,\"\")","v":""},"",{"$f":"IF($B24<>\"\", SUMIF('Seznam střelců'!$D$7:$D$107,'Seznam družstev'!$B24,'Seznam střelců'!F$7:F$107), \"\")","v":""},{"$f":"IF($B24<>\"\", SUMIF('Seznam střelců'!$D$7:$D$107,'Seznam družstev'!$B24,'Seznam střelců'!G$7:G$107), \"\")","v":""},{"$f":"IF($B24<>\"\", SUMIF('Seznam střelců'!$D$7:$D$107,'Seznam družstev'!$B24,'Seznam střelců'!H$7:H$107), \"\")","v":""},{"$f":"IF($B24<>\"\", SUMIF('Seznam střelců'!$D$7:$D$107,'Seznam družstev'!$B24,'Seznam střelců'!I$7:I$107), \"\")","v":""},{"$f":"IF($B24<>\"\", SUMIF('Seznam střelců'!$D$7:$D$107,'Seznam družstev'!$B24,'Seznam střelců'!J$7:J$107), \"\")","v":""},{"$f":"IF($B24<>\"\", SUMIF('Seznam střelců'!$D$7:$D$107,'Seznam družstev'!$B24,'Seznam střelců'!K$7:K$107), \"\")","v":""},{"$f":"IF($B24<>\"\", SUMIF('Seznam střelců'!$D$7:$D$107,'Seznam družstev'!$B24,'Seznam střelců'!L$7:L$107), \"\")","v":""},{"$f":"IF($B24<>\"\", SUMIF('Seznam střelců'!$D$7:$D$107,'Seznam družstev'!$B24,'Seznam střelců'!M$7:M$107), \"\")","v":""},{"$f":"IF($B24<>\"\", SUMIF('Seznam střelců'!$D$7:$D$107,'Seznam družstev'!$B24,'Seznam střelců'!N$7:N$107), \"\")","v":""},{"$f":"IF($B24<>\"\", SUMIF('Seznam střelců'!$D$7:$D$107,'Seznam družstev'!$B24,'Seznam střelců'!O$7:O$107), \"\")","v":""},null,{"$f":"'Pom. pořadí družstva'!O24","v":""},null,{"$f":"IF(B24<>\"\",COUNTIF('Seznam střelců'!$D$7:$D$107,'Seznam družstev'!$B24),\"\")","v":""}]
[{"$f":"IF(B25 <> \"\", IF($R25<>\"\", $R25 & \" ve složení \", \"\") & StringConcat(\", \",  IF('Seznam střelců'!$D$7:$D$107='Seznam družstev'!$B25, 'Seznam střelců'!$E$7:$E$107, \"\")), \"\")","v":""},{"$f":"IF(MAX('Seznam střelců'!$D$7:$D$107) > $B24, $B24+1,\"\")","v":""},"",{"$f":"IF($B25<>\"\", SUMIF('Seznam střelců'!$D$7:$D$107,'Seznam družstev'!$B25,'Seznam střelců'!F$7:F$107), \"\")","v":""},{"$f":"IF($B25<>\"\", SUMIF('Seznam střelců'!$D$7:$D$107,'Seznam družstev'!$B25,'Seznam střelců'!G$7:G$107), \"\")","v":""},{"$f":"IF($B25<>\"\", SUMIF('Seznam střelců'!$D$7:$D$107,'Seznam družstev'!$B25,'Seznam střelců'!H$7:H$107), \"\")","v":""},{"$f":"IF($B25<>\"\", SUMIF('Seznam střelců'!$D$7:$D$107,'Seznam družstev'!$B25,'Seznam střelců'!I$7:I$107), \"\")","v":""},{"$f":"IF($B25<>\"\", SUMIF('Seznam střelců'!$D$7:$D$107,'Seznam družstev'!$B25,'Seznam střelců'!J$7:J$107), \"\")","v":""},{"$f":"IF($B25<>\"\", SUMIF('Seznam střelců'!$D$7:$D$107,'Seznam družstev'!$B25,'Seznam střelců'!K$7:K$107), \"\")","v":""},{"$f":"IF($B25<>\"\", SUMIF('Seznam střelců'!$D$7:$D$107,'Seznam družstev'!$B25,'Seznam střelců'!L$7:L$107), \"\")","v":""},{"$f":"IF($B25<>\"\", SUMIF('Seznam střelců'!$D$7:$D$107,'Seznam družstev'!$B25,'Seznam střelců'!M$7:M$107), \"\")","v":""},{"$f":"IF($B25<>\"\", SUMIF('Seznam střelců'!$D$7:$D$107,'Seznam družstev'!$B25,'Seznam střelců'!N$7:N$107), \"\")","v":""},{"$f":"IF($B25<>\"\", SUMIF('Seznam střelců'!$D$7:$D$107,'Seznam družstev'!$B25,'Seznam střelců'!O$7:O$107), \"\")","v":""},null,{"$f":"'Pom. pořadí družstva'!O25","v":""},null,{"$f":"IF(B25<>\"\",COUNTIF('Seznam střelců'!$D$7:$D$107,'Seznam družstev'!$B25),\"\")","v":""}]
[{"$f":"IF(B26 <> \"\", IF($R26<>\"\", $R26 & \" ve složení \", \"\") & StringConcat(\", \",  IF('Seznam střelců'!$D$7:$D$107='Seznam družstev'!$B26, 'Seznam střelců'!$E$7:$E$107, \"\")), \"\")","v":""},{"$f":"IF(MAX('Seznam střelců'!$D$7:$D$107) > $B25, $B25+1,\"\")","v":""},"",{"$f":"IF($B26<>\"\", SUMIF('Seznam střelců'!$D$7:$D$107,'Seznam družstev'!$B26,'Seznam střelců'!F$7:F$107), \"\")","v":""},{"$f":"IF($B26<>\"\", SUMIF('Seznam střelců'!$D$7:$D$107,'Seznam družstev'!$B26,'Seznam střelců'!G$7:G$107), \"\")","v":""},{"$f":"IF($B26<>\"\", SUMIF('Seznam střelců'!$D$7:$D$107,'Seznam družstev'!$B26,'Seznam střelců'!H$7:H$107), \"\")","v":""},{"$f":"IF($B26<>\"\", SUMIF('Seznam střelců'!$D$7:$D$107,'Seznam družstev'!$B26,'Seznam střelců'!I$7:I$107), \"\")","v":""},{"$f":"IF($B26<>\"\", SUMIF('Seznam střelců'!$D$7:$D$107,'Seznam družstev'!$B26,'Seznam střelců'!J$7:J$107), \"\")","v":""},{"$f":"IF($B26<>\"\", SUMIF('Seznam střelců'!$D$7:$D$107,'Seznam družstev'!$B26,'Seznam střelců'!K$7:K$107), \"\")","v":""},{"$f":"IF($B26<>\"\", SUMIF('Seznam střelců'!$D$7:$D$107,'Seznam družstev'!$B26,'Seznam střelců'!L$7:L$107), \"\")","v":""},{"$f":"IF($B26<>\"\", SUMIF('Seznam střelců'!$D$7:$D$107,'Seznam družstev'!$B26,'Seznam střelců'!M$7:M$107), \"\")","v":""},{"$f":"IF($B26<>\"\", SUMIF('Seznam střelců'!$D$7:$D$107,'Seznam družstev'!$B26,'Seznam střelců'!N$7:N$107), \"\")","v":""},{"$f":"IF($B26<>\"\", SUMIF('Seznam střelců'!$D$7:$D$107,'Seznam družstev'!$B26,'Seznam střelců'!O$7:O$107), \"\")","v":""},null,{"$f":"'Pom. pořadí družstva'!O26","v":""},null,{"$f":"IF(B26<>\"\",COUNTIF('Seznam střelců'!$D$7:$D$107,'Seznam družstev'!$B26),\"\")","v":""}]
[{"$f":"IF(B27 <> \"\", IF($R27<>\"\", $R27 & \" ve složení \", \"\") & StringConcat(\", \",  IF('Seznam střelců'!$D$7:$D$107='Seznam družstev'!$B27, 'Seznam střelců'!$E$7:$E$107, \"\")), \"\")","v":""},{"$f":"IF(MAX('Seznam střelců'!$D$7:$D$107) > $B26, $B26+1,\"\")","v":""},"",{"$f":"IF($B27<>\"\", SUMIF('Seznam střelců'!$D$7:$D$107,'Seznam družstev'!$B27,'Seznam střelců'!F$7:F$107), \"\")","v":""},{"$f":"IF($B27<>\"\", SUMIF('Seznam střelců'!$D$7:$D$107,'Seznam družstev'!$B27,'Seznam střelců'!G$7:G$107), \"\")","v":""},{"$f":"IF($B27<>\"\", SUMIF('Seznam střelců'!$D$7:$D$107,'Seznam družstev'!$B27,'Seznam střelců'!H$7:H$107), \"\")","v":""},{"$f":"IF($B27<>\"\", SUMIF('Seznam střelců'!$D$7:$D$107,'Seznam družstev'!$B27,'Seznam střelců'!I$7:I$107), \"\")","v":""},{"$f":"IF($B27<>\"\", SUMIF('Seznam střelců'!$D$7:$D$107,'Seznam družstev'!$B27,'Seznam střelců'!J$7:J$107), \"\")","v":""},{"$f":"IF($B27<>\"\", SUMIF('Seznam střelců'!$D$7:$D$107,'Seznam družstev'!$B27,'Seznam střelců'!K$7:K$107), \"\")","v":""},{"$f":"IF($B27<>\"\", SUMIF('Seznam střelců'!$D$7:$D$107,'Seznam družstev'!$B27,'Seznam střelců'!L$7:L$107), \"\")","v":""},{"$f":"IF($B27<>\"\", SUMIF('Seznam střelců'!$D$7:$D$107,'Seznam družstev'!$B27,'Seznam střelců'!M$7:M$107), \"\")","v":""},{"$f":"IF($B27<>\"\", SUMIF('Seznam střelců'!$D$7:$D$107,'Seznam družstev'!$B27,'Seznam střelců'!N$7:N$107), \"\")","v":""},{"$f":"IF($B27<>\"\", SUMIF('Seznam střelců'!$D$7:$D$107,'Seznam družstev'!$B27,'Seznam střelců'!O$7:O$107), \"\")","v":""},null,{"$f":"'Pom. pořadí družstva'!O27","v":""},null,{"$f":"IF(B27<>\"\",COUNTIF('Seznam střelců'!$D$7:$D$107,'Seznam družstev'!$B27),\"\")","v":""}]
[{"$f":"IF(B28 <> \"\", IF($R28<>\"\", $R28 & \" ve složení \", \"\") & StringConcat(\", \",  IF('Seznam střelců'!$D$7:$D$107='Seznam družstev'!$B28, 'Seznam střelců'!$E$7:$E$107, \"\")), \"\")","v":""},{"$f":"IF(MAX('Seznam střelců'!$D$7:$D$107) > $B27, $B27+1,\"\")","v":""},"",{"$f":"IF($B28<>\"\", SUMIF('Seznam střelců'!$D$7:$D$107,'Seznam družstev'!$B28,'Seznam střelců'!F$7:F$107), \"\")","v":""},{"$f":"IF($B28<>\"\", SUMIF('Seznam střelců'!$D$7:$D$107,'Seznam družstev'!$B28,'Seznam střelců'!G$7:G$107), \"\")","v":""},{"$f":"IF($B28<>\"\", SUMIF('Seznam střelců'!$D$7:$D$107,'Seznam družstev'!$B28,'Seznam střelců'!H$7:H$107), \"\")","v":""},{"$f":"IF($B28<>\"\", SUMIF('Seznam střelců'!$D$7:$D$107,'Seznam družstev'!$B28,'Seznam střelců'!I$7:I$107), \"\")","v":""},{"$f":"IF($B28<>\"\", SUMIF('Seznam střelců'!$D$7:$D$107,'Seznam družstev'!$B28,'Seznam střelců'!J$7:J$107), \"\")","v":""},{"$f":"IF($B28<>\"\", SUMIF('Seznam střelců'!$D$7:$D$107,'Seznam družstev'!$B28,'Seznam střelců'!K$7:K$107), \"\")","v":""},{"$f":"IF($B28<>\"\", SUMIF('Seznam střelců'!$D$7:$D$107,'Seznam družstev'!$B28,'Seznam střelců'!L$7:L$107), \"\")","v":""},{"$f":"IF($B28<>\"\", SUMIF('Seznam střelců'!$D$7:$D$107,'Seznam družstev'!$B28,'Seznam střelců'!M$7:M$107), \"\")","v":""},{"$f":"IF($B28<>\"\", SUMIF('Seznam střelců'!$D$7:$D$107,'Seznam družstev'!$B28,'Seznam střelců'!N$7:N$107), \"\")","v":""},{"$f":"IF($B28<>\"\", SUMIF('Seznam střelců'!$D$7:$D$107,'Seznam družstev'!$B28,'Seznam střelců'!O$7:O$107), \"\")","v":""},null,{"$f":"'Pom. pořadí družstva'!O28","v":""},null,{"$f":"IF(B28<>\"\",COUNTIF('Seznam střelců'!$D$7:$D$107,'Seznam družstev'!$B28),\"\")","v":""}]
[{"$f":"IF(B29 <> \"\", IF($R29<>\"\", $R29 & \" ve složení \", \"\") & StringConcat(\", \",  IF('Seznam střelců'!$D$7:$D$107='Seznam družstev'!$B29, 'Seznam střelců'!$E$7:$E$107, \"\")), \"\")","v":""},{"$f":"IF(MAX('Seznam střelců'!$D$7:$D$107) > $B28, $B28+1,\"\")","v":""},"",{"$f":"IF($B29<>\"\", SUMIF('Seznam střelců'!$D$7:$D$107,'Seznam družstev'!$B29,'Seznam střelců'!F$7:F$107), \"\")","v":""},{"$f":"IF($B29<>\"\", SUMIF('Seznam střelců'!$D$7:$D$107,'Seznam družstev'!$B29,'Seznam střelců'!G$7:G$107), \"\")","v":""},{"$f":"IF($B29<>\"\", SUMIF('Seznam střelců'!$D$7:$D$107,'Seznam družstev'!$B29,'Seznam střelců'!H$7:H$107), \"\")","v":""},{"$f":"IF($B29<>\"\", SUMIF('Seznam střelců'!$D$7:$D$107,'Seznam družstev'!$B29,'Seznam střelců'!I$7:I$107), \"\")","v":""},{"$f":"IF($B29<>\"\", SUMIF('Seznam střelců'!$D$7:$D$107,'Seznam družstev'!$B29,'Seznam střelců'!J$7:J$107), \"\")","v":""},{"$f":"IF($B29<>\"\", SUMIF('Seznam střelců'!$D$7:$D$107,'Seznam družstev'!$B29,'Seznam střelců'!K$7:K$107), \"\")","v":""},{"$f":"IF($B29<>\"\", SUMIF('Seznam střelců'!$D$7:$D$107,'Seznam družstev'!$B29,'Seznam střelců'!L$7:L$107), \"\")","v":""},{"$f":"IF($B29<>\"\", SUMIF('Seznam střelců'!$D$7:$D$107,'Seznam družstev'!$B29,'Seznam střelců'!M$7:M$107), \"\")","v":""},{"$f":"IF($B29<>\"\", SUMIF('Seznam střelců'!$D$7:$D$107,'Seznam družstev'!$B29,'Seznam střelců'!N$7:N$107), \"\")","v":""},{"$f":"IF($B29<>\"\", SUMIF('Seznam střelců'!$D$7:$D$107,'Seznam družstev'!$B29,'Seznam střelců'!O$7:O$107), \"\")","v":""},null,{"$f":"'Pom. pořadí družstva'!O29","v":""},null,{"$f":"IF(B29<>\"\",COUNTIF('Seznam střelců'!$D$7:$D$107,'Seznam družstev'!$B29),\"\")","v":""}]
[{"$f":"IF(B30 <> \"\", IF($R30<>\"\", $R30 & \" ve složení \", \"\") & StringConcat(\", \",  IF('Seznam střelců'!$D$7:$D$107='Seznam družstev'!$B30, 'Seznam střelců'!$E$7:$E$107, \"\")), \"\")","v":""},{"$f":"IF(MAX('Seznam střelců'!$D$7:$D$107) > $B29, $B29+1,\"\")","v":""},"",{"$f":"IF($B30<>\"\", SUMIF('Seznam střelců'!$D$7:$D$107,'Seznam družstev'!$B30,'Seznam střelců'!F$7:F$107), \"\")","v":""},{"$f":"IF($B30<>\"\", SUMIF('Seznam střelců'!$D$7:$D$107,'Seznam družstev'!$B30,'Seznam střelců'!G$7:G$107), \"\")","v":""},{"$f":"IF($B30<>\"\", SUMIF('Seznam střelců'!$D$7:$D$107,'Seznam družstev'!$B30,'Seznam střelců'!H$7:H$107), \"\")","v":""},{"$f":"IF($B30<>\"\", SUMIF('Seznam střelců'!$D$7:$D$107,'Seznam družstev'!$B30,'Seznam střelců'!I$7:I$107), \"\")","v":""},{"$f":"IF($B30<>\"\", SUMIF('Seznam střelců'!$D$7:$D$107,'Seznam družstev'!$B30,'Seznam střelců'!J$7:J$107), \"\")","v":""},{"$f":"IF($B30<>\"\", SUMIF('Seznam střelců'!$D$7:$D$107,'Seznam družstev'!$B30,'Seznam střelců'!K$7:K$107), \"\")","v":""},{"$f":"IF($B30<>\"\", SUMIF('Seznam střelců'!$D$7:$D$107,'Seznam družstev'!$B30,'Seznam střelců'!L$7:L$107), \"\")","v":""},{"$f":"IF($B30<>\"\", SUMIF('Seznam střelců'!$D$7:$D$107,'Seznam družstev'!$B30,'Seznam střelců'!M$7:M$107), \"\")","v":""},{"$f":"IF($B30<>\"\", SUMIF('Seznam střelců'!$D$7:$D$107,'Seznam družstev'!$B30,'Seznam střelců'!N$7:N$107), \"\")","v":""},{"$f":"IF($B30<>\"\", SUMIF('Seznam střelců'!$D$7:$D$107,'Seznam družstev'!$B30,'Seznam střelců'!O$7:O$107), \"\")","v":""},null,{"$f":"'Pom. pořadí družstva'!O30","v":""},null,{"$f":"IF(B30<>\"\",COUNTIF('Seznam střelců'!$D$7:$D$107,'Seznam družstev'!$B30),\"\")","v":""}]
[{"$f":"IF(B31 <> \"\", IF($R31<>\"\", $R31 & \" ve složení \", \"\") & StringConcat(\", \",  IF('Seznam střelců'!$D$7:$D$107='Seznam družstev'!$B31, 'Seznam střelců'!$E$7:$E$107, \"\")), \"\")","v":""},{"$f":"IF(MAX('Seznam střelců'!$D$7:$D$107) > $B30, $B30+1,\"\")","v":""},"",{"$f":"IF($B31<>\"\", SUMIF('Seznam střelců'!$D$7:$D$107,'Seznam družstev'!$B31,'Seznam střelců'!F$7:F$107), \"\")","v":""},{"$f":"IF($B31<>\"\", SUMIF('Seznam střelců'!$D$7:$D$107,'Seznam družstev'!$B31,'Seznam střelců'!G$7:G$107), \"\")","v":""},{"$f":"IF($B31<>\"\", SUMIF('Seznam střelců'!$D$7:$D$107,'Seznam družstev'!$B31,'Seznam střelců'!H$7:H$107), \"\")","v":""},{"$f":"IF($B31<>\"\", SUMIF('Seznam střelců'!$D$7:$D$107,'Seznam družstev'!$B31,'Seznam střelců'!I$7:I$107), \"\")","v":""},{"$f":"IF($B31<>\"\", SUMIF('Seznam střelců'!$D$7:$D$107,'Seznam družstev'!$B31,'Seznam střelců'!J$7:J$107), \"\")","v":""},{"$f":"IF($B31<>\"\", SUMIF('Seznam střelců'!$D$7:$D$107,'Seznam družstev'!$B31,'Seznam střelců'!K$7:K$107), \"\")","v":""},{"$f":"IF($B31<>\"\", SUMIF('Seznam střelců'!$D$7:$D$107,'Seznam družstev'!$B31,'Seznam střelců'!L$7:L$107), \"\")","v":""},{"$f":"IF($B31<>\"\", SUMIF('Seznam střelců'!$D$7:$D$107,'Seznam družstev'!$B31,'Seznam střelců'!M$7:M$107), \"\")","v":""},{"$f":"IF($B31<>\"\", SUMIF('Seznam střelců'!$D$7:$D$107,'Seznam družstev'!$B31,'Seznam střelců'!N$7:N$107), \"\")","v":""},{"$f":"IF($B31<>\"\", SUMIF('Seznam střelců'!$D$7:$D$107,'Seznam družstev'!$B31,'Seznam střelců'!O$7:O$107), \"\")","v":""},null,{"$f":"'Pom. pořadí družstva'!O31","v":""},null,{"$f":"IF(B31<>\"\",COUNTIF('Seznam střelců'!$D$7:$D$107,'Seznam družstev'!$B31),\"\")","v":""}]
[{"$f":"IF(B32 <> \"\", IF($R32<>\"\", $R32 & \" ve složení \", \"\") & StringConcat(\", \",  IF('Seznam střelců'!$D$7:$D$107='Seznam družstev'!$B32, 'Seznam střelců'!$E$7:$E$107, \"\")), \"\")","v":""},{"$f":"IF(MAX('Seznam střelců'!$D$7:$D$107) > $B31, $B31+1,\"\")","v":""},"",{"$f":"IF($B32<>\"\", SUMIF('Seznam střelců'!$D$7:$D$107,'Seznam družstev'!$B32,'Seznam střelců'!F$7:F$107), \"\")","v":""},{"$f":"IF($B32<>\"\", SUMIF('Seznam střelců'!$D$7:$D$107,'Seznam družstev'!$B32,'Seznam střelců'!G$7:G$107), \"\")","v":""},{"$f":"IF($B32<>\"\", SUMIF('Seznam střelců'!$D$7:$D$107,'Seznam družstev'!$B32,'Seznam střelců'!H$7:H$107), \"\")","v":""},{"$f":"IF($B32<>\"\", SUMIF('Seznam střelců'!$D$7:$D$107,'Seznam družstev'!$B32,'Seznam střelců'!I$7:I$107), \"\")","v":""},{"$f":"IF($B32<>\"\", SUMIF('Seznam střelců'!$D$7:$D$107,'Seznam družstev'!$B32,'Seznam střelců'!J$7:J$107), \"\")","v":""},{"$f":"IF($B32<>\"\", SUMIF('Seznam střelců'!$D$7:$D$107,'Seznam družstev'!$B32,'Seznam střelců'!K$7:K$107), \"\")","v":""},{"$f":"IF($B32<>\"\", SUMIF('Seznam střelců'!$D$7:$D$107,'Seznam družstev'!$B32,'Seznam střelců'!L$7:L$107), \"\")","v":""},{"$f":"IF($B32<>\"\", SUMIF('Seznam střelců'!$D$7:$D$107,'Seznam družstev'!$B32,'Seznam střelců'!M$7:M$107), \"\")","v":""},{"$f":"IF($B32<>\"\", SUMIF('Seznam střelců'!$D$7:$D$107,'Seznam družstev'!$B32,'Seznam střelců'!N$7:N$107), \"\")","v":""},{"$f":"IF($B32<>\"\", SUMIF('Seznam střelců'!$D$7:$D$107,'Seznam družstev'!$B32,'Seznam střelců'!O$7:O$107), \"\")","v":""},null,{"$f":"'Pom. pořadí družstva'!O32","v":""},null,{"$f":"IF(B32<>\"\",COUNTIF('Seznam střelců'!$D$7:$D$107,'Seznam družstev'!$B32),\"\")","v":""}]
[{"$f":"IF(B33 <> \"\", IF($R33<>\"\", $R33 & \" ve složení \", \"\") & StringConcat(\", \",  IF('Seznam střelců'!$D$7:$D$107='Seznam družstev'!$B33, 'Seznam střelců'!$E$7:$E$107, \"\")), \"\")","v":""},{"$f":"IF(MAX('Seznam střelců'!$D$7:$D$107) > $B32, $B32+1,\"\")","v":""},"",{"$f":"IF($B33<>\"\", SUMIF('Seznam střelců'!$D$7:$D$107,'Seznam družstev'!$B33,'Seznam střelců'!F$7:F$107), \"\")","v":""},{"$f":"IF($B33<>\"\", SUMIF('Seznam střelců'!$D$7:$D$107,'Seznam družstev'!$B33,'Seznam střelců'!G$7:G$107), \"\")","v":""},{"$f":"IF($B33<>\"\", SUMIF('Seznam střelců'!$D$7:$D$107,'Seznam družstev'!$B33,'Seznam střelců'!H$7:H$107), \"\")","v":""},{"$f":"IF($B33<>\"\", SUMIF('Seznam střelců'!$D$7:$D$107,'Seznam družstev'!$B33,'Seznam střelců'!I$7:I$107), \"\")","v":""},{"$f":"IF($B33<>\"\", SUMIF('Seznam střelců'!$D$7:$D$107,'Seznam družstev'!$B33,'Seznam střelců'!J$7:J$107), \"\")","v":""},{"$f":"IF($B33<>\"\", SUMIF('Seznam střelců'!$D$7:$D$107,'Seznam družstev'!$B33,'Seznam střelců'!K$7:K$107), \"\")","v":""},{"$f":"IF($B33<>\"\", SUMIF('Seznam střelců'!$D$7:$D$107,'Seznam družstev'!$B33,'Seznam střelců'!L$7:L$107), \"\")","v":""},{"$f":"IF($B33<>\"\", SUMIF('Seznam střelců'!$D$7:$D$107,'Seznam družstev'!$B33,'Seznam střelců'!M$7:M$107), \"\")","v":""},{"$f":"IF($B33<>\"\", SUMIF('Seznam střelců'!$D$7:$D$107,'Seznam družstev'!$B33,'Seznam střelců'!N$7:N$107), \"\")","v":""},{"$f":"IF($B33<>\"\", SUMIF('Seznam střelců'!$D$7:$D$107,'Seznam družstev'!$B33,'Seznam střelců'!O$7:O$107), \"\")","v":""},null,{"$f":"'Pom. pořadí družstva'!O33","v":""},null,{"$f":"IF(B33<>\"\",COUNTIF('Seznam střelců'!$D$7:$D$107,'Seznam družstev'!$B33),\"\")","v":""}]
[{"$f":"IF(B34 <> \"\", IF($R34<>\"\", $R34 & \" ve složení \", \"\") & StringConcat(\", \",  IF('Seznam střelců'!$D$7:$D$107='Seznam družstev'!$B34, 'Seznam střelců'!$E$7:$E$107, \"\")), \"\")","v":""},{"$f":"IF(MAX('Seznam střelců'!$D$7:$D$107) > $B33, $B33+1,\"\")","v":""},"",{"$f":"IF($B34<>\"\", SUMIF('Seznam střelců'!$D$7:$D$107,'Seznam družstev'!$B34,'Seznam střelců'!F$7:F$107), \"\")","v":""},{"$f":"IF($B34<>\"\", SUMIF('Seznam střelců'!$D$7:$D$107,'Seznam družstev'!$B34,'Seznam střelců'!G$7:G$107), \"\")","v":""},{"$f":"IF($B34<>\"\", SUMIF('Seznam střelců'!$D$7:$D$107,'Seznam družstev'!$B34,'Seznam střelců'!H$7:H$107), \"\")","v":""},{"$f":"IF($B34<>\"\", SUMIF('Seznam střelců'!$D$7:$D$107,'Seznam družstev'!$B34,'Seznam střelců'!I$7:I$107), \"\")","v":""},{"$f":"IF($B34<>\"\", SUMIF('Seznam střelců'!$D$7:$D$107,'Seznam družstev'!$B34,'Seznam střelců'!J$7:J$107), \"\")","v":""},{"$f":"IF($B34<>\"\", SUMIF('Seznam střelců'!$D$7:$D$107,'Seznam družstev'!$B34,'Seznam střelců'!K$7:K$107), \"\")","v":""},{"$f":"IF($B34<>\"\", SUMIF('Seznam střelců'!$D$7:$D$107,'Seznam družstev'!$B34,'Seznam střelců'!L$7:L$107), \"\")","v":""},{"$f":"IF($B34<>\"\", SUMIF('Seznam střelců'!$D$7:$D$107,'Seznam družstev'!$B34,'Seznam střelců'!M$7:M$107), \"\")","v":""},{"$f":"IF($B34<>\"\", SUMIF('Seznam střelců'!$D$7:$D$107,'Seznam družstev'!$B34,'Seznam střelců'!N$7:N$107), \"\")","v":""},{"$f":"IF($B34<>\"\", SUMIF('Seznam střelců'!$D$7:$D$107,'Seznam družstev'!$B34,'Seznam střelců'!O$7:O$107), \"\")","v":""},null,{"$f":"'Pom. pořadí družstva'!O34","v":""},null,{"$f":"IF(B34<>\"\",COUNTIF('Seznam střelců'!$D$7:$D$107,'Seznam družstev'!$B34),\"\")","v":""}]
[{"$f":"IF(B35 <> \"\", IF($R35<>\"\", $R35 & \" ve složení \", \"\") & StringConcat(\", \",  IF('Seznam střelců'!$D$7:$D$107='Seznam družstev'!$B35, 'Seznam střelců'!$E$7:$E$107, \"\")), \"\")","v":""},{"$f":"IF(MAX('Seznam střelců'!$D$7:$D$107) > $B34, $B34+1,\"\")","v":""},"",{"$f":"IF($B35<>\"\", SUMIF('Seznam střelců'!$D$7:$D$107,'Seznam družstev'!$B35,'Seznam střelců'!F$7:F$107), \"\")","v":""},{"$f":"IF($B35<>\"\", SUMIF('Seznam střelců'!$D$7:$D$107,'Seznam družstev'!$B35,'Seznam střelců'!G$7:G$107), \"\")","v":""},{"$f":"IF($B35<>\"\", SUMIF('Seznam střelců'!$D$7:$D$107,'Seznam družstev'!$B35,'Seznam střelců'!H$7:H$107), \"\")","v":""},{"$f":"IF($B35<>\"\", SUMIF('Seznam střelců'!$D$7:$D$107,'Seznam družstev'!$B35,'Seznam střelců'!I$7:I$107), \"\")","v":""},{"$f":"IF($B35<>\"\", SUMIF('Seznam střelců'!$D$7:$D$107,'Seznam družstev'!$B35,'Seznam střelců'!J$7:J$107), \"\")","v":""},{"$f":"IF($B35<>\"\", SUMIF('Seznam střelců'!$D$7:$D$107,'Seznam družstev'!$B35,'Seznam střelců'!K$7:K$107), \"\")","v":""},{"$f":"IF($B35<>\"\", SUMIF('Seznam střelců'!$D$7:$D$107,'Seznam družstev'!$B35,'Seznam střelců'!L$7:L$107), \"\")","v":""},{"$f":"IF($B35<>\"\", SUMIF('Seznam střelců'!$D$7:$D$107,'Seznam družstev'!$B35,'Seznam střelců'!M$7:M$107), \"\")","v":""},{"$f":"IF($B35<>\"\", SUMIF('Seznam střelců'!$D$7:$D$107,'Seznam družstev'!$B35,'Seznam střelců'!N$7:N$107), \"\")","v":""},{"$f":"IF($B35<>\"\", SUMIF('Seznam střelců'!$D$7:$D$107,'Seznam družstev'!$B35,'Seznam střelců'!O$7:O$107), \"\")","v":""},null,{"$f":"'Pom. pořadí družstva'!O35","v":""},null,{"$f":"IF(B35<>\"\",COUNTIF('Seznam střelců'!$D$7:$D$107,'Seznam družstev'!$B35),\"\")","v":""}]
[{"$f":"IF(B36 <> \"\", IF($R36<>\"\", $R36 & \" ve složení \", \"\") & StringConcat(\", \",  IF('Seznam střelců'!$D$7:$D$107='Seznam družstev'!$B36, 'Seznam střelců'!$E$7:$E$107, \"\")), \"\")","v":""},{"$f":"IF(MAX('Seznam střelců'!$D$7:$D$107) > $B35, $B35+1,\"\")","v":""},"",{"$f":"IF($B36<>\"\", SUMIF('Seznam střelců'!$D$7:$D$107,'Seznam družstev'!$B36,'Seznam střelců'!F$7:F$107), \"\")","v":""},{"$f":"IF($B36<>\"\", SUMIF('Seznam střelců'!$D$7:$D$107,'Seznam družstev'!$B36,'Seznam střelců'!G$7:G$107), \"\")","v":""},{"$f":"IF($B36<>\"\", SUMIF('Seznam střelců'!$D$7:$D$107,'Seznam družstev'!$B36,'Seznam střelců'!H$7:H$107), \"\")","v":""},{"$f":"IF($B36<>\"\", SUMIF('Seznam střelců'!$D$7:$D$107,'Seznam družstev'!$B36,'Seznam střelců'!I$7:I$107), \"\")","v":""},{"$f":"IF($B36<>\"\", SUMIF('Seznam střelců'!$D$7:$D$107,'Seznam družstev'!$B36,'Seznam střelců'!J$7:J$107), \"\")","v":""},{"$f":"IF($B36<>\"\", SUMIF('Seznam střelců'!$D$7:$D$107,'Seznam družstev'!$B36,'Seznam střelců'!K$7:K$107), \"\")","v":""},{"$f":"IF($B36<>\"\", SUMIF('Seznam střelců'!$D$7:$D$107,'Seznam družstev'!$B36,'Seznam střelců'!L$7:L$107), \"\")","v":""},{"$f":"IF($B36<>\"\", SUMIF('Seznam střelců'!$D$7:$D$107,'Seznam družstev'!$B36,'Seznam střelců'!M$7:M$107), \"\")","v":""},{"$f":"IF($B36<>\"\", SUMIF('Seznam střelců'!$D$7:$D$107,'Seznam družstev'!$B36,'Seznam střelců'!N$7:N$107), \"\")","v":""},{"$f":"IF($B36<>\"\", SUMIF('Seznam střelců'!$D$7:$D$107,'Seznam družstev'!$B36,'Seznam střelců'!O$7:O$107), \"\")","v":""},null,{"$f":"'Pom. pořadí družstva'!O36","v":""},null,{"$f":"IF(B36<>\"\",COUNTIF('Seznam střelců'!$D$7:$D$107,'Seznam družstev'!$B36),\"\")","v":""}]
[{"$f":"IF(B37 <> \"\", IF($R37<>\"\", $R37 & \" ve složení \", \"\") & StringConcat(\", \",  IF('Seznam střelců'!$D$7:$D$107='Seznam družstev'!$B37, 'Seznam střelců'!$E$7:$E$107, \"\")), \"\")","v":""},{"$f":"IF(MAX('Seznam střelců'!$D$7:$D$107) > $B36, $B36+1,\"\")","v":""},"",{"$f":"IF($B37<>\"\", SUMIF('Seznam střelců'!$D$7:$D$107,'Seznam družstev'!$B37,'Seznam střelců'!F$7:F$107), \"\")","v":""},{"$f":"IF($B37<>\"\", SUMIF('Seznam střelců'!$D$7:$D$107,'Seznam družstev'!$B37,'Seznam střelců'!G$7:G$107), \"\")","v":""},{"$f":"IF($B37<>\"\", SUMIF('Seznam střelců'!$D$7:$D$107,'Seznam družstev'!$B37,'Seznam střelců'!H$7:H$107), \"\")","v":""},{"$f":"IF($B37<>\"\", SUMIF('Seznam střelců'!$D$7:$D$107,'Seznam družstev'!$B37,'Seznam střelců'!I$7:I$107), \"\")","v":""},{"$f":"IF($B37<>\"\", SUMIF('Seznam střelců'!$D$7:$D$107,'Seznam družstev'!$B37,'Seznam střelců'!J$7:J$107), \"\")","v":""},{"$f":"IF($B37<>\"\", SUMIF('Seznam střelců'!$D$7:$D$107,'Seznam družstev'!$B37,'Seznam střelců'!K$7:K$107), \"\")","v":""},{"$f":"IF($B37<>\"\", SUMIF('Seznam střelců'!$D$7:$D$107,'Seznam družstev'!$B37,'Seznam střelců'!L$7:L$107), \"\")","v":""},{"$f":"IF($B37<>\"\", SUMIF('Seznam střelců'!$D$7:$D$107,'Seznam družstev'!$B37,'Seznam střelců'!M$7:M$107), \"\")","v":""},{"$f":"IF($B37<>\"\", SUMIF('Seznam střelců'!$D$7:$D$107,'Seznam družstev'!$B37,'Seznam střelců'!N$7:N$107), \"\")","v":""},{"$f":"IF($B37<>\"\", SUMIF('Seznam střelců'!$D$7:$D$107,'Seznam družstev'!$B37,'Seznam střelců'!O$7:O$107), \"\")","v":""},null,{"$f":"'Pom. pořadí družstva'!O37","v":""},null,{"$f":"IF(B37<>\"\",COUNTIF('Seznam střelců'!$D$7:$D$107,'Seznam družstev'!$B37),\"\")","v":""}]
[{"$f":"IF(B38 <> \"\", IF($R38<>\"\", $R38 & \" ve složení \", \"\") & StringConcat(\", \",  IF('Seznam střelců'!$D$7:$D$107='Seznam družstev'!$B38, 'Seznam střelců'!$E$7:$E$107, \"\")), \"\")","v":""},{"$f":"IF(MAX('Seznam střelců'!$D$7:$D$107) > $B37, $B37+1,\"\")","v":""},"",{"$f":"IF($B38<>\"\", SUMIF('Seznam střelců'!$D$7:$D$107,'Seznam družstev'!$B38,'Seznam střelců'!F$7:F$107), \"\")","v":""},{"$f":"IF($B38<>\"\", SUMIF('Seznam střelců'!$D$7:$D$107,'Seznam družstev'!$B38,'Seznam střelců'!G$7:G$107), \"\")","v":""},{"$f":"IF($B38<>\"\", SUMIF('Seznam střelců'!$D$7:$D$107,'Seznam družstev'!$B38,'Seznam střelců'!H$7:H$107), \"\")","v":""},{"$f":"IF($B38<>\"\", SUMIF('Seznam střelců'!$D$7:$D$107,'Seznam družstev'!$B38,'Seznam střelců'!I$7:I$107), \"\")","v":""},{"$f":"IF($B38<>\"\", SUMIF('Seznam střelců'!$D$7:$D$107,'Seznam družstev'!$B38,'Seznam střelců'!J$7:J$107), \"\")","v":""},{"$f":"IF($B38<>\"\", SUMIF('Seznam střelců'!$D$7:$D$107,'Seznam družstev'!$B38,'Seznam střelců'!K$7:K$107), \"\")","v":""},{"$f":"IF($B38<>\"\", SUMIF('Seznam střelců'!$D$7:$D$107,'Seznam družstev'!$B38,'Seznam střelců'!L$7:L$107), \"\")","v":""},{"$f":"IF($B38<>\"\", SUMIF('Seznam střelců'!$D$7:$D$107,'Seznam družstev'!$B38,'Seznam střelců'!M$7:M$107), \"\")","v":""},{"$f":"IF($B38<>\"\", SUMIF('Seznam střelců'!$D$7:$D$107,'Seznam družstev'!$B38,'Seznam střelců'!N$7:N$107), \"\")","v":""},{"$f":"IF($B38<>\"\", SUMIF('Seznam střelců'!$D$7:$D$107,'Seznam družstev'!$B38,'Seznam střelců'!O$7:O$107), \"\")","v":""},null,{"$f":"'Pom. pořadí družstva'!O38","v":""},null,{"$f":"IF(B38<>\"\",COUNTIF('Seznam střelců'!$D$7:$D$107,'Seznam družstev'!$B38),\"\")","v":""}]
[{"$f":"IF(B39 <> \"\", IF($R39<>\"\", $R39 & \" ve složení \", \"\") & StringConcat(\", \",  IF('Seznam střelců'!$D$7:$D$107='Seznam družstev'!$B39, 'Seznam střelců'!$E$7:$E$107, \"\")), \"\")","v":""},{"$f":"IF(MAX('Seznam střelců'!$D$7:$D$107) > $B38, $B38+1,\"\")","v":""},"",{"$f":"IF($B39<>\"\", SUMIF('Seznam střelců'!$D$7:$D$107,'Seznam družstev'!$B39,'Seznam střelců'!F$7:F$107), \"\")","v":""},{"$f":"IF($B39<>\"\", SUMIF('Seznam střelců'!$D$7:$D$107,'Seznam družstev'!$B39,'Seznam střelců'!G$7:G$107), \"\")","v":""},{"$f":"IF($B39<>\"\", SUMIF('Seznam střelců'!$D$7:$D$107,'Seznam družstev'!$B39,'Seznam střelců'!H$7:H$107), \"\")","v":""},{"$f":"IF($B39<>\"\", SUMIF('Seznam střelců'!$D$7:$D$107,'Seznam družstev'!$B39,'Seznam střelců'!I$7:I$107), \"\")","v":""},{"$f":"IF($B39<>\"\", SUMIF('Seznam střelců'!$D$7:$D$107,'Seznam družstev'!$B39,'Seznam střelců'!J$7:J$107), \"\")","v":""},{"$f":"IF($B39<>\"\", SUMIF('Seznam střelců'!$D$7:$D$107,'Seznam družstev'!$B39,'Seznam střelců'!K$7:K$107), \"\")","v":""},{"$f":"IF($B39<>\"\", SUMIF('Seznam střelců'!$D$7:$D$107,'Seznam družstev'!$B39,'Seznam střelců'!L$7:L$107), \"\")","v":""},{"$f":"IF($B39<>\"\", SUMIF('Seznam střelců'!$D$7:$D$107,'Seznam družstev'!$B39,'Seznam střelců'!M$7:M$107), \"\")","v":""},{"$f":"IF($B39<>\"\", SUMIF('Seznam střelců'!$D$7:$D$107,'Seznam družstev'!$B39,'Seznam střelců'!N$7:N$107), \"\")","v":""},{"$f":"IF($B39<>\"\", SUMIF('Seznam střelců'!$D$7:$D$107,'Seznam družstev'!$B39,'Seznam střelců'!O$7:O$107), \"\")","v":""},null,{"$f":"'Pom. pořadí družstva'!O39","v":""},null,{"$f":"IF(B39<>\"\",COUNTIF('Seznam střelců'!$D$7:$D$107,'Seznam družstev'!$B39),\"\")","v":""}]
[{"$f":"IF(B40 <> \"\", IF($R40<>\"\", $R40 & \" ve složení \", \"\") & StringConcat(\", \",  IF('Seznam střelců'!$D$7:$D$107='Seznam družstev'!$B40, 'Seznam střelců'!$E$7:$E$107, \"\")), \"\")","v":""},{"$f":"IF(MAX('Seznam střelců'!$D$7:$D$107) > $B39, $B39+1,\"\")","v":""},"",{"$f":"IF($B40<>\"\", SUMIF('Seznam střelců'!$D$7:$D$107,'Seznam družstev'!$B40,'Seznam střelců'!F$7:F$107), \"\")","v":""},{"$f":"IF($B40<>\"\", SUMIF('Seznam střelců'!$D$7:$D$107,'Seznam družstev'!$B40,'Seznam střelců'!G$7:G$107), \"\")","v":""},{"$f":"IF($B40<>\"\", SUMIF('Seznam střelců'!$D$7:$D$107,'Seznam družstev'!$B40,'Seznam střelců'!H$7:H$107), \"\")","v":""},{"$f":"IF($B40<>\"\", SUMIF('Seznam střelců'!$D$7:$D$107,'Seznam družstev'!$B40,'Seznam střelců'!I$7:I$107), \"\")","v":""},{"$f":"IF($B40<>\"\", SUMIF('Seznam střelců'!$D$7:$D$107,'Seznam družstev'!$B40,'Seznam střelců'!J$7:J$107), \"\")","v":""},{"$f":"IF($B40<>\"\", SUMIF('Seznam střelců'!$D$7:$D$107,'Seznam družstev'!$B40,'Seznam střelců'!K$7:K$107), \"\")","v":""},{"$f":"IF($B40<>\"\", SUMIF('Seznam střelců'!$D$7:$D$107,'Seznam družstev'!$B40,'Seznam střelců'!L$7:L$107), \"\")","v":""},{"$f":"IF($B40<>\"\", SUMIF('Seznam střelců'!$D$7:$D$107,'Seznam družstev'!$B40,'Seznam střelců'!M$7:M$107), \"\")","v":""},{"$f":"IF($B40<>\"\", SUMIF('Seznam střelců'!$D$7:$D$107,'Seznam družstev'!$B40,'Seznam střelců'!N$7:N$107), \"\")","v":""},{"$f":"IF($B40<>\"\", SUMIF('Seznam střelců'!$D$7:$D$107,'Seznam družstev'!$B40,'Seznam střelců'!O$7:O$107), \"\")","v":""},null,{"$f":"'Pom. pořadí družstva'!O40","v":""},null,{"$f":"IF(B40<>\"\",COUNTIF('Seznam střelců'!$D$7:$D$107,'Seznam družstev'!$B40),\"\")","v":""}]
[null,null,null,null,null,null,null,null,null,null,null,null,null,null,{"$f":"'Los a nastavení'!$D$4","v":3}]

{"sheet":"Výsledek jednotlivci","index":4,"n_rows":108,"n_cols":18,"rows_kept":108,"cut":false,"hidden":false,"merged":[[107,0,107,2],[0,0,0,16],[1,0,1,16],[2,0,2,16],[3,0,3,16],[4,0,4,16]]}
[{"$f":"'Seznam střelců'!A1:S1","v":"Výsledková listina"}]
[{"$f":"'Seznam střelců'!A2:S2","v":"Pohár města Bystřice nad Pernštejnem"}]
[{"$f":"'Seznam střelců'!A3:S3","v":"Střelnice Smrček-Býšovec, 24.9.2017"}]
[{"$f":"'Seznam střelců'!A4:S4","v":"Celkový počet střelců: 34"}]
["Výsledné pořadí jednotlivců"]
["Pořadí","Start. č.",{"$f":"'Seznam střelců'!E6","v":"Jméno"},{"$f":"'Seznam střelců'!F6","v":"Disc. 1"},{"$f":"'Seznam střelců'!G6","v":"Disc. 2"},{"$f":"'Seznam střelců'!H6","v":"Disc. 3"},{"$f":"'Seznam střelců'!I6","v":"Disc. 4"},{"$f":"'Seznam střelců'!J6","v":"Disc. 5"},{"$f":"'Seznam střelců'!K6","v":"Disc. 6"},{"$f":"'Seznam střelců'!L6","v":"Disc. 7"},{"$f":"'Seznam střelců'!M6","v":"Zajíc"},{"$f":"'Seznam střelců'!N6","v":"LK II"},{"$f":"'Seznam střelců'!O6","v":"LK I"},"Součet položek",{"$f":"'Seznam střelců'!P6","v":"Finále"},"Celkový součet",{"$f":"'Seznam střelců'!Q6","v":"Rozstřel"}]
[{"$f":"'Seznam střelců'!$A7","v":1},{"$f":"IF($A7<>\"\",INDEX('Seznam střelců'!$A$7:$A$107,MATCH($A7,'Pom. pořadí jednotlivci'!$Q$7:$Q$107,0),1),\"\")","v":34},{"$f":"IF($A7<>\"\",INDEX('Seznam střelců'!$E$7:$E$107,MATCH($B7,'Seznam střelců'!$A$7:$A$107,0),1),\"\")","v":"Podsedník Ladislav"},{"$f":"IF($A7<>\"\",INDEX('Seznam střelců'!F$7:F$107,MATCH($B7,'Seznam střelců'!$A$7:$A$107,0),1),\"\")","v":0},{"$f":"IF($A7<>\"\",INDEX('Seznam střelců'!G$7:G$107,MATCH($B7,'Seznam střelců'!$A$7:$A$107,0),1),\"\")","v":0},{"$f":"IF($A7<>\"\",INDEX('Seznam střelců'!H$7:H$107,MATCH($B7,'Seznam střelců'!$A$7:$A$107,0),1),\"\")","v":0},{"$f":"IF($A7<>\"\",INDEX('Seznam střelců'!I$7:I$107,MATCH($B7,'Seznam střelců'!$A$7:$A$107,0),1),\"\")","v":0},{"$f":"IF($A7<>\"\",INDEX('Seznam střelců'!J$7:J$107,MATCH($B7,'Seznam střelců'!$A$7:$A$107,0),1),\"\")","v":0},{"$f":"IF($A7<>\"\",INDEX('Seznam střelců'!K$7:K$107,MATCH($B7,'Seznam střelců'!$A$7:$A$107,0),1),\"\")","v":0},{"$f":"IF($A7<>\"\",INDEX('Seznam střelců'!L$7:L$107,MATCH($B7,'Seznam střelců'!$A$7:$A$107,0),1),\"\")","v":0},{"$f":"IF($A7<>\"\",INDEX('Seznam střelců'!M$7:M$107,MATCH($B7,'Seznam střelců'!$A$7:$A$107,0),1),\"\")","v":20},{"$f":"IF($A7<>\"\",INDEX('Seznam střelců'!N$7:N$107,MATCH($B7,'Seznam střelců'!$A$7:$A$107,0),1),\"\")","v":19},{"$f":"IF($A7<>\"\",INDEX('Seznam střelců'!O$7:O$107,MATCH($B7,'Seznam střelců'!$A$7:$A$107,0),1),\"\")","v":19},{"$f":"IF($A7<>\"\",SUM($D7:$M7),\"\")","v":58},{"$f":"IF($A7<>\"\",IF(0 = INDEX('Seznam střelců'!P$7:P$107,MATCH($B7,'Seznam střelců'!$A$7:$A$107,0),1),\"\",INDEX('Seznam střelců'!P$7:P$107,MATCH($B7,'Seznam střelců'!$A$7:$A$107,0),1)),\"\")","v":""},{"$f":"IF(AND($N7<>\"\",$O7<>\"\"),N7+O7,\"\")","v":""},{"$f":"IF($A7<>\"\",IF(0 = INDEX('Seznam střelců'!Q$7:Q$107,MATCH($B7,'Seznam střelců'!$A$7:$A$107,0),1),\"\",INDEX('Seznam střelců'!Q$7:Q$107,MATCH($B7,'Seznam střelců'!$A$7:$A$107,0),1)),\"\")","v":""},{"$f":"IF($A7<>\"\",\n    IF(INDEX('Seznam střelců'!$C$7:$C$107,MATCH($B7,'Seznam střelců'!$A$7:$A$107,0),1) <> \"\",\n        \"Mimo soutěž\",\n        IF(AND($N7 > 0,OR(ISNA(MATCH($A7,'Seznam střelců'!$S$7:$S$107,0)),ISNA(MATCH($A8,'Seznam střelců'!$S$7:$S$107,0)))), \"Rozstřel\", \"\")\n    ),\"\")","v":""}]
[{"$f":"'Seznam střelců'!$A8","v":2},{"$f":"IF($A8<>\"\",INDEX('Seznam střelců'!$A$7:$A$107,MATCH($A8,'Pom. pořadí jednotlivci'!$Q$7:$Q$107,0),1),\"\")","v":16},{"$f":"IF($A8<>\"\",INDEX('Seznam střelců'!$E$7:$E$107,MATCH($B8,'Seznam střelců'!$A$7:$A$107,0),1),\"\")","v":"Lagron Čeněk"},{"$f":"IF($A8<>\"\",INDEX('Seznam střelců'!F$7:F$107,MATCH($B8,'Seznam střelců'!$A$7:$A$107,0),1),\"\")","v":0},{"$f":"IF($A8<>\"\",INDEX('Seznam střelců'!G$7:G$107,MATCH($B8,'Seznam střelců'!$A$7:$A$107,0),1),\"\")","v":0},{"$f":"IF($A8<>\"\",INDEX('Seznam střelců'!H$7:H$107,MATCH($B8,'Seznam střelců'!$A$7:$A$107,0),1),\"\")","v":0},{"$f":"IF($A8<>\"\",INDEX('Seznam střelců'!I$7:I$107,MATCH($B8,'Seznam střelců'!$A$7:$A$107,0),1),\"\")","v":0},{"$f":"IF($A8<>\"\",INDEX('Seznam střelců'!J$7:J$107,MATCH($B8,'Seznam střelců'!$A$7:$A$107,0),1),\"\")","v":0},{"$f":"IF($A8<>\"\",INDEX('Seznam střelců'!K$7:K$107,MATCH($B8,'Seznam střelců'!$A$7:$A$107,0),1),\"\")","v":0},{"$f":"IF($A8<>\"\",INDEX('Seznam střelců'!L$7:L$107,MATCH($B8,'Seznam střelců'!$A$7:$A$107,0),1),\"\")","v":0},{"$f":"IF($A8<>\"\",INDEX('Seznam střelců'!M$7:M$107,MATCH($B8,'Seznam střelců'!$A$7:$A$107,0),1),\"\")","v":19},{"$f":"IF($A8<>\"\",INDEX('Seznam střelců'!N$7:N$107,MATCH($B8,'Seznam střelců'!$A$7:$A$107,0),1),\"\")","v":18},{"$f":"IF($A8<>\"\",INDEX('Seznam střelců'!O$7:O$107,MATCH($B8,'Seznam střelců'!$A$7:$A$107,0),1),\"\")","v":19},56,{"$f":"IF($A8<>\"\",IF(0 = INDEX('Seznam střelců'!P$7:P$107,MATCH($B8,'Seznam střelců'!$A$7:$A$107,0),1),\"\",INDEX('Seznam střelců'!P$7:P$107,MATCH($B8,'Seznam střelců'!$A$7:$A$107,0),1)),\"\")","v":""},{"$f":"IF(AND($N8<>\"\",$O8<>\"\"),N8+O8,\"\")","v":""},{"$f":"IF($A8<>\"\",IF(0 = INDEX('Seznam střelců'!Q$7:Q$107,MATCH($B8,'Seznam střelců'!$A$7:$A$107,0),1),\"\",INDEX('Seznam střelců'!Q$7:Q$107,MATCH($B8,'Seznam střelců'!$A$7:$A$107,0),1)),\"\")","v":""},{"$f":"IF($A8<>\"\",\n    IF(INDEX('Seznam střelců'!$C$7:$C$107,MATCH($B8,'Seznam střelců'!$A$7:$A$107,0),1) <> \"\",\n        \"Mimo soutěž\",\n        IF(AND($N8 > 0,OR(ISNA(MATCH($A8,'Seznam střelců'!$S$7:$S$107,0)),ISNA(MATCH($A9,'Seznam střelců'!$S$7:$S$107,0)))), \"Rozstřel\", \"\")\n    ),\"\")","v":""}]
[{"$f":"'Seznam střelců'!$A9","v":3},{"$f":"IF($A9<>\"\",INDEX('Seznam střelců'!$A$7:$A$107,MATCH($A9,'Pom. pořadí jednotlivci'!$Q$7:$Q$107,0),1),\"\")","v":2},{"$f":"IF($A9<>\"\",INDEX('Seznam střelců'!$E$7:$E$107,MATCH($B9,'Seznam střelců'!$A$7:$A$107,0),1),\"\")","v":"Brunclík Jiří"},{"$f":"IF($A9<>\"\",INDEX('Seznam střelců'!F$7:F$107,MATCH($B9,'Seznam střelců'!$A$7:$A$107,0),1),\"\")","v":0},{"$f":"IF($A9<>\"\",INDEX('Seznam střelců'!G$7:G$107,MATCH($B9,'Seznam střelců'!$A$7:$A$107,0),1),\"\")","v":0},{"$f":"IF($A9<>\"\",INDEX('Seznam střelců'!H$7:H$107,MATCH($B9,'Seznam střelců'!$A$7:$A$107,0),1),\"\")","v":0},{"$f":"IF($A9<>\"\",INDEX('Seznam střelců'!I$7:I$107,MATCH($B9,'Seznam střelců'!$A$7:$A$107,0),1),\"\")","v":0},{"$f":"IF($A9<>\"\",INDEX('Seznam střelců'!J$7:J$107,MATCH($B9,'Seznam střelců'!$A$7:$A$107,0),1),\"\")","v":0},{"$f":"IF($A9<>\"\",INDEX('Seznam střelců'!K$7:K$107,MATCH($B9,'Seznam střelců'!$A$7:$A$107,0),1),\"\")","v":0},{"$f":"IF($A9<>\"\",INDEX('Seznam střelců'!L$7:L$107,MATCH($B9,'Seznam střelců'!$A$7:$A$107,0),1),\"\")","v":0},{"$f":"IF($A9<>\"\",INDEX('Seznam střelců'!M$7:M$107,MATCH($B9,'Seznam střelců'!$A$7:$A$107,0),1),\"\")","v":16},{"$f":"IF($A9<>\"\",INDEX('Seznam střelců'!N$7:N$107,MATCH($B9,'Seznam střelců'!$A$7:$A$107,0),1),\"\")","v":19},{"$f":"IF($A9<>\"\",INDEX('Seznam střelců'!O$7:O$107,MATCH($B9,'Seznam střelců'!$A$7:$A$107,0),1),\"\")","v":19},54,{"$f":"IF($A9<>\"\",IF(0 = INDEX('Seznam střelců'!P$7:P$107,MATCH($B9,'Seznam střelců'!$A$7:$A$107,0),1),\"\",INDEX('Seznam střelců'!P$7:P$107,MATCH($B9,'Seznam střelců'!$A$7:$A$107,0),1)),\"\")","v":""},"",{"$f":"IF($A9<>\"\",IF(0 = INDEX('Seznam střelců'!Q$7:Q$107,MATCH($B9,'Seznam střelců'!$A$7:$A$107,0),1),\"\",INDEX('Seznam střelců'!Q$7:Q$107,MATCH($B9,'Seznam střelců'!$A$7:$A$107,0),1)),\"\")","v":""},{"$f":"IF($A9<>\"\",\n    IF(INDEX('Seznam střelců'!$C$7:$C$107,MATCH($B9,'Seznam střelců'!$A$7:$A$107,0),1) <> \"\",\n        \"Mimo soutěž\",\n        IF(AND($N9 > 0,OR(ISNA(MATCH($A9,'Seznam střelců'!$S$7:$S$107,0)),ISNA(MATCH($A10,'Seznam střelců'!$S$7:$S$107,0)))), \"Rozstřel\", \"\")\n    ),\"\")","v":""}]
[{"$f":"'Seznam střelců'!$A10","v":4},{"$f":"IF($A10<>\"\",INDEX('Seznam střelců'!$A$7:$A$107,MATCH($A10,'Pom. pořadí jednotlivci'!$Q$7:$Q$107,0),1),\"\")","v":19},{"$f":"IF($A10<>\"\",INDEX('Seznam střelců'!$E$7:$E$107,MATCH($B10,'Seznam střelců'!$A$7:$A$107,0),1),\"\")","v":"Vrzal Petr"},{"$f":"IF($A10<>\"\",INDEX('Seznam střelců'!F$7:F$107,MATCH($B10,'Seznam střelců'!$A$7:$A$107,0),1),\"\")","v":0},{"$f":"IF($A10<>\"\",INDEX('Seznam střelců'!G$7:G$107,MATCH($B10,'Seznam střelců'!$A$7:$A$107,0),1),\"\")","v":0},{"$f":"IF($A10<>\"\",INDEX('Seznam střelců'!H$7:H$107,MATCH($B10,'Seznam střelců'!$A$7:$A$107,0),1),\"\")","v":0},{"$f":"IF($A10<>\"\",INDEX('Seznam střelců'!I$7:I$107,MATCH($B10,'Seznam střelců'!$A$7:$A$107,0),1),\"\")","v":0},{"$f":"IF($A10<>\"\",INDEX('Seznam střelců'!J$7:J$107,MATCH($B10,'Seznam střelců'!$A$7:$A$107,0),1),\"\")","v":0},{"$f":"IF($A10<>\"\",INDEX('Seznam střelců'!K$7:K$107,MATCH($B10,'Seznam střelců'!$A$7:$A$107,0),1),\"\")","v":0},{"$f":"IF($A10<>\"\",INDEX('Seznam střelců'!L$7:L$107,MATCH($B10,'Seznam střelců'!$A$7:$A$107,0),1),\"\")","v":0},{"$f":"IF($A10<>\"\",INDEX('Seznam střelců'!M$7:M$107,MATCH($B10,'Seznam střelců'!$A$7:$A$107,0),1),\"\")","v":17},{"$f":"IF($A10<>\"\",INDEX('Seznam střelců'!N$7:N$107,MATCH($B10,'Seznam střelců'!$A$7:$A$107,0),1),\"\")","v":18},{"$f":"IF($A10<>\"\",INDEX('Seznam střelců'!O$7:O$107,MATCH($B10,'Seznam střelců'!$A$7:$A$107,0),1),\"\")","v":18},53,{"$f":"IF($A10<>\"\",IF(0 = INDEX('Seznam střelců'!P$7:P$107,MATCH($B10,'Seznam střelců'!$A$7:$A$107,0),1),\"\",INDEX('Seznam střelců'!P$7:P$107,MATCH($B10,'Seznam střelců'!$A$7:$A$107,0),1)),\"\")","v":""},"",{"$f":"IF($A10<>\"\",IF(0 = INDEX('Seznam střelců'!Q$7:Q$107,MATCH($B10,'Seznam střelců'!$A$7:$A$107,0),1),\"\",INDEX('Seznam střelců'!Q$7:Q$107,MATCH($B10,'Seznam střelců'!$A$7:$A$107,0),1)),\"\")","v":""},{"$f":"IF($A10<>\"\",\n    IF(INDEX('Seznam střelců'!$C$7:$C$107,MATCH($B10,'Seznam střelců'!$A$7:$A$107,0),1) <> \"\",\n        \"Mimo soutěž\",\n        IF(AND($N10 > 0,OR(ISNA(MATCH($A10,'Seznam střelců'!$S$7:$S$107,0)),ISNA(MATCH($A11,'Seznam střelců'!$S$7:$S$107,0)))), \"Rozstřel\", \"\")\n    ),\"\")","v":""}]
[{"$f":"'Seznam střelců'!$A11","v":5},{"$f":"IF($A11<>\"\",INDEX('Seznam střelců'!$A$7:$A$107,MATCH($A11,'Pom. pořadí jednotlivci'!$Q$7:$Q$107,0),1),\"\")","v":29},{"$f":"IF($A11<>\"\",INDEX('Seznam střelců'!$E$7:$E$107,MATCH($B11,'Seznam střelců'!$A$7:$A$107,0),1),\"\")","v":"Bělík Michal"},{"$f":"IF($A11<>\"\",INDEX('Seznam střelců'!F$7:F$107,MATCH($B11,'Seznam střelců'!$A$7:$A$107,0),1),\"\")","v":0},{"$f":"IF($A11<>\"\",INDEX('Seznam střelců'!G$7:G$107,MATCH($B11,'Seznam střelců'!$A$7:$A$107,0),1),\"\")","v":0},{"$f":"IF($A11<>\"\",INDEX('Seznam střelců'!H$7:H$107,MATCH($B11,'Seznam střelců'!$A$7:$A$107,0),1),\"\")","v":0},{"$f":"IF($A11<>\"\",INDEX('Seznam střelců'!I$7:I$107,MATCH($B11,'Seznam střelců'!$A$7:$A$107,0),1),\"\")","v":0},{"$f":"IF($A11<>\"\",INDEX('Seznam střelců'!J$7:J$107,MATCH($B11,'Seznam střelců'!$A$7:$A$107,0),1),\"\")","v":0},{"$f":"IF($A11<>\"\",INDEX('Seznam střelců'!K$7:K$107,MATCH($B11,'Seznam střelců'!$A$7:$A$107,0),1),\"\")","v":0},{"$f":"IF($A11<>\"\",INDEX('Seznam střelců'!L$7:L$107,MATCH($B11,'Seznam střelců'!$A$7:$A$107,0),1),\"\")","v":0},{"$f":"IF($A11<>\"\",INDEX('Seznam střelců'!M$7:M$107,MATCH($B11,'Seznam střelců'!$A$7:$A$107,0),1),\"\")","v":17},{"$f":"IF($A11<>\"\",INDEX('Seznam střelců'!N$7:N$107,MATCH($B11,'Seznam střelců'!$A$7:$A$107,0),1),\"\")","v":19},{"$f":"IF($A11<>\"\",INDEX('Seznam střelců'!O$7:O$107,MATCH($B11,'Seznam střelců'!$A$7:$A$107,0),1),\"\")","v":17},53,{"$f":"IF($A11<>\"\",IF(0 = INDEX('Seznam střelců'!P$7:P$107,MATCH($B11,'Seznam střelců'!$A$7:$A$107,0),1),\"\",INDEX('Seznam střelců'!P$7:P$107,MATCH($B11,'Seznam střelců'!$A$7:$A$107,0),1)),\"\")","v":""},"",{"$f":"IF($A11<>\"\",IF(0 = INDEX('Seznam střelců'!Q$7:Q$107,MATCH($B11,'Seznam střelců'!$A$7:$A$107,0),1),\"\",INDEX('Seznam střelců'!Q$7:Q$107,MATCH($B11,'Seznam střelců'!$A$7:$A$107,0),1)),\"\")","v":""},{"$f":"IF($A11<>\"\",\n    IF(INDEX('Seznam střelců'!$C$7:$C$107,MATCH($B11,'Seznam střelců'!$A$7:$A$107,0),1) <> \"\",\n        \"Mimo soutěž\",\n        IF(AND($N11 > 0,OR(ISNA(MATCH($A11,'Seznam střelců'!$S$7:$S$107,0)),ISNA(MATCH($A12,'Seznam střelců'!$S$7:$S$107,0)))), \"Rozstřel\", \"\")\n    ),\"\")","v":""}]
[{"$f":"'Seznam střelců'!$A12","v":6},{"$f":"IF($A12<>\"\",INDEX('Seznam střelců'!$A$7:$A$107,MATCH($A12,'Pom. pořadí jednotlivci'!$Q$7:$Q$107,0),1),\"\")","v":22},{"$f":"IF($A12<>\"\",INDEX('Seznam střelců'!$E$7:$E$107,MATCH($B12,'Seznam střelců'!$A$7:$A$107,0),1),\"\")","v":"Vranka David"},{"$f":"IF($A12<>\"\",INDEX('Seznam střelců'!F$7:F$107,MATCH($B12,'Seznam střelců'!$A$7:$A$107,0),1),\"\")","v":0},{"$f":"IF($A12<>\"\",INDEX('Seznam střelců'!G$7:G$107,MATCH($B12,'Seznam střelců'!$A$7:$A$107,0),1),\"\")","v":0},{"$f":"IF($A12<>\"\",INDEX('Seznam střelců'!H$7:H$107,MATCH($B12,'Seznam střelců'!$A$7:$A$107,0),1),\"\")","v":0},{"$f":"IF($A12<>\"\",INDEX('Seznam střelců'!I$7:I$107,MATCH($B12,'Seznam střelců'!$A$7:$A$107,0),1),\"\")","v":0},{"$f":"IF($A12<>\"\",INDEX('Seznam střelců'!J$7:J$107,MATCH($B12,'Seznam střelců'!$A$7:$A$107,0),1),\"\")","v":0},{"$f":"IF($A12<>\"\",INDEX('Seznam střelců'!K$7:K$107,MATCH($B12,'Seznam střelců'!$A$7:$A$107,0),1),\"\")","v":0},{"$f":"IF($A12<>\"\",INDEX('Seznam střelců'!L$7:L$107,MATCH($B12,'Seznam střelců'!$A$7:$A$107,0),1),\"\")","v":0},{"$f":"IF($A12<>\"\",INDEX('Seznam střelců'!M$7:M$107,MATCH($B12,'Seznam střelců'!$A$7:$A$107,0),1),\"\")","v":19},{"$f":"IF($A12<>\"\",INDEX('Seznam střelců'!N$7:N$107,MATCH($B12,'Seznam střelců'!$A$7:$A$107,0),1),\"\")","v":17},{"$f":"IF($A12<>\"\",INDEX('Seznam střelců'!O$7:O$107,MATCH($B12,'Seznam střelců'!$A$7:$A$107,0),1),\"\")","v":17},53,{"$f":"IF($A12<>\"\",IF(0 = INDEX('Seznam střelců'!P$7:P$107,MATCH($B12,'Seznam střelců'!$A$7:$A$107,0),1),\"\",INDEX('Seznam střelců'!P$7:P$107,MATCH($B12,'Seznam střelců'!$A$7:$A$107,0),1)),\"\")","v":""},"",{"$f":"IF($A12<>\"\",IF(0 = INDEX('Seznam střelců'!Q$7:Q$107,MATCH($B12,'Seznam střelců'!$A$7:$A$107,0),1),\"\",INDEX('Seznam střelců'!Q$7:Q$107,MATCH($B12,'Seznam střelců'!$A$7:$A$107,0),1)),\"\")","v":""},{"$f":"IF($A12<>\"\",\n    IF(INDEX('Seznam střelců'!$C$7:$C$107,MATCH($B12,'Seznam střelců'!$A$7:$A$107,0),1) <> \"\",\n        \"Mimo soutěž\",\n        IF(AND($N12 > 0,OR(ISNA(MATCH($A12,'Seznam střelců'!$S$7:$S$107,0)),ISNA(MATCH($A13,'Seznam střelců'!$S$7:$S$107,0)))), \"Rozstřel\", \"\")\n    ),\"\")","v":""}]
[{"$f":"'Seznam střelců'!$A13","v":7},{"$f":"IF($A13<>\"\",INDEX('Seznam střelců'!$A$7:$A$107,MATCH($A13,'Pom. pořadí jednotlivci'!$Q$7:$Q$107,0),1),\"\")","v":7},{"$f":"IF($A13<>\"\",INDEX('Seznam střelců'!$E$7:$E$107,MATCH($B13,'Seznam střelců'!$A$7:$A$107,0),1),\"\")","v":"Šimon Jaroslav"},{"$f":"IF($A13<>\"\",INDEX('Seznam střelců'!F$7:F$107,MATCH($B13,'Seznam střelců'!$A$7:$A$107,0),1),\"\")","v":0},{"$f":"IF($A13<>\"\",INDEX('Seznam střelců'!G$7:G$107,MATCH($B13,'Seznam střelců'!$A$7:$A$107,0),1),\"\")","v":0},{"$f":"IF($A13<>\"\",INDEX('Seznam střelců'!H$7:H$107,MATCH($B13,'Seznam střelců'!$A$7:$A$107,0),1),\"\")","v":0},{"$f":"IF($A13<>\"\",INDEX('Seznam střelců'!I$7:I$107,MATCH($B13,'Seznam střelců'!$A$7:$A$107,0),1),\"\")","v":0},{"$f":"IF($A13<>\"\",INDEX('Seznam střelců'!J$7:J$107,MATCH($B13,'Seznam střelců'!$A$7:$A$107,0),1),\"\")","v":0},{"$f":"IF($A13<>\"\",INDEX('Seznam střelců'!K$7:K$107,MATCH($B13,'Seznam střelců'!$A$7:$A$107,0),1),\"\")","v":0},{"$f":"IF($A13<>\"\",INDEX('Seznam střelců'!L$7:L$107,MATCH($B13,'Seznam střelců'!$A$7:$A$107,0),1),\"\")","v":0},{"$f":"IF($A13<>\"\",INDEX('Seznam střelců'!M$7:M$107,MATCH($B13,'Seznam střelců'!$A$7:$A$107,0),1),\"\")","v":18},{"$f":"IF($A13<>\"\",INDEX('Seznam střelců'!N$7:N$107,MATCH($B13,'Seznam střelců'!$A$7:$A$107,0),1),\"\")","v":16},{"$f":"IF($A13<>\"\",INDEX('Seznam střelců'!O$7:O$107,MATCH($B13,'Seznam střelců'!$A$7:$A$107,0),1),\"\")","v":18},52,{"$f":"IF($A13<>\"\",IF(0 = INDEX('Seznam střelců'!P$7:P$107,MATCH($B13,'Seznam střelců'!$A$7:$A$107,0),1),\"\",INDEX('Seznam střelců'!P$7:P$107,MATCH($B13,'Seznam střelců'!$A$7:$A$107,0),1)),\"\")","v":""},"",{"$f":"IF($A13<>\"\",IF(0 = INDEX('Seznam střelců'!Q$7:Q$107,MATCH($B13,'Seznam střelců'!$A$7:$A$107,0),1),\"\",INDEX('Seznam střelců'!Q$7:Q$107,MATCH($B13,'Seznam střelců'!$A$7:$A$107,0),1)),\"\")","v":""},{"$f":"IF($A13<>\"\",\n    IF(INDEX('Seznam střelců'!$C$7:$C$107,MATCH($B13,'Seznam střelců'!$A$7:$A$107,0),1) <> \"\",\n        \"Mimo soutěž\",\n        IF(AND($N13 > 0,OR(ISNA(MATCH($A13,'Seznam střelců'!$S$7:$S$107,0)),ISNA(MATCH($A14,'Seznam střelců'!$S$7:$S$107,0)))), \"Rozstřel\", \"\")\n    ),\"\")","v":""}]
[{"$f":"'Seznam střelců'!$A14","v":8},{"$f":"IF($A14<>\"\",INDEX('Seznam střelců'!$A$7:$A$107,MATCH($A14,'Pom. pořadí jednotlivci'!$Q$7:$Q$107,0),1),\"\")","v":25},{"$f":"IF($A14<>\"\",INDEX('Seznam střelců'!$E$7:$E$107,MATCH($B14,'Seznam střelců'!$A$7:$A$107,0),1),\"\")","v":"Letáček Zbyněk"},{"$f":"IF($A14<>\"\",INDEX('Seznam střelců'!F$7:F$107,MATCH($B14,'Seznam střelců'!$A$7:$A$107,0),1),\"\")","v":0},{"$f":"IF($A14<>\"\",INDEX('Seznam střelců'!G$7:G$107,MATCH($B14,'Seznam střelců'!$A$7:$A$107,0),1),\"\")","v":0},{"$f":"IF($A14<>\"\",INDEX('Seznam střelců'!H$7:H$107,MATCH($B14,'Seznam střelců'!$A$7:$A$107,0),1),\"\")","v":0},{"$f":"IF($A14<>\"\",INDEX('Seznam střelců'!I$7:I$107,MATCH($B14,'Seznam střelců'!$A$7:$A$107,0),1),\"\")","v":0},{"$f":"IF($A14<>\"\",INDEX('Seznam střelců'!J$7:J$107,MATCH($B14,'Seznam střelců'!$A$7:$A$107,0),1),\"\")","v":0},{"$f":"IF($A14<>\"\",INDEX('Seznam střelců'!K$7:K$107,MATCH($B14,'Seznam střelců'!$A$7:$A$107,0),1),\"\")","v":0},{"$f":"IF($A14<>\"\",INDEX('Seznam střelců'!L$7:L$107,MATCH($B14,'Seznam střelců'!$A$7:$A$107,0),1),\"\")","v":0},{"$f":"IF($A14<>\"\",INDEX('Seznam střelců'!M$7:M$107,MATCH($B14,'Seznam střelců'!$A$7:$A$107,0),1),\"\")","v":18},{"$f":"IF($A14<>\"\",INDEX('Seznam střelců'!N$7:N$107,MATCH($B14,'Seznam střelců'!$A$7:$A$107,0),1),\"\")","v":17},{"$f":"IF($A14<>\"\",INDEX('Seznam střelců'!O$7:O$107,MATCH($B14,'Seznam střelců'!$A$7:$A$107,0),1),\"\")","v":17},52,{"$f":"IF($A14<>\"\",IF(0 = INDEX('Seznam střelců'!P$7:P$107,MATCH($B14,'Seznam střelců'!$A$7:$A$107,0),1),\"\",INDEX('Seznam střelců'!P$7:P$107,MATCH($B14,'Seznam střelců'!$A$7:$A$107,0),1)),\"\")","v":""},"",{"$f":"IF($A14<>\"\",IF(0 = INDEX('Seznam střelců'!Q$7:Q$107,MATCH($B14,'Seznam střelců'!$A$7:$A$107,0),1),\"\",INDEX('Seznam střelců'!Q$7:Q$107,MATCH($B14,'Seznam střelců'!$A$7:$A$107,0),1)),\"\")","v":1},{"$f":"IF($A14<>\"\",\n    IF(INDEX('Seznam střelců'!$C$7:$C$107,MATCH($B14,'Seznam střelců'!$A$7:$A$107,0),1) <> \"\",\n        \"Mimo soutěž\",\n        IF(AND($N14 > 0,OR(ISNA(MATCH($A14,'Seznam střelců'!$S$7:$S$107,0)),ISNA(MATCH($A15,'Seznam střelců'!$S$7:$S$107,0)))), \"Rozstřel\", \"\")\n    ),\"\")","v":""}]
[{"$f":"'Seznam střelců'!$A15","v":9},{"$f":"IF($A15<>\"\",INDEX('Seznam střelců'!$A$7:$A$107,MATCH($A15,'Pom. pořadí jednotlivci'!$Q$7:$Q$107,0),1),\"\")","v":9},{"$f":"IF($A15<>\"\",INDEX('Seznam střelců'!$E$7:$E$107,MATCH($B15,'Seznam střelců'!$A$7:$A$107,0),1),\"\")","v":"Barák Dominik"},{"$f":"IF($A15<>\"\",INDEX('Seznam střelců'!F$7:F$107,MATCH($B15,'Seznam střelců'!$A$7:$A$107,0),1),\"\")","v":0},{"$f":"IF($A15<>\"\",INDEX('Seznam střelců'!G$7:G$107,MATCH($B15,'Seznam střelců'!$A$7:$A$107,0),1),\"\")","v":0},{"$f":"IF($A15<>\"\",INDEX('Seznam střelců'!H$7:H$107,MATCH($B15,'Seznam střelců'!$A$7:$A$107,0),1),\"\")","v":0},{"$f":"IF($A15<>\"\",INDEX('Seznam střelců'!I$7:I$107,MATCH($B15,'Seznam střelců'!$A$7:$A$107,0),1),\"\")","v":0},{"$f":"IF($A15<>\"\",INDEX('Seznam střelců'!J$7:J$107,MATCH($B15,'Seznam střelců'!$A$7:$A$107,0),1),\"\")","v":0},{"$f":"IF($A15<>\"\",INDEX('Seznam střelců'!K$7:K$107,MATCH($B15,'Seznam střelců'!$A$7:$A$107,0),1),\"\")","v":0},{"$f":"IF($A15<>\"\",INDEX('Seznam střelců'!L$7:L$107,MATCH($B15,'Seznam střelců'!$A$7:$A$107,0),1),\"\")","v":0},{"$f":"IF($A15<>\"\",INDEX('Seznam střelců'!M$7:M$107,MATCH($B15,'Seznam střelců'!$A$7:$A$107,0),1),\"\")","v":18},{"$f":"IF($A15<>\"\",INDEX('Seznam střelců'!N$7:N$107,MATCH($B15,'Seznam střelců'!$A$7:$A$107,0),1),\"\")","v":17},{"$f":"IF($A15<>\"\",INDEX('Seznam střelců'!O$7:O$107,MATCH($B15,'Seznam střelců'!$A$7:$A$107,0),1),\"\")","v":17},52,{"$f":"IF($A15<>\"\",IF(0 = INDEX('Seznam střelců'!P$7:P$107,MATCH($B15,'Seznam střelců'!$A$7:$A$107,0),1),\"\",INDEX('Seznam střelců'!P$7:P$107,MATCH($B15,'Seznam střelců'!$A$7:$A$107,0),1)),\"\")","v":""},"",{"$f":"IF($A15<>\"\",IF(0 = INDEX('Seznam střelců'!Q$7:Q$107,MATCH($B15,'Seznam střelců'!$A$7:$A$107,0),1),\"\",INDEX('Seznam střelců'!Q$7:Q$107,MATCH($B15,'Seznam střelců'!$A$7:$A$107,0),1)),\"\")","v":""},{"$f":"IF($A15<>\"\",\n    IF(INDEX('Seznam střelců'!$C$7:$C$107,MATCH($B15,'Seznam střelců'!$A$7:$A$107,0),1) <> \"\",\n        \"Mimo soutěž\",\n        IF(AND($N15 > 0,OR(ISNA(MATCH($A15,'Seznam střelců'!$S$7:$S$107,0)),ISNA(MATCH($A16,'Seznam střelců'!$S$7:$S$107,0)))), \"Rozstřel\", \"\")\n    ),\"\")","v":""}]
[{"$f":"'Seznam střelců'!$A16","v":10},{"$f":"IF($A16<>\"\",INDEX('Seznam střelců'!$A$7:$A$107,MATCH($A16,'Pom. pořadí jednotlivci'!$Q$7:$Q$107,0),1),\"\")","v":13},{"$f":"IF($A16<>\"\",INDEX('Seznam střelců'!$E$7:$E$107,MATCH($B16,'Seznam střelců'!$A$7:$A$107,0),1),\"\")","v":"Vaňhara Hynek"},{"$f":"IF($A16<>\"\",INDEX('Seznam střelců'!F$7:F$107,MATCH($B16,'Seznam střelců'!$A$7:$A$107,0),1),\"\")","v":0},{"$f":"IF($A16<>\"\",INDEX('Seznam střelců'!G$7:G$107,MATCH($B16,'Seznam střelců'!$A$7:$A$107,0),1),\"\")","v":0},{"$f":"IF($A16<>\"\",INDEX('Seznam střelců'!H$7:H$107,MATCH($B16,'Seznam střelců'!$A$7:$A$107,0),1),\"\")","v":0},{"$f":"IF($A16<>\"\",INDEX('Seznam střelců'!I$7:I$107,MATCH($B16,'Seznam střelců'!$A$7:$A$107,0),1),\"\")","v":0},{"$f":"IF($A16<>\"\",INDEX('Seznam střelců'!J$7:J$107,MATCH($B16,'Seznam střelců'!$A$7:$A$107,0),1),\"\")","v":0},{"$f":"IF($A16<>\"\",INDEX('Seznam střelců'!K$7:K$107,MATCH($B16,'Seznam střelců'!$A$7:$A$107,0),1),\"\")","v":0},{"$f":"IF($A16<>\"\",INDEX('Seznam střelců'!L$7:L$107,MATCH($B16,'Seznam střelců'!$A$7:$A$107,0),1),\"\")","v":0},{"$f":"IF($A16<>\"\",INDEX('Seznam střelců'!M$7:M$107,MATCH($B16,'Seznam střelců'!$A$7:$A$107,0),1),\"\")","v":19},{"$f":"IF($A16<>\"\",INDEX('Seznam střelců'!N$7:N$107,MATCH($B16,'Seznam střelců'!$A$7:$A$107,0),1),\"\")","v":17},{"$f":"IF($A16<>\"\",INDEX('Seznam střelců'!O$7:O$107,MATCH($B16,'Seznam střelců'!$A$7:$A$107,0),1),\"\")","v":15},51,{"$f":"IF($A16<>\"\",IF(0 = INDEX('Seznam střelců'!P$7:P$107,MATCH($B16,'Seznam střelců'!$A$7:$A$107,0),1),\"\",INDEX('Seznam střelců'!P$7:P$107,MATCH($B16,'Seznam střelců'!$A$7:$A$107,0),1)),\"\")","v":""},"",{"$f":"IF($A16<>\"\",IF(0 = INDEX('Seznam střelců'!Q$7:Q$107,MATCH($B16,'Seznam střelců'!$A$7:$A$107,0),1),\"\",INDEX('Seznam střelců'!Q$7:Q$107,MATCH($B16,'Seznam střelců'!$A$7:$A$107,0),1)),\"\")","v":""},{"$f":"IF($A16<>\"\",\n    IF(INDEX('Seznam střelců'!$C$7:$C$107,MATCH($B16,'Seznam střelců'!$A$7:$A$107,0),1) <> \"\",\n        \"Mimo soutěž\",\n        IF(AND($N16 > 0,OR(ISNA(MATCH($A16,'Seznam střelců'!$S$7:$S$107,0)),ISNA(MATCH($A17,'Seznam střelců'!$S$7:$S$107,0)))), \"Rozstřel\", \"\")\n    ),\"\")","v":""}]
[{"$f":"'Seznam střelců'!$A17","v":11},{"$f":"IF($A17<>\"\",INDEX('Seznam střelců'!$A$7:$A$107,MATCH($A17,'Pom. pořadí jednotlivci'!$Q$7:$Q$107,0),1),\"\")","v":3},{"$f":"IF($A17<>\"\",INDEX('Seznam střelců'!$E$7:$E$107,MATCH($B17,'Seznam střelců'!$A$7:$A$107,0),1),\"\")","v":"Rusek Aleš"},{"$f":"IF($A17<>\"\",INDEX('Seznam střelců'!F$7:F$107,MATCH($B17,'Seznam střelců'!$A$7:$A$107,0),1),\"\")","v":0},{"$f":"IF($A17<>\"\",INDEX('Seznam střelců'!G$7:G$107,MATCH($B17,'Seznam střelců'!$A$7:$A$107,0),1),\"\")","v":0},{"$f":"IF($A17<>\"\",INDEX('Seznam střelců'!H$7:H$107,MATCH($B17,'Seznam střelců'!$A$7:$A$107,0),1),\"\")","v":0},{"$f":"IF($A17<>\"\",INDEX('Seznam střelců'!I$7:I$107,MATCH($B17,'Seznam střelců'!$A$7:$A$107,0),1),\"\")","v":0},{"$f":"IF($A17<>\"\",INDEX('Seznam střelců'!J$7:J$107,MATCH($B17,'Seznam střelců'!$A$7:$A$107,0),1),\"\")","v":0},{"$f":"IF($A17<>\"\",INDEX('Seznam střelců'!K$7:K$107,MATCH($B17,'Seznam střelců'!$A$7:$A$107,0),1),\"\")","v":0},{"$f":"IF($A17<>\"\",INDEX('Seznam střelců'!L$7:L$107,MATCH($B17,'Seznam střelců'!$A$7:$A$107,0),1),\"\")","v":0},{"$f":"IF($A17<>\"\",INDEX('Seznam střelců'!M$7:M$107,MATCH($B17,'Seznam střelců'!$A$7:$A$107,0),1),\"\")","v":18},{"$f":"IF($A17<>\"\",INDEX('Seznam střelců'!N$7:N$107,MATCH($B17,'Seznam střelců'!$A$7:$A$107,0),1),\"\")","v":16},{"$f":"IF($A17<>\"\",INDEX('Seznam střelců'!O$7:O$107,MATCH($B17,'Seznam střelců'!$A$7:$A$107,0),1),\"\")","v":16},50,{"$f":"IF($A17<>\"\",IF(0 = INDEX('Seznam střelců'!P$7:P$107,MATCH($B17,'Seznam střelců'!$A$7:$A$107,0),1),\"\",INDEX('Seznam střelců'!P$7:P$107,MATCH($B17,'Seznam střelců'!$A$7:$A$107,0),1)),\"\")","v":""},"",{"$f":"IF($A17<>\"\",IF(0 = INDEX('Seznam střelců'!Q$7:Q$107,MATCH($B17,'Seznam střelců'!$A$7:$A$107,0),1),\"\",INDEX('Seznam střelců'!Q$7:Q$107,MATCH($B17,'Seznam střelců'!$A$7:$A$107,0),1)),\"\")","v":""},{"$f":"IF($A17<>\"\",\n    IF(INDEX('Seznam střelců'!$C$7:$C$107,MATCH($B17,'Seznam střelců'!$A$7:$A$107,0),1) <> \"\",\n        \"Mimo soutěž\",\n        IF(AND($N17 > 0,OR(ISNA(MATCH($A17,'Seznam střelců'!$S$7:$S$107,0)),ISNA(MATCH($A18,'Seznam střelců'!$S$7:$S$107,0)))), \"Rozstřel\", \"\")\n    ),\"\")","v":""}]
[{"$f":"'Seznam střelců'!$A18","v":12},{"$f":"IF($A18<>\"\",INDEX('Seznam střelců'!$A$7:$A$107,MATCH($A18,'Pom. pořadí jednotlivci'!$Q$7:$Q$107,0),1),\"\")","v":12},{"$f":"IF($A18<>\"\",INDEX('Seznam střelců'!$E$7:$E$107,MATCH($B18,'Seznam střelců'!$A$7:$A$107,0),1),\"\")","v":"Malý Pavel"},{"$f":"IF($A18<>\"\",INDEX('Seznam střelců'!F$7:F$107,MATCH($B18,'Seznam střelců'!$A$7:$A$107,0),1),\"\")","v":0},{"$f":"IF($A18<>\"\",INDEX('Seznam střelců'!G$7:G$107,MATCH($B18,'Seznam střelců'!$A$7:$A$107,0),1),\"\")","v":0},{"$f":"IF($A18<>\"\",INDEX('Seznam střelců'!H$7:H$107,MATCH($B18,'Seznam střelců'!$A$7:$A$107,0),1),\"\")","v":0},{"$f":"IF($A18<>\"\",INDEX('Seznam střelců'!I$7:I$107,MATCH($B18,'Seznam střelců'!$A$7:$A$107,0),1),\"\")","v":0},{"$f":"IF($A18<>\"\",INDEX('Seznam střelců'!J$7:J$107,MATCH($B18,'Seznam střelců'!$A$7:$A$107,0),1),\"\")","v":0},{"$f":"IF($A18<>\"\",INDEX('Seznam střelců'!K$7:K$107,MATCH($B18,'Seznam střelců'!$A$7:$A$107,0),1),\"\")","v":0},{"$f":"IF($A18<>\"\",INDEX('Seznam střelců'!L$7:L$107,MATCH($B18,'Seznam střelců'!$A$7:$A$107,0),1),\"\")","v":0},{"$f":"IF($A18<>\"\",INDEX('Seznam střelců'!M$7:M$107,MATCH($B18,'Seznam střelců'!$A$7:$A$107,0),1),\"\")","v":18},{"$f":"IF($A18<>\"\",INDEX('Seznam střelců'!N$7:N$107,MATCH($B18,'Seznam střelců'!$A$7:$A$107,0),1),\"\")","v":15},{"$f":"IF($A18<>\"\",INDEX('Seznam střelců'!O$7:O$107,MATCH($B18,'Seznam střelců'!$A$7:$A$107,0),1),\"\")","v":16},49,{"$f":"IF($A18<>\"\",IF(0 = INDEX('Seznam střelců'!P$7:P$107,MATCH($B18,'Seznam střelců'!$A$7:$A$107,0),1),\"\",INDEX('Seznam střelců'!P$7:P$107,MATCH($B18,'Seznam střelců'!$A$7:$A$107,0),1)),\"\")","v":""},"",{"$f":"IF($A18<>\"\",IF(0 = INDEX('Seznam střelců'!Q$7:Q$107,MATCH($B18,'Seznam střelců'!$A$7:$A$107,0),1),\"\",INDEX('Seznam střelců'!Q$7:Q$107,MATCH($B18,'Seznam střelců'!$A$7:$A$107,0),1)),\"\")","v":""},{"$f":"IF($A18<>\"\",\n    IF(INDEX('Seznam střelců'!$C$7:$C$107,MATCH($B18,'Seznam střelců'!$A$7:$A$107,0),1) <> \"\",\n        \"Mimo soutěž\",\n        IF(AND($N18 > 0,OR(ISNA(MATCH($A18,'Seznam střelců'!$S$7:$S$107,0)),ISNA(MATCH($A19,'Seznam střelců'!$S$7:$S$107,0)))), \"Rozstřel\", \"\")\n    ),\"\")","v":""}]
[{"$f":"'Seznam střelců'!$A19","v":13},{"$f":"IF($A19<>\"\",INDEX('Seznam střelců'!$A$7:$A$107,MATCH($A19,'Pom. pořadí jednotlivci'!$Q$7:$Q$107,0),1),\"\")","v":14},{"$f":"IF($A19<>\"\",INDEX('Seznam střelců'!$E$7:$E$107,MATCH($B19,'Seznam střelců'!$A$7:$A$107,0),1),\"\")","v":"Marák Tomáš"},{"$f":"IF($A19<>\"\",INDEX('Seznam střelců'!F$7:F$107,MATCH($B19,'Seznam střelců'!$A$7:$A$107,0),1),\"\")","v":0},{"$f":"IF($A19<>\"\",INDEX('Seznam střelců'!G$7:G$107,MATCH($B19,'Seznam střelců'!$A$7:$A$107,0),1),\"\")","v":0},{"$f":"IF($A19<>\"\",INDEX('Seznam střelců'!H$7:H$107,MATCH($B19,'Seznam střelců'!$A$7:$A$107,0),1),\"\")","v":0},{"$f":"IF($A19<>\"\",INDEX('Seznam střelců'!I$7:I$107,MATCH($B19,'Seznam střelců'!$A$7:$A$107,0),1),\"\")","v":0},{"$f":"IF($A19<>\"\",INDEX('Seznam střelců'!J$7:J$107,MATCH($B19,'Seznam střelců'!$A$7:$A$107,0),1),\"\")","v":0},{"$f":"IF($A19<>\"\",INDEX('Seznam střelců'!K$7:K$107,MATCH($B19,'Seznam střelců'!$A$7:$A$107,0),1),\"\")","v":0},{"$f":"IF($A19<>\"\",INDEX('Seznam střelců'!L$7:L$107,MATCH($B19,'Seznam střelců'!$A$7:$A$107,0),1),\"\")","v":0},{"$f":"IF($A19<>\"\",INDEX('Seznam střelců'!M$7:M$107,MATCH($B19,'Seznam střelců'!$A$7:$A$107,0),1),\"\")","v":13},{"$f":"IF($A19<>\"\",INDEX('Seznam střelců'!N$7:N$107,MATCH($B19,'Seznam střelců'!$A$7:$A$107,0),1),\"\")","v":19},{"$f":"IF($A19<>\"\",INDEX('Seznam střelců'!O$7:O$107,MATCH($B19,'Seznam střelců'!$A$7:$A$107,0),1),\"\")","v":16},48,{"$f":"IF($A19<>\"\",IF(0 = INDEX('Seznam střelců'!P$7:P$107,MATCH($B19,'Seznam střelců'!$A$7:$A$107,0),1),\"\",INDEX('Seznam střelců'!P$7:P$107,MATCH($B19,'Seznam střelců'!$A$7:$A$107,0),1)),\"\")","v":""},"",{"$f":"IF($A19<>\"\",IF(0 = INDEX('Seznam střelců'!Q$7:Q$107,MATCH($B19,'Seznam střelců'!$A$7:$A$107,0),1),\"\",INDEX('Seznam střelců'!Q$7:Q$107,MATCH($B19,'Seznam střelců'!$A$7:$A$107,0),1)),\"\")","v":""},{"$f":"IF($A19<>\"\",\n    IF(INDEX('Seznam střelců'!$C$7:$C$107,MATCH($B19,'Seznam střelců'!$A$7:$A$107,0),1) <> \"\",\n        \"Mimo soutěž\",\n        IF(AND($N19 > 0,OR(ISNA(MATCH($A19,'Seznam střelců'!$S$7:$S$107,0)),ISNA(MATCH($A20,'Seznam střelců'!$S$7:$S$107,0)))), \"Rozstřel\", \"\")\n    ),\"\")","v":""}]
[{"$f":"'Seznam střelců'!$A20","v":14},{"$f":"IF($A20<>\"\",INDEX('Seznam střelců'!$A$7:$A$107,MATCH($A20,'Pom. pořadí jednotlivci'!$Q$7:$Q$107,0),1),\"\")","v":17},{"$f":"IF($A20<>\"\",INDEX('Seznam střelců'!$E$7:$E$107,MATCH($B20,'Seznam střelců'!$A$7:$A$107,0),1),\"\")","v":"Bělík Zdeněk"},{"$f":"IF($A20<>\"\",INDEX('Seznam střelců'!F$7:F$107,MATCH($B20,'Seznam střelců'!$A$7:$A$107,0),1),\"\")","v":0},{"$f":"IF($A20<>\"\",INDEX('Seznam střelců'!G$7:G$107,MATCH($B20,'Seznam střelců'!$A$7:$A$107,0),1),\"\")","v":0},{"$f":"IF($A20<>\"\",INDEX('Seznam střelců'!H$7:H$107,MATCH($B20,'Seznam střelců'!$A$7:$A$107,0),1),\"\")","v":0},{"$f":"IF($A20<>\"\",INDEX('Seznam střelců'!I$7:I$107,MATCH($B20,'Seznam střelců'!$A$7:$A$107,0),1),\"\")","v":0},{"$f":"IF($A20<>\"\",INDEX('Seznam střelců'!J$7:J$107,MATCH($B20,'Seznam střelců'!$A$7:$A$107,0),1),\"\")","v":0},{"$f":"IF($A20<>\"\",INDEX('Seznam střelců'!K$7:K$107,MATCH($B20,'Seznam střelců'!$A$7:$A$107,0),1),\"\")","v":0},{"$f":"IF($A20<>\"\",INDEX('Seznam střelců'!L$7:L$107,MATCH($B20,'Seznam střelců'!$A$7:$A$107,0),1),\"\")","v":0},{"$f":"IF($A20<>\"\",INDEX('Seznam střelců'!M$7:M$107,MATCH($B20,'Seznam střelců'!$A$7:$A$107,0),1),\"\")","v":18},{"$f":"IF($A20<>\"\",INDEX('Seznam střelců'!N$7:N$107,MATCH($B20,'Seznam střelců'!$A$7:$A$107,0),1),\"\")","v":14},{"$f":"IF($A20<>\"\",INDEX('Seznam střelců'!O$7:O$107,MATCH($B20,'Seznam střelců'!$A$7:$A$107,0),1),\"\")","v":16},48,{"$f":"IF($A20<>\"\",IF(0 = INDEX('Seznam střelců'!P$7:P$107,MATCH($B20,'Seznam střelců'!$A$7:$A$107,0),1),\"\",INDEX('Seznam střelců'!P$7:P$107,MATCH($B20,'Seznam střelců'!$A$7:$A$107,0),1)),\"\")","v":""},"",{"$f":"IF($A20<>\"\",IF(0 = INDEX('Seznam střelců'!Q$7:Q$107,MATCH($B20,'Seznam střelců'!$A$7:$A$107,0),1),\"\",INDEX('Seznam střelců'!Q$7:Q$107,MATCH($B20,'Seznam střelců'!$A$7:$A$107,0),1)),\"\")","v":1},{"$f":"IF($A20<>\"\",\n    IF(INDEX('Seznam střelců'!$C$7:$C$107,MATCH($B20,'Seznam střelců'!$A$7:$A$107,0),1) <> \"\",\n        \"Mimo soutěž\",\n        IF(AND($N20 > 0,OR(ISNA(MATCH($A20,'Seznam střelců'!$S$7:$S$107,0)),ISNA(MATCH($A21,'Seznam střelců'!$S$7:$S$107,0)))), \"Rozstřel\", \"\")\n    ),\"\")","v":""}]
[{"$f":"'Seznam střelců'!$A21","v":15},{"$f":"IF($A21<>\"\",INDEX('Seznam střelců'!$A$7:$A$107,MATCH($A21,'Pom. pořadí jednotlivci'!$Q$7:$Q$107,0),1),\"\")","v":26},{"$f":"IF($A21<>\"\",INDEX('Seznam střelců'!$E$7:$E$107,MATCH($B21,'Seznam střelců'!$A$7:$A$107,0),1),\"\")","v":"Holub Robert"},{"$f":"IF($A21<>\"\",INDEX('Seznam střelců'!F$7:F$107,MATCH($B21,'Seznam střelců'!$A$7:$A$107,0),1),\"\")","v":0},{"$f":"IF($A21<>\"\",INDEX('Seznam střelců'!G$7:G$107,MATCH($B21,'Seznam střelců'!$A$7:$A$107,0),1),\"\")","v":0},{"$f":"IF($A21<>\"\",INDEX('Seznam střelců'!H$7:H$107,MATCH($B21,'Seznam střelců'!$A$7:$A$107,0),1),\"\")","v":0},{"$f":"IF($A21<>\"\",INDEX('Seznam střelců'!I$7:I$107,MATCH($B21,'Seznam střelců'!$A$7:$A$107,0),1),\"\")","v":0},{"$f":"IF($A21<>\"\",INDEX('Seznam střelců'!J$7:J$107,MATCH($B21,'Seznam střelců'!$A$7:$A$107,0),1),\"\")","v":0},{"$f":"IF($A21<>\"\",INDEX('Seznam střelců'!K$7:K$107,MATCH($B21,'Seznam střelců'!$A$7:$A$107,0),1),\"\")","v":0},{"$f":"IF($A21<>\"\",INDEX('Seznam střelců'!L$7:L$107,MATCH($B21,'Seznam střelců'!$A$7:$A$107,0),1),\"\")","v":0},{"$f":"IF($A21<>\"\",INDEX('Seznam střelců'!M$7:M$107,MATCH($B21,'Seznam střelců'!$A$7:$A$107,0),1),\"\")","v":18},{"$f":"IF($A21<>\"\",INDEX('Seznam střelců'!N$7:N$107,MATCH($B21,'Seznam střelců'!$A$7:$A$107,0),1),\"\")","v":14},{"$f":"IF($A21<>\"\",INDEX('Seznam střelců'!O$7:O$107,MATCH($B21,'Seznam střelců'!$A$7:$A$107,0),1),\"\")","v":16},48,{"$f":"IF($A21<>\"\",IF(0 = INDEX('Seznam střelců'!P$7:P$107,MATCH($B21,'Seznam střelců'!$A$7:$A$107,0),1),\"\",INDEX('Seznam střelců'!P$7:P$107,MATCH($B21,'Seznam střelců'!$A$7:$A$107,0),1)),\"\")","v":""},"",{"$f":"IF($A21<>\"\",IF(0 = INDEX('Seznam střelců'!Q$7:Q$107,MATCH($B21,'Seznam střelců'!$A$7:$A$107,0),1),\"\",INDEX('Seznam střelců'!Q$7:Q$107,MATCH($B21,'Seznam střelců'!$A$7:$A$107,0),1)),\"\")","v":""},{"$f":"IF($A21<>\"\",\n    IF(INDEX('Seznam střelců'!$C$7:$C$107,MATCH($B21,'Seznam střelců'!$A$7:$A$107,0),1) <> \"\",\n        \"Mimo soutěž\",\n        IF(AND($N21 > 0,OR(ISNA(MATCH($A21,'Seznam střelců'!$S$7:$S$107,0)),ISNA(MATCH($A22,'Seznam střelců'!$S$7:$S$107,0)))), \"Rozstřel\", \"\")\n    ),\"\")","v":""}]
[{"$f":"'Seznam střelců'!$A22","v":16},{"$f":"IF($A22<>\"\",INDEX('Seznam střelců'!$A$7:$A$107,MATCH($A22,'Pom. pořadí jednotlivci'!$Q$7:$Q$107,0),1),\"\")","v":31},{"$f":"IF($A22<>\"\",INDEX('Seznam střelců'!$E$7:$E$107,MATCH($B22,'Seznam střelců'!$A$7:$A$107,0),1),\"\")","v":"Vrbas Josef"},{"$f":"IF($A22<>\"\",INDEX('Seznam střelců'!F$7:F$107,MATCH($B22,'Seznam střelců'!$A$7:$A$107,0),1),\"\")","v":0},{"$f":"IF($A22<>\"\",INDEX('Seznam střelců'!G$7:G$107,MATCH($B22,'Seznam střelců'!$A$7:$A$107,0),1),\"\")","v":0},{"$f":"IF($A22<>\"\",INDEX('Seznam střelců'!H$7:H$107,MATCH($B22,'Seznam střelců'!$A$7:$A$107,0),1),\"\")","v":0},{"$f":"IF($A22<>\"\",INDEX('Seznam střelců'!I$7:I$107,MATCH($B22,'Seznam střelců'!$A$7:$A$107,0),1),\"\")","v":0},{"$f":"IF($A22<>\"\",INDEX('Seznam střelců'!J$7:J$107,MATCH($B22,'Seznam střelců'!$A$7:$A$107,0),1),\"\")","v":0},{"$f":"IF($A22<>\"\",INDEX('Seznam střelců'!K$7:K$107,MATCH($B22,'Seznam střelců'!$A$7:$A$107,0),1),\"\")","v":0},{"$f":"IF($A22<>\"\",INDEX('Seznam střelců'!L$7:L$107,MATCH($B22,'Seznam střelců'!$A$7:$A$107,0),1),\"\")","v":0},{"$f":"IF($A22<>\"\",INDEX('Seznam střelců'!M$7:M$107,MATCH($B22,'Seznam střelců'!$A$7:$A$107,0),1),\"\")","v":18},{"$f":"IF($A22<>\"\",INDEX('Seznam střelců'!N$7:N$107,MATCH($B22,'Seznam střelců'!$A$7:$A$107,0),1),\"\")","v":15},{"$f":"IF($A22<>\"\",INDEX('Seznam střelců'!O$7:O$107,MATCH($B22,'Seznam střelců'!$A$7:$A$107,0),1),\"\")","v":15},48,{"$f":"IF($A22<>\"\",IF(0 = INDEX('Seznam střelců'!P$7:P$107,MATCH($B22,'Seznam střelců'!$A$7:$A$107,0),1),\"\",INDEX('Seznam střelců'!P$7:P$107,MATCH($B22,'Seznam střelců'!$A$7:$A$107,0),1)),\"\")","v":""},"",{"$f":"IF($A22<>\"\",IF(0 = INDEX('Seznam střelců'!Q$7:Q$107,MATCH($B22,'Seznam střelců'!$A$7:$A$107,0),1),\"\",INDEX('Seznam střelců'!Q$7:Q$107,MATCH($B22,'Seznam střelců'!$A$7:$A$107,0),1)),\"\")","v":1},{"$f":"IF($A22<>\"\",\n    IF(INDEX('Seznam střelců'!$C$7:$C$107,MATCH($B22,'Seznam střelců'!$A$7:$A$107,0),1) <> \"\",\n        \"Mimo soutěž\",\n        IF(AND($N22 > 0,OR(ISNA(MATCH($A22,'Seznam střelců'!$S$7:$S$107,0)),ISNA(MATCH($A23,'Seznam střelců'!$S$7:$S$107,0)))), \"Rozstřel\", \"\")\n    ),\"\")","v":""}]
[{"$f":"'Seznam střelců'!$A23","v":17},{"$f":"IF($A23<>\"\",INDEX('Seznam střelců'!$A$7:$A$107,MATCH($A23,'Pom. pořadí jednotlivci'!$Q$7:$Q$107,0),1),\"\")","v":23},{"$f":"IF($A23<>\"\",INDEX('Seznam střelců'!$E$7:$E$107,MATCH($B23,'Seznam střelců'!$A$7:$A$107,0),1),\"\")","v":"Sobotka Libor"},{"$f":"IF($A23<>\"\",INDEX('Seznam střelců'!F$7:F$107,MATCH($B23,'Seznam střelců'!$A$7:$A$107,0),1),\"\")","v":0},{"$f":"IF($A23<>\"\",INDEX('Seznam střelců'!G$7:G$107,MATCH($B23,'Seznam střelců'!$A$7:$A$107,0),1),\"\")","v":0},{"$f":"IF($A23<>\"\",INDEX('Seznam střelců'!H$7:H$107,MATCH($B23,'Seznam střelců'!$A$7:$A$107,0),1),\"\")","v":0},{"$f":"IF($A23<>\"\",INDEX('Seznam střelců'!I$7:I$107,MATCH($B23,'Seznam střelců'!$A$7:$A$107,0),1),\"\")","v":0},{"$f":"IF($A23<>\"\",INDEX('Seznam střelců'!J$7:J$107,MATCH($B23,'Seznam střelců'!$A$7:$A$107,0),1),\"\")","v":0},{"$f":"IF($A23<>\"\",INDEX('Seznam střelců'!K$7:K$107,MATCH($B23,'Seznam střelců'!$A$7:$A$107,0),1),\"\")","v":0},{"$f":"IF($A23<>\"\",INDEX('Seznam střelců'!L$7:L$107,MATCH($B23,'Seznam střelců'!$A$7:$A$107,0),1),\"\")","v":0},{"$f":"IF($A23<>\"\",INDEX('Seznam střelců'!M$7:M$107,MATCH($B23,'Seznam střelců'!$A$7:$A$107,0),1),\"\")","v":18},{"$f":"IF($A23<>\"\",INDEX('Seznam střelců'!N$7:N$107,MATCH($B23,'Seznam střelců'!$A$7:$A$107,0),1),\"\")","v":15},{"$f":"IF($A23<>\"\",INDEX('Seznam střelců'!O$7:O$107,MATCH($B23,'Seznam střelců'!$A$7:$A$107,0),1),\"\")","v":15},48,{"$f":"IF($A23<>\"\",IF(0 = INDEX('Seznam střelců'!P$7:P$107,MATCH($B23,'Seznam střelců'!$A$7:$A$107,0),1),\"\",INDEX('Seznam střelců'!P$7:P$107,MATCH($B23,'Seznam střelců'!$A$7:$A$107,0),1)),\"\")","v":""},"",{"$f":"IF($A23<>\"\",IF(0 = INDEX('Seznam střelců'!Q$7:Q$107,MATCH($B23,'Seznam střelců'!$A$7:$A$107,0),1),\"\",INDEX('Seznam střelců'!Q$7:Q$107,MATCH($B23,'Seznam střelců'!$A$7:$A$107,0),1)),\"\")","v":""},{"$f":"IF($A23<>\"\",\n    IF(INDEX('Seznam střelců'!$C$7:$C$107,MATCH($B23,'Seznam střelců'!$A$7:$A$107,0),1) <> \"\",\n        \"Mimo soutěž\",\n        IF(AND($N23 > 0,OR(ISNA(MATCH($A23,'Seznam střelců'!$S$7:$S$107,0)),ISNA(MATCH($A24,'Seznam střelců'!$S$7:$S$107,0)))), \"Rozstřel\", \"\")\n    ),\"\")","v":""}]
[{"$f":"'Seznam střelců'!$A24","v":18},{"$f":"IF($A24<>\"\",INDEX('Seznam střelců'!$A$7:$A$107,MATCH($A24,'Pom. pořadí jednotlivci'!$Q$7:$Q$107,0),1),\"\")","v":33},{"$f":"IF($A24<>\"\",INDEX('Seznam střelců'!$E$7:$E$107,MATCH($B24,'Seznam střelců'!$A$7:$A$107,0),1),\"\")","v":"Minář Jaroslav"},{"$f":"IF($A24<>\"\",INDEX('Seznam střelců'!F$7:F$107,MATCH($B24,'Seznam střelců'!$A$7:$A$107,0),1),\"\")","v":0},{"$f":"IF($A24<>\"\",INDEX('Seznam střelců'!G$7:G$107,MATCH($B24,'Seznam střelců'!$A$7:$A$107,0),1),\"\")","v":0},{"$f":"IF($A24<>\"\",INDEX('Seznam střelců'!H$7:H$107,MATCH($B24,'Seznam střelců'!$A$7:$A$107,0),1),\"\")","v":0},{"$f":"IF($A24<>\"\",INDEX('Seznam střelců'!I$7:I$107,MATCH($B24,'Seznam střelců'!$A$7:$A$107,0),1),\"\")","v":0},{"$f":"IF($A24<>\"\",INDEX('Seznam střelců'!J$7:J$107,MATCH($B24,'Seznam střelců'!$A$7:$A$107,0),1),\"\")","v":0},{"$f":"IF($A24<>\"\",INDEX('Seznam střelců'!K$7:K$107,MATCH($B24,'Seznam střelců'!$A$7:$A$107,0),1),\"\")","v":0},{"$f":"IF($A24<>\"\",INDEX('Seznam střelců'!L$7:L$107,MATCH($B24,'Seznam střelců'!$A$7:$A$107,0),1),\"\")","v":0},{"$f":"IF($A24<>\"\",INDEX('Seznam střelců'!M$7:M$107,MATCH($B24,'Seznam střelců'!$A$7:$A$107,0),1),\"\")","v":14},{"$f":"IF($A24<>\"\",INDEX('Seznam střelců'!N$7:N$107,MATCH($B24,'Seznam střelců'!$A$7:$A$107,0),1),\"\")","v":15},{"$f":"IF($A24<>\"\",INDEX('Seznam střelců'!O$7:O$107,MATCH($B24,'Seznam střelců'!$A$7:$A$107,0),1),\"\")","v":18},47,{"$f":"IF($A24<>\"\",IF(0 = INDEX('Seznam střelců'!P$7:P$107,MATCH($B24,'Seznam střelců'!$A$7:$A$107,0),1),\"\",INDEX('Seznam střelců'!P$7:P$107,MATCH($B24,'Seznam střelců'!$A$7:$A$107,0),1)),\"\")","v":""},"",{"$f":"IF($A24<>\"\",IF(0 = INDEX('Seznam střelců'!Q$7:Q$107,MATCH($B24,'Seznam střelců'!$A$7:$A$107,0),1),\"\",INDEX('Seznam střelců'!Q$7:Q$107,MATCH($B24,'Seznam střelců'!$A$7:$A$107,0),1)),\"\")","v":""},{"$f":"IF($A24<>\"\",\n    IF(INDEX('Seznam střelců'!$C$7:$C$107,MATCH($B24,'Seznam střelců'!$A$7:$A$107,0),1) <> \"\",\n        \"Mimo soutěž\",\n        IF(AND($N24 > 0,OR(ISNA(MATCH($A24,'Seznam střelců'!$S$7:$S$107,0)),ISNA(MATCH($A25,'Seznam střelců'!$S$7:$S$107,0)))), \"Rozstřel\", \"\")\n    ),\"\")","v":""}]
[{"$f":"'Seznam střelců'!$A25","v":19},{"$f":"IF($A25<>\"\",INDEX('Seznam střelců'!$A$7:$A$107,MATCH($A25,'Pom. pořadí jednotlivci'!$Q$7:$Q$107,0),1),\"\")","v":28},{"$f":"IF($A25<>\"\",INDEX('Seznam střelců'!$E$7:$E$107,MATCH($B25,'Seznam střelců'!$A$7:$A$107,0),1),\"\")","v":"Brunclík Tomáš"},{"$f":"IF($A25<>\"\",INDEX('Seznam střelců'!F$7:F$107,MATCH($B25,'Seznam střelců'!$A$7:$A$107,0),1),\"\")","v":0},{"$f":"IF($A25<>\"\",INDEX('Seznam střelců'!G$7:G$107,MATCH($B25,'Seznam střelců'!$A$7:$A$107,0),1),\"\")","v":0},{"$f":"IF($A25<>\"\",INDEX('Seznam střelců'!H$7:H$107,MATCH($B25,'Seznam střelců'!$A$7:$A$107,0),1),\"\")","v":0},{"$f":"IF($A25<>\"\",INDEX('Seznam střelců'!I$7:I$107,MATCH($B25,'Seznam střelců'!$A$7:$A$107,0),1),\"\")","v":0},{"$f":"IF($A25<>\"\",INDEX('Seznam střelců'!J$7:J$107,MATCH($B25,'Seznam střelců'!$A$7:$A$107,0),1),\"\")","v":0},{"$f":"IF($A25<>\"\",INDEX('Seznam střelců'!K$7:K$107,MATCH($B25,'Seznam střelců'!$A$7:$A$107,0),1),\"\")","v":0},{"$f":"IF($A25<>\"\",INDEX('Seznam střelců'!L$7:L$107,MATCH($B25,'Seznam střelců'!$A$7:$A$107,0),1),\"\")","v":0},{"$f":"IF($A25<>\"\",INDEX('Seznam střelců'!M$7:M$107,MATCH($B25,'Seznam střelců'!$A$7:$A$107,0),1),\"\")","v":14},{"$f":"IF($A25<>\"\",INDEX('Seznam střelců'!N$7:N$107,MATCH($B25,'Seznam střelců'!$A$7:$A$107,0),1),\"\")","v":16},{"$f":"IF($A25<>\"\",INDEX('Seznam střelců'!O$7:O$107,MATCH($B25,'Seznam střelců'!$A$7:$A$107,0),1),\"\")","v":17},47,{"$f":"IF($A25<>\"\",IF(0 = INDEX('Seznam střelců'!P$7:P$107,MATCH($B25,'Seznam střelců'!$A$7:$A$107,0),1),\"\",INDEX('Seznam střelců'!P$7:P$107,MATCH($B25,'Seznam střelců'!$A$7:$A$107,0),1)),\"\")","v":""},"",{"$f":"IF($A25<>\"\",IF(0 = INDEX('Seznam střelců'!Q$7:Q$107,MATCH($B25,'Seznam střelců'!$A$7:$A$107,0),1),\"\",INDEX('Seznam střelců'!Q$7:Q$107,MATCH($B25,'Seznam střelců'!$A$7:$A$107,0),1)),\"\")","v":""},{"$f":"IF($A25<>\"\",\n    IF(INDEX('Seznam střelců'!$C$7:$C$107,MATCH($B25,'Seznam střelců'!$A$7:$A$107,0),1) <> \"\",\n        \"Mimo soutěž\",\n        IF(AND($N25 > 0,OR(ISNA(MATCH($A25,'Seznam střelců'!$S$7:$S$107,0)),ISNA(MATCH($A26,'Seznam střelců'!$S$7:$S$107,0)))), \"Rozstřel\", \"\")\n    ),\"\")","v":""}]
[{"$f":"'Seznam střelců'!$A26","v":20},{"$f":"IF($A26<>\"\",INDEX('Seznam střelců'!$A$7:$A$107,MATCH($A26,'Pom. pořadí jednotlivci'!$Q$7:$Q$107,0),1),\"\")","v":30},{"$f":"IF($A26<>\"\",INDEX('Seznam střelců'!$E$7:$E$107,MATCH($B26,'Seznam střelců'!$A$7:$A$107,0),1),\"\")","v":"Kašpar Jiří"},{"$f":"IF($A26<>\"\",INDEX('Seznam střelců'!F$7:F$107,MATCH($B26,'Seznam střelců'!$A$7:$A$107,0),1),\"\")","v":0},{"$f":"IF($A26<>\"\",INDEX('Seznam střelců'!G$7:G$107,MATCH($B26,'Seznam střelců'!$A$7:$A$107,0),1),\"\")","v":0},{"$f":"IF($A26<>\"\",INDEX('Seznam střelců'!H$7:H$107,MATCH($B26,'Seznam střelců'!$A$7:$A$107,0),1),\"\")","v":0},{"$f":"IF($A26<>\"\",INDEX('Seznam střelců'!I$7:I$107,MATCH($B26,'Seznam střelců'!$A$7:$A$107,0),1),\"\")","v":0},{"$f":"IF($A26<>\"\",INDEX('Seznam střelců'!J$7:J$107,MATCH($B26,'Seznam střelců'!$A$7:$A$107,0),1),\"\")","v":0},{"$f":"IF($A26<>\"\",INDEX('Seznam střelců'!K$7:K$107,MATCH($B26,'Seznam střelců'!$A$7:$A$107,0),1),\"\")","v":0},{"$f":"IF($A26<>\"\",INDEX('Seznam střelců'!L$7:L$107,MATCH($B26,'Seznam střelců'!$A$7:$A$107,0),1),\"\")","v":0},{"$f":"IF($A26<>\"\",INDEX('Seznam střelců'!M$7:M$107,MATCH($B26,'Seznam střelců'!$A$7:$A$107,0),1),\"\")","v":16},{"$f":"IF($A26<>\"\",INDEX('Seznam střelců'!N$7:N$107,MATCH($B26,'Seznam střelců'!$A$7:$A$107,0),1),\"\")","v":15},{"$f":"IF($A26<>\"\",INDEX('Seznam střelců'!O$7:O$107,MATCH($B26,'Seznam střelců'!$A$7:$A$107,0),1),\"\")","v":16},47,{"$f":"IF($A26<>\"\",IF(0 = INDEX('Seznam střelců'!P$7:P$107,MATCH($B26,'Seznam střelců'!$A$7:$A$107,0),1),\"\",INDEX('Seznam střelců'!P$7:P$107,MATCH($B26,'Seznam střelců'!$A$7:$A$107,0),1)),\"\")","v":""},"",{"$f":"IF($A26<>\"\",IF(0 = INDEX('Seznam střelců'!Q$7:Q$107,MATCH($B26,'Seznam střelců'!$A$7:$A$107,0),1),\"\",INDEX('Seznam střelců'!Q$7:Q$107,MATCH($B26,'Seznam střelců'!$A$7:$A$107,0),1)),\"\")","v":""},{"$f":"IF($A26<>\"\",\n    IF(INDEX('Seznam střelců'!$C$7:$C$107,MATCH($B26,'Seznam střelců'!$A$7:$A$107,0),1) <> \"\",\n        \"Mimo soutěž\",\n        IF(AND($N26 > 0,OR(ISNA(MATCH($A26,'Seznam střelců'!$S$7:$S$107,0)),ISNA(MATCH($A27,'Seznam střelců'!$S$7:$S$107,0)))), \"Rozstřel\", \"\")\n    ),\"\")","v":""}]
[{"$f":"'Seznam střelců'!$A27","v":21},{"$f":"IF($A27<>\"\",INDEX('Seznam střelců'!$A$7:$A$107,MATCH($A27,'Pom. pořadí jednotlivci'!$Q$7:$Q$107,0),1),\"\")","v":20},{"$f":"IF($A27<>\"\",INDEX('Seznam střelců'!$E$7:$E$107,MATCH($B27,'Seznam střelců'!$A$7:$A$107,0),1),\"\")","v":"Prchal Karel"},{"$f":"IF($A27<>\"\",INDEX('Seznam střelců'!F$7:F$107,MATCH($B27,'Seznam střelců'!$A$7:$A$107,0),1),\"\")","v":0},{"$f":"IF($A27<>\"\",INDEX('Seznam střelců'!G$7:G$107,MATCH($B27,'Seznam střelců'!$A$7:$A$107,0),1),\"\")","v":0},{"$f":"IF($A27<>\"\",INDEX('Seznam střelců'!H$7:H$107,MATCH($B27,'Seznam střelců'!$A$7:$A$107,0),1),\"\")","v":0},{"$f":"IF($A27<>\"\",INDEX('Seznam střelců'!I$7:I$107,MATCH($B27,'Seznam střelců'!$A$7:$A$107,0),1),\"\")","v":0},{"$f":"IF($A27<>\"\",INDEX('Seznam střelců'!J$7:J$107,MATCH($B27,'Seznam střelců'!$A$7:$A$107,0),1),\"\")","v":0},{"$f":"IF($A27<>\"\",INDEX('Seznam střelců'!K$7:K$107,MATCH($B27,'Seznam střelců'!$A$7:$A$107,0),1),\"\")","v":0},{"$f":"IF($A27<>\"\",INDEX('Seznam střelců'!L$7:L$107,MATCH($B27,'Seznam střelců'!$A$7:$A$107,0),1),\"\")","v":0},{"$f":"IF($A27<>\"\",INDEX('Seznam střelců'!M$7:M$107,MATCH($B27,'Seznam střelců'!$A$7:$A$107,0),1),\"\")","v":18},{"$f":"IF($A27<>\"\",INDEX('Seznam střelců'!N$7:N$107,MATCH($B27,'Seznam střelců'!$A$7:$A$107,0),1),\"\")","v":16},{"$f":"IF($A27<>\"\",INDEX('Seznam střelců'!O$7:O$107,MATCH($B27,'Seznam střelců'!$A$7:$A$107,0),1),\"\")","v":13},47,{"$f":"IF($A27<>\"\",IF(0 = INDEX('Seznam střelců'!P$7:P$107,MATCH($B27,'Seznam střelců'!$A$7:$A$107,0),1),\"\",INDEX('Seznam střelců'!P$7:P$107,MATCH($B27,'Seznam střelců'!$A$7:$A$107,0),1)),\"\")","v":""},"",{"$f":"IF($A27<>\"\",IF(0 = INDEX('Seznam střelců'!Q$7:Q$107,MATCH($B27,'Seznam střelců'!$A$7:$A$107,0),1),\"\",INDEX('Seznam střelců'!Q$7:Q$107,MATCH($B27,'Seznam střelců'!$A$7:$A$107,0),1)),\"\")","v":""},{"$f":"IF($A27<>\"\",\n    IF(INDEX('Seznam střelců'!$C$7:$C$107,MATCH($B27,'Seznam střelců'!$A$7:$A$107,0),1) <> \"\",\n        \"Mimo soutěž\",\n        IF(AND($N27 > 0,OR(ISNA(MATCH($A27,'Seznam střelců'!$S$7:$S$107,0)),ISNA(MATCH($A28,'Seznam střelců'!$S$7:$S$107,0)))), \"Rozstřel\", \"\")\n    ),\"\")","v":""}]
[{"$f":"'Seznam střelců'!$A28","v":22},{"$f":"IF($A28<>\"\",INDEX('Seznam střelců'!$A$7:$A$107,MATCH($A28,'Pom. pořadí jednotlivci'!$Q$7:$Q$107,0),1),\"\")","v":5},{"$f":"IF($A28<>\"\",INDEX('Seznam střelců'!$E$7:$E$107,MATCH($B28,'Seznam střelců'!$A$7:$A$107,0),1),\"\")","v":"Kachlík Petr"},{"$f":"IF($A28<>\"\",INDEX('Seznam střelců'!F$7:F$107,MATCH($B28,'Seznam střelců'!$A$7:$A$107,0),1),\"\")","v":0},{"$f":"IF($A28<>\"\",INDEX('Seznam střelců'!G$7:G$107,MATCH($B28,'Seznam střelců'!$A$7:$A$107,0),1),\"\")","v":0},{"$f":"IF($A28<>\"\",INDEX('Seznam střelců'!H$7:H$107,MATCH($B28,'Seznam střelců'!$A$7:$A$107,0),1),\"\")","v":0},{"$f":"IF($A28<>\"\",INDEX('Seznam střelců'!I$7:I$107,MATCH($B28,'Seznam střelců'!$A$7:$A$107,0),1),\"\")","v":0},{"$f":"IF($A28<>\"\",INDEX('Seznam střelců'!J$7:J$107,MATCH($B28,'Seznam střelců'!$A$7:$A$107,0),1),\"\")","v":0},{"$f":"IF($A28<>\"\",INDEX('Seznam střelců'!K$7:K$107,MATCH($B28,'Seznam střelců'!$A$7:$A$107,0),1),\"\")","v":0},{"$f":"IF($A28<>\"\",INDEX('Seznam střelců'!L$7:L$107,MATCH($B28,'Seznam střelců'!$A$7:$A$107,0),1),\"\")","v":0},{"$f":"IF($A28<>\"\",INDEX('Seznam střelců'!M$7:M$107,MATCH($B28,'Seznam střelců'!$A$7:$A$107,0),1),\"\")","v":12},{"$f":"IF($A28<>\"\",INDEX('Seznam střelců'!N$7:N$107,MATCH($B28,'Seznam střelců'!$A$7:$A$107,0),1),\"\")","v":17},{"$f":"IF($A28<>\"\",INDEX('Seznam střelců'!O$7:O$107,MATCH($B28,'Seznam střelců'!$A$7:$A$107,0),1),\"\")","v":17},46,{"$f":"IF($A28<>\"\",IF(0 = INDEX('Seznam střelců'!P$7:P$107,MATCH($B28,'Seznam střelců'!$A$7:$A$107,0),1),\"\",INDEX('Seznam střelců'!P$7:P$107,MATCH($B28,'Seznam střelců'!$A$7:$A$107,0),1)),\"\")","v":""},"",{"$f":"IF($A28<>\"\",IF(0 = INDEX('Seznam střelců'!Q$7:Q$107,MATCH($B28,'Seznam střelců'!$A$7:$A$107,0),1),\"\",INDEX('Seznam střelců'!Q$7:Q$107,MATCH($B28,'Seznam střelců'!$A$7:$A$107,0),1)),\"\")","v":""},{"$f":"IF($A28<>\"\",\n    IF(INDEX('Seznam střelců'!$C$7:$C$107,MATCH($B28,'Seznam střelců'!$A$7:$A$107,0),1) <> \"\",\n        \"Mimo soutěž\",\n        IF(AND($N28 > 0,OR(ISNA(MATCH($A28,'Seznam střelců'!$S$7:$S$107,0)),ISNA(MATCH($A29,'Seznam střelců'!$S$7:$S$107,0)))), \"Rozstřel\", \"\")\n    ),\"\")","v":""}]
[{"$f":"'Seznam střelců'!$A29","v":23},{"$f":"IF($A29<>\"\",INDEX('Seznam střelců'!$A$7:$A$107,MATCH($A29,'Pom. pořadí jednotlivci'!$Q$7:$Q$107,0),1),\"\")","v":8},{"$f":"IF($A29<>\"\",INDEX('Seznam střelců'!$E$7:$E$107,MATCH($B29,'Seznam střelců'!$A$7:$A$107,0),1),\"\")","v":"Lukeš Zdeněk"},{"$f":"IF($A29<>\"\",INDEX('Seznam střelců'!F$7:F$107,MATCH($B29,'Seznam střelců'!$A$7:$A$107,0),1),\"\")","v":0},{"$f":"IF($A29<>\"\",INDEX('Seznam střelců'!G$7:G$107,MATCH($B29,'Seznam střelců'!$A$7:$A$107,0),1),\"\")","v":0},{"$f":"IF($A29<>\"\",INDEX('Seznam střelců'!H$7:H$107,MATCH($B29,'Seznam střelců'!$A$7:$A$107,0),1),\"\")","v":0},{"$f":"IF($A29<>\"\",INDEX('Seznam střelců'!I$7:I$107,MATCH($B29,'Seznam střelců'!$A$7:$A$107,0),1),\"\")","v":0},{"$f":"IF($A29<>\"\",INDEX('Seznam střelců'!J$7:J$107,MATCH($B29,'Seznam střelců'!$A$7:$A$107,0),1),\"\")","v":0},{"$f":"IF($A29<>\"\",INDEX('Seznam střelců'!K$7:K$107,MATCH($B29,'Seznam střelců'!$A$7:$A$107,0),1),\"\")","v":0},{"$f":"IF($A29<>\"\",INDEX('Seznam střelců'!L$7:L$107,MATCH($B29,'Seznam střelců'!$A$7:$A$107,0),1),\"\")","v":0},{"$f":"IF($A29<>\"\",INDEX('Seznam střelců'!M$7:M$107,MATCH($B29,'Seznam střelců'!$A$7:$A$107,0),1),\"\")","v":16},{"$f":"IF($A29<>\"\",INDEX('Seznam střelců'!N$7:N$107,MATCH($B29,'Seznam střelců'!$A$7:$A$107,0),1),\"\")","v":16},{"$f":"IF($A29<>\"\",INDEX('Seznam střelců'!O$7:O$107,MATCH($B29,'Seznam střelců'!$A$7:$A$107,0),1),\"\")","v":14},46,{"$f":"IF($A29<>\"\",IF(0 = INDEX('Seznam střelců'!P$7:P$107,MATCH($B29,'Seznam střelců'!$A$7:$A$107,0),1),\"\",INDEX('Seznam střelců'!P$7:P$107,MATCH($B29,'Seznam střelců'!$A$7:$A$107,0),1)),\"\")","v":""},"",{"$f":"IF($A29<>\"\",IF(0 = INDEX('Seznam střelců'!Q$7:Q$107,MATCH($B29,'Seznam střelců'!$A$7:$A$107,0),1),\"\",INDEX('Seznam střelců'!Q$7:Q$107,MATCH($B29,'Seznam střelců'!$A$7:$A$107,0),1)),\"\")","v":""},{"$f":"IF($A29<>\"\",\n    IF(INDEX('Seznam střelců'!$C$7:$C$107,MATCH($B29,'Seznam střelců'!$A$7:$A$107,0),1) <> \"\",\n        \"Mimo soutěž\",\n        IF(AND($N29 > 0,OR(ISNA(MATCH($A29,'Seznam střelců'!$S$7:$S$107,0)),ISNA(MATCH($A30,'Seznam střelců'!$S$7:$S$107,0)))), \"Rozstřel\", \"\")\n    ),\"\")","v":""}]
[{"$f":"'Seznam střelců'!$A30","v":24},{"$f":"IF($A30<>\"\",INDEX('Seznam střelců'!$A$7:$A$107,MATCH($A30,'Pom. pořadí jednotlivci'!$Q$7:$Q$107,0),1),\"\")","v":32},{"$f":"IF($A30<>\"\",INDEX('Seznam střelců'!$E$7:$E$107,MATCH($B30,'Seznam střelců'!$A$7:$A$107,0),1),\"\")","v":"Šváb Antonín"},{"$f":"IF($A30<>\"\",INDEX('Seznam střelců'!F$7:F$107,MATCH($B30,'Seznam střelců'!$A$7:$A$107,0),1),\"\")","v":0},{"$f":"IF($A30<>\"\",INDEX('Seznam střelců'!G$7:G$107,MATCH($B30,'Seznam střelců'!$A$7:$A$107,0),1),\"\")","v":0},{"$f":"IF($A30<>\"\",INDEX('Seznam střelců'!H$7:H$107,MATCH($B30,'Seznam střelců'!$A$7:$A$107,0),1),\"\")","v":0},{"$f":"IF($A30<>\"\",INDEX('Seznam střelců'!I$7:I$107,MATCH($B30,'Seznam střelců'!$A$7:$A$107,0),1),\"\")","v":0},{"$f":"IF($A30<>\"\",INDEX('Seznam střelců'!J$7:J$107,MATCH($B30,'Seznam střelců'!$A$7:$A$107,0),1),\"\")","v":0},{"$f":"IF($A30<>\"\",INDEX('Seznam střelců'!K$7:K$107,MATCH($B30,'Seznam střelců'!$A$7:$A$107,0),1),\"\")","v":0},{"$f":"IF($A30<>\"\",INDEX('Seznam střelců'!L$7:L$107,MATCH($B30,'Seznam střelců'!$A$7:$A$107,0),1),\"\")","v":0},{"$f":"IF($A30<>\"\",INDEX('Seznam střelců'!M$7:M$107,MATCH($B30,'Seznam střelců'!$A$7:$A$107,0),1),\"\")","v":13},{"$f":"IF($A30<>\"\",INDEX('Seznam střelců'!N$7:N$107,MATCH($B30,'Seznam střelců'!$A$7:$A$107,0),1),\"\")","v":16},{"$f":"IF($A30<>\"\",INDEX('Seznam střelců'!O$7:O$107,MATCH($B30,'Seznam střelců'!$A$7:$A$107,0),1),\"\")","v":16},45,{"$f":"IF($A30<>\"\",IF(0 = INDEX('Seznam střelců'!P$7:P$107,MATCH($B30,'Seznam střelců'!$A$7:$A$107,0),1),\"\",INDEX('Seznam střelců'!P$7:P$107,MATCH($B30,'Seznam střelců'!$A$7:$A$107,0),1)),\"\")","v":""},"",{"$f":"IF($A30<>\"\",IF(0 = INDEX('Seznam střelců'!Q$7:Q$107,MATCH($B30,'Seznam střelců'!$A$7:$A$107,0),1),\"\",INDEX('Seznam střelců'!Q$7:Q$107,MATCH($B30,'Seznam střelců'!$A$7:$A$107,0),1)),\"\")","v":""},{"$f":"IF($A30<>\"\",\n    IF(INDEX('Seznam střelců'!$C$7:$C$107,MATCH($B30,'Seznam střelců'!$A$7:$A$107,0),1) <> \"\",\n        \"Mimo soutěž\",\n        IF(AND($N30 > 0,OR(ISNA(MATCH($A30,'Seznam střelců'!$S$7:$S$107,0)),ISNA(MATCH($A31,'Seznam střelců'!$S$7:$S$107,0)))), \"Rozstřel\", \"\")\n    ),\"\")","v":""}]
[{"$f":"'Seznam střelců'!$A31","v":25},{"$f":"IF($A31<>\"\",INDEX('Seznam střelců'!$A$7:$A$107,MATCH($A31,'Pom. pořadí jednotlivci'!$Q$7:$Q$107,0),1),\"\")","v":10},{"$f":"IF($A31<>\"\",INDEX('Seznam střelců'!$E$7:$E$107,MATCH($B31,'Seznam střelců'!$A$7:$A$107,0),1),\"\")","v":"Juračka Luděk"},{"$f":"IF($A31<>\"\",INDEX('Seznam střelců'!F$7:F$107,MATCH($B31,'Seznam střelců'!$A$7:$A$107,0),1),\"\")","v":0},{"$f":"IF($A31<>\"\",INDEX('Seznam střelců'!G$7:G$107,MATCH($B31,'Seznam střelců'!$A$7:$A$107,0),1),\"\")","v":0},{"$f":"IF($A31<>\"\",INDEX('Seznam střelců'!H$7:H$107,MATCH($B31,'Seznam střelců'!$A$7:$A$107,0),1),\"\")","v":0},{"$f":"IF($A31<>\"\",INDEX('Seznam střelců'!I$7:I$107,MATCH($B31,'Seznam střelců'!$A$7:$A$107,0),1),\"\")","v":0},{"$f":"IF($A31<>\"\",INDEX('Seznam střelců'!J$7:J$107,MATCH($B31,'Seznam střelců'!$A$7:$A$107,0),1),\"\")","v":0},{"$f":"IF($A31<>\"\",INDEX('Seznam střelců'!K$7:K$107,MATCH($B31,'Seznam střelců'!$A$7:$A$107,0),1),\"\")","v":0},{"$f":"IF($A31<>\"\",INDEX('Seznam střelců'!L$7:L$107,MATCH($B31,'Seznam střelců'!$A$7:$A$107,0),1),\"\")","v":0},{"$f":"IF($A31<>\"\",INDEX('Seznam střelců'!M$7:M$107,MATCH($B31,'Seznam střelců'!$A$7:$A$107,0),1),\"\")","v":16},{"$f":"IF($A31<>\"\",INDEX('Seznam střelců'!N$7:N$107,MATCH($B31,'Seznam střelců'!$A$7:$A$107,0),1),\"\")","v":14},{"$f":"IF($A31<>\"\",INDEX('Seznam střelců'!O$7:O$107,MATCH($B31,'Seznam střelců'!$A$7:$A$107,0),1),\"\")","v":14},44,{"$f":"IF($A31<>\"\",IF(0 = INDEX('Seznam střelců'!P$7:P$107,MATCH($B31,'Seznam střelců'!$A$7:$A$107,0),1),\"\",INDEX('Seznam střelců'!P$7:P$107,MATCH($B31,'Seznam střelců'!$A$7:$A$107,0),1)),\"\")","v":""},"",{"$f":"IF($A31<>\"\",IF(0 = INDEX('Seznam střelců'!Q$7:Q$107,MATCH($B31,'Seznam střelců'!$A$7:$A$107,0),1),\"\",INDEX('Seznam střelců'!Q$7:Q$107,MATCH($B31,'Seznam střelců'!$A$7:$A$107,0),1)),\"\")","v":""},{"$f":"IF($A31<>\"\",\n    IF(INDEX('Seznam střelců'!$C$7:$C$107,MATCH($B31,'Seznam střelců'!$A$7:$A$107,0),1) <> \"\",\n        \"Mimo soutěž\",\n        IF(AND($N31 > 0,OR(ISNA(MATCH($A31,'Seznam střelců'!$S$7:$S$107,0)),ISNA(MATCH($A32,'Seznam střelců'!$S$7:$S$107,0)))), \"Rozstřel\", \"\")\n    ),\"\")","v":""}]
[{"$f":"'Seznam střelců'!$A32","v":26},{"$f":"IF($A32<>\"\",INDEX('Seznam střelců'!$A$7:$A$107,MATCH($A32,'Pom. pořadí jednotlivci'!$Q$7:$Q$107,0),1),\"\")","v":15},{"$f":"IF($A32<>\"\",INDEX('Seznam střelců'!$E$7:$E$107,MATCH($B32,'Seznam střelců'!$A$7:$A$107,0),1),\"\")","v":"Hrbek Václav"},{"$f":"IF($A32<>\"\",INDEX('Seznam střelců'!F$7:F$107,MATCH($B32,'Seznam střelců'!$A$7:$A$107,0),1),\"\")","v":0},{"$f":"IF($A32<>\"\",INDEX('Seznam střelců'!G$7:G$107,MATCH($B32,'Seznam střelců'!$A$7:$A$107,0),1),\"\")","v":0},{"$f":"IF($A32<>\"\",INDEX('Seznam střelců'!H$7:H$107,MATCH($B32,'Seznam střelců'!$A$7:$A$107,0),1),\"\")","v":0},{"$f":"IF($A32<>\"\",INDEX('Seznam střelců'!I$7:I$107,MATCH($B32,'Seznam střelců'!$A$7:$A$107,0),1),\"\")","v":0},{"$f":"IF($A32<>\"\",INDEX('Seznam střelců'!J$7:J$107,MATCH($B32,'Seznam střelců'!$A$7:$A$107,0),1),\"\")","v":0},{"$f":"IF($A32<>\"\",INDEX('Seznam střelců'!K$7:K$107,MATCH($B32,'Seznam střelců'!$A$7:$A$107,0),1),\"\")","v":0},{"$f":"IF($A32<>\"\",INDEX('Seznam střelců'!L$7:L$107,MATCH($B32,'Seznam střelců'!$A$7:$A$107,0),1),\"\")","v":0},{"$f":"IF($A32<>\"\",INDEX('Seznam střelců'!M$7:M$107,MATCH($B32,'Seznam střelců'!$A$7:$A$107,0),1),\"\")","v":11},{"$f":"IF($A32<>\"\",INDEX('Seznam střelců'!N$7:N$107,MATCH($B32,'Seznam střelců'!$A$7:$A$107,0),1),\"\")","v":14},{"$f":"IF($A32<>\"\",INDEX('Seznam střelců'!O$7:O$107,MATCH($B32,'Seznam střelců'!$A$7:$A$107,0),1),\"\")","v":18},43,{"$f":"IF($A32<>\"\",IF(0 = INDEX('Seznam střelců'!P$7:P$107,MATCH($B32,'Seznam střelců'!$A$7:$A$107,0),1),\"\",INDEX('Seznam střelců'!P$7:P$107,MATCH($B32,'Seznam střelců'!$A$7:$A$107,0),1)),\"\")","v":""},"",{"$f":"IF($A32<>\"\",IF(0 = INDEX('Seznam střelců'!Q$7:Q$107,MATCH($B32,'Seznam střelců'!$A$7:$A$107,0),1),\"\",INDEX('Seznam střelců'!Q$7:Q$107,MATCH($B32,'Seznam střelců'!$A$7:$A$107,0),1)),\"\")","v":""},{"$f":"IF($A32<>\"\",\n    IF(INDEX('Seznam střelců'!$C$7:$C$107,MATCH($B32,'Seznam střelců'!$A$7:$A$107,0),1) <> \"\",\n        \"Mimo soutěž\",\n        IF(AND($N32 > 0,OR(ISNA(MATCH($A32,'Seznam střelců'!$S$7:$S$107,0)),ISNA(MATCH($A33,'Seznam střelců'!$S$7:$S$107,0)))), \"Rozstřel\", \"\")\n    ),\"\")","v":""}]
[{"$f":"'Seznam střelců'!$A33","v":27},{"$f":"IF($A33<>\"\",INDEX('Seznam střelců'!$A$7:$A$107,MATCH($A33,'Pom. pořadí jednotlivci'!$Q$7:$Q$107,0),1),\"\")","v":27},{"$f":"IF($A33<>\"\",INDEX('Seznam střelců'!$E$7:$E$107,MATCH($B33,'Seznam střelců'!$A$7:$A$107,0),1),\"\")","v":"Holub Petr"},{"$f":"IF($A33<>\"\",INDEX('Seznam střelců'!F$7:F$107,MATCH($B33,'Seznam střelců'!$A$7:$A$107,0),1),\"\")","v":0},{"$f":"IF($A33<>\"\",INDEX('Seznam střelců'!G$7:G$107,MATCH($B33,'Seznam střelců'!$A$7:$A$107,0),1),\"\")","v":0},{"$f":"IF($A33<>\"\",INDEX('Seznam střelců'!H$7:H$107,MATCH($B33,'Seznam střelců'!$A$7:$A$107,0),1),\"\")","v":0},{"$f":"IF($A33<>\"\",INDEX('Seznam střelců'!I$7:I$107,MATCH($B33,'Seznam střelců'!$A$7:$A$107,0),1),\"\")","v":0},{"$f":"IF($A33<>\"\",INDEX('Seznam střelců'!J$7:J$107,MATCH($B33,'Seznam střelců'!$A$7:$A$107,0),1),\"\")","v":0},{"$f":"IF($A33<>\"\",INDEX('Seznam střelců'!K$7:K$107,MATCH($B33,'Seznam střelců'!$A$7:$A$107,0),1),\"\")","v":0},{"$f":"IF($A33<>\"\",INDEX('Seznam střelců'!L$7:L$107,MATCH($B33,'Seznam střelců'!$A$7:$A$107,0),1),\"\")","v":0},{"$f":"IF($A33<>\"\",INDEX('Seznam střelců'!M$7:M$107,MATCH($B33,'Seznam střelců'!$A$7:$A$107,0),1),\"\")","v":14},{"$f":"IF($A33<>\"\",INDEX('Seznam střelců'!N$7:N$107,MATCH($B33,'Seznam střelců'!$A$7:$A$107,0),1),\"\")","v":13},{"$f":"IF($A33<>\"\",INDEX('Seznam střelců'!O$7:O$107,MATCH($B33,'Seznam střelců'!$A$7:$A$107,0),1),\"\")","v":15},42,{"$f":"IF($A33<>\"\",IF(0 = INDEX('Seznam střelců'!P$7:P$107,MATCH($B33,'Seznam střelců'!$A$7:$A$107,0),1),\"\",INDEX('Seznam střelců'!P$7:P$107,MATCH($B33,'Seznam střelců'!$A$7:$A$107,0),1)),\"\")","v":""},"",{"$f":"IF($A33<>\"\",IF(0 = INDEX('Seznam střelců'!Q$7:Q$107,MATCH($B33,'Seznam střelců'!$A$7:$A$107,0),1),\"\",INDEX('Seznam střelců'!Q$7:Q$107,MATCH($B33,'Seznam střelců'!$A$7:$A$107,0),1)),\"\")","v":""},{"$f":"IF($A33<>\"\",\n    IF(INDEX('Seznam střelců'!$C$7:$C$107,MATCH($B33,'Seznam střelců'!$A$7:$A$107,0),1) <> \"\",\n        \"Mimo soutěž\",\n        IF(AND($N33 > 0,OR(ISNA(MATCH($A33,'Seznam střelců'!$S$7:$S$107,0)),ISNA(MATCH($A34,'Seznam střelců'!$S$7:$S$107,0)))), \"Rozstřel\", \"\")\n    ),\"\")","v":""}]
[{"$f":"'Seznam střelců'!$A34","v":28},{"$f":"IF($A34<>\"\",INDEX('Seznam střelců'!$A$7:$A$107,MATCH($A34,'Pom. pořadí jednotlivci'!$Q$7:$Q$107,0),1),\"\")","v":11},{"$f":"IF($A34<>\"\",INDEX('Seznam střelců'!$E$7:$E$107,MATCH($B34,'Seznam střelců'!$A$7:$A$107,0),1),\"\")","v":"Čupr Bohumil"},{"$f":"IF($A34<>\"\",INDEX('Seznam střelců'!F$7:F$107,MATCH($B34,'Seznam střelců'!$A$7:$A$107,0),1),\"\")","v":0},{"$f":"IF($A34<>\"\",INDEX('Seznam střelců'!G$7:G$107,MATCH($B34,'Seznam střelců'!$A$7:$A$107,0),1),\"\")","v":0},{"$f":"IF($A34<>\"\",INDEX('Seznam střelců'!H$7:H$107,MATCH($B34,'Seznam střelců'!$A$7:$A$107,0),1),\"\")","v":0},{"$f":"IF($A34<>\"\",INDEX('Seznam střelců'!I$7:I$107,MATCH($B34,'Seznam střelců'!$A$7:$A$107,0),1),\"\")","v":0},{"$f":"IF($A34<>\"\",INDEX('Seznam střelců'!J$7:J$107,MATCH($B34,'Seznam střelců'!$A$7:$A$107,0),1),\"\")","v":0},{"$f":"IF($A34<>\"\",INDEX('Seznam střelců'!K$7:K$107,MATCH($B34,'Seznam střelců'!$A$7:$A$107,0),1),\"\")","v":0},{"$f":"IF($A34<>\"\",INDEX('Seznam střelců'!L$7:L$107,MATCH($B34,'Seznam střelců'!$A$7:$A$107,0),1),\"\")","v":0},{"$f":"IF($A34<>\"\",INDEX('Seznam střelců'!M$7:M$107,MATCH($B34,'Seznam střelců'!$A$7:$A$107,0),1),\"\")","v":19},{"$f":"IF($A34<>\"\",INDEX('Seznam střelců'!N$7:N$107,MATCH($B34,'Seznam střelců'!$A$7:$A$107,0),1),\"\")","v":11},{"$f":"IF($A34<>\"\",INDEX('Seznam střelců'!O$7:O$107,MATCH($B34,'Seznam střelců'!$A$7:$A$107,0),1),\"\")","v":12},42,{"$f":"IF($A34<>\"\",IF(0 = INDEX('Seznam střelců'!P$7:P$107,MATCH($B34,'Seznam střelců'!$A$7:$A$107,0),1),\"\",INDEX('Seznam střelců'!P$7:P$107,MATCH($B34,'Seznam střelců'!$A$7:$A$107,0),1)),\"\")","v":""},"",{"$f":"IF($A34<>\"\",IF(0 = INDEX('Seznam střelců'!Q$7:Q$107,MATCH($B34,'Seznam střelců'!$A$7:$A$107,0),1),\"\",INDEX('Seznam střelců'!Q$7:Q$107,MATCH($B34,'Seznam střelců'!$A$7:$A$107,0),1)),\"\")","v":""},{"$f":"IF($A34<>\"\",\n    IF(INDEX('Seznam střelců'!$C$7:$C$107,MATCH($B34,'Seznam střelců'!$A$7:$A$107,0),1) <> \"\",\n        \"Mimo soutěž\",\n        IF(AND($N34 > 0,OR(ISNA(MATCH($A34,'Seznam střelců'!$S$7:$S$107,0)),ISNA(MATCH($A35,'Seznam střelců'!$S$7:$S$107,0)))), \"Rozstřel\", \"\")\n    ),\"\")","v":""}]
[{"$f":"'Seznam střelců'!$A35","v":29},{"$f":"IF($A35<>\"\",INDEX('Seznam střelců'!$A$7:$A$107,MATCH($A35,'Pom. pořadí jednotlivci'!$Q$7:$Q$107,0),1),\"\")","v":1},{"$f":"IF($A35<>\"\",INDEX('Seznam střelců'!$E$7:$E$107,MATCH($B35,'Seznam střelců'!$A$7:$A$107,0),1),\"\")","v":"Pešek Josef"},{"$f":"IF($A35<>\"\",INDEX('Seznam střelců'!F$7:F$107,MATCH($B35,'Seznam střelců'!$A$7:$A$107,0),1),\"\")","v":0},{"$f":"IF($A35<>\"\",INDEX('Seznam střelců'!G$7:G$107,MATCH($B35,'Seznam střelců'!$A$7:$A$107,0),1),\"\")","v":0},{"$f":"IF($A35<>\"\",INDEX('Seznam střelců'!H$7:H$107,MATCH($B35,'Seznam střelců'!$A$7:$A$107,0),1),\"\")","v":0},{"$f":"IF($A35<>\"\",INDEX('Seznam střelců'!I$7:I$107,MATCH($B35,'Seznam střelců'!$A$7:$A$107,0),1),\"\")","v":0},{"$f":"IF($A35<>\"\",INDEX('Seznam střelců'!J$7:J$107,MATCH($B35,'Seznam střelců'!$A$7:$A$107,0),1),\"\")","v":0},{"$f":"IF($A35<>\"\",INDEX('Seznam střelců'!K$7:K$107,MATCH($B35,'Seznam střelců'!$A$7:$A$107,0),1),\"\")","v":0},{"$f":"IF($A35<>\"\",INDEX('Seznam střelců'!L$7:L$107,MATCH($B35,'Seznam střelců'!$A$7:$A$107,0),1),\"\")","v":0},{"$f":"IF($A35<>\"\",INDEX('Seznam střelců'!M$7:M$107,MATCH($B35,'Seznam střelců'!$A$7:$A$107,0),1),\"\")","v":18},{"$f":"IF($A35<>\"\",INDEX('Seznam střelců'!N$7:N$107,MATCH($B35,'Seznam střelců'!$A$7:$A$107,0),1),\"\")","v":11},{"$f":"IF($A35<>\"\",INDEX('Seznam střelců'!O$7:O$107,MATCH($B35,'Seznam střelců'!$A$7:$A$107,0),1),\"\")","v":12},41,{"$f":"IF($A35<>\"\",IF(0 = INDEX('Seznam střelců'!P$7:P$107,MATCH($B35,'Seznam střelců'!$A$7:$A$107,0),1),\"\",INDEX('Seznam střelců'!P$7:P$107,MATCH($B35,'Seznam střelců'!$A$7:$A$107,0),1)),\"\")","v":""},"",{"$f":"IF($A35<>\"\",IF(0 = INDEX('Seznam střelců'!Q$7:Q$107,MATCH($B35,'Seznam střelců'!$A$7:$A$107,0),1),\"\",INDEX('Seznam střelců'!Q$7:Q$107,MATCH($B35,'Seznam střelců'!$A$7:$A$107,0),1)),\"\")","v":""},{"$f":"IF($A35<>\"\",\n    IF(INDEX('Seznam střelců'!$C$7:$C$107,MATCH($B35,'Seznam střelců'!$A$7:$A$107,0),1) <> \"\",\n        \"Mimo soutěž\",\n        IF(AND($N35 > 0,OR(ISNA(MATCH($A35,'Seznam střelců'!$S$7:$S$107,0)),ISNA(MATCH($A36,'Seznam střelců'!$S$7:$S$107,0)))), \"Rozstřel\", \"\")\n    ),\"\")","v":""}]
[{"$f":"'Seznam střelců'!$A36","v":30},{"$f":"IF($A36<>\"\",INDEX('Seznam střelců'!$A$7:$A$107,MATCH($A36,'Pom. pořadí jednotlivci'!$Q$7:$Q$107,0),1),\"\")","v":21},{"$f":"IF($A36<>\"\",INDEX('Seznam střelců'!$E$7:$E$107,MATCH($B36,'Seznam střelců'!$A$7:$A$107,0),1),\"\")","v":"Borek Miloslav"},{"$f":"IF($A36<>\"\",INDEX('Seznam střelců'!F$7:F$107,MATCH($B36,'Seznam střelců'!$A$7:$A$107,0),1),\"\")","v":0},{"$f":"IF($A36<>\"\",INDEX('Seznam střelců'!G$7:G$107,MATCH($B36,'Seznam střelců'!$A$7:$A$107,0),1),\"\")","v":0},{"$f":"IF($A36<>\"\",INDEX('Seznam střelců'!H$7:H$107,MATCH($B36,'Seznam střelců'!$A$7:$A$107,0),1),\"\")","v":0},{"$f":"IF($A36<>\"\",INDEX('Seznam střelců'!I$7:I$107,MATCH($B36,'Seznam střelců'!$A$7:$A$107,0),1),\"\")","v":0},{"$f":"IF($A36<>\"\",INDEX('Seznam střelců'!J$7:J$107,MATCH($B36,'Seznam střelců'!$A$7:$A$107,0),1),\"\")","v":0},{"$f":"IF($A36<>\"\",INDEX('Seznam střelců'!K$7:K$107,MATCH($B36,'Seznam střelců'!$A$7:$A$107,0),1),\"\")","v":0},{"$f":"IF($A36<>\"\",INDEX('Seznam střelců'!L$7:L$107,MATCH($B36,'Seznam střelců'!$A$7:$A$107,0),1),\"\")","v":0},{"$f":"IF($A36<>\"\",INDEX('Seznam střelců'!M$7:M$107,MATCH($B36,'Seznam střelců'!$A$7:$A$107,0),1),\"\")","v":13},{"$f":"IF($A36<>\"\",INDEX('Seznam střelců'!N$7:N$107,MATCH($B36,'Seznam střelců'!$A$7:$A$107,0),1),\"\")","v":10},{"$f":"IF($A36<>\"\",INDEX('Seznam střelců'!O$7:O$107,MATCH($B36,'Seznam střelců'!$A$7:$A$107,0),1),\"\")","v":13},36,{"$f":"IF($A36<>\"\",IF(0 = INDEX('Seznam střelců'!P$7:P$107,MATCH($B36,'Seznam střelců'!$A$7:$A$107,0),1),\"\",INDEX('Seznam střelců'!P$7:P$107,MATCH($B36,'Seznam střelců'!$A$7:$A$107,0),1)),\"\")","v":""},"",{"$f":"IF($A36<>\"\",IF(0 = INDEX('Seznam střelců'!Q$7:Q$107,MATCH($B36,'Seznam střelců'!$A$7:$A$107,0),1),\"\",INDEX('Seznam střelců'!Q$7:Q$107,MATCH($B36,'Seznam střelců'!$A$7:$A$107,0),1)),\"\")","v":""},{"$f":"IF($A36<>\"\",\n    IF(INDEX('Seznam střelců'!$C$7:$C$107,MATCH($B36,'Seznam střelců'!$A$7:$A$107,0),1) <> \"\",\n        \"Mimo soutěž\",\n        IF(AND($N36 > 0,OR(ISNA(MATCH($A36,'Seznam střelců'!$S$7:$S$107,0)),ISNA(MATCH($A37,'Seznam střelců'!$S$7:$S$107,0)))), \"Rozstřel\", \"\")\n    ),\"\")","v":""}]
[{"$f":"'Seznam střelců'!$A37","v":31},{"$f":"IF($A37<>\"\",INDEX('Seznam střelců'!$A$7:$A$107,MATCH($A37,'Pom. pořadí jednotlivci'!$Q$7:$Q$107,0),1),\"\")","v":24},{"$f":"IF($A37<>\"\",INDEX('Seznam střelců'!$E$7:$E$107,MATCH($B37,'Seznam střelců'!$A$7:$A$107,0),1),\"\")","v":"Hochman Miloš"},{"$f":"IF($A37<>\"\",INDEX('Seznam střelců'!F$7:F$107,MATCH($B37,'Seznam střelců'!$A$7:$A$107,0),1),\"\")","v":0},{"$f":"IF($A37<>\"\",INDEX('Seznam střelců'!G$7:G$107,MATCH($B37,'Seznam střelců'!$A$7:$A$107,0),1),\"\")","v":0},{"$f":"IF($A37<>\"\",INDEX('Seznam střelců'!H$7:H$107,MATCH($B37,'Seznam střelců'!$A$7:$A$107,0),1),\"\")","v":0},{"$f":"IF($A37<>\"\",INDEX('Seznam střelců'!I$7:I$107,MATCH($B37,'Seznam střelců'!$A$7:$A$107,0),1),\"\")","v":0},{"$f":"IF($A37<>\"\",INDEX('Seznam střelců'!J$7:J$107,MATCH($B37,'Seznam střelců'!$A$7:$A$107,0),1),\"\")","v":0},{"$f":"IF($A37<>\"\",INDEX('Seznam střelců'!K$7:K$107,MATCH($B37,'Seznam střelců'!$A$7:$A$107,0),1),\"\")","v":0},{"$f":"IF($A37<>\"\",INDEX('Seznam střelců'!L$7:L$107,MATCH($B37,'Seznam střelců'!$A$7:$A$107,0),1),\"\")","v":0},{"$f":"IF($A37<>\"\",INDEX('Seznam střelců'!M$7:M$107,MATCH($B37,'Seznam střelců'!$A$7:$A$107,0),1),\"\")","v":7},{"$f":"IF($A37<>\"\",INDEX('Seznam střelců'!N$7:N$107,MATCH($B37,'Seznam střelců'!$A$7:$A$107,0),1),\"\")","v":14},{"$f":"IF($A37<>\"\",INDEX('Seznam střelců'!O$7:O$107,MATCH($B37,'Seznam střelců'!$A$7:$A$107,0),1),\"\")","v":14},35,{"$f":"IF($A37<>\"\",IF(0 = INDEX('Seznam střelců'!P$7:P$107,MATCH($B37,'Seznam střelců'!$A$7:$A$107,0),1),\"\",INDEX('Seznam střelců'!P$7:P$107,MATCH($B37,'Seznam střelců'!$A$7:$A$107,0),1)),\"\")","v":""},"",{"$f":"IF($A37<>\"\",IF(0 = INDEX('Seznam střelců'!Q$7:Q$107,MATCH($B37,'Seznam střelců'!$A$7:$A$107,0),1),\"\",INDEX('Seznam střelců'!Q$7:Q$107,MATCH($B37,'Seznam střelců'!$A$7:$A$107,0),1)),\"\")","v":""},{"$f":"IF($A37<>\"\",\n    IF(INDEX('Seznam střelců'!$C$7:$C$107,MATCH($B37,'Seznam střelců'!$A$7:$A$107,0),1) <> \"\",\n        \"Mimo soutěž\",\n        IF(AND($N37 > 0,OR(ISNA(MATCH($A37,'Seznam střelců'!$S$7:$S$107,0)),ISNA(MATCH($A38,'Seznam střelců'!$S$7:$S$107,0)))), \"Rozstřel\", \"\")\n    ),\"\")","v":""}]
[{"$f":"'Seznam střelců'!$A38","v":32},{"$f":"IF($A38<>\"\",INDEX('Seznam střelců'!$A$7:$A$107,MATCH($A38,'Pom. pořadí jednotlivci'!$Q$7:$Q$107,0),1),\"\")","v":6},{"$f":"IF($A38<>\"\",INDEX('Seznam střelců'!$E$7:$E$107,MATCH($B38,'Seznam střelců'!$A$7:$A$107,0),1),\"\")","v":"Toufar Milan"},{"$f":"IF($A38<>\"\",INDEX('Seznam střelců'!F$7:F$107,MATCH($B38,'Seznam střelců'!$A$7:$A$107,0),1),\"\")","v":0},{"$f":"IF($A38<>\"\",INDEX('Seznam střelců'!G$7:G$107,MATCH($B38,'Seznam střelců'!$A$7:$A$107,0),1),\"\")","v":0},{"$f":"IF($A38<>\"\",INDEX('Seznam střelců'!H$7:H$107,MATCH($B38,'Seznam střelců'!$A$7:$A$107,0),1),\"\")","v":0},{"$f":"IF($A38<>\"\",INDEX('Seznam střelců'!I$7:I$107,MATCH($B38,'Seznam střelců'!$A$7:$A$107,0),1),\"\")","v":0},{"$f":"IF($A38<>\"\",INDEX('Seznam střelců'!J$7:J$107,MATCH($B38,'Seznam střelců'!$A$7:$A$107,0),1),\"\")","v":0},{"$f":"IF($A38<>\"\",INDEX('Seznam střelců'!K$7:K$107,MATCH($B38,'Seznam střelců'!$A$7:$A$107,0),1),\"\")","v":0},{"$f":"IF($A38<>\"\",INDEX('Seznam střelců'!L$7:L$107,MATCH($B38,'Seznam střelců'!$A$7:$A$107,0),1),\"\")","v":0},{"$f":"IF($A38<>\"\",INDEX('Seznam střelců'!M$7:M$107,MATCH($B38,'Seznam střelců'!$A$7:$A$107,0),1),\"\")","v":11},{"$f":"IF($A38<>\"\",INDEX('Seznam střelců'!N$7:N$107,MATCH($B38,'Seznam střelců'!$A$7:$A$107,0),1),\"\")","v":10},{"$f":"IF($A38<>\"\",INDEX('Seznam střelců'!O$7:O$107,MATCH($B38,'Seznam střelců'!$A$7:$A$107,0),1),\"\")","v":13},34,{"$f":"IF($A38<>\"\",IF(0 = INDEX('Seznam střelců'!P$7:P$107,MATCH($B38,'Seznam střelců'!$A$7:$A$107,0),1),\"\",INDEX('Seznam střelců'!P$7:P$107,MATCH($B38,'Seznam střelců'!$A$7:$A$107,0),1)),\"\")","v":""},"",{"$f":"IF($A38<>\"\",IF(0 = INDEX('Seznam střelců'!Q$7:Q$107,MATCH($B38,'Seznam střelců'!$A$7:$A$107,0),1),\"\",INDEX('Seznam střelců'!Q$7:Q$107,MATCH($B38,'Seznam střelců'!$A$7:$A$107,0),1)),\"\")","v":""},{"$f":"IF($A38<>\"\",\n    IF(INDEX('Seznam střelců'!$C$7:$C$107,MATCH($B38,'Seznam střelců'!$A$7:$A$107,0),1) <> \"\",\n        \"Mimo soutěž\",\n        IF(AND($N38 > 0,OR(ISNA(MATCH($A38,'Seznam střelců'!$S$7:$S$107,0)),ISNA(MATCH($A39,'Seznam střelců'!$S$7:$S$107,0)))), \"Rozstřel\", \"\")\n    ),\"\")","v":""}]
[{"$f":"'Seznam střelců'!$A39","v":33},{"$f":"IF($A39<>\"\",INDEX('Seznam střelců'!$A$7:$A$107,MATCH($A39,'Pom. pořadí jednotlivci'!$Q$7:$Q$107,0),1),\"\")","v":4},{"$f":"IF($A39<>\"\",INDEX('Seznam střelců'!$E$7:$E$107,MATCH($B39,'Seznam střelců'!$A$7:$A$107,0),1),\"\")","v":"Žák Svatopluk"},{"$f":"IF($A39<>\"\",INDEX('Seznam střelců'!F$7:F$107,MATCH($B39,'Seznam střelců'!$A$7:$A$107,0),1),\"\")","v":0},{"$f":"IF($A39<>\"\",INDEX('Seznam střelců'!G$7:G$107,MATCH($B39,'Seznam střelců'!$A$7:$A$107,0),1),\"\")","v":0},{"$f":"IF($A39<>\"\",INDEX('Seznam střelců'!H$7:H$107,MATCH($B39,'Seznam střelců'!$A$7:$A$107,0),1),\"\")","v":0},{"$f":"IF($A39<>\"\",INDEX('Seznam střelců'!I$7:I$107,MATCH($B39,'Seznam střelců'!$A$7:$A$107,0),1),\"\")","v":0},{"$f":"IF($A39<>\"\",INDEX('Seznam střelců'!J$7:J$107,MATCH($B39,'Seznam střelců'!$A$7:$A$107,0),1),\"\")","v":0},{"$f":"IF($A39<>\"\",INDEX('Seznam střelců'!K$7:K$107,MATCH($B39,'Seznam střelců'!$A$7:$A$107,0),1),\"\")","v":0},{"$f":"IF($A39<>\"\",INDEX('Seznam střelců'!L$7:L$107,MATCH($B39,'Seznam střelců'!$A$7:$A$107,0),1),\"\")","v":0},{"$f":"IF($A39<>\"\",INDEX('Seznam střelců'!M$7:M$107,MATCH($B39,'Seznam střelců'!$A$7:$A$107,0),1),\"\")","v":15},{"$f":"IF($A39<>\"\",INDEX('Seznam střelců'!N$7:N$107,MATCH($B39,'Seznam střelců'!$A$7:$A$107,0),1),\"\")","v":6},{"$f":"IF($A39<>\"\",INDEX('Seznam střelců'!O$7:O$107,MATCH($B39,'Seznam střelců'!$A$7:$A$107,0),1),\"\")","v":11},{"$f":"IF($A39<>\"\",SUM($D39:$M39),\"\")","v":32},{"$f":"IF($A39<>\"\",IF(0 = INDEX('Seznam střelců'!P$7:P$107,MATCH($B39,'Seznam střelců'!$A$7:$A$107,0),1),\"\",INDEX('Seznam střelců'!P$7:P$107,MATCH($B39,'Seznam střelců'!$A$7:$A$107,0),1)),\"\")","v":""},"",{"$f":"IF($A39<>\"\",IF(0 = INDEX('Seznam střelců'!Q$7:Q$107,MATCH($B39,'Seznam střelců'!$A$7:$A$107,0),1),\"\",INDEX('Seznam střelců'!Q$7:Q$107,MATCH($B39,'Seznam střelců'!$A$7:$A$107,0),1)),\"\")","v":""},{"$f":"IF($A39<>\"\",\n    IF(INDEX('Seznam střelců'!$C$7:$C$107,MATCH($B39,'Seznam střelců'!$A$7:$A$107,0),1) <> \"\",\n        \"Mimo soutěž\",\n        IF(AND($N39 > 0,OR(ISNA(MATCH($A39,'Seznam střelců'!$S$7:$S$107,0)),ISNA(MATCH($A40,'Seznam střelců'!$S$7:$S$107,0)))), \"Rozstřel\", \"\")\n    ),\"\")","v":""}]
[{"$f":"'Seznam střelců'!$A40","v":34},{"$f":"IF($A40<>\"\",INDEX('Seznam střelců'!$A$7:$A$107,MATCH($A40,'Pom. pořadí jednotlivci'!$Q$7:$Q$107,0),1),\"\")","v":18},{"$f":"IF($A40<>\"\",INDEX('Seznam střelců'!$E$7:$E$107,MATCH($B40,'Seznam střelců'!$A$7:$A$107,0),1),\"\")","v":"Kubín Ladislav"},{"$f":"IF($A40<>\"\",INDEX('Seznam střelců'!F$7:F$107,MATCH($B40,'Seznam střelců'!$A$7:$A$107,0),1),\"\")","v":0},{"$f":"IF($A40<>\"\",INDEX('Seznam střelců'!G$7:G$107,MATCH($B40,'Seznam střelců'!$A$7:$A$107,0),1),\"\")","v":0},{"$f":"IF($A40<>\"\",INDEX('Seznam střelců'!H$7:H$107,MATCH($B40,'Seznam střelců'!$A$7:$A$107,0),1),\"\")","v":0},{"$f":"IF($A40<>\"\",INDEX('Seznam střelců'!I$7:I$107,MATCH($B40,'Seznam střelců'!$A$7:$A$107,0),1),\"\")","v":0},{"$f":"IF($A40<>\"\",INDEX('Seznam střelců'!J$7:J$107,MATCH($B40,'Seznam střelců'!$A$7:$A$107,0),1),\"\")","v":0},{"$f":"IF($A40<>\"\",INDEX('Seznam střelců'!K$7:K$107,MATCH($B40,'Seznam střelců'!$A$7:$A$107,0),1),\"\")","v":0},{"$f":"IF($A40<>\"\",INDEX('Seznam střelců'!L$7:L$107,MATCH($B40,'Seznam střelců'!$A$7:$A$107,0),1),\"\")","v":0},{"$f":"IF($A40<>\"\",INDEX('Seznam střelců'!M$7:M$107,MATCH($B40,'Seznam střelců'!$A$7:$A$107,0),1),\"\")","v":15},{"$f":"IF($A40<>\"\",INDEX('Seznam střelců'!N$7:N$107,MATCH($B40,'Seznam střelců'!$A$7:$A$107,0),1),\"\")","v":9},{"$f":"IF($A40<>\"\",INDEX('Seznam střelců'!O$7:O$107,MATCH($B40,'Seznam střelců'!$A$7:$A$107,0),1),\"\")","v":5},29,{"$f":"IF($A40<>\"\",IF(0 = INDEX('Seznam střelců'!P$7:P$107,MATCH($B40,'Seznam střelců'!$A$7:$A$107,0),1),\"\",INDEX('Seznam střelců'!P$7:P$107,MATCH($B40,'Seznam střelců'!$A$7:$A$107,0),1)),\"\")","v":""},"",{"$f":"IF($A40<>\"\",IF(0 = INDEX('Seznam střelců'!Q$7:Q$107,MATCH($B40,'Seznam střelců'!$A$7:$A$107,0),1),\"\",INDEX('Seznam střelců'!Q$7:Q$107,MATCH($B40,'Seznam střelců'!$A$7:$A$107,0),1)),\"\")","v":""},{"$f":"IF($A40<>\"\",\n    IF(INDEX('Seznam střelců'!$C$7:$C$107,MATCH($B40,'Seznam střelců'!$A$7:$A$107,0),1) <> \"\",\n        \"Mimo soutěž\",\n        IF(AND($N40 > 0,OR(ISNA(MATCH($A40,'Seznam střelců'!$S$7:$S$107,0)),ISNA(MATCH($A41,'Seznam střelců'!$S$7:$S$107,0)))), \"Rozstřel\", \"\")\n    ),\"\")","v":""}]
[{"$f":"'Seznam střelců'!$A41","v":""},{"$f":"IF($A41<>\"\",INDEX('Seznam střelců'!$A$7:$A$107,MATCH($A41,'Pom. pořadí jednotlivci'!$Q$7:$Q$107,0),1),\"\")","v":""},{"$f":"IF($A41<>\"\",INDEX('Seznam střelců'!$E$7:$E$107,MATCH($B41,'Seznam střelců'!$A$7:$A$107,0),1),\"\")","v":""},{"$f":"IF($A41<>\"\",INDEX('Seznam střelců'!F$7:F$107,MATCH($B41,'Seznam střelců'!$A$7:$A$107,0),1),\"\")","v":""},{"$f":"IF($A41<>\"\",INDEX('Seznam střelců'!G$7:G$107,MATCH($B41,'Seznam střelců'!$A$7:$A$107,0),1),\"\")","v":""},{"$f":"IF($A41<>\"\",INDEX('Seznam střelců'!H$7:H$107,MATCH($B41,'Seznam střelců'!$A$7:$A$107,0),1),\"\")","v":""},{"$f":"IF($A41<>\"\",INDEX('Seznam střelců'!I$7:I$107,MATCH($B41,'Seznam střelců'!$A$7:$A$107,0),1),\"\")","v":""},{"$f":"IF($A41<>\"\",INDEX('Seznam střelců'!J$7:J$107,MATCH($B41,'Seznam střelců'!$A$7:$A$107,0),1),\"\")","v":""},{"$f":"IF($A41<>\"\",INDEX('Seznam střelců'!K$7:K$107,MATCH($B41,'Seznam střelců'!$A$7:$A$107,0),1),\"\")","v":""},{"$f":"IF($A41<>\"\",INDEX('Seznam střelců'!L$7:L$107,MATCH($B41,'Seznam střelců'!$A$7:$A$107,0),1),\"\")","v":""},{"$f":"IF($A41<>\"\",INDEX('Seznam střelců'!M$7:M$107,MATCH($B41,'Seznam střelců'!$A$7:$A$107,0),1),\"\")","v":""},{"$f":"IF($A41<>\"\",INDEX('Seznam střelců'!N$7:N$107,MATCH($B41,'Seznam střelců'!$A$7:$A$107,0),1),\"\")","v":""},{"$f":"IF($A41<>\"\",INDEX('Seznam střelců'!O$7:O$107,MATCH($B41,'Seznam střelců'!$A$7:$A$107,0),1),\"\")","v":""},"",{"$f":"IF($A41<>\"\",IF(0 = INDEX('Seznam střelců'!P$7:P$107,MATCH($B41,'Seznam střelců'!$A$7:$A$107,0),1),\"\",INDEX('Seznam střelců'!P$7:P$107,MATCH($B41,'Seznam střelců'!$A$7:$A$107,0),1)),\"\")","v":""},"",{"$f":"IF($A41<>\"\",IF(0 = INDEX('Seznam střelců'!Q$7:Q$107,MATCH($B41,'Seznam střelců'!$A$7:$A$107,0),1),\"\",INDEX('Seznam střelců'!Q$7:Q$107,MATCH($B41,'Seznam střelců'!$A$7:$A$107,0),1)),\"\")","v":""},{"$f":"IF($A41<>\"\",\n    IF(INDEX('Seznam střelců'!$C$7:$C$107,MATCH($B41,'Seznam střelců'!$A$7:$A$107,0),1) <> \"\",\n        \"Mimo soutěž\",\n        IF(AND($N41 > 0,OR(ISNA(MATCH($A41,'Seznam střelců'!$S$7:$S$107,0)),ISNA(MATCH($A42,'Seznam střelců'!$S$7:$S$107,0)))), \"Rozstřel\", \"\")\n    ),\"\")","v":""}]
[{"$f":"'Seznam střelců'!$A42","v":""},{"$f":"IF($A42<>\"\",INDEX('Seznam střelců'!$A$7:$A$107,MATCH($A42,'Pom. pořadí jednotlivci'!$Q$7:$Q$107,0),1),\"\")","v":""},{"$f":"IF($A42<>\"\",INDEX('Seznam střelců'!$E$7:$E$107,MATCH($B42,'Seznam střelců'!$A$7:$A$107,0),1),\"\")","v":""},{"$f":"IF($A42<>\"\",INDEX('Seznam střelců'!F$7:F$107,MATCH($B42,'Seznam střelců'!$A$7:$A$107,0),1),\"\")","v":""},{"$f":"IF($A42<>\"\",INDEX('Seznam střelců'!G$7:G$107,MATCH($B42,'Seznam střelců'!$A$7:$A$107,0),1),\"\")","v":""},{"$f":"IF($A42<>\"\",INDEX('Seznam střelců'!H$7:H$107,MATCH($B42,'Seznam střelců'!$A$7:$A$107,0),1),\"\")","v":""},{"$f":"IF($A42<>\"\",INDEX('Seznam střelců'!I$7:I$107,MATCH($B42,'Seznam střelců'!$A$7:$A$107,0),1),\"\")","v":""},{"$f":"IF($A42<>\"\",INDEX('Seznam střelců'!J$7:J$107,MATCH($B42,'Seznam střelců'!$A$7:$A$107,0),1),\"\")","v":""},{"$f":"IF($A42<>\"\",INDEX('Seznam střelců'!K$7:K$107,MATCH($B42,'Seznam střelců'!$A$7:$A$107,0),1),\"\")","v":""},{"$f":"IF($A42<>\"\",INDEX('Seznam střelců'!L$7:L$107,MATCH($B42,'Seznam střelců'!$A$7:$A$107,0),1),\"\")","v":""},{"$f":"IF($A42<>\"\",INDEX('Seznam střelců'!M$7:M$107,MATCH($B42,'Seznam střelců'!$A$7:$A$107,0),1),\"\")","v":""},{"$f":"IF($A42<>\"\",INDEX('Seznam střelců'!N$7:N$107,MATCH($B42,'Seznam střelců'!$A$7:$A$107,0),1),\"\")","v":""},{"$f":"IF($A42<>\"\",INDEX('Seznam střelců'!O$7:O$107,MATCH($B42,'Seznam střelců'!$A$7:$A$107,0),1),\"\")","v":""},"",{"$f":"IF($A42<>\"\",IF(0 = INDEX('Seznam střelců'!P$7:P$107,MATCH($B42,'Seznam střelců'!$A$7:$A$107,0),1),\"\",INDEX('Seznam střelců'!P$7:P$107,MATCH($B42,'Seznam střelců'!$A$7:$A$107,0),1)),\"\")","v":""},"",{"$f":"IF($A42<>\"\",IF(0 = INDEX('Seznam střelců'!Q$7:Q$107,MATCH($B42,'Seznam střelců'!$A$7:$A$107,0),1),\"\",INDEX('Seznam střelců'!Q$7:Q$107,MATCH($B42,'Seznam střelců'!$A$7:$A$107,0),1)),\"\")","v":""},{"$f":"IF($A42<>\"\",\n    IF(INDEX('Seznam střelců'!$C$7:$C$107,MATCH($B42,'Seznam střelců'!$A$7:$A$107,0),1) <> \"\",\n        \"Mimo soutěž\",\n        IF(AND($N42 > 0,OR(ISNA(MATCH($A42,'Seznam střelců'!$S$7:$S$107,0)),ISNA(MATCH($A43,'Seznam střelců'!$S$7:$S$107,0)))), \"Rozstřel\", \"\")\n    ),\"\")","v":""}]
[{"$f":"'Seznam střelců'!$A43","v":""},{"$f":"IF($A43<>\"\",INDEX('Seznam střelců'!$A$7:$A$107,MATCH($A43,'Pom. pořadí jednotlivci'!$Q$7:$Q$107,0),1),\"\")","v":""},{"$f":"IF($A43<>\"\",INDEX('Seznam střelců'!$E$7:$E$107,MATCH($B43,'Seznam střelců'!$A$7:$A$107,0),1),\"\")","v":""},{"$f":"IF($A43<>\"\",INDEX('Seznam střelců'!F$7:F$107,MATCH($B43,'Seznam střelců'!$A$7:$A$107,0),1),\"\")","v":""},{"$f":"IF($A43<>\"\",INDEX('Seznam střelců'!G$7:G$107,MATCH($B43,'Seznam střelců'!$A$7:$A$107,0),1),\"\")","v":""},{"$f":"IF($A43<>\"\",INDEX('Seznam střelců'!H$7:H$107,MATCH($B43,'Seznam střelců'!$A$7:$A$107,0),1),\"\")","v":""},{"$f":"IF($A43<>\"\",INDEX('Seznam střelců'!I$7:I$107,MATCH($B43,'Seznam střelců'!$A$7:$A$107,0),1),\"\")","v":""},{"$f":"IF($A43<>\"\",INDEX('Seznam střelců'!J$7:J$107,MATCH($B43,'Seznam střelců'!$A$7:$A$107,0),1),\"\")","v":""},{"$f":"IF($A43<>\"\",INDEX('Seznam střelců'!K$7:K$107,MATCH($B43,'Seznam střelců'!$A$7:$A$107,0),1),\"\")","v":""},{"$f":"IF($A43<>\"\",INDEX('Seznam střelců'!L$7:L$107,MATCH($B43,'Seznam střelců'!$A$7:$A$107,0),1),\"\")","v":""},{"$f":"IF($A43<>\"\",INDEX('Seznam střelců'!M$7:M$107,MATCH($B43,'Seznam střelců'!$A$7:$A$107,0),1),\"\")","v":""},{"$f":"IF($A43<>\"\",INDEX('Seznam střelců'!N$7:N$107,MATCH($B43,'Seznam střelců'!$A$7:$A$107,0),1),\"\")","v":""},{"$f":"IF($A43<>\"\",INDEX('Seznam střelců'!O$7:O$107,MATCH($B43,'Seznam střelců'!$A$7:$A$107,0),1),\"\")","v":""},"",{"$f":"IF($A43<>\"\",IF(0 = INDEX('Seznam střelců'!P$7:P$107,MATCH($B43,'Seznam střelců'!$A$7:$A$107,0),1),\"\",INDEX('Seznam střelců'!P$7:P$107,MATCH($B43,'Seznam střelců'!$A$7:$A$107,0),1)),\"\")","v":""},"",{"$f":"IF($A43<>\"\",IF(0 = INDEX('Seznam střelců'!Q$7:Q$107,MATCH($B43,'Seznam střelců'!$A$7:$A$107,0),1),\"\",INDEX('Seznam střelců'!Q$7:Q$107,MATCH($B43,'Seznam střelců'!$A$7:$A$107,0),1)),\"\")","v":""},{"$f":"IF($A43<>\"\",\n    IF(INDEX('Seznam střelců'!$C$7:$C$107,MATCH($B43,'Seznam střelců'!$A$7:$A$107,0),1) <> \"\",\n        \"Mimo soutěž\",\n        IF(AND($N43 > 0,OR(ISNA(MATCH($A43,'Seznam střelců'!$S$7:$S$107,0)),ISNA(MATCH($A44,'Seznam střelců'!$S$7:$S$107,0)))), \"Rozstřel\", \"\")\n    ),\"\")","v":""}]
[{"$f":"'Seznam střelců'!$A44","v":""},{"$f":"IF($A44<>\"\",INDEX('Seznam střelců'!$A$7:$A$107,MATCH($A44,'Pom. pořadí jednotlivci'!$Q$7:$Q$107,0),1),\"\")","v":""},{"$f":"IF($A44<>\"\",INDEX('Seznam střelců'!$E$7:$E$107,MATCH($B44,'Seznam střelců'!$A$7:$A$107,0),1),\"\")","v":""},{"$f":"IF($A44<>\"\",INDEX('Seznam střelců'!F$7:F$107,MATCH($B44,'Seznam střelců'!$A$7:$A$107,0),1),\"\")","v":""},{"$f":"IF($A44<>\"\",INDEX('Seznam střelců'!G$7:G$107,MATCH($B44,'Seznam střelců'!$A$7:$A$107,0),1),\"\")","v":""},{"$f":"IF($A44<>\"\",INDEX('Seznam střelců'!H$7:H$107,MATCH($B44,'Seznam střelců'!$A$7:$A$107,0),1),\"\")","v":""},{"$f":"IF($A44<>\"\",INDEX('Seznam střelců'!I$7:I$107,MATCH($B44,'Seznam střelců'!$A$7:$A$107,0),1),\"\")","v":""},{"$f":"IF($A44<>\"\",INDEX('Seznam střelců'!J$7:J$107,MATCH($B44,'Seznam střelců'!$A$7:$A$107,0),1),\"\")","v":""},{"$f":"IF($A44<>\"\",INDEX('Seznam střelců'!K$7:K$107,MATCH($B44,'Seznam střelců'!$A$7:$A$107,0),1),\"\")","v":""},{"$f":"IF($A44<>\"\",INDEX('Seznam střelců'!L$7:L$107,MATCH($B44,'Seznam střelců'!$A$7:$A$107,0),1),\"\")","v":""},{"$f":"IF($A44<>\"\",INDEX('Seznam střelců'!M$7:M$107,MATCH($B44,'Seznam střelců'!$A$7:$A$107,0),1),\"\")","v":""},{"$f":"IF($A44<>\"\",INDEX('Seznam střelců'!N$7:N$107,MATCH($B44,'Seznam střelců'!$A$7:$A$107,0),1),\"\")","v":""},{"$f":"IF($A44<>\"\",INDEX('Seznam střelců'!O$7:O$107,MATCH($B44,'Seznam střelců'!$A$7:$A$107,0),1),\"\")","v":""},"",{"$f":"IF($A44<>\"\",IF(0 = INDEX('Seznam střelců'!P$7:P$107,MATCH($B44,'Seznam střelců'!$A$7:$A$107,0),1),\"\",INDEX('Seznam střelců'!P$7:P$107,MATCH($B44,'Seznam střelců'!$A$7:$A$107,0),1)),\"\")","v":""},"",{"$f":"IF($A44<>\"\",IF(0 = INDEX('Seznam střelců'!Q$7:Q$107,MATCH($B44,'Seznam střelců'!$A$7:$A$107,0),1),\"\",INDEX('Seznam střelců'!Q$7:Q$107,MATCH($B44,'Seznam střelců'!$A$7:$A$107,0),1)),\"\")","v":""},{"$f":"IF($A44<>\"\",\n    IF(INDEX('Seznam střelců'!$C$7:$C$107,MATCH($B44,'Seznam střelců'!$A$7:$A$107,0),1) <> \"\",\n        \"Mimo soutěž\",\n        IF(AND($N44 > 0,OR(ISNA(MATCH($A44,'Seznam střelců'!$S$7:$S$107,0)),ISNA(MATCH($A45,'Seznam střelců'!$S$7:$S$107,0)))), \"Rozstřel\", \"\")\n    ),\"\")","v":""}]
[{"$f":"'Seznam střelců'!$A45","v":""},{"$f":"IF($A45<>\"\",INDEX('Seznam střelců'!$A$7:$A$107,MATCH($A45,'Pom. pořadí jednotlivci'!$Q$7:$Q$107,0),1),\"\")","v":""},{"$f":"IF($A45<>\"\",INDEX('Seznam střelců'!$E$7:$E$107,MATCH($B45,'Seznam střelců'!$A$7:$A$107,0),1),\"\")","v":""},{"$f":"IF($A45<>\"\",INDEX('Seznam střelců'!F$7:F$107,MATCH($B45,'Seznam střelců'!$A$7:$A$107,0),1),\"\")","v":""},{"$f":"IF($A45<>\"\",INDEX('Seznam střelců'!G$7:G$107,MATCH($B45,'Seznam střelců'!$A$7:$A$107,0),1),\"\")","v":""},{"$f":"IF($A45<>\"\",INDEX('Seznam střelců'!H$7:H$107,MATCH($B45,'Seznam střelců'!$A$7:$A$107,0),1),\"\")","v":""},{"$f":"IF($A45<>\"\",INDEX('Seznam střelců'!I$7:I$107,MATCH($B45,'Seznam střelců'!$A$7:$A$107,0),1),\"\")","v":""},{"$f":"IF($A45<>\"\",INDEX('Seznam střelců'!J$7:J$107,MATCH($B45,'Seznam střelců'!$A$7:$A$107,0),1),\"\")","v":""},{"$f":"IF($A45<>\"\",INDEX('Seznam střelců'!K$7:K$107,MATCH($B45,'Seznam střelců'!$A$7:$A$107,0),1),\"\")","v":""},{"$f":"IF($A45<>\"\",INDEX('Seznam střelců'!L$7:L$107,MATCH($B45,'Seznam střelců'!$A$7:$A$107,0),1),\"\")","v":""},{"$f":"IF($A45<>\"\",INDEX('Seznam střelců'!M$7:M$107,MATCH($B45,'Seznam střelců'!$A$7:$A$107,0),1),\"\")","v":""},{"$f":"IF($A45<>\"\",INDEX('Seznam střelců'!N$7:N$107,MATCH($B45,'Seznam střelců'!$A$7:$A$107,0),1),\"\")","v":""},{"$f":"IF($A45<>\"\",INDEX('Seznam střelců'!O$7:O$107,MATCH($B45,'Seznam střelců'!$A$7:$A$107,0),1),\"\")","v":""},"",{"$f":"IF($A45<>\"\",IF(0 = INDEX('Seznam střelců'!P$7:P$107,MATCH($B45,'Seznam střelců'!$A$7:$A$107,0),1),\"\",INDEX('Seznam střelců'!P$7:P$107,MATCH($B45,'Seznam střelců'!$A$7:$A$107,0),1)),\"\")","v":""},"",{"$f":"IF($A45<>\"\",IF(0 = INDEX('Seznam střelců'!Q$7:Q$107,MATCH($B45,'Seznam střelců'!$A$7:$A$107,0),1),\"\",INDEX('Seznam střelců'!Q$7:Q$107,MATCH($B45,'Seznam střelců'!$A$7:$A$107,0),1)),\"\")","v":""},{"$f":"IF($A45<>\"\",\n    IF(INDEX('Seznam střelců'!$C$7:$C$107,MATCH($B45,'Seznam střelců'!$A$7:$A$107,0),1) <> \"\",\n        \"Mimo soutěž\",\n        IF(AND($N45 > 0,OR(ISNA(MATCH($A45,'Seznam střelců'!$S$7:$S$107,0)),ISNA(MATCH($A46,'Seznam střelců'!$S$7:$S$107,0)))), \"Rozstřel\", \"\")\n    ),\"\")","v":""}]
[{"$f":"'Seznam střelců'!$A46","v":""},{"$f":"IF($A46<>\"\",INDEX('Seznam střelců'!$A$7:$A$107,MATCH($A46,'Pom. pořadí jednotlivci'!$Q$7:$Q$107,0),1),\"\")","v":""},{"$f":"IF($A46<>\"\",INDEX('Seznam střelců'!$E$7:$E$107,MATCH($B46,'Seznam střelců'!$A$7:$A$107,0),1),\"\")","v":""},{"$f":"IF($A46<>\"\",INDEX('Seznam střelců'!F$7:F$107,MATCH($B46,'Seznam střelců'!$A$7:$A$107,0),1),\"\")","v":""},{"$f":"IF($A46<>\"\",INDEX('Seznam střelců'!G$7:G$107,MATCH($B46,'Seznam střelců'!$A$7:$A$107,0),1),\"\")","v":""},{"$f":"IF($A46<>\"\",INDEX('Seznam střelců'!H$7:H$107,MATCH($B46,'Seznam střelců'!$A$7:$A$107,0),1),\"\")","v":""},{"$f":"IF($A46<>\"\",INDEX('Seznam střelců'!I$7:I$107,MATCH($B46,'Seznam střelců'!$A$7:$A$107,0),1),\"\")","v":""},{"$f":"IF($A46<>\"\",INDEX('Seznam střelců'!J$7:J$107,MATCH($B46,'Seznam střelců'!$A$7:$A$107,0),1),\"\")","v":""},{"$f":"IF($A46<>\"\",INDEX('Seznam střelců'!K$7:K$107,MATCH($B46,'Seznam střelců'!$A$7:$A$107,0),1),\"\")","v":""},{"$f":"IF($A46<>\"\",INDEX('Seznam střelců'!L$7:L$107,MATCH($B46,'Seznam střelců'!$A$7:$A$107,0),1),\"\")","v":""},{"$f":"IF($A46<>\"\",INDEX('Seznam střelců'!M$7:M$107,MATCH($B46,'Seznam střelců'!$A$7:$A$107,0),1),\"\")","v":""},{"$f":"IF($A46<>\"\",INDEX('Seznam střelců'!N$7:N$107,MATCH($B46,'Seznam střelců'!$A$7:$A$107,0),1),\"\")","v":""},{"$f":"IF($A46<>\"\",INDEX('Seznam střelců'!O$7:O$107,MATCH($B46,'Seznam střelců'!$A$7:$A$107,0),1),\"\")","v":""},"",{"$f":"IF($A46<>\"\",IF(0 = INDEX('Seznam střelců'!P$7:P$107,MATCH($B46,'Seznam střelců'!$A$7:$A$107,0),1),\"\",INDEX('Seznam střelců'!P$7:P$107,MATCH($B46,'Seznam střelců'!$A$7:$A$107,0),1)),\"\")","v":""},"",{"$f":"IF($A46<>\"\",IF(0 = INDEX('Seznam střelců'!Q$7:Q$107,MATCH($B46,'Seznam střelců'!$A$7:$A$107,0),1),\"\",INDEX('Seznam střelců'!Q$7:Q$107,MATCH($B46,'Seznam střelců'!$A$7:$A$107,0),1)),\"\")","v":""},{"$f":"IF($A46<>\"\",\n    IF(INDEX('Seznam střelců'!$C$7:$C$107,MATCH($B46,'Seznam střelců'!$A$7:$A$107,0),1) <> \"\",\n        \"Mimo soutěž\",\n        IF(AND($N46 > 0,OR(ISNA(MATCH($A46,'Seznam střelců'!$S$7:$S$107,0)),ISNA(MATCH($A47,'Seznam střelců'!$S$7:$S$107,0)))), \"Rozstřel\", \"\")\n    ),\"\")","v":""}]
[{"$f":"'Seznam střelců'!$A47","v":""},{"$f":"IF($A47<>\"\",INDEX('Seznam střelců'!$A$7:$A$107,MATCH($A47,'Pom. pořadí jednotlivci'!$Q$7:$Q$107,0),1),\"\")","v":""},{"$f":"IF($A47<>\"\",INDEX('Seznam střelců'!$E$7:$E$107,MATCH($B47,'Seznam střelců'!$A$7:$A$107,0),1),\"\")","v":""},{"$f":"IF($A47<>\"\",INDEX('Seznam střelců'!F$7:F$107,MATCH($B47,'Seznam střelců'!$A$7:$A$107,0),1),\"\")","v":""},{"$f":"IF($A47<>\"\",INDEX('Seznam střelců'!G$7:G$107,MATCH($B47,'Seznam střelců'!$A$7:$A$107,0),1),\"\")","v":""},{"$f":"IF($A47<>\"\",INDEX('Seznam střelců'!H$7:H$107,MATCH($B47,'Seznam střelců'!$A$7:$A$107,0),1),\"\")","v":""},{"$f":"IF($A47<>\"\",INDEX('Seznam střelců'!I$7:I$107,MATCH($B47,'Seznam střelců'!$A$7:$A$107,0),1),\"\")","v":""},{"$f":"IF($A47<>\"\",INDEX('Seznam střelců'!J$7:J$107,MATCH($B47,'Seznam střelců'!$A$7:$A$107,0),1),\"\")","v":""},{"$f":"IF($A47<>\"\",INDEX('Seznam střelců'!K$7:K$107,MATCH($B47,'Seznam střelců'!$A$7:$A$107,0),1),\"\")","v":""},{"$f":"IF($A47<>\"\",INDEX('Seznam střelců'!L$7:L$107,MATCH($B47,'Seznam střelců'!$A$7:$A$107,0),1),\"\")","v":""},{"$f":"IF($A47<>\"\",INDEX('Seznam střelců'!M$7:M$107,MATCH($B47,'Seznam střelců'!$A$7:$A$107,0),1),\"\")","v":""},{"$f":"IF($A47<>\"\",INDEX('Seznam střelců'!N$7:N$107,MATCH($B47,'Seznam střelců'!$A$7:$A$107,0),1),\"\")","v":""},{"$f":"IF($A47<>\"\",INDEX('Seznam střelců'!O$7:O$107,MATCH($B47,'Seznam střelců'!$A$7:$A$107,0),1),\"\")","v":""},"",{"$f":"IF($A47<>\"\",IF(0 = INDEX('Seznam střelců'!P$7:P$107,MATCH($B47,'Seznam střelců'!$A$7:$A$107,0),1),\"\",INDEX('Seznam střelců'!P$7:P$107,MATCH($B47,'Seznam střelců'!$A$7:$A$107,0),1)),\"\")","v":""},"",{"$f":"IF($A47<>\"\",IF(0 = INDEX('Seznam střelců'!Q$7:Q$107,MATCH($B47,'Seznam střelců'!$A$7:$A$107,0),1),\"\",INDEX('Seznam střelců'!Q$7:Q$107,MATCH($B47,'Seznam střelců'!$A$7:$A$107,0),1)),\"\")","v":""},{"$f":"IF($A47<>\"\",\n    IF(INDEX('Seznam střelců'!$C$7:$C$107,MATCH($B47,'Seznam střelců'!$A$7:$A$107,0),1) <> \"\",\n        \"Mimo soutěž\",\n        IF(AND($N47 > 0,OR(ISNA(MATCH($A47,'Seznam střelců'!$S$7:$S$107,0)),ISNA(MATCH($A48,'Seznam střelců'!$S$7:$S$107,0)))), \"Rozstřel\", \"\")\n    ),\"\")","v":""}]
[{"$f":"'Seznam střelců'!$A48","v":""},{"$f":"IF($A48<>\"\",INDEX('Seznam střelců'!$A$7:$A$107,MATCH($A48,'Pom. pořadí jednotlivci'!$Q$7:$Q$107,0),1),\"\")","v":""},{"$f":"IF($A48<>\"\",INDEX('Seznam střelců'!$E$7:$E$107,MATCH($B48,'Seznam střelců'!$A$7:$A$107,0),1),\"\")","v":""},{"$f":"IF($A48<>\"\",INDEX('Seznam střelců'!F$7:F$107,MATCH($B48,'Seznam střelců'!$A$7:$A$107,0),1),\"\")","v":""},{"$f":"IF($A48<>\"\",INDEX('Seznam střelců'!G$7:G$107,MATCH($B48,'Seznam střelců'!$A$7:$A$107,0),1),\"\")","v":""},{"$f":"IF($A48<>\"\",INDEX('Seznam střelců'!H$7:H$107,MATCH($B48,'Seznam střelců'!$A$7:$A$107,0),1),\"\")","v":""},{"$f":"IF($A48<>\"\",INDEX('Seznam střelců'!I$7:I$107,MATCH($B48,'Seznam střelců'!$A$7:$A$107,0),1),\"\")","v":""},{"$f":"IF($A48<>\"\",INDEX('Seznam střelců'!J$7:J$107,MATCH($B48,'Seznam střelců'!$A$7:$A$107,0),1),\"\")","v":""},{"$f":"IF($A48<>\"\",INDEX('Seznam střelců'!K$7:K$107,MATCH($B48,'Seznam střelců'!$A$7:$A$107,0),1),\"\")","v":""},{"$f":"IF($A48<>\"\",INDEX('Seznam střelců'!L$7:L$107,MATCH($B48,'Seznam střelců'!$A$7:$A$107,0),1),\"\")","v":""},{"$f":"IF($A48<>\"\",INDEX('Seznam střelců'!M$7:M$107,MATCH($B48,'Seznam střelců'!$A$7:$A$107,0),1),\"\")","v":""},{"$f":"IF($A48<>\"\",INDEX('Seznam střelců'!N$7:N$107,MATCH($B48,'Seznam střelců'!$A$7:$A$107,0),1),\"\")","v":""},{"$f":"IF($A48<>\"\",INDEX('Seznam střelců'!O$7:O$107,MATCH($B48,'Seznam střelců'!$A$7:$A$107,0),1),\"\")","v":""},"",{"$f":"IF($A48<>\"\",IF(0 = INDEX('Seznam střelců'!P$7:P$107,MATCH($B48,'Seznam střelců'!$A$7:$A$107,0),1),\"\",INDEX('Seznam střelců'!P$7:P$107,MATCH($B48,'Seznam střelců'!$A$7:$A$107,0),1)),\"\")","v":""},"",{"$f":"IF($A48<>\"\",IF(0 = INDEX('Seznam střelců'!Q$7:Q$107,MATCH($B48,'Seznam střelců'!$A$7:$A$107,0),1),\"\",INDEX('Seznam střelců'!Q$7:Q$107,MATCH($B48,'Seznam střelců'!$A$7:$A$107,0),1)),\"\")","v":""},{"$f":"IF($A48<>\"\",\n    IF(INDEX('Seznam střelců'!$C$7:$C$107,MATCH($B48,'Seznam střelců'!$A$7:$A$107,0),1) <> \"\",\n        \"Mimo soutěž\",\n        IF(AND($N48 > 0,OR(ISNA(MATCH($A48,'Seznam střelců'!$S$7:$S$107,0)),ISNA(MATCH($A49,'Seznam střelců'!$S$7:$S$107,0)))), \"Rozstřel\", \"\")\n    ),\"\")","v":""}]
[{"$f":"'Seznam střelců'!$A49","v":""},{"$f":"IF($A49<>\"\",INDEX('Seznam střelců'!$A$7:$A$107,MATCH($A49,'Pom. pořadí jednotlivci'!$Q$7:$Q$107,0),1),\"\")","v":""},{"$f":"IF($A49<>\"\",INDEX('Seznam střelců'!$E$7:$E$107,MATCH($B49,'Seznam střelců'!$A$7:$A$107,0),1),\"\")","v":""},{"$f":"IF($A49<>\"\",INDEX('Seznam střelců'!F$7:F$107,MATCH($B49,'Seznam střelců'!$A$7:$A$107,0),1),\"\")","v":""},{"$f":"IF($A49<>\"\",INDEX('Seznam střelců'!G$7:G$107,MATCH($B49,'Seznam střelců'!$A$7:$A$107,0),1),\"\")","v":""},{"$f":"IF($A49<>\"\",INDEX('Seznam střelců'!H$7:H$107,MATCH($B49,'Seznam střelců'!$A$7:$A$107,0),1),\"\")","v":""},{"$f":"IF($A49<>\"\",INDEX('Seznam střelců'!I$7:I$107,MATCH($B49,'Seznam střelců'!$A$7:$A$107,0),1),\"\")","v":""},{"$f":"IF($A49<>\"\",INDEX('Seznam střelců'!J$7:J$107,MATCH($B49,'Seznam střelců'!$A$7:$A$107,0),1),\"\")","v":""},{"$f":"IF($A49<>\"\",INDEX('Seznam střelců'!K$7:K$107,MATCH($B49,'Seznam střelců'!$A$7:$A$107,0),1),\"\")","v":""},{"$f":"IF($A49<>\"\",INDEX('Seznam střelců'!L$7:L$107,MATCH($B49,'Seznam střelců'!$A$7:$A$107,0),1),\"\")","v":""},{"$f":"IF($A49<>\"\",INDEX('Seznam střelců'!M$7:M$107,MATCH($B49,'Seznam střelců'!$A$7:$A$107,0),1),\"\")","v":""},{"$f":"IF($A49<>\"\",INDEX('Seznam střelců'!N$7:N$107,MATCH($B49,'Seznam střelců'!$A$7:$A$107,0),1),\"\")","v":""},{"$f":"IF($A49<>\"\",INDEX('Seznam střelců'!O$7:O$107,MATCH($B49,'Seznam střelců'!$A$7:$A$107,0),1),\"\")","v":""},"",{"$f":"IF($A49<>\"\",IF(0 = INDEX('Seznam střelců'!P$7:P$107,MATCH($B49,'Seznam střelců'!$A$7:$A$107,0),1),\"\",INDEX('Seznam střelců'!P$7:P$107,MATCH($B49,'Seznam střelců'!$A$7:$A$107,0),1)),\"\")","v":""},"",{"$f":"IF($A49<>\"\",IF(0 = INDEX('Seznam střelců'!Q$7:Q$107,MATCH($B49,'Seznam střelců'!$A$7:$A$107,0),1),\"\",INDEX('Seznam střelců'!Q$7:Q$107,MATCH($B49,'Seznam střelců'!$A$7:$A$107,0),1)),\"\")","v":""},{"$f":"IF($A49<>\"\",\n    IF(INDEX('Seznam střelců'!$C$7:$C$107,MATCH($B49,'Seznam střelců'!$A$7:$A$107,0),1) <> \"\",\n        \"Mimo soutěž\",\n        IF(AND($N49 > 0,OR(ISNA(MATCH($A49,'Seznam střelců'!$S$7:$S$107,0)),ISNA(MATCH($A50,'Seznam střelců'!$S$7:$S$107,0)))), \"Rozstřel\", \"\")\n    ),\"\")","v":""}]
[{"$f":"'Seznam střelců'!$A50","v":""},{"$f":"IF($A50<>\"\",INDEX('Seznam střelců'!$A$7:$A$107,MATCH($A50,'Pom. pořadí jednotlivci'!$Q$7:$Q$107,0),1),\"\")","v":""},{"$f":"IF($A50<>\"\",INDEX('Seznam střelců'!$E$7:$E$107,MATCH($B50,'Seznam střelců'!$A$7:$A$107,0),1),\"\")","v":""},{"$f":"IF($A50<>\"\",INDEX('Seznam střelců'!F$7:F$107,MATCH($B50,'Seznam střelců'!$A$7:$A$107,0),1),\"\")","v":""},{"$f":"IF($A50<>\"\",INDEX('Seznam střelců'!G$7:G$107,MATCH($B50,'Seznam střelců'!$A$7:$A$107,0),1),\"\")","v":""},{"$f":"IF($A50<>\"\",INDEX('Seznam střelců'!H$7:H$107,MATCH($B50,'Seznam střelců'!$A$7:$A$107,0),1),\"\")","v":""},{"$f":"IF($A50<>\"\",INDEX('Seznam střelců'!I$7:I$107,MATCH($B50,'Seznam střelců'!$A$7:$A$107,0),1),\"\")","v":""},{"$f":"IF($A50<>\"\",INDEX('Seznam střelců'!J$7:J$107,MATCH($B50,'Seznam střelců'!$A$7:$A$107,0),1),\"\")","v":""},{"$f":"IF($A50<>\"\",INDEX('Seznam střelců'!K$7:K$107,MATCH($B50,'Seznam střelců'!$A$7:$A$107,0),1),\"\")","v":""},{"$f":"IF($A50<>\"\",INDEX('Seznam střelců'!L$7:L$107,MATCH($B50,'Seznam střelců'!$A$7:$A$107,0),1),\"\")","v":""},{"$f":"IF($A50<>\"\",INDEX('Seznam střelců'!M$7:M$107,MATCH($B50,'Seznam střelců'!$A$7:$A$107,0),1),\"\")","v":""},{"$f":"IF($A50<>\"\",INDEX('Seznam střelců'!N$7:N$107,MATCH($B50,'Seznam střelců'!$A$7:$A$107,0),1),\"\")","v":""},{"$f":"IF($A50<>\"\",INDEX('Seznam střelců'!O$7:O$107,MATCH($B50,'Seznam střelců'!$A$7:$A$107,0),1),\"\")","v":""},"",{"$f":"IF($A50<>\"\",IF(0 = INDEX('Seznam střelců'!P$7:P$107,MATCH($B50,'Seznam střelců'!$A$7:$A$107,0),1),\"\",INDEX('Seznam střelců'!P$7:P$107,MATCH($B50,'Seznam střelců'!$A$7:$A$107,0),1)),\"\")","v":""},"",{"$f":"IF($A50<>\"\",IF(0 = INDEX('Seznam střelců'!Q$7:Q$107,MATCH($B50,'Seznam střelců'!$A$7:$A$107,0),1),\"\",INDEX('Seznam střelců'!Q$7:Q$107,MATCH($B50,'Seznam střelců'!$A$7:$A$107,0),1)),\"\")","v":""},{"$f":"IF($A50<>\"\",\n    IF(INDEX('Seznam střelců'!$C$7:$C$107,MATCH($B50,'Seznam střelců'!$A$7:$A$107,0),1) <> \"\",\n        \"Mimo soutěž\",\n        IF(AND($N50 > 0,OR(ISNA(MATCH($A50,'Seznam střelců'!$S$7:$S$107,0)),ISNA(MATCH($A51,'Seznam střelců'!$S$7:$S$107,0)))), \"Rozstřel\", \"\")\n    ),\"\")","v":""}]
[{"$f":"'Seznam střelců'!$A51","v":""},{"$f":"IF($A51<>\"\",INDEX('Seznam střelců'!$A$7:$A$107,MATCH($A51,'Pom. pořadí jednotlivci'!$Q$7:$Q$107,0),1),\"\")","v":""},{"$f":"IF($A51<>\"\",INDEX('Seznam střelců'!$E$7:$E$107,MATCH($B51,'Seznam střelců'!$A$7:$A$107,0),1),\"\")","v":""},{"$f":"IF($A51<>\"\",INDEX('Seznam střelců'!F$7:F$107,MATCH($B51,'Seznam střelců'!$A$7:$A$107,0),1),\"\")","v":""},{"$f":"IF($A51<>\"\",INDEX('Seznam střelců'!G$7:G$107,MATCH($B51,'Seznam střelců'!$A$7:$A$107,0),1),\"\")","v":""},{"$f":"IF($A51<>\"\",INDEX('Seznam střelců'!H$7:H$107,MATCH($B51,'Seznam střelců'!$A$7:$A$107,0),1),\"\")","v":""},{"$f":"IF($A51<>\"\",INDEX('Seznam střelců'!I$7:I$107,MATCH($B51,'Seznam střelců'!$A$7:$A$107,0),1),\"\")","v":""},{"$f":"IF($A51<>\"\",INDEX('Seznam střelců'!J$7:J$107,MATCH($B51,'Seznam střelců'!$A$7:$A$107,0),1),\"\")","v":""},{"$f":"IF($A51<>\"\",INDEX('Seznam střelců'!K$7:K$107,MATCH($B51,'Seznam střelců'!$A$7:$A$107,0),1),\"\")","v":""},{"$f":"IF($A51<>\"\",INDEX('Seznam střelců'!L$7:L$107,MATCH($B51,'Seznam střelců'!$A$7:$A$107,0),1),\"\")","v":""},{"$f":"IF($A51<>\"\",INDEX('Seznam střelců'!M$7:M$107,MATCH($B51,'Seznam střelců'!$A$7:$A$107,0),1),\"\")","v":""},{"$f":"IF($A51<>\"\",INDEX('Seznam střelců'!N$7:N$107,MATCH($B51,'Seznam střelců'!$A$7:$A$107,0),1),\"\")","v":""},{"$f":"IF($A51<>\"\",INDEX('Seznam střelců'!O$7:O$107,MATCH($B51,'Seznam střelců'!$A$7:$A$107,0),1),\"\")","v":""},"",{"$f":"IF($A51<>\"\",IF(0 = INDEX('Seznam střelců'!P$7:P$107,MATCH($B51,'Seznam střelců'!$A$7:$A$107,0),1),\"\",INDEX('Seznam střelců'!P$7:P$107,MATCH($B51,'Seznam střelců'!$A$7:$A$107,0),1)),\"\")","v":""},"",{"$f":"IF($A51<>\"\",IF(0 = INDEX('Seznam střelců'!Q$7:Q$107,MATCH($B51,'Seznam střelců'!$A$7:$A$107,0),1),\"\",INDEX('Seznam střelců'!Q$7:Q$107,MATCH($B51,'Seznam střelců'!$A$7:$A$107,0),1)),\"\")","v":""},{"$f":"IF($A51<>\"\",\n    IF(INDEX('Seznam střelců'!$C$7:$C$107,MATCH($B51,'Seznam střelců'!$A$7:$A$107,0),1) <> \"\",\n        \"Mimo soutěž\",\n        IF(AND($N51 > 0,OR(ISNA(MATCH($A51,'Seznam střelců'!$S$7:$S$107,0)),ISNA(MATCH($A52,'Seznam střelců'!$S$7:$S$107,0)))), \"Rozstřel\", \"\")\n    ),\"\")","v":""}]
[{"$f":"'Seznam střelců'!$A52","v":""},{"$f":"IF($A52<>\"\",INDEX('Seznam střelců'!$A$7:$A$107,MATCH($A52,'Pom. pořadí jednotlivci'!$Q$7:$Q$107,0),1),\"\")","v":""},{"$f":"IF($A52<>\"\",INDEX('Seznam střelců'!$E$7:$E$107,MATCH($B52,'Seznam střelců'!$A$7:$A$107,0),1),\"\")","v":""},{"$f":"IF($A52<>\"\",INDEX('Seznam střelců'!F$7:F$107,MATCH($B52,'Seznam střelců'!$A$7:$A$107,0),1),\"\")","v":""},{"$f":"IF($A52<>\"\",INDEX('Seznam střelců'!G$7:G$107,MATCH($B52,'Seznam střelců'!$A$7:$A$107,0),1),\"\")","v":""},{"$f":"IF($A52<>\"\",INDEX('Seznam střelců'!H$7:H$107,MATCH($B52,'Seznam střelců'!$A$7:$A$107,0),1),\"\")","v":""},{"$f":"IF($A52<>\"\",INDEX('Seznam střelců'!I$7:I$107,MATCH($B52,'Seznam střelců'!$A$7:$A$107,0),1),\"\")","v":""},{"$f":"IF($A52<>\"\",INDEX('Seznam střelců'!J$7:J$107,MATCH($B52,'Seznam střelců'!$A$7:$A$107,0),1),\"\")","v":""},{"$f":"IF($A52<>\"\",INDEX('Seznam střelců'!K$7:K$107,MATCH($B52,'Seznam střelců'!$A$7:$A$107,0),1),\"\")","v":""},{"$f":"IF($A52<>\"\",INDEX('Seznam střelců'!L$7:L$107,MATCH($B52,'Seznam střelců'!$A$7:$A$107,0),1),\"\")","v":""},{"$f":"IF($A52<>\"\",INDEX('Seznam střelců'!M$7:M$107,MATCH($B52,'Seznam střelců'!$A$7:$A$107,0),1),\"\")","v":""},{"$f":"IF($A52<>\"\",INDEX('Seznam střelců'!N$7:N$107,MATCH($B52,'Seznam střelců'!$A$7:$A$107,0),1),\"\")","v":""},{"$f":"IF($A52<>\"\",INDEX('Seznam střelců'!O$7:O$107,MATCH($B52,'Seznam střelců'!$A$7:$A$107,0),1),\"\")","v":""},"",{"$f":"IF($A52<>\"\",IF(0 = INDEX('Seznam střelců'!P$7:P$107,MATCH($B52,'Seznam střelců'!$A$7:$A$107,0),1),\"\",INDEX('Seznam střelců'!P$7:P$107,MATCH($B52,'Seznam střelců'!$A$7:$A$107,0),1)),\"\")","v":""},"",{"$f":"IF($A52<>\"\",IF(0 = INDEX('Seznam střelců'!Q$7:Q$107,MATCH($B52,'Seznam střelců'!$A$7:$A$107,0),1),\"\",INDEX('Seznam střelců'!Q$7:Q$107,MATCH($B52,'Seznam střelců'!$A$7:$A$107,0),1)),\"\")","v":""},{"$f":"IF($A52<>\"\",\n    IF(INDEX('Seznam střelců'!$C$7:$C$107,MATCH($B52,'Seznam střelců'!$A$7:$A$107,0),1) <> \"\",\n        \"Mimo soutěž\",\n        IF(AND($N52 > 0,OR(ISNA(MATCH($A52,'Seznam střelců'!$S$7:$S$107,0)),ISNA(MATCH($A53,'Seznam střelců'!$S$7:$S$107,0)))), \"Rozstřel\", \"\")\n    ),\"\")","v":""}]
[{"$f":"'Seznam střelců'!$A53","v":""},{"$f":"IF($A53<>\"\",INDEX('Seznam střelců'!$A$7:$A$107,MATCH($A53,'Pom. pořadí jednotlivci'!$Q$7:$Q$107,0),1),\"\")","v":""},{"$f":"IF($A53<>\"\",INDEX('Seznam střelců'!$E$7:$E$107,MATCH($B53,'Seznam střelců'!$A$7:$A$107,0),1),\"\")","v":""},{"$f":"IF($A53<>\"\",INDEX('Seznam střelců'!F$7:F$107,MATCH($B53,'Seznam střelců'!$A$7:$A$107,0),1),\"\")","v":""},{"$f":"IF($A53<>\"\",INDEX('Seznam střelců'!G$7:G$107,MATCH($B53,'Seznam střelců'!$A$7:$A$107,0),1),\"\")","v":""},{"$f":"IF($A53<>\"\",INDEX('Seznam střelců'!H$7:H$107,MATCH($B53,'Seznam střelců'!$A$7:$A$107,0),1),\"\")","v":""},{"$f":"IF($A53<>\"\",INDEX('Seznam střelců'!I$7:I$107,MATCH($B53,'Seznam střelců'!$A$7:$A$107,0),1),\"\")","v":""},{"$f":"IF($A53<>\"\",INDEX('Seznam střelců'!J$7:J$107,MATCH($B53,'Seznam střelců'!$A$7:$A$107,0),1),\"\")","v":""},{"$f":"IF($A53<>\"\",INDEX('Seznam střelců'!K$7:K$107,MATCH($B53,'Seznam střelců'!$A$7:$A$107,0),1),\"\")","v":""},{"$f":"IF($A53<>\"\",INDEX('Seznam střelců'!L$7:L$107,MATCH($B53,'Seznam střelců'!$A$7:$A$107,0),1),\"\")","v":""},{"$f":"IF($A53<>\"\",INDEX('Seznam střelců'!M$7:M$107,MATCH($B53,'Seznam střelců'!$A$7:$A$107,0),1),\"\")","v":""},{"$f":"IF($A53<>\"\",INDEX('Seznam střelců'!N$7:N$107,MATCH($B53,'Seznam střelců'!$A$7:$A$107,0),1),\"\")","v":""},{"$f":"IF($A53<>\"\",INDEX('Seznam střelců'!O$7:O$107,MATCH($B53,'Seznam střelců'!$A$7:$A$107,0),1),\"\")","v":""},"",{"$f":"IF($A53<>\"\",IF(0 = INDEX('Seznam střelců'!P$7:P$107,MATCH($B53,'Seznam střelců'!$A$7:$A$107,0),1),\"\",INDEX('Seznam střelců'!P$7:P$107,MATCH($B53,'Seznam střelců'!$A$7:$A$107,0),1)),\"\")","v":""},"",{"$f":"IF($A53<>\"\",IF(0 = INDEX('Seznam střelců'!Q$7:Q$107,MATCH($B53,'Seznam střelců'!$A$7:$A$107,0),1),\"\",INDEX('Seznam střelců'!Q$7:Q$107,MATCH($B53,'Seznam střelců'!$A$7:$A$107,0),1)),\"\")","v":""},{"$f":"IF($A53<>\"\",\n    IF(INDEX('Seznam střelců'!$C$7:$C$107,MATCH($B53,'Seznam střelců'!$A$7:$A$107,0),1) <> \"\",\n        \"Mimo soutěž\",\n        IF(AND($N53 > 0,OR(ISNA(MATCH($A53,'Seznam střelců'!$S$7:$S$107,0)),ISNA(MATCH($A54,'Seznam střelců'!$S$7:$S$107,0)))), \"Rozstřel\", \"\")\n    ),\"\")","v":""}]
[{"$f":"'Seznam střelců'!$A54","v":""},{"$f":"IF($A54<>\"\",INDEX('Seznam střelců'!$A$7:$A$107,MATCH($A54,'Pom. pořadí jednotlivci'!$Q$7:$Q$107,0),1),\"\")","v":""},{"$f":"IF($A54<>\"\",INDEX('Seznam střelců'!$E$7:$E$107,MATCH($B54,'Seznam střelců'!$A$7:$A$107,0),1),\"\")","v":""},{"$f":"IF($A54<>\"\",INDEX('Seznam střelců'!F$7:F$107,MATCH($B54,'Seznam střelců'!$A$7:$A$107,0),1),\"\")","v":""},{"$f":"IF($A54<>\"\",INDEX('Seznam střelců'!G$7:G$107,MATCH($B54,'Seznam střelců'!$A$7:$A$107,0),1),\"\")","v":""},{"$f":"IF($A54<>\"\",INDEX('Seznam střelců'!H$7:H$107,MATCH($B54,'Seznam střelců'!$A$7:$A$107,0),1),\"\")","v":""},{"$f":"IF($A54<>\"\",INDEX('Seznam střelců'!I$7:I$107,MATCH($B54,'Seznam střelců'!$A$7:$A$107,0),1),\"\")","v":""},{"$f":"IF($A54<>\"\",INDEX('Seznam střelců'!J$7:J$107,MATCH($B54,'Seznam střelců'!$A$7:$A$107,0),1),\"\")","v":""},{"$f":"IF($A54<>\"\",INDEX('Seznam střelců'!K$7:K$107,MATCH($B54,'Seznam střelců'!$A$7:$A$107,0),1),\"\")","v":""},{"$f":"IF($A54<>\"\",INDEX('Seznam střelců'!L$7:L$107,MATCH($B54,'Seznam střelců'!$A$7:$A$107,0),1),\"\")","v":""},{"$f":"IF($A54<>\"\",INDEX('Seznam střelců'!M$7:M$107,MATCH($B54,'Seznam střelců'!$A$7:$A$107,0),1),\"\")","v":""},{"$f":"IF($A54<>\"\",INDEX('Seznam střelců'!N$7:N$107,MATCH($B54,'Seznam střelců'!$A$7:$A$107,0),1),\"\")","v":""},{"$f":"IF($A54<>\"\",INDEX('Seznam střelců'!O$7:O$107,MATCH($B54,'Seznam střelců'!$A$7:$A$107,0),1),\"\")","v":""},"",{"$f":"IF($A54<>\"\",IF(0 = INDEX('Seznam střelců'!P$7:P$107,MATCH($B54,'Seznam střelců'!$A$7:$A$107,0),1),\"\",INDEX('Seznam střelců'!P$7:P$107,MATCH($B54,'Seznam střelců'!$A$7:$A$107,0),1)),\"\")","v":""},"",{"$f":"IF($A54<>\"\",IF(0 = INDEX('Seznam střelců'!Q$7:Q$107,MATCH($B54,'Seznam střelců'!$A$7:$A$107,0),1),\"\",INDEX('Seznam střelců'!Q$7:Q$107,MATCH($B54,'Seznam střelců'!$A$7:$A$107,0),1)),\"\")","v":""},{"$f":"IF($A54<>\"\",\n    IF(INDEX('Seznam střelců'!$C$7:$C$107,MATCH($B54,'Seznam střelců'!$A$7:$A$107,0),1) <> \"\",\n        \"Mimo soutěž\",\n        IF(AND($N54 > 0,OR(ISNA(MATCH($A54,'Seznam střelců'!$S$7:$S$107,0)),ISNA(MATCH($A55,'Seznam střelců'!$S$7:$S$107,0)))), \"Rozstřel\", \"\")\n    ),\"\")","v":""}]
[{"$f":"'Seznam střelců'!$A55","v":""},{"$f":"IF($A55<>\"\",INDEX('Seznam střelců'!$A$7:$A$107,MATCH($A55,'Pom. pořadí jednotlivci'!$Q$7:$Q$107,0),1),\"\")","v":""},{"$f":"IF($A55<>\"\",INDEX('Seznam střelců'!$E$7:$E$107,MATCH($B55,'Seznam střelců'!$A$7:$A$107,0),1),\"\")","v":""},{"$f":"IF($A55<>\"\",INDEX('Seznam střelců'!F$7:F$107,MATCH($B55,'Seznam střelců'!$A$7:$A$107,0),1),\"\")","v":""},{"$f":"IF($A55<>\"\",INDEX('Seznam střelců'!G$7:G$107,MATCH($B55,'Seznam střelců'!$A$7:$A$107,0),1),\"\")","v":""},{"$f":"IF($A55<>\"\",INDEX('Seznam střelců'!H$7:H$107,MATCH($B55,'Seznam střelců'!$A$7:$A$107,0),1),\"\")","v":""},{"$f":"IF($A55<>\"\",INDEX('Seznam střelců'!I$7:I$107,MATCH($B55,'Seznam střelců'!$A$7:$A$107,0),1),\"\")","v":""},{"$f":"IF($A55<>\"\",INDEX('Seznam střelců'!J$7:J$107,MATCH($B55,'Seznam střelců'!$A$7:$A$107,0),1),\"\")","v":""},{"$f":"IF($A55<>\"\",INDEX('Seznam střelců'!K$7:K$107,MATCH($B55,'Seznam střelců'!$A$7:$A$107,0),1),\"\")","v":""},{"$f":"IF($A55<>\"\",INDEX('Seznam střelců'!L$7:L$107,MATCH($B55,'Seznam střelců'!$A$7:$A$107,0),1),\"\")","v":""},{"$f":"IF($A55<>\"\",INDEX('Seznam střelců'!M$7:M$107,MATCH($B55,'Seznam střelců'!$A$7:$A$107,0),1),\"\")","v":""},{"$f":"IF($A55<>\"\",INDEX('Seznam střelců'!N$7:N$107,MATCH($B55,'Seznam střelců'!$A$7:$A$107,0),1),\"\")","v":""},{"$f":"IF($A55<>\"\",INDEX('Seznam střelců'!O$7:O$107,MATCH($B55,'Seznam střelců'!$A$7:$A$107,0),1),\"\")","v":""},"",{"$f":"IF($A55<>\"\",IF(0 = INDEX('Seznam střelců'!P$7:P$107,MATCH($B55,'Seznam střelců'!$A$7:$A$107,0),1),\"\",INDEX('Seznam střelců'!P$7:P$107,MATCH($B55,'Seznam střelců'!$A$7:$A$107,0),1)),\"\")","v":""},"",{"$f":"IF($A55<>\"\",IF(0 = INDEX('Seznam střelců'!Q$7:Q$107,MATCH($B55,'Seznam střelců'!$A$7:$A$107,0),1),\"\",INDEX('Seznam střelců'!Q$7:Q$107,MATCH($B55,'Seznam střelců'!$A$7:$A$107,0),1)),\"\")","v":""},{"$f":"IF($A55<>\"\",\n    IF(INDEX('Seznam střelců'!$C$7:$C$107,MATCH($B55,'Seznam střelců'!$A$7:$A$107,0),1) <> \"\",\n        \"Mimo soutěž\",\n        IF(AND($N55 > 0,OR(ISNA(MATCH($A55,'Seznam střelců'!$S$7:$S$107,0)),ISNA(MATCH($A56,'Seznam střelců'!$S$7:$S$107,0)))), \"Rozstřel\", \"\")\n    ),\"\")","v":""}]
[{"$f":"'Seznam střelců'!$A56","v":""},{"$f":"IF($A56<>\"\",INDEX('Seznam střelců'!$A$7:$A$107,MATCH($A56,'Pom. pořadí jednotlivci'!$Q$7:$Q$107,0),1),\"\")","v":""},{"$f":"IF($A56<>\"\",INDEX('Seznam střelců'!$E$7:$E$107,MATCH($B56,'Seznam střelců'!$A$7:$A$107,0),1),\"\")","v":""},{"$f":"IF($A56<>\"\",INDEX('Seznam střelců'!F$7:F$107,MATCH($B56,'Seznam střelců'!$A$7:$A$107,0),1),\"\")","v":""},{"$f":"IF($A56<>\"\",INDEX('Seznam střelců'!G$7:G$107,MATCH($B56,'Seznam střelců'!$A$7:$A$107,0),1),\"\")","v":""},{"$f":"IF($A56<>\"\",INDEX('Seznam střelců'!H$7:H$107,MATCH($B56,'Seznam střelců'!$A$7:$A$107,0),1),\"\")","v":""},{"$f":"IF($A56<>\"\",INDEX('Seznam střelců'!I$7:I$107,MATCH($B56,'Seznam střelců'!$A$7:$A$107,0),1),\"\")","v":""},{"$f":"IF($A56<>\"\",INDEX('Seznam střelců'!J$7:J$107,MATCH($B56,'Seznam střelců'!$A$7:$A$107,0),1),\"\")","v":""},{"$f":"IF($A56<>\"\",INDEX('Seznam střelců'!K$7:K$107,MATCH($B56,'Seznam střelců'!$A$7:$A$107,0),1),\"\")","v":""},{"$f":"IF($A56<>\"\",INDEX('Seznam střelců'!L$7:L$107,MATCH($B56,'Seznam střelců'!$A$7:$A$107,0),1),\"\")","v":""},{"$f":"IF($A56<>\"\",INDEX('Seznam střelců'!M$7:M$107,MATCH($B56,'Seznam střelců'!$A$7:$A$107,0),1),\"\")","v":""},{"$f":"IF($A56<>\"\",INDEX('Seznam střelců'!N$7:N$107,MATCH($B56,'Seznam střelců'!$A$7:$A$107,0),1),\"\")","v":""},{"$f":"IF($A56<>\"\",INDEX('Seznam střelců'!O$7:O$107,MATCH($B56,'Seznam střelců'!$A$7:$A$107,0),1),\"\")","v":""},"",{"$f":"IF($A56<>\"\",IF(0 = INDEX('Seznam střelců'!P$7:P$107,MATCH($B56,'Seznam střelců'!$A$7:$A$107,0),1),\"\",INDEX('Seznam střelců'!P$7:P$107,MATCH($B56,'Seznam střelců'!$A$7:$A$107,0),1)),\"\")","v":""},"",{"$f":"IF($A56<>\"\",IF(0 = INDEX('Seznam střelců'!Q$7:Q$107,MATCH($B56,'Seznam střelců'!$A$7:$A$107,0),1),\"\",INDEX('Seznam střelců'!Q$7:Q$107,MATCH($B56,'Seznam střelců'!$A$7:$A$107,0),1)),\"\")","v":""},{"$f":"IF($A56<>\"\",\n    IF(INDEX('Seznam střelců'!$C$7:$C$107,MATCH($B56,'Seznam střelců'!$A$7:$A$107,0),1) <> \"\",\n        \"Mimo soutěž\",\n        IF(AND($N56 > 0,OR(ISNA(MATCH($A56,'Seznam střelců'!$S$7:$S$107,0)),ISNA(MATCH($A57,'Seznam střelců'!$S$7:$S$107,0)))), \"Rozstřel\", \"\")\n    ),\"\")","v":""}]
[{"$f":"'Seznam střelců'!$A57","v":""},{"$f":"IF($A57<>\"\",INDEX('Seznam střelců'!$A$7:$A$107,MATCH($A57,'Pom. pořadí jednotlivci'!$Q$7:$Q$107,0),1),\"\")","v":""},{"$f":"IF($A57<>\"\",INDEX('Seznam střelců'!$E$7:$E$107,MATCH($B57,'Seznam střelců'!$A$7:$A$107,0),1),\"\")","v":""},{"$f":"IF($A57<>\"\",INDEX('Seznam střelců'!F$7:F$107,MATCH($B57,'Seznam střelců'!$A$7:$A$107,0),1),\"\")","v":""},{"$f":"IF($A57<>\"\",INDEX('Seznam střelců'!G$7:G$107,MATCH($B57,'Seznam střelců'!$A$7:$A$107,0),1),\"\")","v":""},{"$f":"IF($A57<>\"\",INDEX('Seznam střelců'!H$7:H$107,MATCH($B57,'Seznam střelců'!$A$7:$A$107,0),1),\"\")","v":""},{"$f":"IF($A57<>\"\",INDEX('Seznam střelců'!I$7:I$107,MATCH($B57,'Seznam střelců'!$A$7:$A$107,0),1),\"\")","v":""},{"$f":"IF($A57<>\"\",INDEX('Seznam střelců'!J$7:J$107,MATCH($B57,'Seznam střelců'!$A$7:$A$107,0),1),\"\")","v":""},{"$f":"IF($A57<>\"\",INDEX('Seznam střelců'!K$7:K$107,MATCH($B57,'Seznam střelců'!$A$7:$A$107,0),1),\"\")","v":""},{"$f":"IF($A57<>\"\",INDEX('Seznam střelců'!L$7:L$107,MATCH($B57,'Seznam střelců'!$A$7:$A$107,0),1),\"\")","v":""},{"$f":"IF($A57<>\"\",INDEX('Seznam střelců'!M$7:M$107,MATCH($B57,'Seznam střelců'!$A$7:$A$107,0),1),\"\")","v":""},{"$f":"IF($A57<>\"\",INDEX('Seznam střelců'!N$7:N$107,MATCH($B57,'Seznam střelců'!$A$7:$A$107,0),1),\"\")","v":""},{"$f":"IF($A57<>\"\",INDEX('Seznam střelců'!O$7:O$107,MATCH($B57,'Seznam střelců'!$A$7:$A$107,0),1),\"\")","v":""},"",{"$f":"IF($A57<>\"\",IF(0 = INDEX('Seznam střelců'!P$7:P$107,MATCH($B57,'Seznam střelců'!$A$7:$A$107,0),1),\"\",INDEX('Seznam střelců'!P$7:P$107,MATCH($B57,'Seznam střelců'!$A$7:$A$107,0),1)),\"\")","v":""},"",{"$f":"IF($A57<>\"\",IF(0 = INDEX('Seznam střelců'!Q$7:Q$107,MATCH($B57,'Seznam střelců'!$A$7:$A$107,0),1),\"\",INDEX('Seznam střelců'!Q$7:Q$107,MATCH($B57,'Seznam střelců'!$A$7:$A$107,0),1)),\"\")","v":""},{"$f":"IF($A57<>\"\",\n    IF(INDEX('Seznam střelců'!$C$7:$C$107,MATCH($B57,'Seznam střelců'!$A$7:$A$107,0),1) <> \"\",\n        \"Mimo soutěž\",\n        IF(AND($N57 > 0,OR(ISNA(MATCH($A57,'Seznam střelců'!$S$7:$S$107,0)),ISNA(MATCH($A58,'Seznam střelců'!$S$7:$S$107,0)))), \"Rozstřel\", \"\")\n    ),\"\")","v":""}]
[{"$f":"'Seznam střelců'!$A58","v":""},{"$f":"IF($A58<>\"\",INDEX('Seznam střelců'!$A$7:$A$107,MATCH($A58,'Pom. pořadí jednotlivci'!$Q$7:$Q$107,0),1),\"\")","v":""},{"$f":"IF($A58<>\"\",INDEX('Seznam střelců'!$E$7:$E$107,MATCH($B58,'Seznam střelců'!$A$7:$A$107,0),1),\"\")","v":""},{"$f":"IF($A58<>\"\",INDEX('Seznam střelců'!F$7:F$107,MATCH($B58,'Seznam střelců'!$A$7:$A$107,0),1),\"\")","v":""},{"$f":"IF($A58<>\"\",INDEX('Seznam střelců'!G$7:G$107,MATCH($B58,'Seznam střelců'!$A$7:$A$107,0),1),\"\")","v":""},{"$f":"IF($A58<>\"\",INDEX('Seznam střelců'!H$7:H$107,MATCH($B58,'Seznam střelců'!$A$7:$A$107,0),1),\"\")","v":""},{"$f":"IF($A58<>\"\",INDEX('Seznam střelců'!I$7:I$107,MATCH($B58,'Seznam střelců'!$A$7:$A$107,0),1),\"\")","v":""},{"$f":"IF($A58<>\"\",INDEX('Seznam střelců'!J$7:J$107,MATCH($B58,'Seznam střelců'!$A$7:$A$107,0),1),\"\")","v":""},{"$f":"IF($A58<>\"\",INDEX('Seznam střelců'!K$7:K$107,MATCH($B58,'Seznam střelců'!$A$7:$A$107,0),1),\"\")","v":""},{"$f":"IF($A58<>\"\",INDEX('Seznam střelců'!L$7:L$107,MATCH($B58,'Seznam střelců'!$A$7:$A$107,0),1),\"\")","v":""},{"$f":"IF($A58<>\"\",INDEX('Seznam střelců'!M$7:M$107,MATCH($B58,'Seznam střelců'!$A$7:$A$107,0),1),\"\")","v":""},{"$f":"IF($A58<>\"\",INDEX('Seznam střelců'!N$7:N$107,MATCH($B58,'Seznam střelců'!$A$7:$A$107,0),1),\"\")","v":""},{"$f":"IF($A58<>\"\",INDEX('Seznam střelců'!O$7:O$107,MATCH($B58,'Seznam střelců'!$A$7:$A$107,0),1),\"\")","v":""},"",{"$f":"IF($A58<>\"\",IF(0 = INDEX('Seznam střelců'!P$7:P$107,MATCH($B58,'Seznam střelců'!$A$7:$A$107,0),1),\"\",INDEX('Seznam střelců'!P$7:P$107,MATCH($B58,'Seznam střelců'!$A$7:$A$107,0),1)),\"\")","v":""},"",{"$f":"IF($A58<>\"\",IF(0 = INDEX('Seznam střelců'!Q$7:Q$107,MATCH($B58,'Seznam střelců'!$A$7:$A$107,0),1),\"\",INDEX('Seznam střelců'!Q$7:Q$107,MATCH($B58,'Seznam střelců'!$A$7:$A$107,0),1)),\"\")","v":""},{"$f":"IF($A58<>\"\",\n    IF(INDEX('Seznam střelců'!$C$7:$C$107,MATCH($B58,'Seznam střelců'!$A$7:$A$107,0),1) <> \"\",\n        \"Mimo soutěž\",\n        IF(AND($N58 > 0,OR(ISNA(MATCH($A58,'Seznam střelců'!$S$7:$S$107,0)),ISNA(MATCH($A59,'Seznam střelců'!$S$7:$S$107,0)))), \"Rozstřel\", \"\")\n    ),\"\")","v":""}]
[{"$f":"'Seznam střelců'!$A59","v":""},{"$f":"IF($A59<>\"\",INDEX('Seznam střelců'!$A$7:$A$107,MATCH($A59,'Pom. pořadí jednotlivci'!$Q$7:$Q$107,0),1),\"\")","v":""},{"$f":"IF($A59<>\"\",INDEX('Seznam střelců'!$E$7:$E$107,MATCH($B59,'Seznam střelců'!$A$7:$A$107,0),1),\"\")","v":""},{"$f":"IF($A59<>\"\",INDEX('Seznam střelců'!F$7:F$107,MATCH($B59,'Seznam střelců'!$A$7:$A$107,0),1),\"\")","v":""},{"$f":"IF($A59<>\"\",INDEX('Seznam střelců'!G$7:G$107,MATCH($B59,'Seznam střelců'!$A$7:$A$107,0),1),\"\")","v":""},{"$f":"IF($A59<>\"\",INDEX('Seznam střelců'!H$7:H$107,MATCH($B59,'Seznam střelců'!$A$7:$A$107,0),1),\"\")","v":""},{"$f":"IF($A59<>\"\",INDEX('Seznam střelců'!I$7:I$107,MATCH($B59,'Seznam střelců'!$A$7:$A$107,0),1),\"\")","v":""},{"$f":"IF($A59<>\"\",INDEX('Seznam střelců'!J$7:J$107,MATCH($B59,'Seznam střelců'!$A$7:$A$107,0),1),\"\")","v":""},{"$f":"IF($A59<>\"\",INDEX('Seznam střelců'!K$7:K$107,MATCH($B59,'Seznam střelců'!$A$7:$A$107,0),1),\"\")","v":""},{"$f":"IF($A59<>\"\",INDEX('Seznam střelců'!L$7:L$107,MATCH($B59,'Seznam střelců'!$A$7:$A$107,0),1),\"\")","v":""},{"$f":"IF($A59<>\"\",INDEX('Seznam střelců'!M$7:M$107,MATCH($B59,'Seznam střelců'!$A$7:$A$107,0),1),\"\")","v":""},{"$f":"IF($A59<>\"\",INDEX('Seznam střelců'!N$7:N$107,MATCH($B59,'Seznam střelců'!$A$7:$A$107,0),1),\"\")","v":""},{"$f":"IF($A59<>\"\",INDEX('Seznam střelců'!O$7:O$107,MATCH($B59,'Seznam střelců'!$A$7:$A$107,0),1),\"\")","v":""},"",{"$f":"IF($A59<>\"\",IF(0 = INDEX('Seznam střelců'!P$7:P$107,MATCH($B59,'Seznam střelců'!$A$7:$A$107,0),1),\"\",INDEX('Seznam střelců'!P$7:P$107,MATCH($B59,'Seznam střelců'!$A$7:$A$107,0),1)),\"\")","v":""},"",{"$f":"IF($A59<>\"\",IF(0 = INDEX('Seznam střelců'!Q$7:Q$107,MATCH($B59,'Seznam střelců'!$A$7:$A$107,0),1),\"\",INDEX('Seznam střelců'!Q$7:Q$107,MATCH($B59,'Seznam střelců'!$A$7:$A$107,0),1)),\"\")","v":""},{"$f":"IF($A59<>\"\",\n    IF(INDEX('Seznam střelců'!$C$7:$C$107,MATCH($B59,'Seznam střelců'!$A$7:$A$107,0),1) <> \"\",\n        \"Mimo soutěž\",\n        IF(AND($N59 > 0,OR(ISNA(MATCH($A59,'Seznam střelců'!$S$7:$S$107,0)),ISNA(MATCH($A60,'Seznam střelců'!$S$7:$S$107,0)))), \"Rozstřel\", \"\")\n    ),\"\")","v":""}]
[{"$f":"'Seznam střelců'!$A60","v":""},{"$f":"IF($A60<>\"\",INDEX('Seznam střelců'!$A$7:$A$107,MATCH($A60,'Pom. pořadí jednotlivci'!$Q$7:$Q$107,0),1),\"\")","v":""},{"$f":"IF($A60<>\"\",INDEX('Seznam střelců'!$E$7:$E$107,MATCH($B60,'Seznam střelců'!$A$7:$A$107,0),1),\"\")","v":""},{"$f":"IF($A60<>\"\",INDEX('Seznam střelců'!F$7:F$107,MATCH($B60,'Seznam střelců'!$A$7:$A$107,0),1),\"\")","v":""},{"$f":"IF($A60<>\"\",INDEX('Seznam střelců'!G$7:G$107,MATCH($B60,'Seznam střelců'!$A$7:$A$107,0),1),\"\")","v":""},{"$f":"IF($A60<>\"\",INDEX('Seznam střelců'!H$7:H$107,MATCH($B60,'Seznam střelců'!$A$7:$A$107,0),1),\"\")","v":""},{"$f":"IF($A60<>\"\",INDEX('Seznam střelců'!I$7:I$107,MATCH($B60,'Seznam střelců'!$A$7:$A$107,0),1),\"\")","v":""},{"$f":"IF($A60<>\"\",INDEX('Seznam střelců'!J$7:J$107,MATCH($B60,'Seznam střelců'!$A$7:$A$107,0),1),\"\")","v":""},{"$f":"IF($A60<>\"\",INDEX('Seznam střelců'!K$7:K$107,MATCH($B60,'Seznam střelců'!$A$7:$A$107,0),1),\"\")","v":""},{"$f":"IF($A60<>\"\",INDEX('Seznam střelců'!L$7:L$107,MATCH($B60,'Seznam střelců'!$A$7:$A$107,0),1),\"\")","v":""},{"$f":"IF($A60<>\"\",INDEX('Seznam střelců'!M$7:M$107,MATCH($B60,'Seznam střelců'!$A$7:$A$107,0),1),\"\")","v":""},{"$f":"IF($A60<>\"\",INDEX('Seznam střelců'!N$7:N$107,MATCH($B60,'Seznam střelců'!$A$7:$A$107,0),1),\"\")","v":""},{"$f":"IF($A60<>\"\",INDEX('Seznam střelců'!O$7:O$107,MATCH($B60,'Seznam střelců'!$A$7:$A$107,0),1),\"\")","v":""},"",{"$f":"IF($A60<>\"\",IF(0 = INDEX('Seznam střelců'!P$7:P$107,MATCH($B60,'Seznam střelců'!$A$7:$A$107,0),1),\"\",INDEX('Seznam střelců'!P$7:P$107,MATCH($B60,'Seznam střelců'!$A$7:$A$107,0),1)),\"\")","v":""},"",{"$f":"IF($A60<>\"\",IF(0 = INDEX('Seznam střelců'!Q$7:Q$107,MATCH($B60,'Seznam střelců'!$A$7:$A$107,0),1),\"\",INDEX('Seznam střelců'!Q$7:Q$107,MATCH($B60,'Seznam střelců'!$A$7:$A$107,0),1)),\"\")","v":""},{"$f":"IF($A60<>\"\",\n    IF(INDEX('Seznam střelců'!$C$7:$C$107,MATCH($B60,'Seznam střelců'!$A$7:$A$107,0),1) <> \"\",\n        \"Mimo soutěž\",\n        IF(AND($N60 > 0,OR(ISNA(MATCH($A60,'Seznam střelců'!$S$7:$S$107,0)),ISNA(MATCH($A61,'Seznam střelců'!$S$7:$S$107,0)))), \"Rozstřel\", \"\")\n    ),\"\")","v":""}]
[{"$f":"'Seznam střelců'!$A61","v":""},{"$f":"IF($A61<>\"\",INDEX('Seznam střelců'!$A$7:$A$107,MATCH($A61,'Pom. pořadí jednotlivci'!$Q$7:$Q$107,0),1),\"\")","v":""},{"$f":"IF($A61<>\"\",INDEX('Seznam střelců'!$E$7:$E$107,MATCH($B61,'Seznam střelců'!$A$7:$A$107,0),1),\"\")","v":""},{"$f":"IF($A61<>\"\",INDEX('Seznam střelců'!F$7:F$107,MATCH($B61,'Seznam střelců'!$A$7:$A$107,0),1),\"\")","v":""},{"$f":"IF($A61<>\"\",INDEX('Seznam střelců'!G$7:G$107,MATCH($B61,'Seznam střelců'!$A$7:$A$107,0),1),\"\")","v":""},{"$f":"IF($A61<>\"\",INDEX('Seznam střelců'!H$7:H$107,MATCH($B61,'Seznam střelců'!$A$7:$A$107,0),1),\"\")","v":""},{"$f":"IF($A61<>\"\",INDEX('Seznam střelců'!I$7:I$107,MATCH($B61,'Seznam střelců'!$A$7:$A$107,0),1),\"\")","v":""},{"$f":"IF($A61<>\"\",INDEX('Seznam střelců'!J$7:J$107,MATCH($B61,'Seznam střelců'!$A$7:$A$107,0),1),\"\")","v":""},{"$f":"IF($A61<>\"\",INDEX('Seznam střelců'!K$7:K$107,MATCH($B61,'Seznam střelců'!$A$7:$A$107,0),1),\"\")","v":""},{"$f":"IF($A61<>\"\",INDEX('Seznam střelců'!L$7:L$107,MATCH($B61,'Seznam střelců'!$A$7:$A$107,0),1),\"\")","v":""},{"$f":"IF($A61<>\"\",INDEX('Seznam střelců'!M$7:M$107,MATCH($B61,'Seznam střelců'!$A$7:$A$107,0),1),\"\")","v":""},{"$f":"IF($A61<>\"\",INDEX('Seznam střelců'!N$7:N$107,MATCH($B61,'Seznam střelců'!$A$7:$A$107,0),1),\"\")","v":""},{"$f":"IF($A61<>\"\",INDEX('Seznam střelců'!O$7:O$107,MATCH($B61,'Seznam střelců'!$A$7:$A$107,0),1),\"\")","v":""},"",{"$f":"IF($A61<>\"\",IF(0 = INDEX('Seznam střelců'!P$7:P$107,MATCH($B61,'Seznam střelců'!$A$7:$A$107,0),1),\"\",INDEX('Seznam střelců'!P$7:P$107,MATCH($B61,'Seznam střelců'!$A$7:$A$107,0),1)),\"\")","v":""},"",{"$f":"IF($A61<>\"\",IF(0 = INDEX('Seznam střelců'!Q$7:Q$107,MATCH($B61,'Seznam střelců'!$A$7:$A$107,0),1),\"\",INDEX('Seznam střelců'!Q$7:Q$107,MATCH($B61,'Seznam střelců'!$A$7:$A$107,0),1)),\"\")","v":""},{"$f":"IF($A61<>\"\",\n    IF(INDEX('Seznam střelců'!$C$7:$C$107,MATCH($B61,'Seznam střelců'!$A$7:$A$107,0),1) <> \"\",\n        \"Mimo soutěž\",\n        IF(AND($N61 > 0,OR(ISNA(MATCH($A61,'Seznam střelců'!$S$7:$S$107,0)),ISNA(MATCH($A62,'Seznam střelců'!$S$7:$S$107,0)))), \"Rozstřel\", \"\")\n    ),\"\")","v":""}]
[{"$f":"'Seznam střelců'!$A62","v":""},{"$f":"IF($A62<>\"\",INDEX('Seznam střelců'!$A$7:$A$107,MATCH($A62,'Pom. pořadí jednotlivci'!$Q$7:$Q$107,0),1),\"\")","v":""},{"$f":"IF($A62<>\"\",INDEX('Seznam střelců'!$E$7:$E$107,MATCH($B62,'Seznam střelců'!$A$7:$A$107,0),1),\"\")","v":""},{"$f":"IF($A62<>\"\",INDEX('Seznam střelců'!F$7:F$107,MATCH($B62,'Seznam střelců'!$A$7:$A$107,0),1),\"\")","v":""},{"$f":"IF($A62<>\"\",INDEX('Seznam střelců'!G$7:G$107,MATCH($B62,'Seznam střelců'!$A$7:$A$107,0),1),\"\")","v":""},{"$f":"IF($A62<>\"\",INDEX('Seznam střelců'!H$7:H$107,MATCH($B62,'Seznam střelců'!$A$7:$A$107,0),1),\"\")","v":""},{"$f":"IF($A62<>\"\",INDEX('Seznam střelců'!I$7:I$107,MATCH($B62,'Seznam střelců'!$A$7:$A$107,0),1),\"\")","v":""},{"$f":"IF($A62<>\"\",INDEX('Seznam střelců'!J$7:J$107,MATCH($B62,'Seznam střelců'!$A$7:$A$107,0),1),\"\")","v":""},{"$f":"IF($A62<>\"\",INDEX('Seznam střelců'!K$7:K$107,MATCH($B62,'Seznam střelců'!$A$7:$A$107,0),1),\"\")","v":""},{"$f":"IF($A62<>\"\",INDEX('Seznam střelců'!L$7:L$107,MATCH($B62,'Seznam střelců'!$A$7:$A$107,0),1),\"\")","v":""},{"$f":"IF($A62<>\"\",INDEX('Seznam střelců'!M$7:M$107,MATCH($B62,'Seznam střelců'!$A$7:$A$107,0),1),\"\")","v":""},{"$f":"IF($A62<>\"\",INDEX('Seznam střelců'!N$7:N$107,MATCH($B62,'Seznam střelců'!$A$7:$A$107,0),1),\"\")","v":""},{"$f":"IF($A62<>\"\",INDEX('Seznam střelců'!O$7:O$107,MATCH($B62,'Seznam střelců'!$A$7:$A$107,0),1),\"\")","v":""},"",{"$f":"IF($A62<>\"\",IF(0 = INDEX('Seznam střelců'!P$7:P$107,MATCH($B62,'Seznam střelců'!$A$7:$A$107,0),1),\"\",INDEX('Seznam střelců'!P$7:P$107,MATCH($B62,'Seznam střelců'!$A$7:$A$107,0),1)),\"\")","v":""},"",{"$f":"IF($A62<>\"\",IF(0 = INDEX('Seznam střelců'!Q$7:Q$107,MATCH($B62,'Seznam střelců'!$A$7:$A$107,0),1),\"\",INDEX('Seznam střelců'!Q$7:Q$107,MATCH($B62,'Seznam střelců'!$A$7:$A$107,0),1)),\"\")","v":""},{"$f":"IF($A62<>\"\",\n    IF(INDEX('Seznam střelců'!$C$7:$C$107,MATCH($B62,'Seznam střelců'!$A$7:$A$107,0),1) <> \"\",\n        \"Mimo soutěž\",\n        IF(AND($N62 > 0,OR(ISNA(MATCH($A62,'Seznam střelců'!$S$7:$S$107,0)),ISNA(MATCH($A63,'Seznam střelců'!$S$7:$S$107,0)))), \"Rozstřel\", \"\")\n    ),\"\")","v":""}]
[{"$f":"'Seznam střelců'!$A63","v":""},{"$f":"IF($A63<>\"\",INDEX('Seznam střelců'!$A$7:$A$107,MATCH($A63,'Pom. pořadí jednotlivci'!$Q$7:$Q$107,0),1),\"\")","v":""},{"$f":"IF($A63<>\"\",INDEX('Seznam střelců'!$E$7:$E$107,MATCH($B63,'Seznam střelců'!$A$7:$A$107,0),1),\"\")","v":""},{"$f":"IF($A63<>\"\",INDEX('Seznam střelců'!F$7:F$107,MATCH($B63,'Seznam střelců'!$A$7:$A$107,0),1),\"\")","v":""},{"$f":"IF($A63<>\"\",INDEX('Seznam střelců'!G$7:G$107,MATCH($B63,'Seznam střelců'!$A$7:$A$107,0),1),\"\")","v":""},{"$f":"IF($A63<>\"\",INDEX('Seznam střelců'!H$7:H$107,MATCH($B63,'Seznam střelců'!$A$7:$A$107,0),1),\"\")","v":""},{"$f":"IF($A63<>\"\",INDEX('Seznam střelců'!I$7:I$107,MATCH($B63,'Seznam střelců'!$A$7:$A$107,0),1),\"\")","v":""},{"$f":"IF($A63<>\"\",INDEX('Seznam střelců'!J$7:J$107,MATCH($B63,'Seznam střelců'!$A$7:$A$107,0),1),\"\")","v":""},{"$f":"IF($A63<>\"\",INDEX('Seznam střelců'!K$7:K$107,MATCH($B63,'Seznam střelců'!$A$7:$A$107,0),1),\"\")","v":""},{"$f":"IF($A63<>\"\",INDEX('Seznam střelců'!L$7:L$107,MATCH($B63,'Seznam střelců'!$A$7:$A$107,0),1),\"\")","v":""},{"$f":"IF($A63<>\"\",INDEX('Seznam střelců'!M$7:M$107,MATCH($B63,'Seznam střelců'!$A$7:$A$107,0),1),\"\")","v":""},{"$f":"IF($A63<>\"\",INDEX('Seznam střelců'!N$7:N$107,MATCH($B63,'Seznam střelců'!$A$7:$A$107,0),1),\"\")","v":""},{"$f":"IF($A63<>\"\",INDEX('Seznam střelců'!O$7:O$107,MATCH($B63,'Seznam střelců'!$A$7:$A$107,0),1),\"\")","v":""},"",{"$f":"IF($A63<>\"\",IF(0 = INDEX('Seznam střelců'!P$7:P$107,MATCH($B63,'Seznam střelců'!$A$7:$A$107,0),1),\"\",INDEX('Seznam střelců'!P$7:P$107,MATCH($B63,'Seznam střelců'!$A$7:$A$107,0),1)),\"\")","v":""},"",{"$f":"IF($A63<>\"\",IF(0 = INDEX('Seznam střelců'!Q$7:Q$107,MATCH($B63,'Seznam střelců'!$A$7:$A$107,0),1),\"\",INDEX('Seznam střelců'!Q$7:Q$107,MATCH($B63,'Seznam střelců'!$A$7:$A$107,0),1)),\"\")","v":""},{"$f":"IF($A63<>\"\",\n    IF(INDEX('Seznam střelců'!$C$7:$C$107,MATCH($B63,'Seznam střelců'!$A$7:$A$107,0),1) <> \"\",\n        \"Mimo soutěž\",\n        IF(AND($N63 > 0,OR(ISNA(MATCH($A63,'Seznam střelců'!$S$7:$S$107,0)),ISNA(MATCH($A64,'Seznam střelců'!$S$7:$S$107,0)))), \"Rozstřel\", \"\")\n    ),\"\")","v":""}]
[{"$f":"'Seznam střelců'!$A64","v":""},{"$f":"IF($A64<>\"\",INDEX('Seznam střelců'!$A$7:$A$107,MATCH($A64,'Pom. pořadí jednotlivci'!$Q$7:$Q$107,0),1),\"\")","v":""},{"$f":"IF($A64<>\"\",INDEX('Seznam střelců'!$E$7:$E$107,MATCH($B64,'Seznam střelců'!$A$7:$A$107,0),1),\"\")","v":""},{"$f":"IF($A64<>\"\",INDEX('Seznam střelců'!F$7:F$107,MATCH($B64,'Seznam střelců'!$A$7:$A$107,0),1),\"\")","v":""},{"$f":"IF($A64<>\"\",INDEX('Seznam střelců'!G$7:G$107,MATCH($B64,'Seznam střelců'!$A$7:$A$107,0),1),\"\")","v":""},{"$f":"IF($A64<>\"\",INDEX('Seznam střelců'!H$7:H$107,MATCH($B64,'Seznam střelců'!$A$7:$A$107,0),1),\"\")","v":""},{"$f":"IF($A64<>\"\",INDEX('Seznam střelců'!I$7:I$107,MATCH($B64,'Seznam střelců'!$A$7:$A$107,0),1),\"\")","v":""},{"$f":"IF($A64<>\"\",INDEX('Seznam střelců'!J$7:J$107,MATCH($B64,'Seznam střelců'!$A$7:$A$107,0),1),\"\")","v":""},{"$f":"IF($A64<>\"\",INDEX('Seznam střelců'!K$7:K$107,MATCH($B64,'Seznam střelců'!$A$7:$A$107,0),1),\"\")","v":""},{"$f":"IF($A64<>\"\",INDEX('Seznam střelců'!L$7:L$107,MATCH($B64,'Seznam střelců'!$A$7:$A$107,0),1),\"\")","v":""},{"$f":"IF($A64<>\"\",INDEX('Seznam střelců'!M$7:M$107,MATCH($B64,'Seznam střelců'!$A$7:$A$107,0),1),\"\")","v":""},{"$f":"IF($A64<>\"\",INDEX('Seznam střelců'!N$7:N$107,MATCH($B64,'Seznam střelců'!$A$7:$A$107,0),1),\"\")","v":""},{"$f":"IF($A64<>\"\",INDEX('Seznam střelců'!O$7:O$107,MATCH($B64,'Seznam střelců'!$A$7:$A$107,0),1),\"\")","v":""},"",{"$f":"IF($A64<>\"\",IF(0 = INDEX('Seznam střelců'!P$7:P$107,MATCH($B64,'Seznam střelců'!$A$7:$A$107,0),1),\"\",INDEX('Seznam střelců'!P$7:P$107,MATCH($B64,'Seznam střelců'!$A$7:$A$107,0),1)),\"\")","v":""},"",{"$f":"IF($A64<>\"\",IF(0 = INDEX('Seznam střelců'!Q$7:Q$107,MATCH($B64,'Seznam střelců'!$A$7:$A$107,0),1),\"\",INDEX('Seznam střelců'!Q$7:Q$107,MATCH($B64,'Seznam střelců'!$A$7:$A$107,0),1)),\"\")","v":""},{"$f":"IF($A64<>\"\",\n    IF(INDEX('Seznam střelců'!$C$7:$C$107,MATCH($B64,'Seznam střelců'!$A$7:$A$107,0),1) <> \"\",\n        \"Mimo soutěž\",\n        IF(AND($N64 > 0,OR(ISNA(MATCH($A64,'Seznam střelců'!$S$7:$S$107,0)),ISNA(MATCH($A65,'Seznam střelců'!$S$7:$S$107,0)))), \"Rozstřel\", \"\")\n    ),\"\")","v":""}]
[{"$f":"'Seznam střelců'!$A65","v":""},{"$f":"IF($A65<>\"\",INDEX('Seznam střelců'!$A$7:$A$107,MATCH($A65,'Pom. pořadí jednotlivci'!$Q$7:$Q$107,0),1),\"\")","v":""},{"$f":"IF($A65<>\"\",INDEX('Seznam střelců'!$E$7:$E$107,MATCH($B65,'Seznam střelců'!$A$7:$A$107,0),1),\"\")","v":""},{"$f":"IF($A65<>\"\",INDEX('Seznam střelců'!F$7:F$107,MATCH($B65,'Seznam střelců'!$A$7:$A$107,0),1),\"\")","v":""},{"$f":"IF($A65<>\"\",INDEX('Seznam střelců'!G$7:G$107,MATCH($B65,'Seznam střelců'!$A$7:$A$107,0),1),\"\")","v":""},{"$f":"IF($A65<>\"\",INDEX('Seznam střelců'!H$7:H$107,MATCH($B65,'Seznam střelců'!$A$7:$A$107,0),1),\"\")","v":""},{"$f":"IF($A65<>\"\",INDEX('Seznam střelců'!I$7:I$107,MATCH($B65,'Seznam střelců'!$A$7:$A$107,0),1),\"\")","v":""},{"$f":"IF($A65<>\"\",INDEX('Seznam střelců'!J$7:J$107,MATCH($B65,'Seznam střelců'!$A$7:$A$107,0),1),\"\")","v":""},{"$f":"IF($A65<>\"\",INDEX('Seznam střelců'!K$7:K$107,MATCH($B65,'Seznam střelců'!$A$7:$A$107,0),1),\"\")","v":""},{"$f":"IF($A65<>\"\",INDEX('Seznam střelců'!L$7:L$107,MATCH($B65,'Seznam střelců'!$A$7:$A$107,0),1),\"\")","v":""},{"$f":"IF($A65<>\"\",INDEX('Seznam střelců'!M$7:M$107,MATCH($B65,'Seznam střelců'!$A$7:$A$107,0),1),\"\")","v":""},{"$f":"IF($A65<>\"\",INDEX('Seznam střelců'!N$7:N$107,MATCH($B65,'Seznam střelců'!$A$7:$A$107,0),1),\"\")","v":""},{"$f":"IF($A65<>\"\",INDEX('Seznam střelců'!O$7:O$107,MATCH($B65,'Seznam střelců'!$A$7:$A$107,0),1),\"\")","v":""},"",{"$f":"IF($A65<>\"\",IF(0 = INDEX('Seznam střelců'!P$7:P$107,MATCH($B65,'Seznam střelců'!$A$7:$A$107,0),1),\"\",INDEX('Seznam střelců'!P$7:P$107,MATCH($B65,'Seznam střelců'!$A$7:$A$107,0),1)),\"\")","v":""},"",{"$f":"IF($A65<>\"\",IF(0 = INDEX('Seznam střelců'!Q$7:Q$107,MATCH($B65,'Seznam střelců'!$A$7:$A$107,0),1),\"\",INDEX('Seznam střelců'!Q$7:Q$107,MATCH($B65,'Seznam střelců'!$A$7:$A$107,0),1)),\"\")","v":""},{"$f":"IF($A65<>\"\",\n    IF(INDEX('Seznam střelců'!$C$7:$C$107,MATCH($B65,'Seznam střelců'!$A$7:$A$107,0),1) <> \"\",\n        \"Mimo soutěž\",\n        IF(AND($N65 > 0,OR(ISNA(MATCH($A65,'Seznam střelců'!$S$7:$S$107,0)),ISNA(MATCH($A66,'Seznam střelců'!$S$7:$S$107,0)))), \"Rozstřel\", \"\")\n    ),\"\")","v":""}]
[{"$f":"'Seznam střelců'!$A66","v":""},{"$f":"IF($A66<>\"\",INDEX('Seznam střelců'!$A$7:$A$107,MATCH($A66,'Pom. pořadí jednotlivci'!$Q$7:$Q$107,0),1),\"\")","v":""},{"$f":"IF($A66<>\"\",INDEX('Seznam střelců'!$E$7:$E$107,MATCH($B66,'Seznam střelců'!$A$7:$A$107,0),1),\"\")","v":""},{"$f":"IF($A66<>\"\",INDEX('Seznam střelců'!F$7:F$107,MATCH($B66,'Seznam střelců'!$A$7:$A$107,0),1),\"\")","v":""},{"$f":"IF($A66<>\"\",INDEX('Seznam střelců'!G$7:G$107,MATCH($B66,'Seznam střelců'!$A$7:$A$107,0),1),\"\")","v":""},{"$f":"IF($A66<>\"\",INDEX('Seznam střelců'!H$7:H$107,MATCH($B66,'Seznam střelců'!$A$7:$A$107,0),1),\"\")","v":""},{"$f":"IF($A66<>\"\",INDEX('Seznam střelců'!I$7:I$107,MATCH($B66,'Seznam střelců'!$A$7:$A$107,0),1),\"\")","v":""},{"$f":"IF($A66<>\"\",INDEX('Seznam střelců'!J$7:J$107,MATCH($B66,'Seznam střelců'!$A$7:$A$107,0),1),\"\")","v":""},{"$f":"IF($A66<>\"\",INDEX('Seznam střelců'!K$7:K$107,MATCH($B66,'Seznam střelců'!$A$7:$A$107,0),1),\"\")","v":""},{"$f":"IF($A66<>\"\",INDEX('Seznam střelců'!L$7:L$107,MATCH($B66,'Seznam střelců'!$A$7:$A$107,0),1),\"\")","v":""},{"$f":"IF($A66<>\"\",INDEX('Seznam střelců'!M$7:M$107,MATCH($B66,'Seznam střelců'!$A$7:$A$107,0),1),\"\")","v":""},{"$f":"IF($A66<>\"\",INDEX('Seznam střelců'!N$7:N$107,MATCH($B66,'Seznam střelců'!$A$7:$A$107,0),1),\"\")","v":""},{"$f":"IF($A66<>\"\",INDEX('Seznam střelců'!O$7:O$107,MATCH($B66,'Seznam střelců'!$A$7:$A$107,0),1),\"\")","v":""},"",{"$f":"IF($A66<>\"\",IF(0 = INDEX('Seznam střelců'!P$7:P$107,MATCH($B66,'Seznam střelců'!$A$7:$A$107,0),1),\"\",INDEX('Seznam střelců'!P$7:P$107,MATCH($B66,'Seznam střelců'!$A$7:$A$107,0),1)),\"\")","v":""},"",{"$f":"IF($A66<>\"\",IF(0 = INDEX('Seznam střelců'!Q$7:Q$107,MATCH($B66,'Seznam střelců'!$A$7:$A$107,0),1),\"\",INDEX('Seznam střelců'!Q$7:Q$107,MATCH($B66,'Seznam střelců'!$A$7:$A$107,0),1)),\"\")","v":""},{"$f":"IF($A66<>\"\",\n    IF(INDEX('Seznam střelců'!$C$7:$C$107,MATCH($B66,'Seznam střelců'!$A$7:$A$107,0),1) <> \"\",\n        \"Mimo soutěž\",\n        IF(AND($N66 > 0,OR(ISNA(MATCH($A66,'Seznam střelců'!$S$7:$S$107,0)),ISNA(MATCH($A67,'Seznam střelců'!$S$7:$S$107,0)))), \"Rozstřel\", \"\")\n    ),\"\")","v":""}]
[{"$f":"'Seznam střelců'!$A67","v":""},{"$f":"IF($A67<>\"\",INDEX('Seznam střelců'!$A$7:$A$107,MATCH($A67,'Pom. pořadí jednotlivci'!$Q$7:$Q$107,0),1),\"\")","v":""},{"$f":"IF($A67<>\"\",INDEX('Seznam střelců'!$E$7:$E$107,MATCH($B67,'Seznam střelců'!$A$7:$A$107,0),1),\"\")","v":""},{"$f":"IF($A67<>\"\",INDEX('Seznam střelců'!F$7:F$107,MATCH($B67,'Seznam střelců'!$A$7:$A$107,0),1),\"\")","v":""},{"$f":"IF($A67<>\"\",INDEX('Seznam střelců'!G$7:G$107,MATCH($B67,'Seznam střelců'!$A$7:$A$107,0),1),\"\")","v":""},{"$f":"IF($A67<>\"\",INDEX('Seznam střelců'!H$7:H$107,MATCH($B67,'Seznam střelců'!$A$7:$A$107,0),1),\"\")","v":""},{"$f":"IF($A67<>\"\",INDEX('Seznam střelců'!I$7:I$107,MATCH($B67,'Seznam střelců'!$A$7:$A$107,0),1),\"\")","v":""},{"$f":"IF($A67<>\"\",INDEX('Seznam střelců'!J$7:J$107,MATCH($B67,'Seznam střelců'!$A$7:$A$107,0),1),\"\")","v":""},{"$f":"IF($A67<>\"\",INDEX('Seznam střelců'!K$7:K$107,MATCH($B67,'Seznam střelců'!$A$7:$A$107,0),1),\"\")","v":""},{"$f":"IF($A67<>\"\",INDEX('Seznam střelců'!L$7:L$107,MATCH($B67,'Seznam střelců'!$A$7:$A$107,0),1),\"\")","v":""},{"$f":"IF($A67<>\"\",INDEX('Seznam střelců'!M$7:M$107,MATCH($B67,'Seznam střelců'!$A$7:$A$107,0),1),\"\")","v":""},{"$f":"IF($A67<>\"\",INDEX('Seznam střelců'!N$7:N$107,MATCH($B67,'Seznam střelců'!$A$7:$A$107,0),1),\"\")","v":""},{"$f":"IF($A67<>\"\",INDEX('Seznam střelců'!O$7:O$107,MATCH($B67,'Seznam střelců'!$A$7:$A$107,0),1),\"\")","v":""},"",{"$f":"IF($A67<>\"\",IF(0 = INDEX('Seznam střelců'!P$7:P$107,MATCH($B67,'Seznam střelců'!$A$7:$A$107,0),1),\"\",INDEX('Seznam střelců'!P$7:P$107,MATCH($B67,'Seznam střelců'!$A$7:$A$107,0),1)),\"\")","v":""},"",{"$f":"IF($A67<>\"\",IF(0 = INDEX('Seznam střelců'!Q$7:Q$107,MATCH($B67,'Seznam střelců'!$A$7:$A$107,0),1),\"\",INDEX('Seznam střelců'!Q$7:Q$107,MATCH($B67,'Seznam střelců'!$A$7:$A$107,0),1)),\"\")","v":""},{"$f":"IF($A67<>\"\",\n    IF(INDEX('Seznam střelců'!$C$7:$C$107,MATCH($B67,'Seznam střelců'!$A$7:$A$107,0),1) <> \"\",\n        \"Mimo soutěž\",\n        IF(AND($N67 > 0,OR(ISNA(MATCH($A67,'Seznam střelců'!$S$7:$S$107,0)),ISNA(MATCH($A68,'Seznam střelců'!$S$7:$S$107,0)))), \"Rozstřel\", \"\")\n    ),\"\")","v":""}]
[{"$f":"'Seznam střelců'!$A68","v":""},{"$f":"IF($A68<>\"\",INDEX('Seznam střelců'!$A$7:$A$107,MATCH($A68,'Pom. pořadí jednotlivci'!$Q$7:$Q$107,0),1),\"\")","v":""},{"$f":"IF($A68<>\"\",INDEX('Seznam střelců'!$E$7:$E$107,MATCH($B68,'Seznam střelců'!$A$7:$A$107,0),1),\"\")","v":""},{"$f":"IF($A68<>\"\",INDEX('Seznam střelců'!F$7:F$107,MATCH($B68,'Seznam střelců'!$A$7:$A$107,0),1),\"\")","v":""},{"$f":"IF($A68<>\"\",INDEX('Seznam střelců'!G$7:G$107,MATCH($B68,'Seznam střelců'!$A$7:$A$107,0),1),\"\")","v":""},{"$f":"IF($A68<>\"\",INDEX('Seznam střelců'!H$7:H$107,MATCH($B68,'Seznam střelců'!$A$7:$A$107,0),1),\"\")","v":""},{"$f":"IF($A68<>\"\",INDEX('Seznam střelců'!I$7:I$107,MATCH($B68,'Seznam střelců'!$A$7:$A$107,0),1),\"\")","v":""},{"$f":"IF($A68<>\"\",INDEX('Seznam střelců'!J$7:J$107,MATCH($B68,'Seznam střelců'!$A$7:$A$107,0),1),\"\")","v":""},{"$f":"IF($A68<>\"\",INDEX('Seznam střelců'!K$7:K$107,MATCH($B68,'Seznam střelců'!$A$7:$A$107,0),1),\"\")","v":""},{"$f":"IF($A68<>\"\",INDEX('Seznam střelců'!L$7:L$107,MATCH($B68,'Seznam střelců'!$A$7:$A$107,0),1),\"\")","v":""},{"$f":"IF($A68<>\"\",INDEX('Seznam střelců'!M$7:M$107,MATCH($B68,'Seznam střelců'!$A$7:$A$107,0),1),\"\")","v":""},{"$f":"IF($A68<>\"\",INDEX('Seznam střelců'!N$7:N$107,MATCH($B68,'Seznam střelců'!$A$7:$A$107,0),1),\"\")","v":""},{"$f":"IF($A68<>\"\",INDEX('Seznam střelců'!O$7:O$107,MATCH($B68,'Seznam střelců'!$A$7:$A$107,0),1),\"\")","v":""},"",{"$f":"IF($A68<>\"\",IF(0 = INDEX('Seznam střelců'!P$7:P$107,MATCH($B68,'Seznam střelců'!$A$7:$A$107,0),1),\"\",INDEX('Seznam střelců'!P$7:P$107,MATCH($B68,'Seznam střelců'!$A$7:$A$107,0),1)),\"\")","v":""},"",{"$f":"IF($A68<>\"\",IF(0 = INDEX('Seznam střelců'!Q$7:Q$107,MATCH($B68,'Seznam střelců'!$A$7:$A$107,0),1),\"\",INDEX('Seznam střelců'!Q$7:Q$107,MATCH($B68,'Seznam střelců'!$A$7:$A$107,0),1)),\"\")","v":""},{"$f":"IF($A68<>\"\",\n    IF(INDEX('Seznam střelců'!$C$7:$C$107,MATCH($B68,'Seznam střelců'!$A$7:$A$107,0),1) <> \"\",\n        \"Mimo soutěž\",\n        IF(AND($N68 > 0,OR(ISNA(MATCH($A68,'Seznam střelců'!$S$7:$S$107,0)),ISNA(MATCH($A69,'Seznam střelců'!$S$7:$S$107,0)))), \"Rozstřel\", \"\")\n    ),\"\")","v":""}]
[{"$f":"'Seznam střelců'!$A69","v":""},{"$f":"IF($A69<>\"\",INDEX('Seznam střelců'!$A$7:$A$107,MATCH($A69,'Pom. pořadí jednotlivci'!$Q$7:$Q$107,0),1),\"\")","v":""},{"$f":"IF($A69<>\"\",INDEX('Seznam střelců'!$E$7:$E$107,MATCH($B69,'Seznam střelců'!$A$7:$A$107,0),1),\"\")","v":""},{"$f":"IF($A69<>\"\",INDEX('Seznam střelců'!F$7:F$107,MATCH($B69,'Seznam střelců'!$A$7:$A$107,0),1),\"\")","v":""},{"$f":"IF($A69<>\"\",INDEX('Seznam střelců'!G$7:G$107,MATCH($B69,'Seznam střelců'!$A$7:$A$107,0),1),\"\")","v":""},{"$f":"IF($A69<>\"\",INDEX('Seznam střelců'!H$7:H$107,MATCH($B69,'Seznam střelců'!$A$7:$A$107,0),1),\"\")","v":""},{"$f":"IF($A69<>\"\",INDEX('Seznam střelců'!I$7:I$107,MATCH($B69,'Seznam střelců'!$A$7:$A$107,0),1),\"\")","v":""},{"$f":"IF($A69<>\"\",INDEX('Seznam střelců'!J$7:J$107,MATCH($B69,'Seznam střelců'!$A$7:$A$107,0),1),\"\")","v":""},{"$f":"IF($A69<>\"\",INDEX('Seznam střelců'!K$7:K$107,MATCH($B69,'Seznam střelců'!$A$7:$A$107,0),1),\"\")","v":""},{"$f":"IF($A69<>\"\",INDEX('Seznam střelců'!L$7:L$107,MATCH($B69,'Seznam střelců'!$A$7:$A$107,0),1),\"\")","v":""},{"$f":"IF($A69<>\"\",INDEX('Seznam střelců'!M$7:M$107,MATCH($B69,'Seznam střelců'!$A$7:$A$107,0),1),\"\")","v":""},{"$f":"IF($A69<>\"\",INDEX('Seznam střelců'!N$7:N$107,MATCH($B69,'Seznam střelců'!$A$7:$A$107,0),1),\"\")","v":""},{"$f":"IF($A69<>\"\",INDEX('Seznam střelců'!O$7:O$107,MATCH($B69,'Seznam střelců'!$A$7:$A$107,0),1),\"\")","v":""},"",{"$f":"IF($A69<>\"\",IF(0 = INDEX('Seznam střelců'!P$7:P$107,MATCH($B69,'Seznam střelců'!$A$7:$A$107,0),1),\"\",INDEX('Seznam střelců'!P$7:P$107,MATCH($B69,'Seznam střelců'!$A$7:$A$107,0),1)),\"\")","v":""},"",{"$f":"IF($A69<>\"\",IF(0 = INDEX('Seznam střelců'!Q$7:Q$107,MATCH($B69,'Seznam střelců'!$A$7:$A$107,0),1),\"\",INDEX('Seznam střelců'!Q$7:Q$107,MATCH($B69,'Seznam střelců'!$A$7:$A$107,0),1)),\"\")","v":""},{"$f":"IF($A69<>\"\",\n    IF(INDEX('Seznam střelců'!$C$7:$C$107,MATCH($B69,'Seznam střelců'!$A$7:$A$107,0),1) <> \"\",\n        \"Mimo soutěž\",\n        IF(AND($N69 > 0,OR(ISNA(MATCH($A69,'Seznam střelců'!$S$7:$S$107,0)),ISNA(MATCH($A70,'Seznam střelců'!$S$7:$S$107,0)))), \"Rozstřel\", \"\")\n    ),\"\")","v":""}]
[{"$f":"'Seznam střelců'!$A70","v":""},{"$f":"IF($A70<>\"\",INDEX('Seznam střelců'!$A$7:$A$107,MATCH($A70,'Pom. pořadí jednotlivci'!$Q$7:$Q$107,0),1),\"\")","v":""},{"$f":"IF($A70<>\"\",INDEX('Seznam střelců'!$E$7:$E$107,MATCH($B70,'Seznam střelců'!$A$7:$A$107,0),1),\"\")","v":""},{"$f":"IF($A70<>\"\",INDEX('Seznam střelců'!F$7:F$107,MATCH($B70,'Seznam střelců'!$A$7:$A$107,0),1),\"\")","v":""},{"$f":"IF($A70<>\"\",INDEX('Seznam střelců'!G$7:G$107,MATCH($B70,'Seznam střelců'!$A$7:$A$107,0),1),\"\")","v":""},{"$f":"IF($A70<>\"\",INDEX('Seznam střelců'!H$7:H$107,MATCH($B70,'Seznam střelců'!$A$7:$A$107,0),1),\"\")","v":""},{"$f":"IF($A70<>\"\",INDEX('Seznam střelců'!I$7:I$107,MATCH($B70,'Seznam střelců'!$A$7:$A$107,0),1),\"\")","v":""},{"$f":"IF($A70<>\"\",INDEX('Seznam střelců'!J$7:J$107,MATCH($B70,'Seznam střelců'!$A$7:$A$107,0),1),\"\")","v":""},{"$f":"IF($A70<>\"\",INDEX('Seznam střelců'!K$7:K$107,MATCH($B70,'Seznam střelců'!$A$7:$A$107,0),1),\"\")","v":""},{"$f":"IF($A70<>\"\",INDEX('Seznam střelců'!L$7:L$107,MATCH($B70,'Seznam střelců'!$A$7:$A$107,0),1),\"\")","v":""},{"$f":"IF($A70<>\"\",INDEX('Seznam střelců'!M$7:M$107,MATCH($B70,'Seznam střelců'!$A$7:$A$107,0),1),\"\")","v":""},{"$f":"IF($A70<>\"\",INDEX('Seznam střelců'!N$7:N$107,MATCH($B70,'Seznam střelců'!$A$7:$A$107,0),1),\"\")","v":""},{"$f":"IF($A70<>\"\",INDEX('Seznam střelců'!O$7:O$107,MATCH($B70,'Seznam střelců'!$A$7:$A$107,0),1),\"\")","v":""},"",{"$f":"IF($A70<>\"\",IF(0 = INDEX('Seznam střelců'!P$7:P$107,MATCH($B70,'Seznam střelců'!$A$7:$A$107,0),1),\"\",INDEX('Seznam střelců'!P$7:P$107,MATCH($B70,'Seznam střelců'!$A$7:$A$107,0),1)),\"\")","v":""},"",{"$f":"IF($A70<>\"\",IF(0 = INDEX('Seznam střelců'!Q$7:Q$107,MATCH($B70,'Seznam střelců'!$A$7:$A$107,0),1),\"\",INDEX('Seznam střelců'!Q$7:Q$107,MATCH($B70,'Seznam střelců'!$A$7:$A$107,0),1)),\"\")","v":""},{"$f":"IF($A70<>\"\",\n    IF(INDEX('Seznam střelců'!$C$7:$C$107,MATCH($B70,'Seznam střelců'!$A$7:$A$107,0),1) <> \"\",\n        \"Mimo soutěž\",\n        IF(AND($N70 > 0,OR(ISNA(MATCH($A70,'Seznam střelců'!$S$7:$S$107,0)),ISNA(MATCH($A71,'Seznam střelců'!$S$7:$S$107,0)))), \"Rozstřel\", \"\")\n    ),\"\")","v":""}]
[{"$f":"'Seznam střelců'!$A71","v":""},{"$f":"IF($A71<>\"\",INDEX('Seznam střelců'!$A$7:$A$107,MATCH($A71,'Pom. pořadí jednotlivci'!$Q$7:$Q$107,0),1),\"\")","v":""},{"$f":"IF($A71<>\"\",INDEX('Seznam střelců'!$E$7:$E$107,MATCH($B71,'Seznam střelců'!$A$7:$A$107,0),1),\"\")","v":""},{"$f":"IF($A71<>\"\",INDEX('Seznam střelců'!F$7:F$107,MATCH($B71,'Seznam střelců'!$A$7:$A$107,0),1),\"\")","v":""},{"$f":"IF($A71<>\"\",INDEX('Seznam střelců'!G$7:G$107,MATCH($B71,'Seznam střelců'!$A$7:$A$107,0),1),\"\")","v":""},{"$f":"IF($A71<>\"\",INDEX('Seznam střelců'!H$7:H$107,MATCH($B71,'Seznam střelců'!$A$7:$A$107,0),1),\"\")","v":""},{"$f":"IF($A71<>\"\",INDEX('Seznam střelců'!I$7:I$107,MATCH($B71,'Seznam střelců'!$A$7:$A$107,0),1),\"\")","v":""},{"$f":"IF($A71<>\"\",INDEX('Seznam střelců'!J$7:J$107,MATCH($B71,'Seznam střelců'!$A$7:$A$107,0),1),\"\")","v":""},{"$f":"IF($A71<>\"\",INDEX('Seznam střelců'!K$7:K$107,MATCH($B71,'Seznam střelců'!$A$7:$A$107,0),1),\"\")","v":""},{"$f":"IF($A71<>\"\",INDEX('Seznam střelců'!L$7:L$107,MATCH($B71,'Seznam střelců'!$A$7:$A$107,0),1),\"\")","v":""},{"$f":"IF($A71<>\"\",INDEX('Seznam střelců'!M$7:M$107,MATCH($B71,'Seznam střelců'!$A$7:$A$107,0),1),\"\")","v":""},{"$f":"IF($A71<>\"\",INDEX('Seznam střelců'!N$7:N$107,MATCH($B71,'Seznam střelců'!$A$7:$A$107,0),1),\"\")","v":""},{"$f":"IF($A71<>\"\",INDEX('Seznam střelců'!O$7:O$107,MATCH($B71,'Seznam střelců'!$A$7:$A$107,0),1),\"\")","v":""},{"$f":"IF($A71<>\"\",SUM($D71:$M71),\"\")","v":""},{"$f":"IF($A71<>\"\",IF(0 = INDEX('Seznam střelců'!P$7:P$107,MATCH($B71,'Seznam střelců'!$A$7:$A$107,0),1),\"\",INDEX('Seznam střelců'!P$7:P$107,MATCH($B71,'Seznam střelců'!$A$7:$A$107,0),1)),\"\")","v":""},"",{"$f":"IF($A71<>\"\",IF(0 = INDEX('Seznam střelců'!Q$7:Q$107,MATCH($B71,'Seznam střelců'!$A$7:$A$107,0),1),\"\",INDEX('Seznam střelců'!Q$7:Q$107,MATCH($B71,'Seznam střelců'!$A$7:$A$107,0),1)),\"\")","v":""},{"$f":"IF($A71<>\"\",\n    IF(INDEX('Seznam střelců'!$C$7:$C$107,MATCH($B71,'Seznam střelců'!$A$7:$A$107,0),1) <> \"\",\n        \"Mimo soutěž\",\n        IF(AND($N71 > 0,OR(ISNA(MATCH($A71,'Seznam střelců'!$S$7:$S$107,0)),ISNA(MATCH($A72,'Seznam střelců'!$S$7:$S$107,0)))), \"Rozstřel\", \"\")\n    ),\"\")","v":""}]
[{"$f":"'Seznam střelců'!$A72","v":""},{"$f":"IF($A72<>\"\",INDEX('Seznam střelců'!$A$7:$A$107,MATCH($A72,'Pom. pořadí jednotlivci'!$Q$7:$Q$107,0),1),\"\")","v":""},{"$f":"IF($A72<>\"\",INDEX('Seznam střelců'!$E$7:$E$107,MATCH($B72,'Seznam střelců'!$A$7:$A$107,0),1),\"\")","v":""},{"$f":"IF($A72<>\"\",INDEX('Seznam střelců'!F$7:F$107,MATCH($B72,'Seznam střelců'!$A$7:$A$107,0),1),\"\")","v":""},{"$f":"IF($A72<>\"\",INDEX('Seznam střelců'!G$7:G$107,MATCH($B72,'Seznam střelců'!$A$7:$A$107,0),1),\"\")","v":""},{"$f":"IF($A72<>\"\",INDEX('Seznam střelců'!H$7:H$107,MATCH($B72,'Seznam střelců'!$A$7:$A$107,0),1),\"\")","v":""},{"$f":"IF($A72<>\"\",INDEX('Seznam střelců'!I$7:I$107,MATCH($B72,'Seznam střelců'!$A$7:$A$107,0),1),\"\")","v":""},{"$f":"IF($A72<>\"\",INDEX('Seznam střelců'!J$7:J$107,MATCH($B72,'Seznam střelců'!$A$7:$A$107,0),1),\"\")","v":""},{"$f":"IF($A72<>\"\",INDEX('Seznam střelců'!K$7:K$107,MATCH($B72,'Seznam střelců'!$A$7:$A$107,0),1),\"\")","v":""},{"$f":"IF($A72<>\"\",INDEX('Seznam střelců'!L$7:L$107,MATCH($B72,'Seznam střelců'!$A$7:$A$107,0),1),\"\")","v":""},{"$f":"IF($A72<>\"\",INDEX('Seznam střelců'!M$7:M$107,MATCH($B72,'Seznam střelců'!$A$7:$A$107,0),1),\"\")","v":""},{"$f":"IF($A72<>\"\",INDEX('Seznam střelců'!N$7:N$107,MATCH($B72,'Seznam střelců'!$A$7:$A$107,0),1),\"\")","v":""},{"$f":"IF($A72<>\"\",INDEX('Seznam střelců'!O$7:O$107,MATCH($B72,'Seznam střelců'!$A$7:$A$107,0),1),\"\")","v":""},"",{"$f":"IF($A72<>\"\",IF(0 = INDEX('Seznam střelců'!P$7:P$107,MATCH($B72,'Seznam střelců'!$A$7:$A$107,0),1),\"\",INDEX('Seznam střelců'!P$7:P$107,MATCH($B72,'Seznam střelců'!$A$7:$A$107,0),1)),\"\")","v":""},{"$f":"IF(AND($N72<>\"\",$O72<>\"\"),N72+O72,\"\")","v":""},{"$f":"IF($A72<>\"\",IF(0 = INDEX('Seznam střelců'!Q$7:Q$107,MATCH($B72,'Seznam střelců'!$A$7:$A$107,0),1),\"\",INDEX('Seznam střelců'!Q$7:Q$107,MATCH($B72,'Seznam střelců'!$A$7:$A$107,0),1)),\"\")","v":""},{"$f":"IF($A72<>\"\",\n    IF(INDEX('Seznam střelců'!$C$7:$C$107,MATCH($B72,'Seznam střelců'!$A$7:$A$107,0),1) <> \"\",\n        \"Mimo soutěž\",\n        IF(AND($N72 > 0,OR(ISNA(MATCH($A72,'Seznam střelců'!$S$7:$S$107,0)),ISNA(MATCH($A73,'Seznam střelců'!$S$7:$S$107,0)))), \"Rozstřel\", \"\")\n    ),\"\")","v":""}]
[{"$f":"'Seznam střelců'!$A73","v":""},{"$f":"IF($A73<>\"\",INDEX('Seznam střelců'!$A$7:$A$107,MATCH($A73,'Pom. pořadí jednotlivci'!$Q$7:$Q$107,0),1),\"\")","v":""},{"$f":"IF($A73<>\"\",INDEX('Seznam střelců'!$E$7:$E$107,MATCH($B73,'Seznam střelců'!$A$7:$A$107,0),1),\"\")","v":""},{"$f":"IF($A73<>\"\",INDEX('Seznam střelců'!F$7:F$107,MATCH($B73,'Seznam střelců'!$A$7:$A$107,0),1),\"\")","v":""},{"$f":"IF($A73<>\"\",INDEX('Seznam střelců'!G$7:G$107,MATCH($B73,'Seznam střelců'!$A$7:$A$107,0),1),\"\")","v":""},{"$f":"IF($A73<>\"\",INDEX('Seznam střelců'!H$7:H$107,MATCH($B73,'Seznam střelců'!$A$7:$A$107,0),1),\"\")","v":""},{"$f":"IF($A73<>\"\",INDEX('Seznam střelců'!I$7:I$107,MATCH($B73,'Seznam střelců'!$A$7:$A$107,0),1),\"\")","v":""},{"$f":"IF($A73<>\"\",INDEX('Seznam střelců'!J$7:J$107,MATCH($B73,'Seznam střelců'!$A$7:$A$107,0),1),\"\")","v":""},{"$f":"IF($A73<>\"\",INDEX('Seznam střelců'!K$7:K$107,MATCH($B73,'Seznam střelců'!$A$7:$A$107,0),1),\"\")","v":""},{"$f":"IF($A73<>\"\",INDEX('Seznam střelců'!L$7:L$107,MATCH($B73,'Seznam střelců'!$A$7:$A$107,0),1),\"\")","v":""},{"$f":"IF($A73<>\"\",INDEX('Seznam střelců'!M$7:M$107,MATCH($B73,'Seznam střelců'!$A$7:$A$107,0),1),\"\")","v":""},{"$f":"IF($A73<>\"\",INDEX('Seznam střelců'!N$7:N$107,MATCH($B73,'Seznam střelců'!$A$7:$A$107,0),1),\"\")","v":""},{"$f":"IF($A73<>\"\",INDEX('Seznam střelců'!O$7:O$107,MATCH($B73,'Seznam střelců'!$A$7:$A$107,0),1),\"\")","v":""},"",{"$f":"IF($A73<>\"\",IF(0 = INDEX('Seznam střelců'!P$7:P$107,MATCH($B73,'Seznam střelců'!$A$7:$A$107,0),1),\"\",INDEX('Seznam střelců'!P$7:P$107,MATCH($B73,'Seznam střelců'!$A$7:$A$107,0),1)),\"\")","v":""},"",{"$f":"IF($A73<>\"\",IF(0 = INDEX('Seznam střelců'!Q$7:Q$107,MATCH($B73,'Seznam střelců'!$A$7:$A$107,0),1),\"\",INDEX('Seznam střelců'!Q$7:Q$107,MATCH($B73,'Seznam střelců'!$A$7:$A$107,0),1)),\"\")","v":""},{"$f":"IF($A73<>\"\",\n    IF(INDEX('Seznam střelců'!$C$7:$C$107,MATCH($B73,'Seznam střelců'!$A$7:$A$107,0),1) <> \"\",\n        \"Mimo soutěž\",\n        IF(AND($N73 > 0,OR(ISNA(MATCH($A73,'Seznam střelců'!$S$7:$S$107,0)),ISNA(MATCH($A74,'Seznam střelců'!$S$7:$S$107,0)))), \"Rozstřel\", \"\")\n    ),\"\")","v":""}]
[{"$f":"'Seznam střelců'!$A74","v":""},{"$f":"IF($A74<>\"\",INDEX('Seznam střelců'!$A$7:$A$107,MATCH($A74,'Pom. pořadí jednotlivci'!$Q$7:$Q$107,0),1),\"\")","v":""},{"$f":"IF($A74<>\"\",INDEX('Seznam střelců'!$E$7:$E$107,MATCH($B74,'Seznam střelců'!$A$7:$A$107,0),1),\"\")","v":""},{"$f":"IF($A74<>\"\",INDEX('Seznam střelců'!F$7:F$107,MATCH($B74,'Seznam střelců'!$A$7:$A$107,0),1),\"\")","v":""},{"$f":"IF($A74<>\"\",INDEX('Seznam střelců'!G$7:G$107,MATCH($B74,'Seznam střelců'!$A$7:$A$107,0),1),\"\")","v":""},{"$f":"IF($A74<>\"\",INDEX('Seznam střelců'!H$7:H$107,MATCH($B74,'Seznam střelců'!$A$7:$A$107,0),1),\"\")","v":""},{"$f":"IF($A74<>\"\",INDEX('Seznam střelců'!I$7:I$107,MATCH($B74,'Seznam střelců'!$A$7:$A$107,0),1),\"\")","v":""},{"$f":"IF($A74<>\"\",INDEX('Seznam střelců'!J$7:J$107,MATCH($B74,'Seznam střelců'!$A$7:$A$107,0),1),\"\")","v":""},{"$f":"IF($A74<>\"\",INDEX('Seznam střelců'!K$7:K$107,MATCH($B74,'Seznam střelců'!$A$7:$A$107,0),1),\"\")","v":""},{"$f":"IF($A74<>\"\",INDEX('Seznam střelců'!L$7:L$107,MATCH($B74,'Seznam střelců'!$A$7:$A$107,0),1),\"\")","v":""},{"$f":"IF($A74<>\"\",INDEX('Seznam střelců'!M$7:M$107,MATCH($B74,'Seznam střelců'!$A$7:$A$107,0),1),\"\")","v":""},{"$f":"IF($A74<>\"\",INDEX('Seznam střelců'!N$7:N$107,MATCH($B74,'Seznam střelců'!$A$7:$A$107,0),1),\"\")","v":""},{"$f":"IF($A74<>\"\",INDEX('Seznam střelců'!O$7:O$107,MATCH($B74,'Seznam střelců'!$A$7:$A$107,0),1),\"\")","v":""},"",{"$f":"IF($A74<>\"\",IF(0 = INDEX('Seznam střelců'!P$7:P$107,MATCH($B74,'Seznam střelců'!$A$7:$A$107,0),1),\"\",INDEX('Seznam střelců'!P$7:P$107,MATCH($B74,'Seznam střelců'!$A$7:$A$107,0),1)),\"\")","v":""},"",{"$f":"IF($A74<>\"\",IF(0 = INDEX('Seznam střelců'!Q$7:Q$107,MATCH($B74,'Seznam střelců'!$A$7:$A$107,0),1),\"\",INDEX('Seznam střelců'!Q$7:Q$107,MATCH($B74,'Seznam střelců'!$A$7:$A$107,0),1)),\"\")","v":""},{"$f":"IF($A74<>\"\",\n    IF(INDEX('Seznam střelců'!$C$7:$C$107,MATCH($B74,'Seznam střelců'!$A$7:$A$107,0),1) <> \"\",\n        \"Mimo soutěž\",\n        IF(AND($N74 > 0,OR(ISNA(MATCH($A74,'Seznam střelců'!$S$7:$S$107,0)),ISNA(MATCH($A75,'Seznam střelců'!$S$7:$S$107,0)))), \"Rozstřel\", \"\")\n    ),\"\")","v":""}]
[{"$f":"'Seznam střelců'!$A75","v":""},{"$f":"IF($A75<>\"\",INDEX('Seznam střelců'!$A$7:$A$107,MATCH($A75,'Pom. pořadí jednotlivci'!$Q$7:$Q$107,0),1),\"\")","v":""},{"$f":"IF($A75<>\"\",INDEX('Seznam střelců'!$E$7:$E$107,MATCH($B75,'Seznam střelců'!$A$7:$A$107,0),1),\"\")","v":""},{"$f":"IF($A75<>\"\",INDEX('Seznam střelců'!F$7:F$107,MATCH($B75,'Seznam střelců'!$A$7:$A$107,0),1),\"\")","v":""},{"$f":"IF($A75<>\"\",INDEX('Seznam střelců'!G$7:G$107,MATCH($B75,'Seznam střelců'!$A$7:$A$107,0),1),\"\")","v":""},{"$f":"IF($A75<>\"\",INDEX('Seznam střelců'!H$7:H$107,MATCH($B75,'Seznam střelců'!$A$7:$A$107,0),1),\"\")","v":""},{"$f":"IF($A75<>\"\",INDEX('Seznam střelců'!I$7:I$107,MATCH($B75,'Seznam střelců'!$A$7:$A$107,0),1),\"\")","v":""},{"$f":"IF($A75<>\"\",INDEX('Seznam střelců'!J$7:J$107,MATCH($B75,'Seznam střelců'!$A$7:$A$107,0),1),\"\")","v":""},{"$f":"IF($A75<>\"\",INDEX('Seznam střelců'!K$7:K$107,MATCH($B75,'Seznam střelců'!$A$7:$A$107,0),1),\"\")","v":""},{"$f":"IF($A75<>\"\",INDEX('Seznam střelců'!L$7:L$107,MATCH($B75,'Seznam střelců'!$A$7:$A$107,0),1),\"\")","v":""},{"$f":"IF($A75<>\"\",INDEX('Seznam střelců'!M$7:M$107,MATCH($B75,'Seznam střelců'!$A$7:$A$107,0),1),\"\")","v":""},{"$f":"IF($A75<>\"\",INDEX('Seznam střelců'!N$7:N$107,MATCH($B75,'Seznam střelců'!$A$7:$A$107,0),1),\"\")","v":""},{"$f":"IF($A75<>\"\",INDEX('Seznam střelců'!O$7:O$107,MATCH($B75,'Seznam střelců'!$A$7:$A$107,0),1),\"\")","v":""},"",{"$f":"IF($A75<>\"\",IF(0 = INDEX('Seznam střelců'!P$7:P$107,MATCH($B75,'Seznam střelců'!$A$7:$A$107,0),1),\"\",INDEX('Seznam střelců'!P$7:P$107,MATCH($B75,'Seznam střelců'!$A$7:$A$107,0),1)),\"\")","v":""},"",{"$f":"IF($A75<>\"\",IF(0 = INDEX('Seznam střelců'!Q$7:Q$107,MATCH($B75,'Seznam střelců'!$A$7:$A$107,0),1),\"\",INDEX('Seznam střelců'!Q$7:Q$107,MATCH($B75,'Seznam střelců'!$A$7:$A$107,0),1)),\"\")","v":""},{"$f":"IF($A75<>\"\",\n    IF(INDEX('Seznam střelců'!$C$7:$C$107,MATCH($B75,'Seznam střelců'!$A$7:$A$107,0),1) <> \"\",\n        \"Mimo soutěž\",\n        IF(AND($N75 > 0,OR(ISNA(MATCH($A75,'Seznam střelců'!$S$7:$S$107,0)),ISNA(MATCH($A76,'Seznam střelců'!$S$7:$S$107,0)))), \"Rozstřel\", \"\")\n    ),\"\")","v":""}]
[{"$f":"'Seznam střelců'!$A76","v":""},{"$f":"IF($A76<>\"\",INDEX('Seznam střelců'!$A$7:$A$107,MATCH($A76,'Pom. pořadí jednotlivci'!$Q$7:$Q$107,0),1),\"\")","v":""},{"$f":"IF($A76<>\"\",INDEX('Seznam střelců'!$E$7:$E$107,MATCH($B76,'Seznam střelců'!$A$7:$A$107,0),1),\"\")","v":""},{"$f":"IF($A76<>\"\",INDEX('Seznam střelců'!F$7:F$107,MATCH($B76,'Seznam střelců'!$A$7:$A$107,0),1),\"\")","v":""},{"$f":"IF($A76<>\"\",INDEX('Seznam střelců'!G$7:G$107,MATCH($B76,'Seznam střelců'!$A$7:$A$107,0),1),\"\")","v":""},{"$f":"IF($A76<>\"\",INDEX('Seznam střelců'!H$7:H$107,MATCH($B76,'Seznam střelců'!$A$7:$A$107,0),1),\"\")","v":""},{"$f":"IF($A76<>\"\",INDEX('Seznam střelců'!I$7:I$107,MATCH($B76,'Seznam střelců'!$A$7:$A$107,0),1),\"\")","v":""},{"$f":"IF($A76<>\"\",INDEX('Seznam střelců'!J$7:J$107,MATCH($B76,'Seznam střelců'!$A$7:$A$107,0),1),\"\")","v":""},{"$f":"IF($A76<>\"\",INDEX('Seznam střelců'!K$7:K$107,MATCH($B76,'Seznam střelců'!$A$7:$A$107,0),1),\"\")","v":""},{"$f":"IF($A76<>\"\",INDEX('Seznam střelců'!L$7:L$107,MATCH($B76,'Seznam střelců'!$A$7:$A$107,0),1),\"\")","v":""},{"$f":"IF($A76<>\"\",INDEX('Seznam střelců'!M$7:M$107,MATCH($B76,'Seznam střelců'!$A$7:$A$107,0),1),\"\")","v":""},{"$f":"IF($A76<>\"\",INDEX('Seznam střelců'!N$7:N$107,MATCH($B76,'Seznam střelců'!$A$7:$A$107,0),1),\"\")","v":""},{"$f":"IF($A76<>\"\",INDEX('Seznam střelců'!O$7:O$107,MATCH($B76,'Seznam střelců'!$A$7:$A$107,0),1),\"\")","v":""},"",{"$f":"IF($A76<>\"\",IF(0 = INDEX('Seznam střelců'!P$7:P$107,MATCH($B76,'Seznam střelců'!$A$7:$A$107,0),1),\"\",INDEX('Seznam střelců'!P$7:P$107,MATCH($B76,'Seznam střelců'!$A$7:$A$107,0),1)),\"\")","v":""},"",{"$f":"IF($A76<>\"\",IF(0 = INDEX('Seznam střelců'!Q$7:Q$107,MATCH($B76,'Seznam střelců'!$A$7:$A$107,0),1),\"\",INDEX('Seznam střelců'!Q$7:Q$107,MATCH($B76,'Seznam střelců'!$A$7:$A$107,0),1)),\"\")","v":""},{"$f":"IF($A76<>\"\",\n    IF(INDEX('Seznam střelců'!$C$7:$C$107,MATCH($B76,'Seznam střelců'!$A$7:$A$107,0),1) <> \"\",\n        \"Mimo soutěž\",\n        IF(AND($N76 > 0,OR(ISNA(MATCH($A76,'Seznam střelců'!$S$7:$S$107,0)),ISNA(MATCH($A77,'Seznam střelců'!$S$7:$S$107,0)))), \"Rozstřel\", \"\")\n    ),\"\")","v":""}]
[{"$f":"'Seznam střelců'!$A77","v":""},{"$f":"IF($A77<>\"\",INDEX('Seznam střelců'!$A$7:$A$107,MATCH($A77,'Pom. pořadí jednotlivci'!$Q$7:$Q$107,0),1),\"\")","v":""},{"$f":"IF($A77<>\"\",INDEX('Seznam střelců'!$E$7:$E$107,MATCH($B77,'Seznam střelců'!$A$7:$A$107,0),1),\"\")","v":""},{"$f":"IF($A77<>\"\",INDEX('Seznam střelců'!F$7:F$107,MATCH($B77,'Seznam střelců'!$A$7:$A$107,0),1),\"\")","v":""},{"$f":"IF($A77<>\"\",INDEX('Seznam střelců'!G$7:G$107,MATCH($B77,'Seznam střelců'!$A$7:$A$107,0),1),\"\")","v":""},{"$f":"IF($A77<>\"\",INDEX('Seznam střelců'!H$7:H$107,MATCH($B77,'Seznam střelců'!$A$7:$A$107,0),1),\"\")","v":""},{"$f":"IF($A77<>\"\",INDEX('Seznam střelců'!I$7:I$107,MATCH($B77,'Seznam střelců'!$A$7:$A$107,0),1),\"\")","v":""},{"$f":"IF($A77<>\"\",INDEX('Seznam střelců'!J$7:J$107,MATCH($B77,'Seznam střelců'!$A$7:$A$107,0),1),\"\")","v":""},{"$f":"IF($A77<>\"\",INDEX('Seznam střelců'!K$7:K$107,MATCH($B77,'Seznam střelců'!$A$7:$A$107,0),1),\"\")","v":""},{"$f":"IF($A77<>\"\",INDEX('Seznam střelců'!L$7:L$107,MATCH($B77,'Seznam střelců'!$A$7:$A$107,0),1),\"\")","v":""},{"$f":"IF($A77<>\"\",INDEX('Seznam střelců'!M$7:M$107,MATCH($B77,'Seznam střelců'!$A$7:$A$107,0),1),\"\")","v":""},{"$f":"IF($A77<>\"\",INDEX('Seznam střelců'!N$7:N$107,MATCH($B77,'Seznam střelců'!$A$7:$A$107,0),1),\"\")","v":""},{"$f":"IF($A77<>\"\",INDEX('Seznam střelců'!O$7:O$107,MATCH($B77,'Seznam střelců'!$A$7:$A$107,0),1),\"\")","v":""},"",{"$f":"IF($A77<>\"\",IF(0 = INDEX('Seznam střelců'!P$7:P$107,MATCH($B77,'Seznam střelců'!$A$7:$A$107,0),1),\"\",INDEX('Seznam střelců'!P$7:P$107,MATCH($B77,'Seznam střelců'!$A$7:$A$107,0),1)),\"\")","v":""},"",{"$f":"IF($A77<>\"\",IF(0 = INDEX('Seznam střelců'!Q$7:Q$107,MATCH($B77,'Seznam střelců'!$A$7:$A$107,0),1),\"\",INDEX('Seznam střelců'!Q$7:Q$107,MATCH($B77,'Seznam střelců'!$A$7:$A$107,0),1)),\"\")","v":""},{"$f":"IF($A77<>\"\",\n    IF(INDEX('Seznam střelců'!$C$7:$C$107,MATCH($B77,'Seznam střelců'!$A$7:$A$107,0),1) <> \"\",\n        \"Mimo soutěž\",\n        IF(AND($N77 > 0,OR(ISNA(MATCH($A77,'Seznam střelců'!$S$7:$S$107,0)),ISNA(MATCH($A78,'Seznam střelců'!$S$7:$S$107,0)))), \"Rozstřel\", \"\")\n    ),\"\")","v":""}]
[{"$f":"'Seznam střelců'!$A78","v":""},{"$f":"IF($A78<>\"\",INDEX('Seznam střelců'!$A$7:$A$107,MATCH($A78,'Pom. pořadí jednotlivci'!$Q$7:$Q$107,0),1),\"\")","v":""},{"$f":"IF($A78<>\"\",INDEX('Seznam střelců'!$E$7:$E$107,MATCH($B78,'Seznam střelců'!$A$7:$A$107,0),1),\"\")","v":""},{"$f":"IF($A78<>\"\",INDEX('Seznam střelců'!F$7:F$107,MATCH($B78,'Seznam střelců'!$A$7:$A$107,0),1),\"\")","v":""},{"$f":"IF($A78<>\"\",INDEX('Seznam střelců'!G$7:G$107,MATCH($B78,'Seznam střelců'!$A$7:$A$107,0),1),\"\")","v":""},{"$f":"IF($A78<>\"\",INDEX('Seznam střelců'!H$7:H$107,MATCH($B78,'Seznam střelců'!$A$7:$A$107,0),1),\"\")","v":""},{"$f":"IF($A78<>\"\",INDEX('Seznam střelců'!I$7:I$107,MATCH($B78,'Seznam střelců'!$A$7:$A$107,0),1),\"\")","v":""},{"$f":"IF($A78<>\"\",INDEX('Seznam střelců'!J$7:J$107,MATCH($B78,'Seznam střelců'!$A$7:$A$107,0),1),\"\")","v":""},{"$f":"IF($A78<>\"\",INDEX('Seznam střelců'!K$7:K$107,MATCH($B78,'Seznam střelců'!$A$7:$A$107,0),1),\"\")","v":""},{"$f":"IF($A78<>\"\",INDEX('Seznam střelců'!L$7:L$107,MATCH($B78,'Seznam střelců'!$A$7:$A$107,0),1),\"\")","v":""},{"$f":"IF($A78<>\"\",INDEX('Seznam střelců'!M$7:M$107,MATCH($B78,'Seznam střelců'!$A$7:$A$107,0),1),\"\")","v":""},{"$f":"IF($A78<>\"\",INDEX('Seznam střelců'!N$7:N$107,MATCH($B78,'Seznam střelců'!$A$7:$A$107,0),1),\"\")","v":""},{"$f":"IF($A78<>\"\",INDEX('Seznam střelců'!O$7:O$107,MATCH($B78,'Seznam střelců'!$A$7:$A$107,0),1),\"\")","v":""},"",{"$f":"IF($A78<>\"\",IF(0 = INDEX('Seznam střelců'!P$7:P$107,MATCH($B78,'Seznam střelců'!$A$7:$A$107,0),1),\"\",INDEX('Seznam střelců'!P$7:P$107,MATCH($B78,'Seznam střelců'!$A$7:$A$107,0),1)),\"\")","v":""},"",{"$f":"IF($A78<>\"\",IF(0 = INDEX('Seznam střelců'!Q$7:Q$107,MATCH($B78,'Seznam střelců'!$A$7:$A$107,0),1),\"\",INDEX('Seznam střelců'!Q$7:Q$107,MATCH($B78,'Seznam střelců'!$A$7:$A$107,0),1)),\"\")","v":""},{"$f":"IF($A78<>\"\",\n    IF(INDEX('Seznam střelců'!$C$7:$C$107,MATCH($B78,'Seznam střelců'!$A$7:$A$107,0),1) <> \"\",\n        \"Mimo soutěž\",\n        IF(AND($N78 > 0,OR(ISNA(MATCH($A78,'Seznam střelců'!$S$7:$S$107,0)),ISNA(MATCH($A79,'Seznam střelců'!$S$7:$S$107,0)))), \"Rozstřel\", \"\")\n    ),\"\")","v":""}]
[{"$f":"'Seznam střelců'!$A79","v":""},{"$f":"IF($A79<>\"\",INDEX('Seznam střelců'!$A$7:$A$107,MATCH($A79,'Pom. pořadí jednotlivci'!$Q$7:$Q$107,0),1),\"\")","v":""},{"$f":"IF($A79<>\"\",INDEX('Seznam střelců'!$E$7:$E$107,MATCH($B79,'Seznam střelců'!$A$7:$A$107,0),1),\"\")","v":""},{"$f":"IF($A79<>\"\",INDEX('Seznam střelců'!F$7:F$107,MATCH($B79,'Seznam střelců'!$A$7:$A$107,0),1),\"\")","v":""},{"$f":"IF($A79<>\"\",INDEX('Seznam střelců'!G$7:G$107,MATCH($B79,'Seznam střelců'!$A$7:$A$107,0),1),\"\")","v":""},{"$f":"IF($A79<>\"\",INDEX('Seznam střelců'!H$7:H$107,MATCH($B79,'Seznam střelců'!$A$7:$A$107,0),1),\"\")","v":""},{"$f":"IF($A79<>\"\",INDEX('Seznam střelců'!I$7:I$107,MATCH($B79,'Seznam střelců'!$A$7:$A$107,0),1),\"\")","v":""},{"$f":"IF($A79<>\"\",INDEX('Seznam střelců'!J$7:J$107,MATCH($B79,'Seznam střelců'!$A$7:$A$107,0),1),\"\")","v":""},{"$f":"IF($A79<>\"\",INDEX('Seznam střelců'!K$7:K$107,MATCH($B79,'Seznam střelců'!$A$7:$A$107,0),1),\"\")","v":""},{"$f":"IF($A79<>\"\",INDEX('Seznam střelců'!L$7:L$107,MATCH($B79,'Seznam střelců'!$A$7:$A$107,0),1),\"\")","v":""},{"$f":"IF($A79<>\"\",INDEX('Seznam střelců'!M$7:M$107,MATCH($B79,'Seznam střelců'!$A$7:$A$107,0),1),\"\")","v":""},{"$f":"IF($A79<>\"\",INDEX('Seznam střelců'!N$7:N$107,MATCH($B79,'Seznam střelců'!$A$7:$A$107,0),1),\"\")","v":""},{"$f":"IF($A79<>\"\",INDEX('Seznam střelců'!O$7:O$107,MATCH($B79,'Seznam střelců'!$A$7:$A$107,0),1),\"\")","v":""},"",{"$f":"IF($A79<>\"\",IF(0 = INDEX('Seznam střelců'!P$7:P$107,MATCH($B79,'Seznam střelců'!$A$7:$A$107,0),1),\"\",INDEX('Seznam střelců'!P$7:P$107,MATCH($B79,'Seznam střelců'!$A$7:$A$107,0),1)),\"\")","v":""},"",{"$f":"IF($A79<>\"\",IF(0 = INDEX('Seznam střelců'!Q$7:Q$107,MATCH($B79,'Seznam střelců'!$A$7:$A$107,0),1),\"\",INDEX('Seznam střelců'!Q$7:Q$107,MATCH($B79,'Seznam střelců'!$A$7:$A$107,0),1)),\"\")","v":""},{"$f":"IF($A79<>\"\",\n    IF(INDEX('Seznam střelců'!$C$7:$C$107,MATCH($B79,'Seznam střelců'!$A$7:$A$107,0),1) <> \"\",\n        \"Mimo soutěž\",\n        IF(AND($N79 > 0,OR(ISNA(MATCH($A79,'Seznam střelců'!$S$7:$S$107,0)),ISNA(MATCH($A80,'Seznam střelců'!$S$7:$S$107,0)))), \"Rozstřel\", \"\")\n    ),\"\")","v":""}]
[{"$f":"'Seznam střelců'!$A80","v":""},{"$f":"IF($A80<>\"\",INDEX('Seznam střelců'!$A$7:$A$107,MATCH($A80,'Pom. pořadí jednotlivci'!$Q$7:$Q$107,0),1),\"\")","v":""},{"$f":"IF($A80<>\"\",INDEX('Seznam střelců'!$E$7:$E$107,MATCH($B80,'Seznam střelců'!$A$7:$A$107,0),1),\"\")","v":""},{"$f":"IF($A80<>\"\",INDEX('Seznam střelců'!F$7:F$107,MATCH($B80,'Seznam střelců'!$A$7:$A$107,0),1),\"\")","v":""},{"$f":"IF($A80<>\"\",INDEX('Seznam střelců'!G$7:G$107,MATCH($B80,'Seznam střelců'!$A$7:$A$107,0),1),\"\")","v":""},{"$f":"IF($A80<>\"\",INDEX('Seznam střelců'!H$7:H$107,MATCH($B80,'Seznam střelců'!$A$7:$A$107,0),1),\"\")","v":""},{"$f":"IF($A80<>\"\",INDEX('Seznam střelců'!I$7:I$107,MATCH($B80,'Seznam střelců'!$A$7:$A$107,0),1),\"\")","v":""},{"$f":"IF($A80<>\"\",INDEX('Seznam střelců'!J$7:J$107,MATCH($B80,'Seznam střelců'!$A$7:$A$107,0),1),\"\")","v":""},{"$f":"IF($A80<>\"\",INDEX('Seznam střelců'!K$7:K$107,MATCH($B80,'Seznam střelců'!$A$7:$A$107,0),1),\"\")","v":""},{"$f":"IF($A80<>\"\",INDEX('Seznam střelců'!L$7:L$107,MATCH($B80,'Seznam střelců'!$A$7:$A$107,0),1),\"\")","v":""},{"$f":"IF($A80<>\"\",INDEX('Seznam střelců'!M$7:M$107,MATCH($B80,'Seznam střelců'!$A$7:$A$107,0),1),\"\")","v":""},{"$f":"IF($A80<>\"\",INDEX('Seznam střelců'!N$7:N$107,MATCH($B80,'Seznam střelců'!$A$7:$A$107,0),1),\"\")","v":""},{"$f":"IF($A80<>\"\",INDEX('Seznam střelců'!O$7:O$107,MATCH($B80,'Seznam střelců'!$A$7:$A$107,0),1),\"\")","v":""},"",{"$f":"IF($A80<>\"\",IF(0 = INDEX('Seznam střelců'!P$7:P$107,MATCH($B80,'Seznam střelců'!$A$7:$A$107,0),1),\"\",INDEX('Seznam střelců'!P$7:P$107,MATCH($B80,'Seznam střelců'!$A$7:$A$107,0),1)),\"\")","v":""},"",{"$f":"IF($A80<>\"\",IF(0 = INDEX('Seznam střelců'!Q$7:Q$107,MATCH($B80,'Seznam střelců'!$A$7:$A$107,0),1),\"\",INDEX('Seznam střelců'!Q$7:Q$107,MATCH($B80,'Seznam střelců'!$A$7:$A$107,0),1)),\"\")","v":""},{"$f":"IF($A80<>\"\",\n    IF(INDEX('Seznam střelců'!$C$7:$C$107,MATCH($B80,'Seznam střelců'!$A$7:$A$107,0),1) <> \"\",\n        \"Mimo soutěž\",\n        IF(AND($N80 > 0,OR(ISNA(MATCH($A80,'Seznam střelců'!$S$7:$S$107,0)),ISNA(MATCH($A81,'Seznam střelců'!$S$7:$S$107,0)))), \"Rozstřel\", \"\")\n    ),\"\")","v":""}]
[{"$f":"'Seznam střelců'!$A81","v":""},{"$f":"IF($A81<>\"\",INDEX('Seznam střelců'!$A$7:$A$107,MATCH($A81,'Pom. pořadí jednotlivci'!$Q$7:$Q$107,0),1),\"\")","v":""},{"$f":"IF($A81<>\"\",INDEX('Seznam střelců'!$E$7:$E$107,MATCH($B81,'Seznam střelců'!$A$7:$A$107,0),1),\"\")","v":""},{"$f":"IF($A81<>\"\",INDEX('Seznam střelců'!F$7:F$107,MATCH($B81,'Seznam střelců'!$A$7:$A$107,0),1),\"\")","v":""},{"$f":"IF($A81<>\"\",INDEX('Seznam střelců'!G$7:G$107,MATCH($B81,'Seznam střelců'!$A$7:$A$107,0),1),\"\")","v":""},{"$f":"IF($A81<>\"\",INDEX('Seznam střelců'!H$7:H$107,MATCH($B81,'Seznam střelců'!$A$7:$A$107,0),1),\"\")","v":""},{"$f":"IF($A81<>\"\",INDEX('Seznam střelců'!I$7:I$107,MATCH($B81,'Seznam střelců'!$A$7:$A$107,0),1),\"\")","v":""},{"$f":"IF($A81<>\"\",INDEX('Seznam střelců'!J$7:J$107,MATCH($B81,'Seznam střelců'!$A$7:$A$107,0),1),\"\")","v":""},{"$f":"IF($A81<>\"\",INDEX('Seznam střelců'!K$7:K$107,MATCH($B81,'Seznam střelců'!$A$7:$A$107,0),1),\"\")","v":""},{"$f":"IF($A81<>\"\",INDEX('Seznam střelců'!L$7:L$107,MATCH($B81,'Seznam střelců'!$A$7:$A$107,0),1),\"\")","v":""},{"$f":"IF($A81<>\"\",INDEX('Seznam střelců'!M$7:M$107,MATCH($B81,'Seznam střelců'!$A$7:$A$107,0),1),\"\")","v":""},{"$f":"IF($A81<>\"\",INDEX('Seznam střelců'!N$7:N$107,MATCH($B81,'Seznam střelců'!$A$7:$A$107,0),1),\"\")","v":""},{"$f":"IF($A81<>\"\",INDEX('Seznam střelců'!O$7:O$107,MATCH($B81,'Seznam střelců'!$A$7:$A$107,0),1),\"\")","v":""},"",{"$f":"IF($A81<>\"\",IF(0 = INDEX('Seznam střelců'!P$7:P$107,MATCH($B81,'Seznam střelců'!$A$7:$A$107,0),1),\"\",INDEX('Seznam střelců'!P$7:P$107,MATCH($B81,'Seznam střelců'!$A$7:$A$107,0),1)),\"\")","v":""},"",{"$f":"IF($A81<>\"\",IF(0 = INDEX('Seznam střelců'!Q$7:Q$107,MATCH($B81,'Seznam střelců'!$A$7:$A$107,0),1),\"\",INDEX('Seznam střelců'!Q$7:Q$107,MATCH($B81,'Seznam střelců'!$A$7:$A$107,0),1)),\"\")","v":""},{"$f":"IF($A81<>\"\",\n    IF(INDEX('Seznam střelců'!$C$7:$C$107,MATCH($B81,'Seznam střelců'!$A$7:$A$107,0),1) <> \"\",\n        \"Mimo soutěž\",\n        IF(AND($N81 > 0,OR(ISNA(MATCH($A81,'Seznam střelců'!$S$7:$S$107,0)),ISNA(MATCH($A82,'Seznam střelců'!$S$7:$S$107,0)))), \"Rozstřel\", \"\")\n    ),\"\")","v":""}]
[{"$f":"'Seznam střelců'!$A82","v":""},{"$f":"IF($A82<>\"\",INDEX('Seznam střelců'!$A$7:$A$107,MATCH($A82,'Pom. pořadí jednotlivci'!$Q$7:$Q$107,0),1),\"\")","v":""},{"$f":"IF($A82<>\"\",INDEX('Seznam střelců'!$E$7:$E$107,MATCH($B82,'Seznam střelců'!$A$7:$A$107,0),1),\"\")","v":""},{"$f":"IF($A82<>\"\",INDEX('Seznam střelců'!F$7:F$107,MATCH($B82,'Seznam střelců'!$A$7:$A$107,0),1),\"\")","v":""},{"$f":"IF($A82<>\"\",INDEX('Seznam střelců'!G$7:G$107,MATCH($B82,'Seznam střelců'!$A$7:$A$107,0),1),\"\")","v":""},{"$f":"IF($A82<>\"\",INDEX('Seznam střelců'!H$7:H$107,MATCH($B82,'Seznam střelců'!$A$7:$A$107,0),1),\"\")","v":""},{"$f":"IF($A82<>\"\",INDEX('Seznam střelců'!I$7:I$107,MATCH($B82,'Seznam střelců'!$A$7:$A$107,0),1),\"\")","v":""},{"$f":"IF($A82<>\"\",INDEX('Seznam střelců'!J$7:J$107,MATCH($B82,'Seznam střelců'!$A$7:$A$107,0),1),\"\")","v":""},{"$f":"IF($A82<>\"\",INDEX('Seznam střelců'!K$7:K$107,MATCH($B82,'Seznam střelců'!$A$7:$A$107,0),1),\"\")","v":""},{"$f":"IF($A82<>\"\",INDEX('Seznam střelců'!L$7:L$107,MATCH($B82,'Seznam střelců'!$A$7:$A$107,0),1),\"\")","v":""},{"$f":"IF($A82<>\"\",INDEX('Seznam střelců'!M$7:M$107,MATCH($B82,'Seznam střelců'!$A$7:$A$107,0),1),\"\")","v":""},{"$f":"IF($A82<>\"\",INDEX('Seznam střelců'!N$7:N$107,MATCH($B82,'Seznam střelců'!$A$7:$A$107,0),1),\"\")","v":""},{"$f":"IF($A82<>\"\",INDEX('Seznam střelců'!O$7:O$107,MATCH($B82,'Seznam střelců'!$A$7:$A$107,0),1),\"\")","v":""},"",{"$f":"IF($A82<>\"\",IF(0 = INDEX('Seznam střelců'!P$7:P$107,MATCH($B82,'Seznam střelců'!$A$7:$A$107,0),1),\"\",INDEX('Seznam střelců'!P$7:P$107,MATCH($B82,'Seznam střelců'!$A$7:$A$107,0),1)),\"\")","v":""},"",{"$f":"IF($A82<>\"\",IF(0 = INDEX('Seznam střelců'!Q$7:Q$107,MATCH($B82,'Seznam střelců'!$A$7:$A$107,0),1),\"\",INDEX('Seznam střelců'!Q$7:Q$107,MATCH($B82,'Seznam střelců'!$A$7:$A$107,0),1)),\"\")","v":""},{"$f":"IF($A82<>\"\",\n    IF(INDEX('Seznam střelců'!$C$7:$C$107,MATCH($B82,'Seznam střelců'!$A$7:$A$107,0),1) <> \"\",\n        \"Mimo soutěž\",\n        IF(AND($N82 > 0,OR(ISNA(MATCH($A82,'Seznam střelců'!$S$7:$S$107,0)),ISNA(MATCH($A83,'Seznam střelců'!$S$7:$S$107,0)))), \"Rozstřel\", \"\")\n    ),\"\")","v":""}]
[{"$f":"'Seznam střelců'!$A83","v":""},{"$f":"IF($A83<>\"\",INDEX('Seznam střelců'!$A$7:$A$107,MATCH($A83,'Pom. pořadí jednotlivci'!$Q$7:$Q$107,0),1),\"\")","v":""},{"$f":"IF($A83<>\"\",INDEX('Seznam střelců'!$E$7:$E$107,MATCH($B83,'Seznam střelců'!$A$7:$A$107,0),1),\"\")","v":""},{"$f":"IF($A83<>\"\",INDEX('Seznam střelců'!F$7:F$107,MATCH($B83,'Seznam střelců'!$A$7:$A$107,0),1),\"\")","v":""},{"$f":"IF($A83<>\"\",INDEX('Seznam střelců'!G$7:G$107,MATCH($B83,'Seznam střelců'!$A$7:$A$107,0),1),\"\")","v":""},{"$f":"IF($A83<>\"\",INDEX('Seznam střelců'!H$7:H$107,MATCH($B83,'Seznam střelců'!$A$7:$A$107,0),1),\"\")","v":""},{"$f":"IF($A83<>\"\",INDEX('Seznam střelců'!I$7:I$107,MATCH($B83,'Seznam střelců'!$A$7:$A$107,0),1),\"\")","v":""},{"$f":"IF($A83<>\"\",INDEX('Seznam střelců'!J$7:J$107,MATCH($B83,'Seznam střelců'!$A$7:$A$107,0),1),\"\")","v":""},{"$f":"IF($A83<>\"\",INDEX('Seznam střelců'!K$7:K$107,MATCH($B83,'Seznam střelců'!$A$7:$A$107,0),1),\"\")","v":""},{"$f":"IF($A83<>\"\",INDEX('Seznam střelců'!L$7:L$107,MATCH($B83,'Seznam střelců'!$A$7:$A$107,0),1),\"\")","v":""},{"$f":"IF($A83<>\"\",INDEX('Seznam střelců'!M$7:M$107,MATCH($B83,'Seznam střelců'!$A$7:$A$107,0),1),\"\")","v":""},{"$f":"IF($A83<>\"\",INDEX('Seznam střelců'!N$7:N$107,MATCH($B83,'Seznam střelců'!$A$7:$A$107,0),1),\"\")","v":""},{"$f":"IF($A83<>\"\",INDEX('Seznam střelců'!O$7:O$107,MATCH($B83,'Seznam střelců'!$A$7:$A$107,0),1),\"\")","v":""},"",{"$f":"IF($A83<>\"\",IF(0 = INDEX('Seznam střelců'!P$7:P$107,MATCH($B83,'Seznam střelců'!$A$7:$A$107,0),1),\"\",INDEX('Seznam střelců'!P$7:P$107,MATCH($B83,'Seznam střelců'!$A$7:$A$107,0),1)),\"\")","v":""},"",{"$f":"IF($A83<>\"\",IF(0 = INDEX('Seznam střelců'!Q$7:Q$107,MATCH($B83,'Seznam střelců'!$A$7:$A$107,0),1),\"\",INDEX('Seznam střelců'!Q$7:Q$107,MATCH($B83,'Seznam střelců'!$A$7:$A$107,0),1)),\"\")","v":""},{"$f":"IF($A83<>\"\",\n    IF(INDEX('Seznam střelců'!$C$7:$C$107,MATCH($B83,'Seznam střelců'!$A$7:$A$107,0),1) <> \"\",\n        \"Mimo soutěž\",\n        IF(AND($N83 > 0,OR(ISNA(MATCH($A83,'Seznam střelců'!$S$7:$S$107,0)),ISNA(MATCH($A84,'Seznam střelců'!$S$7:$S$107,0)))), \"Rozstřel\", \"\")\n    ),\"\")","v":""}]
[{"$f":"'Seznam střelců'!$A84","v":""},{"$f":"IF($A84<>\"\",INDEX('Seznam střelců'!$A$7:$A$107,MATCH($A84,'Pom. pořadí jednotlivci'!$Q$7:$Q$107,0),1),\"\")","v":""},{"$f":"IF($A84<>\"\",INDEX('Seznam střelců'!$E$7:$E$107,MATCH($B84,'Seznam střelců'!$A$7:$A$107,0),1),\"\")","v":""},{"$f":"IF($A84<>\"\",INDEX('Seznam střelců'!F$7:F$107,MATCH($B84,'Seznam střelců'!$A$7:$A$107,0),1),\"\")","v":""},{"$f":"IF($A84<>\"\",INDEX('Seznam střelců'!G$7:G$107,MATCH($B84,'Seznam střelců'!$A$7:$A$107,0),1),\"\")","v":""},{"$f":"IF($A84<>\"\",INDEX('Seznam střelců'!H$7:H$107,MATCH($B84,'Seznam střelců'!$A$7:$A$107,0),1),\"\")","v":""},{"$f":"IF($A84<>\"\",INDEX('Seznam střelců'!I$7:I$107,MATCH($B84,'Seznam střelců'!$A$7:$A$107,0),1),\"\")","v":""},{"$f":"IF($A84<>\"\",INDEX('Seznam střelců'!J$7:J$107,MATCH($B84,'Seznam střelců'!$A$7:$A$107,0),1),\"\")","v":""},{"$f":"IF($A84<>\"\",INDEX('Seznam střelců'!K$7:K$107,MATCH($B84,'Seznam střelců'!$A$7:$A$107,0),1),\"\")","v":""},{"$f":"IF($A84<>\"\",INDEX('Seznam střelců'!L$7:L$107,MATCH($B84,'Seznam střelců'!$A$7:$A$107,0),1),\"\")","v":""},{"$f":"IF($A84<>\"\",INDEX('Seznam střelců'!M$7:M$107,MATCH($B84,'Seznam střelců'!$A$7:$A$107,0),1),\"\")","v":""},{"$f":"IF($A84<>\"\",INDEX('Seznam střelců'!N$7:N$107,MATCH($B84,'Seznam střelců'!$A$7:$A$107,0),1),\"\")","v":""},{"$f":"IF($A84<>\"\",INDEX('Seznam střelců'!O$7:O$107,MATCH($B84,'Seznam střelců'!$A$7:$A$107,0),1),\"\")","v":""},"",{"$f":"IF($A84<>\"\",IF(0 = INDEX('Seznam střelců'!P$7:P$107,MATCH($B84,'Seznam střelců'!$A$7:$A$107,0),1),\"\",INDEX('Seznam střelců'!P$7:P$107,MATCH($B84,'Seznam střelců'!$A$7:$A$107,0),1)),\"\")","v":""},"",{"$f":"IF($A84<>\"\",IF(0 = INDEX('Seznam střelců'!Q$7:Q$107,MATCH($B84,'Seznam střelců'!$A$7:$A$107,0),1),\"\",INDEX('Seznam střelců'!Q$7:Q$107,MATCH($B84,'Seznam střelců'!$A$7:$A$107,0),1)),\"\")","v":""},{"$f":"IF($A84<>\"\",\n    IF(INDEX('Seznam střelců'!$C$7:$C$107,MATCH($B84,'Seznam střelců'!$A$7:$A$107,0),1) <> \"\",\n        \"Mimo soutěž\",\n        IF(AND($N84 > 0,OR(ISNA(MATCH($A84,'Seznam střelců'!$S$7:$S$107,0)),ISNA(MATCH($A85,'Seznam střelců'!$S$7:$S$107,0)))), \"Rozstřel\", \"\")\n    ),\"\")","v":""}]
[{"$f":"'Seznam střelců'!$A85","v":""},{"$f":"IF($A85<>\"\",INDEX('Seznam střelců'!$A$7:$A$107,MATCH($A85,'Pom. pořadí jednotlivci'!$Q$7:$Q$107,0),1),\"\")","v":""},{"$f":"IF($A85<>\"\",INDEX('Seznam střelců'!$E$7:$E$107,MATCH($B85,'Seznam střelců'!$A$7:$A$107,0),1),\"\")","v":""},{"$f":"IF($A85<>\"\",INDEX('Seznam střelců'!F$7:F$107,MATCH($B85,'Seznam střelců'!$A$7:$A$107,0),1),\"\")","v":""},{"$f":"IF($A85<>\"\",INDEX('Seznam střelců'!G$7:G$107,MATCH($B85,'Seznam střelců'!$A$7:$A$107,0),1),\"\")","v":""},{"$f":"IF($A85<>\"\",INDEX('Seznam střelců'!H$7:H$107,MATCH($B85,'Seznam střelců'!$A$7:$A$107,0),1),\"\")","v":""},{"$f":"IF($A85<>\"\",INDEX('Seznam střelců'!I$7:I$107,MATCH($B85,'Seznam střelců'!$A$7:$A$107,0),1),\"\")","v":""},{"$f":"IF($A85<>\"\",INDEX('Seznam střelců'!J$7:J$107,MATCH($B85,'Seznam střelců'!$A$7:$A$107,0),1),\"\")","v":""},{"$f":"IF($A85<>\"\",INDEX('Seznam střelců'!K$7:K$107,MATCH($B85,'Seznam střelců'!$A$7:$A$107,0),1),\"\")","v":""},{"$f":"IF($A85<>\"\",INDEX('Seznam střelců'!L$7:L$107,MATCH($B85,'Seznam střelců'!$A$7:$A$107,0),1),\"\")","v":""},{"$f":"IF($A85<>\"\",INDEX('Seznam střelců'!M$7:M$107,MATCH($B85,'Seznam střelců'!$A$7:$A$107,0),1),\"\")","v":""},{"$f":"IF($A85<>\"\",INDEX('Seznam střelců'!N$7:N$107,MATCH($B85,'Seznam střelců'!$A$7:$A$107,0),1),\"\")","v":""},{"$f":"IF($A85<>\"\",INDEX('Seznam střelců'!O$7:O$107,MATCH($B85,'Seznam střelců'!$A$7:$A$107,0),1),\"\")","v":""},"",{"$f":"IF($A85<>\"\",IF(0 = INDEX('Seznam střelců'!P$7:P$107,MATCH($B85,'Seznam střelců'!$A$7:$A$107,0),1),\"\",INDEX('Seznam střelců'!P$7:P$107,MATCH($B85,'Seznam střelců'!$A$7:$A$107,0),1)),\"\")","v":""},"",{"$f":"IF($A85<>\"\",IF(0 = INDEX('Seznam střelců'!Q$7:Q$107,MATCH($B85,'Seznam střelců'!$A$7:$A$107,0),1),\"\",INDEX('Seznam střelců'!Q$7:Q$107,MATCH($B85,'Seznam střelců'!$A$7:$A$107,0),1)),\"\")","v":""},{"$f":"IF($A85<>\"\",\n    IF(INDEX('Seznam střelců'!$C$7:$C$107,MATCH($B85,'Seznam střelců'!$A$7:$A$107,0),1) <> \"\",\n        \"Mimo soutěž\",\n        IF(AND($N85 > 0,OR(ISNA(MATCH($A85,'Seznam střelců'!$S$7:$S$107,0)),ISNA(MATCH($A86,'Seznam střelců'!$S$7:$S$107,0)))), \"Rozstřel\", \"\")\n    ),\"\")","v":""}]
[{"$f":"'Seznam střelců'!$A86","v":""},{"$f":"IF($A86<>\"\",INDEX('Seznam střelců'!$A$7:$A$107,MATCH($A86,'Pom. pořadí jednotlivci'!$Q$7:$Q$107,0),1),\"\")","v":""},{"$f":"IF($A86<>\"\",INDEX('Seznam střelců'!$E$7:$E$107,MATCH($B86,'Seznam střelců'!$A$7:$A$107,0),1),\"\")","v":""},{"$f":"IF($A86<>\"\",INDEX('Seznam střelců'!F$7:F$107,MATCH($B86,'Seznam střelců'!$A$7:$A$107,0),1),\"\")","v":""},{"$f":"IF($A86<>\"\",INDEX('Seznam střelců'!G$7:G$107,MATCH($B86,'Seznam střelců'!$A$7:$A$107,0),1),\"\")","v":""},{"$f":"IF($A86<>\"\",INDEX('Seznam střelců'!H$7:H$107,MATCH($B86,'Seznam střelců'!$A$7:$A$107,0),1),\"\")","v":""},{"$f":"IF($A86<>\"\",INDEX('Seznam střelců'!I$7:I$107,MATCH($B86,'Seznam střelců'!$A$7:$A$107,0),1),\"\")","v":""},{"$f":"IF($A86<>\"\",INDEX('Seznam střelců'!J$7:J$107,MATCH($B86,'Seznam střelců'!$A$7:$A$107,0),1),\"\")","v":""},{"$f":"IF($A86<>\"\",INDEX('Seznam střelců'!K$7:K$107,MATCH($B86,'Seznam střelců'!$A$7:$A$107,0),1),\"\")","v":""},{"$f":"IF($A86<>\"\",INDEX('Seznam střelců'!L$7:L$107,MATCH($B86,'Seznam střelců'!$A$7:$A$107,0),1),\"\")","v":""},{"$f":"IF($A86<>\"\",INDEX('Seznam střelců'!M$7:M$107,MATCH($B86,'Seznam střelců'!$A$7:$A$107,0),1),\"\")","v":""},{"$f":"IF($A86<>\"\",INDEX('Seznam střelců'!N$7:N$107,MATCH($B86,'Seznam střelců'!$A$7:$A$107,0),1),\"\")","v":""},{"$f":"IF($A86<>\"\",INDEX('Seznam střelců'!O$7:O$107,MATCH($B86,'Seznam střelců'!$A$7:$A$107,0),1),\"\")","v":""},"",{"$f":"IF($A86<>\"\",IF(0 = INDEX('Seznam střelců'!P$7:P$107,MATCH($B86,'Seznam střelců'!$A$7:$A$107,0),1),\"\",INDEX('Seznam střelců'!P$7:P$107,MATCH($B86,'Seznam střelců'!$A$7:$A$107,0),1)),\"\")","v":""},"",{"$f":"IF($A86<>\"\",IF(0 = INDEX('Seznam střelců'!Q$7:Q$107,MATCH($B86,'Seznam střelců'!$A$7:$A$107,0),1),\"\",INDEX('Seznam střelců'!Q$7:Q$107,MATCH($B86,'Seznam střelců'!$A$7:$A$107,0),1)),\"\")","v":""},{"$f":"IF($A86<>\"\",\n    IF(INDEX('Seznam střelců'!$C$7:$C$107,MATCH($B86,'Seznam střelců'!$A$7:$A$107,0),1) <> \"\",\n        \"Mimo soutěž\",\n        IF(AND($N86 > 0,OR(ISNA(MATCH($A86,'Seznam střelců'!$S$7:$S$107,0)),ISNA(MATCH($A87,'Seznam střelců'!$S$7:$S$107,0)))), \"Rozstřel\", \"\")\n    ),\"\")","v":""}]
[{"$f":"'Seznam střelců'!$A87","v":""},{"$f":"IF($A87<>\"\",INDEX('Seznam střelců'!$A$7:$A$107,MATCH($A87,'Pom. pořadí jednotlivci'!$Q$7:$Q$107,0),1),\"\")","v":""},{"$f":"IF($A87<>\"\",INDEX('Seznam střelců'!$E$7:$E$107,MATCH($B87,'Seznam střelců'!$A$7:$A$107,0),1),\"\")","v":""},{"$f":"IF($A87<>\"\",INDEX('Seznam střelců'!F$7:F$107,MATCH($B87,'Seznam střelců'!$A$7:$A$107,0),1),\"\")","v":""},{"$f":"IF($A87<>\"\",INDEX('Seznam střelců'!G$7:G$107,MATCH($B87,'Seznam střelců'!$A$7:$A$107,0),1),\"\")","v":""},{"$f":"IF($A87<>\"\",INDEX('Seznam střelců'!H$7:H$107,MATCH($B87,'Seznam střelců'!$A$7:$A$107,0),1),\"\")","v":""},{"$f":"IF($A87<>\"\",INDEX('Seznam střelců'!I$7:I$107,MATCH($B87,'Seznam střelců'!$A$7:$A$107,0),1),\"\")","v":""},{"$f":"IF($A87<>\"\",INDEX('Seznam střelců'!J$7:J$107,MATCH($B87,'Seznam střelců'!$A$7:$A$107,0),1),\"\")","v":""},{"$f":"IF($A87<>\"\",INDEX('Seznam střelců'!K$7:K$107,MATCH($B87,'Seznam střelců'!$A$7:$A$107,0),1),\"\")","v":""},{"$f":"IF($A87<>\"\",INDEX('Seznam střelců'!L$7:L$107,MATCH($B87,'Seznam střelců'!$A$7:$A$107,0),1),\"\")","v":""},{"$f":"IF($A87<>\"\",INDEX('Seznam střelců'!M$7:M$107,MATCH($B87,'Seznam střelců'!$A$7:$A$107,0),1),\"\")","v":""},{"$f":"IF($A87<>\"\",INDEX('Seznam střelců'!N$7:N$107,MATCH($B87,'Seznam střelců'!$A$7:$A$107,0),1),\"\")","v":""},{"$f":"IF($A87<>\"\",INDEX('Seznam střelců'!O$7:O$107,MATCH($B87,'Seznam střelců'!$A$7:$A$107,0),1),\"\")","v":""},"",{"$f":"IF($A87<>\"\",IF(0 = INDEX('Seznam střelců'!P$7:P$107,MATCH($B87,'Seznam střelců'!$A$7:$A$107,0),1),\"\",INDEX('Seznam střelců'!P$7:P$107,MATCH($B87,'Seznam střelců'!$A$7:$A$107,0),1)),\"\")","v":""},"",{"$f":"IF($A87<>\"\",IF(0 = INDEX('Seznam střelců'!Q$7:Q$107,MATCH($B87,'Seznam střelců'!$A$7:$A$107,0),1),\"\",INDEX('Seznam střelců'!Q$7:Q$107,MATCH($B87,'Seznam střelců'!$A$7:$A$107,0),1)),\"\")","v":""},{"$f":"IF($A87<>\"\",\n    IF(INDEX('Seznam střelců'!$C$7:$C$107,MATCH($B87,'Seznam střelců'!$A$7:$A$107,0),1) <> \"\",\n        \"Mimo soutěž\",\n        IF(AND($N87 > 0,OR(ISNA(MATCH($A87,'Seznam střelců'!$S$7:$S$107,0)),ISNA(MATCH($A88,'Seznam střelců'!$S$7:$S$107,0)))), \"Rozstřel\", \"\")\n    ),\"\")","v":""}]
[{"$f":"'Seznam střelců'!$A88","v":""},{"$f":"IF($A88<>\"\",INDEX('Seznam střelců'!$A$7:$A$107,MATCH($A88,'Pom. pořadí jednotlivci'!$Q$7:$Q$107,0),1),\"\")","v":""},{"$f":"IF($A88<>\"\",INDEX('Seznam střelců'!$E$7:$E$107,MATCH($B88,'Seznam střelců'!$A$7:$A$107,0),1),\"\")","v":""},{"$f":"IF($A88<>\"\",INDEX('Seznam střelců'!F$7:F$107,MATCH($B88,'Seznam střelců'!$A$7:$A$107,0),1),\"\")","v":""},{"$f":"IF($A88<>\"\",INDEX('Seznam střelců'!G$7:G$107,MATCH($B88,'Seznam střelců'!$A$7:$A$107,0),1),\"\")","v":""},{"$f":"IF($A88<>\"\",INDEX('Seznam střelců'!H$7:H$107,MATCH($B88,'Seznam střelců'!$A$7:$A$107,0),1),\"\")","v":""},{"$f":"IF($A88<>\"\",INDEX('Seznam střelců'!I$7:I$107,MATCH($B88,'Seznam střelců'!$A$7:$A$107,0),1),\"\")","v":""},{"$f":"IF($A88<>\"\",INDEX('Seznam střelců'!J$7:J$107,MATCH($B88,'Seznam střelců'!$A$7:$A$107,0),1),\"\")","v":""},{"$f":"IF($A88<>\"\",INDEX('Seznam střelců'!K$7:K$107,MATCH($B88,'Seznam střelců'!$A$7:$A$107,0),1),\"\")","v":""},{"$f":"IF($A88<>\"\",INDEX('Seznam střelců'!L$7:L$107,MATCH($B88,'Seznam střelců'!$A$7:$A$107,0),1),\"\")","v":""},{"$f":"IF($A88<>\"\",INDEX('Seznam střelců'!M$7:M$107,MATCH($B88,'Seznam střelců'!$A$7:$A$107,0),1),\"\")","v":""},{"$f":"IF($A88<>\"\",INDEX('Seznam střelců'!N$7:N$107,MATCH($B88,'Seznam střelců'!$A$7:$A$107,0),1),\"\")","v":""},{"$f":"IF($A88<>\"\",INDEX('Seznam střelců'!O$7:O$107,MATCH($B88,'Seznam střelců'!$A$7:$A$107,0),1),\"\")","v":""},"",{"$f":"IF($A88<>\"\",IF(0 = INDEX('Seznam střelců'!P$7:P$107,MATCH($B88,'Seznam střelců'!$A$7:$A$107,0),1),\"\",INDEX('Seznam střelců'!P$7:P$107,MATCH($B88,'Seznam střelců'!$A$7:$A$107,0),1)),\"\")","v":""},"",{"$f":"IF($A88<>\"\",IF(0 = INDEX('Seznam střelců'!Q$7:Q$107,MATCH($B88,'Seznam střelců'!$A$7:$A$107,0),1),\"\",INDEX('Seznam střelců'!Q$7:Q$107,MATCH($B88,'Seznam střelců'!$A$7:$A$107,0),1)),\"\")","v":""},{"$f":"IF($A88<>\"\",\n    IF(INDEX('Seznam střelců'!$C$7:$C$107,MATCH($B88,'Seznam střelců'!$A$7:$A$107,0),1) <> \"\",\n        \"Mimo soutěž\",\n        IF(AND($N88 > 0,OR(ISNA(MATCH($A88,'Seznam střelců'!$S$7:$S$107,0)),ISNA(MATCH($A89,'Seznam střelců'!$S$7:$S$107,0)))), \"Rozstřel\", \"\")\n    ),\"\")","v":""}]
[{"$f":"'Seznam střelců'!$A89","v":""},{"$f":"IF($A89<>\"\",INDEX('Seznam střelců'!$A$7:$A$107,MATCH($A89,'Pom. pořadí jednotlivci'!$Q$7:$Q$107,0),1),\"\")","v":""},{"$f":"IF($A89<>\"\",INDEX('Seznam střelců'!$E$7:$E$107,MATCH($B89,'Seznam střelců'!$A$7:$A$107,0),1),\"\")","v":""},{"$f":"IF($A89<>\"\",INDEX('Seznam střelců'!F$7:F$107,MATCH($B89,'Seznam střelců'!$A$7:$A$107,0),1),\"\")","v":""},{"$f":"IF($A89<>\"\",INDEX('Seznam střelců'!G$7:G$107,MATCH($B89,'Seznam střelců'!$A$7:$A$107,0),1),\"\")","v":""},{"$f":"IF($A89<>\"\",INDEX('Seznam střelců'!H$7:H$107,MATCH($B89,'Seznam střelců'!$A$7:$A$107,0),1),\"\")","v":""},{"$f":"IF($A89<>\"\",INDEX('Seznam střelců'!I$7:I$107,MATCH($B89,'Seznam střelců'!$A$7:$A$107,0),1),\"\")","v":""},{"$f":"IF($A89<>\"\",INDEX('Seznam střelců'!J$7:J$107,MATCH($B89,'Seznam střelců'!$A$7:$A$107,0),1),\"\")","v":""},{"$f":"IF($A89<>\"\",INDEX('Seznam střelců'!K$7:K$107,MATCH($B89,'Seznam střelců'!$A$7:$A$107,0),1),\"\")","v":""},{"$f":"IF($A89<>\"\",INDEX('Seznam střelců'!L$7:L$107,MATCH($B89,'Seznam střelců'!$A$7:$A$107,0),1),\"\")","v":""},{"$f":"IF($A89<>\"\",INDEX('Seznam střelců'!M$7:M$107,MATCH($B89,'Seznam střelců'!$A$7:$A$107,0),1),\"\")","v":""},{"$f":"IF($A89<>\"\",INDEX('Seznam střelců'!N$7:N$107,MATCH($B89,'Seznam střelců'!$A$7:$A$107,0),1),\"\")","v":""},{"$f":"IF($A89<>\"\",INDEX('Seznam střelců'!O$7:O$107,MATCH($B89,'Seznam střelců'!$A$7:$A$107,0),1),\"\")","v":""},"",{"$f":"IF($A89<>\"\",IF(0 = INDEX('Seznam střelců'!P$7:P$107,MATCH($B89,'Seznam střelců'!$A$7:$A$107,0),1),\"\",INDEX('Seznam střelců'!P$7:P$107,MATCH($B89,'Seznam střelců'!$A$7:$A$107,0),1)),\"\")","v":""},"",{"$f":"IF($A89<>\"\",IF(0 = INDEX('Seznam střelců'!Q$7:Q$107,MATCH($B89,'Seznam střelců'!$A$7:$A$107,0),1),\"\",INDEX('Seznam střelců'!Q$7:Q$107,MATCH($B89,'Seznam střelců'!$A$7:$A$107,0),1)),\"\")","v":""},{"$f":"IF($A89<>\"\",\n    IF(INDEX('Seznam střelců'!$C$7:$C$107,MATCH($B89,'Seznam střelců'!$A$7:$A$107,0),1) <> \"\",\n        \"Mimo soutěž\",\n        IF(AND($N89 > 0,OR(ISNA(MATCH($A89,'Seznam střelců'!$S$7:$S$107,0)),ISNA(MATCH($A90,'Seznam střelců'!$S$7:$S$107,0)))), \"Rozstřel\", \"\")\n    ),\"\")","v":""}]
[{"$f":"'Seznam střelců'!$A90","v":""},{"$f":"IF($A90<>\"\",INDEX('Seznam střelců'!$A$7:$A$107,MATCH($A90,'Pom. pořadí jednotlivci'!$Q$7:$Q$107,0),1),\"\")","v":""},{"$f":"IF($A90<>\"\",INDEX('Seznam střelců'!$E$7:$E$107,MATCH($B90,'Seznam střelců'!$A$7:$A$107,0),1),\"\")","v":""},{"$f":"IF($A90<>\"\",INDEX('Seznam střelců'!F$7:F$107,MATCH($B90,'Seznam střelců'!$A$7:$A$107,0),1),\"\")","v":""},{"$f":"IF($A90<>\"\",INDEX('Seznam střelců'!G$7:G$107,MATCH($B90,'Seznam střelců'!$A$7:$A$107,0),1),\"\")","v":""},{"$f":"IF($A90<>\"\",INDEX('Seznam střelců'!H$7:H$107,MATCH($B90,'Seznam střelců'!$A$7:$A$107,0),1),\"\")","v":""},{"$f":"IF($A90<>\"\",INDEX('Seznam střelců'!I$7:I$107,MATCH($B90,'Seznam střelců'!$A$7:$A$107,0),1),\"\")","v":""},{"$f":"IF($A90<>\"\",INDEX('Seznam střelců'!J$7:J$107,MATCH($B90,'Seznam střelců'!$A$7:$A$107,0),1),\"\")","v":""},{"$f":"IF($A90<>\"\",INDEX('Seznam střelců'!K$7:K$107,MATCH($B90,'Seznam střelců'!$A$7:$A$107,0),1),\"\")","v":""},{"$f":"IF($A90<>\"\",INDEX('Seznam střelců'!L$7:L$107,MATCH($B90,'Seznam střelců'!$A$7:$A$107,0),1),\"\")","v":""},{"$f":"IF($A90<>\"\",INDEX('Seznam střelců'!M$7:M$107,MATCH($B90,'Seznam střelců'!$A$7:$A$107,0),1),\"\")","v":""},{"$f":"IF($A90<>\"\",INDEX('Seznam střelců'!N$7:N$107,MATCH($B90,'Seznam střelců'!$A$7:$A$107,0),1),\"\")","v":""},{"$f":"IF($A90<>\"\",INDEX('Seznam střelců'!O$7:O$107,MATCH($B90,'Seznam střelců'!$A$7:$A$107,0),1),\"\")","v":""},"",{"$f":"IF($A90<>\"\",IF(0 = INDEX('Seznam střelců'!P$7:P$107,MATCH($B90,'Seznam střelců'!$A$7:$A$107,0),1),\"\",INDEX('Seznam střelců'!P$7:P$107,MATCH($B90,'Seznam střelců'!$A$7:$A$107,0),1)),\"\")","v":""},"",{"$f":"IF($A90<>\"\",IF(0 = INDEX('Seznam střelců'!Q$7:Q$107,MATCH($B90,'Seznam střelců'!$A$7:$A$107,0),1),\"\",INDEX('Seznam střelců'!Q$7:Q$107,MATCH($B90,'Seznam střelců'!$A$7:$A$107,0),1)),\"\")","v":""},{"$f":"IF($A90<>\"\",\n    IF(INDEX('Seznam střelců'!$C$7:$C$107,MATCH($B90,'Seznam střelců'!$A$7:$A$107,0),1) <> \"\",\n        \"Mimo soutěž\",\n        IF(AND($N90 > 0,OR(ISNA(MATCH($A90,'Seznam střelců'!$S$7:$S$107,0)),ISNA(MATCH($A91,'Seznam střelců'!$S$7:$S$107,0)))), \"Rozstřel\", \"\")\n    ),\"\")","v":""}]
[{"$f":"'Seznam střelců'!$A91","v":""},{"$f":"IF($A91<>\"\",INDEX('Seznam střelců'!$A$7:$A$107,MATCH($A91,'Pom. pořadí jednotlivci'!$Q$7:$Q$107,0),1),\"\")","v":""},{"$f":"IF($A91<>\"\",INDEX('Seznam střelců'!$E$7:$E$107,MATCH($B91,'Seznam střelců'!$A$7:$A$107,0),1),\"\")","v":""},{"$f":"IF($A91<>\"\",INDEX('Seznam střelců'!F$7:F$107,MATCH($B91,'Seznam střelců'!$A$7:$A$107,0),1),\"\")","v":""},{"$f":"IF($A91<>\"\",INDEX('Seznam střelců'!G$7:G$107,MATCH($B91,'Seznam střelců'!$A$7:$A$107,0),1),\"\")","v":""},{"$f":"IF($A91<>\"\",INDEX('Seznam střelců'!H$7:H$107,MATCH($B91,'Seznam střelců'!$A$7:$A$107,0),1),\"\")","v":""},{"$f":"IF($A91<>\"\",INDEX('Seznam střelců'!I$7:I$107,MATCH($B91,'Seznam střelců'!$A$7:$A$107,0),1),\"\")","v":""},{"$f":"IF($A91<>\"\",INDEX('Seznam střelců'!J$7:J$107,MATCH($B91,'Seznam střelců'!$A$7:$A$107,0),1),\"\")","v":""},{"$f":"IF($A91<>\"\",INDEX('Seznam střelců'!K$7:K$107,MATCH($B91,'Seznam střelců'!$A$7:$A$107,0),1),\"\")","v":""},{"$f":"IF($A91<>\"\",INDEX('Seznam střelců'!L$7:L$107,MATCH($B91,'Seznam střelců'!$A$7:$A$107,0),1),\"\")","v":""},{"$f":"IF($A91<>\"\",INDEX('Seznam střelců'!M$7:M$107,MATCH($B91,'Seznam střelců'!$A$7:$A$107,0),1),\"\")","v":""},{"$f":"IF($A91<>\"\",INDEX('Seznam střelců'!N$7:N$107,MATCH($B91,'Seznam střelců'!$A$7:$A$107,0),1),\"\")","v":""},{"$f":"IF($A91<>\"\",INDEX('Seznam střelců'!O$7:O$107,MATCH($B91,'Seznam střelců'!$A$7:$A$107,0),1),\"\")","v":""},"",{"$f":"IF($A91<>\"\",IF(0 = INDEX('Seznam střelců'!P$7:P$107,MATCH($B91,'Seznam střelců'!$A$7:$A$107,0),1),\"\",INDEX('Seznam střelců'!P$7:P$107,MATCH($B91,'Seznam střelců'!$A$7:$A$107,0),1)),\"\")","v":""},"",{"$f":"IF($A91<>\"\",IF(0 = INDEX('Seznam střelců'!Q$7:Q$107,MATCH($B91,'Seznam střelců'!$A$7:$A$107,0),1),\"\",INDEX('Seznam střelců'!Q$7:Q$107,MATCH($B91,'Seznam střelců'!$A$7:$A$107,0),1)),\"\")","v":""},{"$f":"IF($A91<>\"\",\n    IF(INDEX('Seznam střelců'!$C$7:$C$107,MATCH($B91,'Seznam střelců'!$A$7:$A$107,0),1) <> \"\",\n        \"Mimo soutěž\",\n        IF(AND($N91 > 0,OR(ISNA(MATCH($A91,'Seznam střelců'!$S$7:$S$107,0)),ISNA(MATCH($A92,'Seznam střelců'!$S$7:$S$107,0)))), \"Rozstřel\", \"\")\n    ),\"\")","v":""}]
[{"$f":"'Seznam střelců'!$A92","v":""},{"$f":"IF($A92<>\"\",INDEX('Seznam střelců'!$A$7:$A$107,MATCH($A92,'Pom. pořadí jednotlivci'!$Q$7:$Q$107,0),1),\"\")","v":""},{"$f":"IF($A92<>\"\",INDEX('Seznam střelců'!$E$7:$E$107,MATCH($B92,'Seznam střelců'!$A$7:$A$107,0),1),\"\")","v":""},{"$f":"IF($A92<>\"\",INDEX('Seznam střelců'!F$7:F$107,MATCH($B92,'Seznam střelců'!$A$7:$A$107,0),1),\"\")","v":""},{"$f":"IF($A92<>\"\",INDEX('Seznam střelců'!G$7:G$107,MATCH($B92,'Seznam střelců'!$A$7:$A$107,0),1),\"\")","v":""},{"$f":"IF($A92<>\"\",INDEX('Seznam střelců'!H$7:H$107,MATCH($B92,'Seznam střelců'!$A$7:$A$107,0),1),\"\")","v":""},{"$f":"IF($A92<>\"\",INDEX('Seznam střelců'!I$7:I$107,MATCH($B92,'Seznam střelců'!$A$7:$A$107,0),1),\"\")","v":""},{"$f":"IF($A92<>\"\",INDEX('Seznam střelců'!J$7:J$107,MATCH($B92,'Seznam střelců'!$A$7:$A$107,0),1),\"\")","v":""},{"$f":"IF($A92<>\"\",INDEX('Seznam střelců'!K$7:K$107,MATCH($B92,'Seznam střelců'!$A$7:$A$107,0),1),\"\")","v":""},{"$f":"IF($A92<>\"\",INDEX('Seznam střelců'!L$7:L$107,MATCH($B92,'Seznam střelců'!$A$7:$A$107,0),1),\"\")","v":""},{"$f":"IF($A92<>\"\",INDEX('Seznam střelců'!M$7:M$107,MATCH($B92,'Seznam střelců'!$A$7:$A$107,0),1),\"\")","v":""},{"$f":"IF($A92<>\"\",INDEX('Seznam střelců'!N$7:N$107,MATCH($B92,'Seznam střelců'!$A$7:$A$107,0),1),\"\")","v":""},{"$f":"IF($A92<>\"\",INDEX('Seznam střelců'!O$7:O$107,MATCH($B92,'Seznam střelců'!$A$7:$A$107,0),1),\"\")","v":""},"",{"$f":"IF($A92<>\"\",IF(0 = INDEX('Seznam střelců'!P$7:P$107,MATCH($B92,'Seznam střelců'!$A$7:$A$107,0),1),\"\",INDEX('Seznam střelců'!P$7:P$107,MATCH($B92,'Seznam střelců'!$A$7:$A$107,0),1)),\"\")","v":""},"",{"$f":"IF($A92<>\"\",IF(0 = INDEX('Seznam střelců'!Q$7:Q$107,MATCH($B92,'Seznam střelců'!$A$7:$A$107,0),1),\"\",INDEX('Seznam střelců'!Q$7:Q$107,MATCH($B92,'Seznam střelců'!$A$7:$A$107,0),1)),\"\")","v":""},{"$f":"IF($A92<>\"\",\n    IF(INDEX('Seznam střelců'!$C$7:$C$107,MATCH($B92,'Seznam střelců'!$A$7:$A$107,0),1) <> \"\",\n        \"Mimo soutěž\",\n        IF(AND($N92 > 0,OR(ISNA(MATCH($A92,'Seznam střelců'!$S$7:$S$107,0)),ISNA(MATCH($A93,'Seznam střelců'!$S$7:$S$107,0)))), \"Rozstřel\", \"\")\n    ),\"\")","v":""}]
[{"$f":"'Seznam střelců'!$A93","v":""},{"$f":"IF($A93<>\"\",INDEX('Seznam střelců'!$A$7:$A$107,MATCH($A93,'Pom. pořadí jednotlivci'!$Q$7:$Q$107,0),1),\"\")","v":""},{"$f":"IF($A93<>\"\",INDEX('Seznam střelců'!$E$7:$E$107,MATCH($B93,'Seznam střelců'!$A$7:$A$107,0),1),\"\")","v":""},{"$f":"IF($A93<>\"\",INDEX('Seznam střelců'!F$7:F$107,MATCH($B93,'Seznam střelců'!$A$7:$A$107,0),1),\"\")","v":""},{"$f":"IF($A93<>\"\",INDEX('Seznam střelců'!G$7:G$107,MATCH($B93,'Seznam střelců'!$A$7:$A$107,0),1),\"\")","v":""},{"$f":"IF($A93<>\"\",INDEX('Seznam střelců'!H$7:H$107,MATCH($B93,'Seznam střelců'!$A$7:$A$107,0),1),\"\")","v":""},{"$f":"IF($A93<>\"\",INDEX('Seznam střelců'!I$7:I$107,MATCH($B93,'Seznam střelců'!$A$7:$A$107,0),1),\"\")","v":""},{"$f":"IF($A93<>\"\",INDEX('Seznam střelců'!J$7:J$107,MATCH($B93,'Seznam střelců'!$A$7:$A$107,0),1),\"\")","v":""},{"$f":"IF($A93<>\"\",INDEX('Seznam střelců'!K$7:K$107,MATCH($B93,'Seznam střelců'!$A$7:$A$107,0),1),\"\")","v":""},{"$f":"IF($A93<>\"\",INDEX('Seznam střelců'!L$7:L$107,MATCH($B93,'Seznam střelců'!$A$7:$A$107,0),1),\"\")","v":""},{"$f":"IF($A93<>\"\",INDEX('Seznam střelců'!M$7:M$107,MATCH($B93,'Seznam střelců'!$A$7:$A$107,0),1),\"\")","v":""},{"$f":"IF($A93<>\"\",INDEX('Seznam střelců'!N$7:N$107,MATCH($B93,'Seznam střelců'!$A$7:$A$107,0),1),\"\")","v":""},{"$f":"IF($A93<>\"\",INDEX('Seznam střelců'!O$7:O$107,MATCH($B93,'Seznam střelců'!$A$7:$A$107,0),1),\"\")","v":""},"",{"$f":"IF($A93<>\"\",IF(0 = INDEX('Seznam střelců'!P$7:P$107,MATCH($B93,'Seznam střelců'!$A$7:$A$107,0),1),\"\",INDEX('Seznam střelců'!P$7:P$107,MATCH($B93,'Seznam střelců'!$A$7:$A$107,0),1)),\"\")","v":""},"",{"$f":"IF($A93<>\"\",IF(0 = INDEX('Seznam střelců'!Q$7:Q$107,MATCH($B93,'Seznam střelců'!$A$7:$A$107,0),1),\"\",INDEX('Seznam střelců'!Q$7:Q$107,MATCH($B93,'Seznam střelců'!$A$7:$A$107,0),1)),\"\")","v":""},{"$f":"IF($A93<>\"\",\n    IF(INDEX('Seznam střelců'!$C$7:$C$107,MATCH($B93,'Seznam střelců'!$A$7:$A$107,0),1) <> \"\",\n        \"Mimo soutěž\",\n        IF(AND($N93 > 0,OR(ISNA(MATCH($A93,'Seznam střelců'!$S$7:$S$107,0)),ISNA(MATCH($A94,'Seznam střelců'!$S$7:$S$107,0)))), \"Rozstřel\", \"\")\n    ),\"\")","v":""}]
[{"$f":"'Seznam střelců'!$A94","v":""},{"$f":"IF($A94<>\"\",INDEX('Seznam střelců'!$A$7:$A$107,MATCH($A94,'Pom. pořadí jednotlivci'!$Q$7:$Q$107,0),1),\"\")","v":""},{"$f":"IF($A94<>\"\",INDEX('Seznam střelců'!$E$7:$E$107,MATCH($B94,'Seznam střelců'!$A$7:$A$107,0),1),\"\")","v":""},{"$f":"IF($A94<>\"\",INDEX('Seznam střelců'!F$7:F$107,MATCH($B94,'Seznam střelců'!$A$7:$A$107,0),1),\"\")","v":""},{"$f":"IF($A94<>\"\",INDEX('Seznam střelců'!G$7:G$107,MATCH($B94,'Seznam střelců'!$A$7:$A$107,0),1),\"\")","v":""},{"$f":"IF($A94<>\"\",INDEX('Seznam střelců'!H$7:H$107,MATCH($B94,'Seznam střelců'!$A$7:$A$107,0),1),\"\")","v":""},{"$f":"IF($A94<>\"\",INDEX('Seznam střelců'!I$7:I$107,MATCH($B94,'Seznam střelců'!$A$7:$A$107,0),1),\"\")","v":""},{"$f":"IF($A94<>\"\",INDEX('Seznam střelců'!J$7:J$107,MATCH($B94,'Seznam střelců'!$A$7:$A$107,0),1),\"\")","v":""},{"$f":"IF($A94<>\"\",INDEX('Seznam střelců'!K$7:K$107,MATCH($B94,'Seznam střelců'!$A$7:$A$107,0),1),\"\")","v":""},{"$f":"IF($A94<>\"\",INDEX('Seznam střelců'!L$7:L$107,MATCH($B94,'Seznam střelců'!$A$7:$A$107,0),1),\"\")","v":""},{"$f":"IF($A94<>\"\",INDEX('Seznam střelců'!M$7:M$107,MATCH($B94,'Seznam střelců'!$A$7:$A$107,0),1),\"\")","v":""},{"$f":"IF($A94<>\"\",INDEX('Seznam střelců'!N$7:N$107,MATCH($B94,'Seznam střelců'!$A$7:$A$107,0),1),\"\")","v":""},{"$f":"IF($A94<>\"\",INDEX('Seznam střelců'!O$7:O$107,MATCH($B94,'Seznam střelců'!$A$7:$A$107,0),1),\"\")","v":""},"",{"$f":"IF($A94<>\"\",IF(0 = INDEX('Seznam střelců'!P$7:P$107,MATCH($B94,'Seznam střelců'!$A$7:$A$107,0),1),\"\",INDEX('Seznam střelců'!P$7:P$107,MATCH($B94,'Seznam střelců'!$A$7:$A$107,0),1)),\"\")","v":""},"",{"$f":"IF($A94<>\"\",IF(0 = INDEX('Seznam střelců'!Q$7:Q$107,MATCH($B94,'Seznam střelců'!$A$7:$A$107,0),1),\"\",INDEX('Seznam střelců'!Q$7:Q$107,MATCH($B94,'Seznam střelců'!$A$7:$A$107,0),1)),\"\")","v":""},{"$f":"IF($A94<>\"\",\n    IF(INDEX('Seznam střelců'!$C$7:$C$107,MATCH($B94,'Seznam střelců'!$A$7:$A$107,0),1) <> \"\",\n        \"Mimo soutěž\",\n        IF(AND($N94 > 0,OR(ISNA(MATCH($A94,'Seznam střelců'!$S$7:$S$107,0)),ISNA(MATCH($A95,'Seznam střelců'!$S$7:$S$107,0)))), \"Rozstřel\", \"\")\n    ),\"\")","v":""}]
[{"$f":"'Seznam střelců'!$A95","v":""},{"$f":"IF($A95<>\"\",INDEX('Seznam střelců'!$A$7:$A$107,MATCH($A95,'Pom. pořadí jednotlivci'!$Q$7:$Q$107,0),1),\"\")","v":""},{"$f":"IF($A95<>\"\",INDEX('Seznam střelců'!$E$7:$E$107,MATCH($B95,'Seznam střelců'!$A$7:$A$107,0),1),\"\")","v":""},{"$f":"IF($A95<>\"\",INDEX('Seznam střelců'!F$7:F$107,MATCH($B95,'Seznam střelců'!$A$7:$A$107,0),1),\"\")","v":""},{"$f":"IF($A95<>\"\",INDEX('Seznam střelců'!G$7:G$107,MATCH($B95,'Seznam střelců'!$A$7:$A$107,0),1),\"\")","v":""},{"$f":"IF($A95<>\"\",INDEX('Seznam střelců'!H$7:H$107,MATCH($B95,'Seznam střelců'!$A$7:$A$107,0),1),\"\")","v":""},{"$f":"IF($A95<>\"\",INDEX('Seznam střelců'!I$7:I$107,MATCH($B95,'Seznam střelců'!$A$7:$A$107,0),1),\"\")","v":""},{"$f":"IF($A95<>\"\",INDEX('Seznam střelců'!J$7:J$107,MATCH($B95,'Seznam střelců'!$A$7:$A$107,0),1),\"\")","v":""},{"$f":"IF($A95<>\"\",INDEX('Seznam střelců'!K$7:K$107,MATCH($B95,'Seznam střelců'!$A$7:$A$107,0),1),\"\")","v":""},{"$f":"IF($A95<>\"\",INDEX('Seznam střelců'!L$7:L$107,MATCH($B95,'Seznam střelců'!$A$7:$A$107,0),1),\"\")","v":""},{"$f":"IF($A95<>\"\",INDEX('Seznam střelců'!M$7:M$107,MATCH($B95,'Seznam střelců'!$A$7:$A$107,0),1),\"\")","v":""},{"$f":"IF($A95<>\"\",INDEX('Seznam střelců'!N$7:N$107,MATCH($B95,'Seznam střelců'!$A$7:$A$107,0),1),\"\")","v":""},{"$f":"IF($A95<>\"\",INDEX('Seznam střelců'!O$7:O$107,MATCH($B95,'Seznam střelců'!$A$7:$A$107,0),1),\"\")","v":""},"",{"$f":"IF($A95<>\"\",IF(0 = INDEX('Seznam střelců'!P$7:P$107,MATCH($B95,'Seznam střelců'!$A$7:$A$107,0),1),\"\",INDEX('Seznam střelců'!P$7:P$107,MATCH($B95,'Seznam střelců'!$A$7:$A$107,0),1)),\"\")","v":""},"",{"$f":"IF($A95<>\"\",IF(0 = INDEX('Seznam střelců'!Q$7:Q$107,MATCH($B95,'Seznam střelců'!$A$7:$A$107,0),1),\"\",INDEX('Seznam střelců'!Q$7:Q$107,MATCH($B95,'Seznam střelců'!$A$7:$A$107,0),1)),\"\")","v":""},{"$f":"IF($A95<>\"\",\n    IF(INDEX('Seznam střelců'!$C$7:$C$107,MATCH($B95,'Seznam střelců'!$A$7:$A$107,0),1) <> \"\",\n        \"Mimo soutěž\",\n        IF(AND($N95 > 0,OR(ISNA(MATCH($A95,'Seznam střelců'!$S$7:$S$107,0)),ISNA(MATCH($A96,'Seznam střelců'!$S$7:$S$107,0)))), \"Rozstřel\", \"\")\n    ),\"\")","v":""}]
[{"$f":"'Seznam střelců'!$A96","v":""},{"$f":"IF($A96<>\"\",INDEX('Seznam střelců'!$A$7:$A$107,MATCH($A96,'Pom. pořadí jednotlivci'!$Q$7:$Q$107,0),1),\"\")","v":""},{"$f":"IF($A96<>\"\",INDEX('Seznam střelců'!$E$7:$E$107,MATCH($B96,'Seznam střelců'!$A$7:$A$107,0),1),\"\")","v":""},{"$f":"IF($A96<>\"\",INDEX('Seznam střelců'!F$7:F$107,MATCH($B96,'Seznam střelců'!$A$7:$A$107,0),1),\"\")","v":""},{"$f":"IF($A96<>\"\",INDEX('Seznam střelců'!G$7:G$107,MATCH($B96,'Seznam střelců'!$A$7:$A$107,0),1),\"\")","v":""},{"$f":"IF($A96<>\"\",INDEX('Seznam střelců'!H$7:H$107,MATCH($B96,'Seznam střelců'!$A$7:$A$107,0),1),\"\")","v":""},{"$f":"IF($A96<>\"\",INDEX('Seznam střelců'!I$7:I$107,MATCH($B96,'Seznam střelců'!$A$7:$A$107,0),1),\"\")","v":""},{"$f":"IF($A96<>\"\",INDEX('Seznam střelců'!J$7:J$107,MATCH($B96,'Seznam střelců'!$A$7:$A$107,0),1),\"\")","v":""},{"$f":"IF($A96<>\"\",INDEX('Seznam střelců'!K$7:K$107,MATCH($B96,'Seznam střelců'!$A$7:$A$107,0),1),\"\")","v":""},{"$f":"IF($A96<>\"\",INDEX('Seznam střelců'!L$7:L$107,MATCH($B96,'Seznam střelců'!$A$7:$A$107,0),1),\"\")","v":""},{"$f":"IF($A96<>\"\",INDEX('Seznam střelců'!M$7:M$107,MATCH($B96,'Seznam střelců'!$A$7:$A$107,0),1),\"\")","v":""},{"$f":"IF($A96<>\"\",INDEX('Seznam střelců'!N$7:N$107,MATCH($B96,'Seznam střelců'!$A$7:$A$107,0),1),\"\")","v":""},{"$f":"IF($A96<>\"\",INDEX('Seznam střelců'!O$7:O$107,MATCH($B96,'Seznam střelců'!$A$7:$A$107,0),1),\"\")","v":""},"",{"$f":"IF($A96<>\"\",IF(0 = INDEX('Seznam střelců'!P$7:P$107,MATCH($B96,'Seznam střelců'!$A$7:$A$107,0),1),\"\",INDEX('Seznam střelců'!P$7:P$107,MATCH($B96,'Seznam střelců'!$A$7:$A$107,0),1)),\"\")","v":""},"",{"$f":"IF($A96<>\"\",IF(0 = INDEX('Seznam střelců'!Q$7:Q$107,MATCH($B96,'Seznam střelců'!$A$7:$A$107,0),1),\"\",INDEX('Seznam střelců'!Q$7:Q$107,MATCH($B96,'Seznam střelců'!$A$7:$A$107,0),1)),\"\")","v":""},{"$f":"IF($A96<>\"\",\n    IF(INDEX('Seznam střelců'!$C$7:$C$107,MATCH($B96,'Seznam střelců'!$A$7:$A$107,0),1) <> \"\",\n        \"Mimo soutěž\",\n        IF(AND($N96 > 0,OR(ISNA(MATCH($A96,'Seznam střelců'!$S$7:$S$107,0)),ISNA(MATCH($A97,'Seznam střelců'!$S$7:$S$107,0)))), \"Rozstřel\", \"\")\n    ),\"\")","v":""}]
[{"$f":"'Seznam střelců'!$A97","v":""},{"$f":"IF($A97<>\"\",INDEX('Seznam střelců'!$A$7:$A$107,MATCH($A97,'Pom. pořadí jednotlivci'!$Q$7:$Q$107,0),1),\"\")","v":""},{"$f":"IF($A97<>\"\",INDEX('Seznam střelců'!$E$7:$E$107,MATCH($B97,'Seznam střelců'!$A$7:$A$107,0),1),\"\")","v":""},{"$f":"IF($A97<>\"\",INDEX('Seznam střelců'!F$7:F$107,MATCH($B97,'Seznam střelců'!$A$7:$A$107,0),1),\"\")","v":""},{"$f":"IF($A97<>\"\",INDEX('Seznam střelců'!G$7:G$107,MATCH($B97,'Seznam střelců'!$A$7:$A$107,0),1),\"\")","v":""},{"$f":"IF($A97<>\"\",INDEX('Seznam střelců'!H$7:H$107,MATCH($B97,'Seznam střelců'!$A$7:$A$107,0),1),\"\")","v":""},{"$f":"IF($A97<>\"\",INDEX('Seznam střelců'!I$7:I$107,MATCH($B97,'Seznam střelců'!$A$7:$A$107,0),1),\"\")","v":""},{"$f":"IF($A97<>\"\",INDEX('Seznam střelců'!J$7:J$107,MATCH($B97,'Seznam střelců'!$A$7:$A$107,0),1),\"\")","v":""},{"$f":"IF($A97<>\"\",INDEX('Seznam střelců'!K$7:K$107,MATCH($B97,'Seznam střelců'!$A$7:$A$107,0),1),\"\")","v":""},{"$f":"IF($A97<>\"\",INDEX('Seznam střelců'!L$7:L$107,MATCH($B97,'Seznam střelců'!$A$7:$A$107,0),1),\"\")","v":""},{"$f":"IF($A97<>\"\",INDEX('Seznam střelců'!M$7:M$107,MATCH($B97,'Seznam střelců'!$A$7:$A$107,0),1),\"\")","v":""},{"$f":"IF($A97<>\"\",INDEX('Seznam střelců'!N$7:N$107,MATCH($B97,'Seznam střelců'!$A$7:$A$107,0),1),\"\")","v":""},{"$f":"IF($A97<>\"\",INDEX('Seznam střelců'!O$7:O$107,MATCH($B97,'Seznam střelců'!$A$7:$A$107,0),1),\"\")","v":""},"",{"$f":"IF($A97<>\"\",IF(0 = INDEX('Seznam střelců'!P$7:P$107,MATCH($B97,'Seznam střelců'!$A$7:$A$107,0),1),\"\",INDEX('Seznam střelců'!P$7:P$107,MATCH($B97,'Seznam střelců'!$A$7:$A$107,0),1)),\"\")","v":""},"",{"$f":"IF($A97<>\"\",IF(0 = INDEX('Seznam střelců'!Q$7:Q$107,MATCH($B97,'Seznam střelců'!$A$7:$A$107,0),1),\"\",INDEX('Seznam střelců'!Q$7:Q$107,MATCH($B97,'Seznam střelců'!$A$7:$A$107,0),1)),\"\")","v":""},{"$f":"IF($A97<>\"\",\n    IF(INDEX('Seznam střelců'!$C$7:$C$107,MATCH($B97,'Seznam střelců'!$A$7:$A$107,0),1) <> \"\",\n        \"Mimo soutěž\",\n        IF(AND($N97 > 0,OR(ISNA(MATCH($A97,'Seznam střelců'!$S$7:$S$107,0)),ISNA(MATCH($A98,'Seznam střelců'!$S$7:$S$107,0)))), \"Rozstřel\", \"\")\n    ),\"\")","v":""}]
[{"$f":"'Seznam střelců'!$A98","v":""},{"$f":"IF($A98<>\"\",INDEX('Seznam střelců'!$A$7:$A$107,MATCH($A98,'Pom. pořadí jednotlivci'!$Q$7:$Q$107,0),1),\"\")","v":""},{"$f":"IF($A98<>\"\",INDEX('Seznam střelců'!$E$7:$E$107,MATCH($B98,'Seznam střelců'!$A$7:$A$107,0),1),\"\")","v":""},{"$f":"IF($A98<>\"\",INDEX('Seznam střelců'!F$7:F$107,MATCH($B98,'Seznam střelců'!$A$7:$A$107,0),1),\"\")","v":""},{"$f":"IF($A98<>\"\",INDEX('Seznam střelců'!G$7:G$107,MATCH($B98,'Seznam střelců'!$A$7:$A$107,0),1),\"\")","v":""},{"$f":"IF($A98<>\"\",INDEX('Seznam střelců'!H$7:H$107,MATCH($B98,'Seznam střelců'!$A$7:$A$107,0),1),\"\")","v":""},{"$f":"IF($A98<>\"\",INDEX('Seznam střelců'!I$7:I$107,MATCH($B98,'Seznam střelců'!$A$7:$A$107,0),1),\"\")","v":""},{"$f":"IF($A98<>\"\",INDEX('Seznam střelců'!J$7:J$107,MATCH($B98,'Seznam střelců'!$A$7:$A$107,0),1),\"\")","v":""},{"$f":"IF($A98<>\"\",INDEX('Seznam střelců'!K$7:K$107,MATCH($B98,'Seznam střelců'!$A$7:$A$107,0),1),\"\")","v":""},{"$f":"IF($A98<>\"\",INDEX('Seznam střelců'!L$7:L$107,MATCH($B98,'Seznam střelců'!$A$7:$A$107,0),1),\"\")","v":""},{"$f":"IF($A98<>\"\",INDEX('Seznam střelců'!M$7:M$107,MATCH($B98,'Seznam střelců'!$A$7:$A$107,0),1),\"\")","v":""},{"$f":"IF($A98<>\"\",INDEX('Seznam střelců'!N$7:N$107,MATCH($B98,'Seznam střelců'!$A$7:$A$107,0),1),\"\")","v":""},{"$f":"IF($A98<>\"\",INDEX('Seznam střelců'!O$7:O$107,MATCH($B98,'Seznam střelců'!$A$7:$A$107,0),1),\"\")","v":""},"",{"$f":"IF($A98<>\"\",IF(0 = INDEX('Seznam střelců'!P$7:P$107,MATCH($B98,'Seznam střelců'!$A$7:$A$107,0),1),\"\",INDEX('Seznam střelců'!P$7:P$107,MATCH($B98,'Seznam střelců'!$A$7:$A$107,0),1)),\"\")","v":""},"",{"$f":"IF($A98<>\"\",IF(0 = INDEX('Seznam střelců'!Q$7:Q$107,MATCH($B98,'Seznam střelců'!$A$7:$A$107,0),1),\"\",INDEX('Seznam střelců'!Q$7:Q$107,MATCH($B98,'Seznam střelců'!$A$7:$A$107,0),1)),\"\")","v":""},{"$f":"IF($A98<>\"\",\n    IF(INDEX('Seznam střelců'!$C$7:$C$107,MATCH($B98,'Seznam střelců'!$A$7:$A$107,0),1) <> \"\",\n        \"Mimo soutěž\",\n        IF(AND($N98 > 0,OR(ISNA(MATCH($A98,'Seznam střelců'!$S$7:$S$107,0)),ISNA(MATCH($A99,'Seznam střelců'!$S$7:$S$107,0)))), \"Rozstřel\", \"\")\n    ),\"\")","v":""}]
[{"$f":"'Seznam střelců'!$A99","v":""},{"$f":"IF($A99<>\"\",INDEX('Seznam střelců'!$A$7:$A$107,MATCH($A99,'Pom. pořadí jednotlivci'!$Q$7:$Q$107,0),1),\"\")","v":""},{"$f":"IF($A99<>\"\",INDEX('Seznam střelců'!$E$7:$E$107,MATCH($B99,'Seznam střelců'!$A$7:$A$107,0),1),\"\")","v":""},{"$f":"IF($A99<>\"\",INDEX('Seznam střelců'!F$7:F$107,MATCH($B99,'Seznam střelců'!$A$7:$A$107,0),1),\"\")","v":""},{"$f":"IF($A99<>\"\",INDEX('Seznam střelců'!G$7:G$107,MATCH($B99,'Seznam střelců'!$A$7:$A$107,0),1),\"\")","v":""},{"$f":"IF($A99<>\"\",INDEX('Seznam střelců'!H$7:H$107,MATCH($B99,'Seznam střelců'!$A$7:$A$107,0),1),\"\")","v":""},{"$f":"IF($A99<>\"\",INDEX('Seznam střelců'!I$7:I$107,MATCH($B99,'Seznam střelců'!$A$7:$A$107,0),1),\"\")","v":""},{"$f":"IF($A99<>\"\",INDEX('Seznam střelců'!J$7:J$107,MATCH($B99,'Seznam střelců'!$A$7:$A$107,0),1),\"\")","v":""},{"$f":"IF($A99<>\"\",INDEX('Seznam střelců'!K$7:K$107,MATCH($B99,'Seznam střelců'!$A$7:$A$107,0),1),\"\")","v":""},{"$f":"IF($A99<>\"\",INDEX('Seznam střelců'!L$7:L$107,MATCH($B99,'Seznam střelců'!$A$7:$A$107,0),1),\"\")","v":""},{"$f":"IF($A99<>\"\",INDEX('Seznam střelců'!M$7:M$107,MATCH($B99,'Seznam střelců'!$A$7:$A$107,0),1),\"\")","v":""},{"$f":"IF($A99<>\"\",INDEX('Seznam střelců'!N$7:N$107,MATCH($B99,'Seznam střelců'!$A$7:$A$107,0),1),\"\")","v":""},{"$f":"IF($A99<>\"\",INDEX('Seznam střelců'!O$7:O$107,MATCH($B99,'Seznam střelců'!$A$7:$A$107,0),1),\"\")","v":""},"",{"$f":"IF($A99<>\"\",IF(0 = INDEX('Seznam střelců'!P$7:P$107,MATCH($B99,'Seznam střelců'!$A$7:$A$107,0),1),\"\",INDEX('Seznam střelců'!P$7:P$107,MATCH($B99,'Seznam střelců'!$A$7:$A$107,0),1)),\"\")","v":""},"",{"$f":"IF($A99<>\"\",IF(0 = INDEX('Seznam střelců'!Q$7:Q$107,MATCH($B99,'Seznam střelců'!$A$7:$A$107,0),1),\"\",INDEX('Seznam střelců'!Q$7:Q$107,MATCH($B99,'Seznam střelců'!$A$7:$A$107,0),1)),\"\")","v":""},{"$f":"IF($A99<>\"\",\n    IF(INDEX('Seznam střelců'!$C$7:$C$107,MATCH($B99,'Seznam střelců'!$A$7:$A$107,0),1) <> \"\",\n        \"Mimo soutěž\",\n        IF(AND($N99 > 0,OR(ISNA(MATCH($A99,'Seznam střelců'!$S$7:$S$107,0)),ISNA(MATCH($A100,'Seznam střelců'!$S$7:$S$107,0)))), \"Rozstřel\", \"\")\n    ),\"\")","v":""}]
[{"$f":"'Seznam střelců'!$A100","v":""},{"$f":"IF($A100<>\"\",INDEX('Seznam střelců'!$A$7:$A$107,MATCH($A100,'Pom. pořadí jednotlivci'!$Q$7:$Q$107,0),1),\"\")","v":""},{"$f":"IF($A100<>\"\",INDEX('Seznam střelců'!$E$7:$E$107,MATCH($B100,'Seznam střelců'!$A$7:$A$107,0),1),\"\")","v":""},{"$f":"IF($A100<>\"\",INDEX('Seznam střelců'!F$7:F$107,MATCH($B100,'Seznam střelců'!$A$7:$A$107,0),1),\"\")","v":""},{"$f":"IF($A100<>\"\",INDEX('Seznam střelců'!G$7:G$107,MATCH($B100,'Seznam střelců'!$A$7:$A$107,0),1),\"\")","v":""},{"$f":"IF($A100<>\"\",INDEX('Seznam střelců'!H$7:H$107,MATCH($B100,'Seznam střelců'!$A$7:$A$107,0),1),\"\")","v":""},{"$f":"IF($A100<>\"\",INDEX('Seznam střelců'!I$7:I$107,MATCH($B100,'Seznam střelců'!$A$7:$A$107,0),1),\"\")","v":""},{"$f":"IF($A100<>\"\",INDEX('Seznam střelců'!J$7:J$107,MATCH($B100,'Seznam střelců'!$A$7:$A$107,0),1),\"\")","v":""},{"$f":"IF($A100<>\"\",INDEX('Seznam střelců'!K$7:K$107,MATCH($B100,'Seznam střelců'!$A$7:$A$107,0),1),\"\")","v":""},{"$f":"IF($A100<>\"\",INDEX('Seznam střelců'!L$7:L$107,MATCH($B100,'Seznam střelců'!$A$7:$A$107,0),1),\"\")","v":""},{"$f":"IF($A100<>\"\",INDEX('Seznam střelců'!M$7:M$107,MATCH($B100,'Seznam střelců'!$A$7:$A$107,0),1),\"\")","v":""},{"$f":"IF($A100<>\"\",INDEX('Seznam střelců'!N$7:N$107,MATCH($B100,'Seznam střelců'!$A$7:$A$107,0),1),\"\")","v":""},{"$f":"IF($A100<>\"\",INDEX('Seznam střelců'!O$7:O$107,MATCH($B100,'Seznam střelců'!$A$7:$A$107,0),1),\"\")","v":""},"",{"$f":"IF($A100<>\"\",IF(0 = INDEX('Seznam střelců'!P$7:P$107,MATCH($B100,'Seznam střelců'!$A$7:$A$107,0),1),\"\",INDEX('Seznam střelců'!P$7:P$107,MATCH($B100,'Seznam střelců'!$A$7:$A$107,0),1)),\"\")","v":""},"",{"$f":"IF($A100<>\"\",IF(0 = INDEX('Seznam střelců'!Q$7:Q$107,MATCH($B100,'Seznam střelců'!$A$7:$A$107,0),1),\"\",INDEX('Seznam střelců'!Q$7:Q$107,MATCH($B100,'Seznam střelců'!$A$7:$A$107,0),1)),\"\")","v":""},{"$f":"IF($A100<>\"\",\n    IF(INDEX('Seznam střelců'!$C$7:$C$107,MATCH($B100,'Seznam střelců'!$A$7:$A$107,0),1) <> \"\",\n        \"Mimo soutěž\",\n        IF(AND($N100 > 0,OR(ISNA(MATCH($A100,'Seznam střelců'!$S$7:$S$107,0)),ISNA(MATCH($A101,'Seznam střelců'!$S$7:$S$107,0)))), \"Rozstřel\", \"\")\n    ),\"\")","v":""}]
[{"$f":"'Seznam střelců'!$A101","v":""},{"$f":"IF($A101<>\"\",INDEX('Seznam střelců'!$A$7:$A$107,MATCH($A101,'Pom. pořadí jednotlivci'!$Q$7:$Q$107,0),1),\"\")","v":""},{"$f":"IF($A101<>\"\",INDEX('Seznam střelců'!$E$7:$E$107,MATCH($B101,'Seznam střelců'!$A$7:$A$107,0),1),\"\")","v":""},{"$f":"IF($A101<>\"\",INDEX('Seznam střelců'!F$7:F$107,MATCH($B101,'Seznam střelců'!$A$7:$A$107,0),1),\"\")","v":""},{"$f":"IF($A101<>\"\",INDEX('Seznam střelců'!G$7:G$107,MATCH($B101,'Seznam střelců'!$A$7:$A$107,0),1),\"\")","v":""},{"$f":"IF($A101<>\"\",INDEX('Seznam střelců'!H$7:H$107,MATCH($B101,'Seznam střelců'!$A$7:$A$107,0),1),\"\")","v":""},{"$f":"IF($A101<>\"\",INDEX('Seznam střelců'!I$7:I$107,MATCH($B101,'Seznam střelců'!$A$7:$A$107,0),1),\"\")","v":""},{"$f":"IF($A101<>\"\",INDEX('Seznam střelců'!J$7:J$107,MATCH($B101,'Seznam střelců'!$A$7:$A$107,0),1),\"\")","v":""},{"$f":"IF($A101<>\"\",INDEX('Seznam střelců'!K$7:K$107,MATCH($B101,'Seznam střelců'!$A$7:$A$107,0),1),\"\")","v":""},{"$f":"IF($A101<>\"\",INDEX('Seznam střelců'!L$7:L$107,MATCH($B101,'Seznam střelců'!$A$7:$A$107,0),1),\"\")","v":""},{"$f":"IF($A101<>\"\",INDEX('Seznam střelců'!M$7:M$107,MATCH($B101,'Seznam střelců'!$A$7:$A$107,0),1),\"\")","v":""},{"$f":"IF($A101<>\"\",INDEX('Seznam střelců'!N$7:N$107,MATCH($B101,'Seznam střelců'!$A$7:$A$107,0),1),\"\")","v":""},{"$f":"IF($A101<>\"\",INDEX('Seznam střelců'!O$7:O$107,MATCH($B101,'Seznam střelců'!$A$7:$A$107,0),1),\"\")","v":""},"",{"$f":"IF($A101<>\"\",IF(0 = INDEX('Seznam střelců'!P$7:P$107,MATCH($B101,'Seznam střelců'!$A$7:$A$107,0),1),\"\",INDEX('Seznam střelců'!P$7:P$107,MATCH($B101,'Seznam střelců'!$A$7:$A$107,0),1)),\"\")","v":""},"",{"$f":"IF($A101<>\"\",IF(0 = INDEX('Seznam střelců'!Q$7:Q$107,MATCH($B101,'Seznam střelců'!$A$7:$A$107,0),1),\"\",INDEX('Seznam střelců'!Q$7:Q$107,MATCH($B101,'Seznam střelců'!$A$7:$A$107,0),1)),\"\")","v":""},{"$f":"IF($A101<>\"\",\n    IF(INDEX('Seznam střelců'!$C$7:$C$107,MATCH($B101,'Seznam střelců'!$A$7:$A$107,0),1) <> \"\",\n        \"Mimo soutěž\",\n        IF(AND($N101 > 0,OR(ISNA(MATCH($A101,'Seznam střelců'!$S$7:$S$107,0)),ISNA(MATCH($A102,'Seznam střelců'!$S$7:$S$107,0)))), \"Rozstřel\", \"\")\n    ),\"\")","v":""}]
[{"$f":"'Seznam střelců'!$A102","v":""},{"$f":"IF($A102<>\"\",INDEX('Seznam střelců'!$A$7:$A$107,MATCH($A102,'Pom. pořadí jednotlivci'!$Q$7:$Q$107,0),1),\"\")","v":""},{"$f":"IF($A102<>\"\",INDEX('Seznam střelců'!$E$7:$E$107,MATCH($B102,'Seznam střelců'!$A$7:$A$107,0),1),\"\")","v":""},{"$f":"IF($A102<>\"\",INDEX('Seznam střelců'!F$7:F$107,MATCH($B102,'Seznam střelců'!$A$7:$A$107,0),1),\"\")","v":""},{"$f":"IF($A102<>\"\",INDEX('Seznam střelců'!G$7:G$107,MATCH($B102,'Seznam střelců'!$A$7:$A$107,0),1),\"\")","v":""},{"$f":"IF($A102<>\"\",INDEX('Seznam střelců'!H$7:H$107,MATCH($B102,'Seznam střelců'!$A$7:$A$107,0),1),\"\")","v":""},{"$f":"IF($A102<>\"\",INDEX('Seznam střelců'!I$7:I$107,MATCH($B102,'Seznam střelců'!$A$7:$A$107,0),1),\"\")","v":""},{"$f":"IF($A102<>\"\",INDEX('Seznam střelců'!J$7:J$107,MATCH($B102,'Seznam střelců'!$A$7:$A$107,0),1),\"\")","v":""},{"$f":"IF($A102<>\"\",INDEX('Seznam střelců'!K$7:K$107,MATCH($B102,'Seznam střelců'!$A$7:$A$107,0),1),\"\")","v":""},{"$f":"IF($A102<>\"\",INDEX('Seznam střelců'!L$7:L$107,MATCH($B102,'Seznam střelců'!$A$7:$A$107,0),1),\"\")","v":""},{"$f":"IF($A102<>\"\",INDEX('Seznam střelců'!M$7:M$107,MATCH($B102,'Seznam střelců'!$A$7:$A$107,0),1),\"\")","v":""},{"$f":"IF($A102<>\"\",INDEX('Seznam střelců'!N$7:N$107,MATCH($B102,'Seznam střelců'!$A$7:$A$107,0),1),\"\")","v":""},{"$f":"IF($A102<>\"\",INDEX('Seznam střelců'!O$7:O$107,MATCH($B102,'Seznam střelců'!$A$7:$A$107,0),1),\"\")","v":""},"",{"$f":"IF($A102<>\"\",IF(0 = INDEX('Seznam střelců'!P$7:P$107,MATCH($B102,'Seznam střelců'!$A$7:$A$107,0),1),\"\",INDEX('Seznam střelců'!P$7:P$107,MATCH($B102,'Seznam střelců'!$A$7:$A$107,0),1)),\"\")","v":""},"",{"$f":"IF($A102<>\"\",IF(0 = INDEX('Seznam střelců'!Q$7:Q$107,MATCH($B102,'Seznam střelců'!$A$7:$A$107,0),1),\"\",INDEX('Seznam střelců'!Q$7:Q$107,MATCH($B102,'Seznam střelců'!$A$7:$A$107,0),1)),\"\")","v":""},{"$f":"IF($A102<>\"\",\n    IF(INDEX('Seznam střelců'!$C$7:$C$107,MATCH($B102,'Seznam střelců'!$A$7:$A$107,0),1) <> \"\",\n        \"Mimo soutěž\",\n        IF(AND($N102 > 0,OR(ISNA(MATCH($A102,'Seznam střelců'!$S$7:$S$107,0)),ISNA(MATCH($A103,'Seznam střelců'!$S$7:$S$107,0)))), \"Rozstřel\", \"\")\n    ),\"\")","v":""}]
[{"$f":"'Seznam střelců'!$A103","v":""},{"$f":"IF($A103<>\"\",INDEX('Seznam střelců'!$A$7:$A$107,MATCH($A103,'Pom. pořadí jednotlivci'!$Q$7:$Q$107,0),1),\"\")","v":""},{"$f":"IF($A103<>\"\",INDEX('Seznam střelců'!$E$7:$E$107,MATCH($B103,'Seznam střelců'!$A$7:$A$107,0),1),\"\")","v":""},{"$f":"IF($A103<>\"\",INDEX('Seznam střelců'!F$7:F$107,MATCH($B103,'Seznam střelců'!$A$7:$A$107,0),1),\"\")","v":""},{"$f":"IF($A103<>\"\",INDEX('Seznam střelců'!G$7:G$107,MATCH($B103,'Seznam střelců'!$A$7:$A$107,0),1),\"\")","v":""},{"$f":"IF($A103<>\"\",INDEX('Seznam střelců'!H$7:H$107,MATCH($B103,'Seznam střelců'!$A$7:$A$107,0),1),\"\")","v":""},{"$f":"IF($A103<>\"\",INDEX('Seznam střelců'!I$7:I$107,MATCH($B103,'Seznam střelců'!$A$7:$A$107,0),1),\"\")","v":""},{"$f":"IF($A103<>\"\",INDEX('Seznam střelců'!J$7:J$107,MATCH($B103,'Seznam střelců'!$A$7:$A$107,0),1),\"\")","v":""},{"$f":"IF($A103<>\"\",INDEX('Seznam střelců'!K$7:K$107,MATCH($B103,'Seznam střelců'!$A$7:$A$107,0),1),\"\")","v":""},{"$f":"IF($A103<>\"\",INDEX('Seznam střelců'!L$7:L$107,MATCH($B103,'Seznam střelců'!$A$7:$A$107,0),1),\"\")","v":""},{"$f":"IF($A103<>\"\",INDEX('Seznam střelců'!M$7:M$107,MATCH($B103,'Seznam střelců'!$A$7:$A$107,0),1),\"\")","v":""},{"$f":"IF($A103<>\"\",INDEX('Seznam střelců'!N$7:N$107,MATCH($B103,'Seznam střelců'!$A$7:$A$107,0),1),\"\")","v":""},{"$f":"IF($A103<>\"\",INDEX('Seznam střelců'!O$7:O$107,MATCH($B103,'Seznam střelců'!$A$7:$A$107,0),1),\"\")","v":""},"",{"$f":"IF($A103<>\"\",IF(0 = INDEX('Seznam střelců'!P$7:P$107,MATCH($B103,'Seznam střelců'!$A$7:$A$107,0),1),\"\",INDEX('Seznam střelců'!P$7:P$107,MATCH($B103,'Seznam střelců'!$A$7:$A$107,0),1)),\"\")","v":""},"",{"$f":"IF($A103<>\"\",IF(0 = INDEX('Seznam střelců'!Q$7:Q$107,MATCH($B103,'Seznam střelců'!$A$7:$A$107,0),1),\"\",INDEX('Seznam střelců'!Q$7:Q$107,MATCH($B103,'Seznam střelců'!$A$7:$A$107,0),1)),\"\")","v":""},{"$f":"IF($A103<>\"\",\n    IF(INDEX('Seznam střelců'!$C$7:$C$107,MATCH($B103,'Seznam střelců'!$A$7:$A$107,0),1) <> \"\",\n        \"Mimo soutěž\",\n        IF(AND($N103 > 0,OR(ISNA(MATCH($A103,'Seznam střelců'!$S$7:$S$107,0)),ISNA(MATCH($A104,'Seznam střelců'!$S$7:$S$107,0)))), \"Rozstřel\", \"\")\n    ),\"\")","v":""}]
[{"$f":"'Seznam střelců'!$A104","v":""},{"$f":"IF($A104<>\"\",INDEX('Seznam střelců'!$A$7:$A$107,MATCH($A104,'Pom. pořadí jednotlivci'!$Q$7:$Q$107,0),1),\"\")","v":""},{"$f":"IF($A104<>\"\",INDEX('Seznam střelců'!$E$7:$E$107,MATCH($B104,'Seznam střelců'!$A$7:$A$107,0),1),\"\")","v":""},{"$f":"IF($A104<>\"\",INDEX('Seznam střelců'!F$7:F$107,MATCH($B104,'Seznam střelců'!$A$7:$A$107,0),1),\"\")","v":""},{"$f":"IF($A104<>\"\",INDEX('Seznam střelců'!G$7:G$107,MATCH($B104,'Seznam střelců'!$A$7:$A$107,0),1),\"\")","v":""},{"$f":"IF($A104<>\"\",INDEX('Seznam střelců'!H$7:H$107,MATCH($B104,'Seznam střelců'!$A$7:$A$107,0),1),\"\")","v":""},{"$f":"IF($A104<>\"\",INDEX('Seznam střelců'!I$7:I$107,MATCH($B104,'Seznam střelců'!$A$7:$A$107,0),1),\"\")","v":""},{"$f":"IF($A104<>\"\",INDEX('Seznam střelců'!J$7:J$107,MATCH($B104,'Seznam střelců'!$A$7:$A$107,0),1),\"\")","v":""},{"$f":"IF($A104<>\"\",INDEX('Seznam střelců'!K$7:K$107,MATCH($B104,'Seznam střelců'!$A$7:$A$107,0),1),\"\")","v":""},{"$f":"IF($A104<>\"\",INDEX('Seznam střelců'!L$7:L$107,MATCH($B104,'Seznam střelců'!$A$7:$A$107,0),1),\"\")","v":""},{"$f":"IF($A104<>\"\",INDEX('Seznam střelců'!M$7:M$107,MATCH($B104,'Seznam střelců'!$A$7:$A$107,0),1),\"\")","v":""},{"$f":"IF($A104<>\"\",INDEX('Seznam střelců'!N$7:N$107,MATCH($B104,'Seznam střelců'!$A$7:$A$107,0),1),\"\")","v":""},{"$f":"IF($A104<>\"\",INDEX('Seznam střelců'!O$7:O$107,MATCH($B104,'Seznam střelců'!$A$7:$A$107,0),1),\"\")","v":""},"",{"$f":"IF($A104<>\"\",IF(0 = INDEX('Seznam střelců'!P$7:P$107,MATCH($B104,'Seznam střelců'!$A$7:$A$107,0),1),\"\",INDEX('Seznam střelců'!P$7:P$107,MATCH($B104,'Seznam střelců'!$A$7:$A$107,0),1)),\"\")","v":""},"",{"$f":"IF($A104<>\"\",IF(0 = INDEX('Seznam střelců'!Q$7:Q$107,MATCH($B104,'Seznam střelců'!$A$7:$A$107,0),1),\"\",INDEX('Seznam střelců'!Q$7:Q$107,MATCH($B104,'Seznam střelců'!$A$7:$A$107,0),1)),\"\")","v":""},{"$f":"IF($A104<>\"\",\n    IF(INDEX('Seznam střelců'!$C$7:$C$107,MATCH($B104,'Seznam střelců'!$A$7:$A$107,0),1) <> \"\",\n        \"Mimo soutěž\",\n        IF(AND($N104 > 0,OR(ISNA(MATCH($A104,'Seznam střelců'!$S$7:$S$107,0)),ISNA(MATCH($A105,'Seznam střelců'!$S$7:$S$107,0)))), \"Rozstřel\", \"\")\n    ),\"\")","v":""}]
[{"$f":"'Seznam střelců'!$A105","v":""},{"$f":"IF($A105<>\"\",INDEX('Seznam střelců'!$A$7:$A$107,MATCH($A105,'Pom. pořadí jednotlivci'!$Q$7:$Q$107,0),1),\"\")","v":""},{"$f":"IF($A105<>\"\",INDEX('Seznam střelců'!$E$7:$E$107,MATCH($B105,'Seznam střelců'!$A$7:$A$107,0),1),\"\")","v":""},{"$f":"IF($A105<>\"\",INDEX('Seznam střelců'!F$7:F$107,MATCH($B105,'Seznam střelců'!$A$7:$A$107,0),1),\"\")","v":""},{"$f":"IF($A105<>\"\",INDEX('Seznam střelců'!G$7:G$107,MATCH($B105,'Seznam střelců'!$A$7:$A$107,0),1),\"\")","v":""},{"$f":"IF($A105<>\"\",INDEX('Seznam střelců'!H$7:H$107,MATCH($B105,'Seznam střelců'!$A$7:$A$107,0),1),\"\")","v":""},{"$f":"IF($A105<>\"\",INDEX('Seznam střelců'!I$7:I$107,MATCH($B105,'Seznam střelců'!$A$7:$A$107,0),1),\"\")","v":""},{"$f":"IF($A105<>\"\",INDEX('Seznam střelců'!J$7:J$107,MATCH($B105,'Seznam střelců'!$A$7:$A$107,0),1),\"\")","v":""},{"$f":"IF($A105<>\"\",INDEX('Seznam střelců'!K$7:K$107,MATCH($B105,'Seznam střelců'!$A$7:$A$107,0),1),\"\")","v":""},{"$f":"IF($A105<>\"\",INDEX('Seznam střelců'!L$7:L$107,MATCH($B105,'Seznam střelců'!$A$7:$A$107,0),1),\"\")","v":""},{"$f":"IF($A105<>\"\",INDEX('Seznam střelců'!M$7:M$107,MATCH($B105,'Seznam střelců'!$A$7:$A$107,0),1),\"\")","v":""},{"$f":"IF($A105<>\"\",INDEX('Seznam střelců'!N$7:N$107,MATCH($B105,'Seznam střelců'!$A$7:$A$107,0),1),\"\")","v":""},{"$f":"IF($A105<>\"\",INDEX('Seznam střelců'!O$7:O$107,MATCH($B105,'Seznam střelců'!$A$7:$A$107,0),1),\"\")","v":""},"",{"$f":"IF($A105<>\"\",IF(0 = INDEX('Seznam střelců'!P$7:P$107,MATCH($B105,'Seznam střelců'!$A$7:$A$107,0),1),\"\",INDEX('Seznam střelců'!P$7:P$107,MATCH($B105,'Seznam střelců'!$A$7:$A$107,0),1)),\"\")","v":""},"",{"$f":"IF($A105<>\"\",IF(0 = INDEX('Seznam střelců'!Q$7:Q$107,MATCH($B105,'Seznam střelců'!$A$7:$A$107,0),1),\"\",INDEX('Seznam střelců'!Q$7:Q$107,MATCH($B105,'Seznam střelců'!$A$7:$A$107,0),1)),\"\")","v":""},{"$f":"IF($A105<>\"\",\n    IF(INDEX('Seznam střelců'!$C$7:$C$107,MATCH($B105,'Seznam střelců'!$A$7:$A$107,0),1) <> \"\",\n        \"Mimo soutěž\",\n        IF(AND($N105 > 0,OR(ISNA(MATCH($A105,'Seznam střelců'!$S$7:$S$107,0)),ISNA(MATCH($A106,'Seznam střelců'!$S$7:$S$107,0)))), \"Rozstřel\", \"\")\n    ),\"\")","v":""}]
[{"$f":"'Seznam střelců'!$A106","v":""},{"$f":"IF($A106<>\"\",INDEX('Seznam střelců'!$A$7:$A$107,MATCH($A106,'Pom. pořadí jednotlivci'!$Q$7:$Q$107,0),1),\"\")","v":""},{"$f":"IF($A106<>\"\",INDEX('Seznam střelců'!$E$7:$E$107,MATCH($B106,'Seznam střelců'!$A$7:$A$107,0),1),\"\")","v":""},{"$f":"IF($A106<>\"\",INDEX('Seznam střelců'!F$7:F$107,MATCH($B106,'Seznam střelců'!$A$7:$A$107,0),1),\"\")","v":""},{"$f":"IF($A106<>\"\",INDEX('Seznam střelců'!G$7:G$107,MATCH($B106,'Seznam střelců'!$A$7:$A$107,0),1),\"\")","v":""},{"$f":"IF($A106<>\"\",INDEX('Seznam střelců'!H$7:H$107,MATCH($B106,'Seznam střelců'!$A$7:$A$107,0),1),\"\")","v":""},{"$f":"IF($A106<>\"\",INDEX('Seznam střelců'!I$7:I$107,MATCH($B106,'Seznam střelců'!$A$7:$A$107,0),1),\"\")","v":""},{"$f":"IF($A106<>\"\",INDEX('Seznam střelců'!J$7:J$107,MATCH($B106,'Seznam střelců'!$A$7:$A$107,0),1),\"\")","v":""},{"$f":"IF($A106<>\"\",INDEX('Seznam střelců'!K$7:K$107,MATCH($B106,'Seznam střelců'!$A$7:$A$107,0),1),\"\")","v":""},{"$f":"IF($A106<>\"\",INDEX('Seznam střelců'!L$7:L$107,MATCH($B106,'Seznam střelců'!$A$7:$A$107,0),1),\"\")","v":""},{"$f":"IF($A106<>\"\",INDEX('Seznam střelců'!M$7:M$107,MATCH($B106,'Seznam střelců'!$A$7:$A$107,0),1),\"\")","v":""},{"$f":"IF($A106<>\"\",INDEX('Seznam střelců'!N$7:N$107,MATCH($B106,'Seznam střelců'!$A$7:$A$107,0),1),\"\")","v":""},{"$f":"IF($A106<>\"\",INDEX('Seznam střelců'!O$7:O$107,MATCH($B106,'Seznam střelců'!$A$7:$A$107,0),1),\"\")","v":""},"",{"$f":"IF($A106<>\"\",IF(0 = INDEX('Seznam střelců'!P$7:P$107,MATCH($B106,'Seznam střelců'!$A$7:$A$107,0),1),\"\",INDEX('Seznam střelců'!P$7:P$107,MATCH($B106,'Seznam střelců'!$A$7:$A$107,0),1)),\"\")","v":""},"",{"$f":"IF($A106<>\"\",IF(0 = INDEX('Seznam střelců'!Q$7:Q$107,MATCH($B106,'Seznam střelců'!$A$7:$A$107,0),1),\"\",INDEX('Seznam střelců'!Q$7:Q$107,MATCH($B106,'Seznam střelců'!$A$7:$A$107,0),1)),\"\")","v":""},{"$f":"IF($A106<>\"\",\n    IF(INDEX('Seznam střelců'!$C$7:$C$107,MATCH($B106,'Seznam střelců'!$A$7:$A$107,0),1) <> \"\",\n        \"Mimo soutěž\",\n        IF(AND($N106 > 0,OR(ISNA(MATCH($A106,'Seznam střelců'!$S$7:$S$107,0)),ISNA(MATCH($A107,'Seznam střelců'!$S$7:$S$107,0)))), \"Rozstřel\", \"\")\n    ),\"\")","v":""}]
[{"$f":"'Seznam střelců'!$A107","v":""},{"$f":"IF($A107<>\"\",INDEX('Seznam střelců'!$A$7:$A$107,MATCH($A107,'Pom. pořadí jednotlivci'!$Q$7:$Q$107,0),1),\"\")","v":""},{"$f":"IF($A107<>\"\",INDEX('Seznam střelců'!$E$7:$E$107,MATCH($B107,'Seznam střelců'!$A$7:$A$107,0),1),\"\")","v":""},{"$f":"IF($A107<>\"\",INDEX('Seznam střelců'!F$7:F$107,MATCH($B107,'Seznam střelců'!$A$7:$A$107,0),1),\"\")","v":""},{"$f":"IF($A107<>\"\",INDEX('Seznam střelců'!G$7:G$107,MATCH($B107,'Seznam střelců'!$A$7:$A$107,0),1),\"\")","v":""},{"$f":"IF($A107<>\"\",INDEX('Seznam střelců'!H$7:H$107,MATCH($B107,'Seznam střelců'!$A$7:$A$107,0),1),\"\")","v":""},{"$f":"IF($A107<>\"\",INDEX('Seznam střelců'!I$7:I$107,MATCH($B107,'Seznam střelců'!$A$7:$A$107,0),1),\"\")","v":""},{"$f":"IF($A107<>\"\",INDEX('Seznam střelců'!J$7:J$107,MATCH($B107,'Seznam střelců'!$A$7:$A$107,0),1),\"\")","v":""},{"$f":"IF($A107<>\"\",INDEX('Seznam střelců'!K$7:K$107,MATCH($B107,'Seznam střelců'!$A$7:$A$107,0),1),\"\")","v":""},{"$f":"IF($A107<>\"\",INDEX('Seznam střelců'!L$7:L$107,MATCH($B107,'Seznam střelců'!$A$7:$A$107,0),1),\"\")","v":""},{"$f":"IF($A107<>\"\",INDEX('Seznam střelců'!M$7:M$107,MATCH($B107,'Seznam střelců'!$A$7:$A$107,0),1),\"\")","v":""},{"$f":"IF($A107<>\"\",INDEX('Seznam střelců'!N$7:N$107,MATCH($B107,'Seznam střelců'!$A$7:$A$107,0),1),\"\")","v":""},{"$f":"IF($A107<>\"\",INDEX('Seznam střelců'!O$7:O$107,MATCH($B107,'Seznam střelců'!$A$7:$A$107,0),1),\"\")","v":""},"",{"$f":"IF($A107<>\"\",IF(0 = INDEX('Seznam střelců'!P$7:P$107,MATCH($B107,'Seznam střelců'!$A$7:$A$107,0),1),\"\",INDEX('Seznam střelců'!P$7:P$107,MATCH($B107,'Seznam střelců'!$A$7:$A$107,0),1)),\"\")","v":""},"",{"$f":"IF($A107<>\"\",IF(0 = INDEX('Seznam střelců'!Q$7:Q$107,MATCH($B107,'Seznam střelců'!$A$7:$A$107,0),1),\"\",INDEX('Seznam střelců'!Q$7:Q$107,MATCH($B107,'Seznam střelců'!$A$7:$A$107,0),1)),\"\")","v":""},{"$f":"IF($A107<>\"\",\n    IF(INDEX('Seznam střelců'!$C$7:$C$107,MATCH($B107,'Seznam střelců'!$A$7:$A$107,0),1) <> \"\",\n        \"Mimo soutěž\",\n        IF(AND($N107 > 0,OR(ISNA(MATCH($A107,'Seznam střelců'!$S$7:$S$107,0)),ISNA(MATCH($A108,'Seznam střelců'!$S$7:$S$107,0)))), \"Rozstřel\", \"\")\n    ),\"\")","v":""}]
["Počet terčů v disciplině",null,null,{"$f":"'Los a nastavení'!H5","v":0},{"$f":"'Los a nastavení'!I5","v":0},{"$f":"'Los a nastavení'!J5","v":0},{"$f":"'Los a nastavení'!K5","v":0},{"$f":"'Los a nastavení'!L5","v":0},{"$f":"'Los a nastavení'!M5","v":0},{"$f":"'Los a nastavení'!N5","v":0},{"$f":"'Los a nastavení'!O5","v":0},{"$f":"'Los a nastavení'!P5","v":0},{"$f":"'Los a nastavení'!Q5","v":0},null,{"$f":"'Los a nastavení'!R5","v":0}]

{"sheet":"Výsledek družstva","index":5,"n_rows":40,"n_cols":16,"rows_kept":40,"cut":false,"hidden":false,"merged":[[4,0,4,14],[0,0,0,14],[1,0,1,14],[2,0,2,14],[3,0,3,14]]}
[{"$f":"'Seznam střelců'!A1:S1","v":"Výsledková listina"}]
[{"$f":"'Seznam střelců'!A2:S2","v":"Pohár města Bystřice nad Pernštejnem"}]
[{"$f":"'Seznam střelců'!A3:S3","v":"Střelnice Smrček-Býšovec, 24.9.2017"}]
[{"$f":"'Seznam družstev'!A4:O4","v":"Celkový počet družstev: 0"}]
["Výsledné pořadí družstev"]
["Pořadí",{"$f":"'Seznam družstev'!B6","v":"Číslo družstva"},{"$f":"'Seznam družstev'!A6","v":"Družstvo"},{"$f":"'Seznam družstev'!C6","v":"Celkový součet"},{"$f":"'Seznam družstev'!D$6","v":"Disc. 1"},{"$f":"'Seznam družstev'!E$6","v":"Disc. 2"},{"$f":"'Seznam družstev'!F$6","v":"Disc. 3"},{"$f":"'Seznam družstev'!G$6","v":"Disc. 4"},{"$f":"'Seznam družstev'!H$6","v":"Disc. 5"},{"$f":"'Seznam družstev'!I$6","v":"Disc. 6"},{"$f":"'Seznam družstev'!J$6","v":"Disc. 7"},{"$f":"'Seznam družstev'!K$6","v":"Zajíc"},{"$f":"'Seznam družstev'!L$6","v":"LK II"},{"$f":"'Seznam družstev'!M$6","v":"LK I"},{"$f":"'Seznam družstev'!N6","v":"Rozstřel"}]
[{"$f":"IF('Seznam družstev'!B7<>\"\",1,\"\")","v":""},{"$f":"IF($A7<>\"\",INDEX('Seznam družstev'!$B$7:$B$40,MATCH($A7,'Pom. pořadí družstva'!$Q$7:$Q$40,0),1),\"\")","v":""},{"$f":"IF($A7<>\"\",INDEX('Seznam družstev'!$A$7:$A$40,MATCH($B7,'Seznam družstev'!$B$7:$B$40,0),1),\"\")","v":""},{"$f":"IF($A7<>\"\",SUM($E7:$N7),\"\")","v":""},{"$f":"IF($A7<>\"\",INDEX('Seznam družstev'!D$7:D$40,MATCH($B7,'Seznam družstev'!$B$7:$B$40,0),1),\"\")","v":""},{"$f":"IF($A7<>\"\",INDEX('Seznam družstev'!E$7:E$40,MATCH($B7,'Seznam družstev'!$B$7:$B$40,0),1),\"\")","v":""},{"$f":"IF($A7<>\"\",INDEX('Seznam družstev'!F$7:F$40,MATCH($B7,'Seznam družstev'!$B$7:$B$40,0),1),\"\")","v":""},{"$f":"IF($A7<>\"\",INDEX('Seznam družstev'!G$7:G$40,MATCH($B7,'Seznam družstev'!$B$7:$B$40,0),1),\"\")","v":""},{"$f":"IF($A7<>\"\",INDEX('Seznam družstev'!H$7:H$40,MATCH($B7,'Seznam družstev'!$B$7:$B$40,0),1),\"\")","v":""},{"$f":"IF($A7<>\"\",INDEX('Seznam družstev'!I$7:I$40,MATCH($B7,'Seznam družstev'!$B$7:$B$40,0),1),\"\")","v":""},{"$f":"IF($A7<>\"\",INDEX('Seznam družstev'!J$7:J$40,MATCH($B7,'Seznam družstev'!$B$7:$B$40,0),1),\"\")","v":""},{"$f":"IF($A7<>\"\",INDEX('Seznam družstev'!K$7:K$40,MATCH($B7,'Seznam družstev'!$B$7:$B$40,0),1),\"\")","v":""},{"$f":"IF($A7<>\"\",INDEX('Seznam družstev'!L$7:L$40,MATCH($B7,'Seznam družstev'!$B$7:$B$40,0),1),\"\")","v":""},{"$f":"IF($A7<>\"\",INDEX('Seznam družstev'!M$7:M$40,MATCH($B7,'Seznam družstev'!$B$7:$B$40,0),1),\"\")","v":""},{"$f":"IF($A7<>\"\",INDEX('Seznam družstev'!N$7:N$40,MATCH($B7,'Seznam družstev'!$B$7:$B$40,0),1),\"\")","v":""},{"$f":"IF($A7<>\"\",\n    IF(INDEX('Seznam družstev'!$P$7:$P$107, MATCH($B7,'Seznam družstev'!$B$7:$B$107,0),1) <> \"\",\n        \"Mimo soutěž\",\n        IF(AND(D7>0,OR(ISNA(MATCH($A7, 'Seznam družstev'!$O$7:$O$40, 0)), ISNA(MATCH($A8, 'Seznam družstev'!$O$7:$O$40,0)))), \"Rozstřel\", \"\")\n    ),\"\")","v":""}]
[{"$f":"IF('Seznam družstev'!B8<>\"\",$A7+1,\"\")","v":""},{"$f":"IF($A8<>\"\",INDEX('Seznam družstev'!$B$7:$B$40,MATCH($A8,'Pom. pořadí družstva'!$Q$7:$Q$40,0),1),\"\")","v":""},{"$f":"IF($A8<>\"\",INDEX('Seznam družstev'!$A$7:$A$40,MATCH($B8,'Seznam družstev'!$B$7:$B$40,0),1),\"\")","v":""},{"$f":"IF($A8<>\"\",SUM($E8:$N8),\"\")","v":""},{"$f":"IF($A8<>\"\",INDEX('Seznam družstev'!D$7:D$40,MATCH($B8,'Seznam družstev'!$B$7:$B$40,0),1),\"\")","v":""},{"$f":"IF($A8<>\"\",INDEX('Seznam družstev'!E$7:E$40,MATCH($B8,'Seznam družstev'!$B$7:$B$40,0),1),\"\")","v":""},{"$f":"IF($A8<>\"\",INDEX('Seznam družstev'!F$7:F$40,MATCH($B8,'Seznam družstev'!$B$7:$B$40,0),1),\"\")","v":""},{"$f":"IF($A8<>\"\",INDEX('Seznam družstev'!G$7:G$40,MATCH($B8,'Seznam družstev'!$B$7:$B$40,0),1),\"\")","v":""},{"$f":"IF($A8<>\"\",INDEX('Seznam družstev'!H$7:H$40,MATCH($B8,'Seznam družstev'!$B$7:$B$40,0),1),\"\")","v":""},{"$f":"IF($A8<>\"\",INDEX('Seznam družstev'!I$7:I$40,MATCH($B8,'Seznam družstev'!$B$7:$B$40,0),1),\"\")","v":""},{"$f":"IF($A8<>\"\",INDEX('Seznam družstev'!J$7:J$40,MATCH($B8,'Seznam družstev'!$B$7:$B$40,0),1),\"\")","v":""},{"$f":"IF($A8<>\"\",INDEX('Seznam družstev'!K$7:K$40,MATCH($B8,'Seznam družstev'!$B$7:$B$40,0),1),\"\")","v":""},{"$f":"IF($A8<>\"\",INDEX('Seznam družstev'!L$7:L$40,MATCH($B8,'Seznam družstev'!$B$7:$B$40,0),1),\"\")","v":""},{"$f":"IF($A8<>\"\",INDEX('Seznam družstev'!M$7:M$40,MATCH($B8,'Seznam družstev'!$B$7:$B$40,0),1),\"\")","v":""},{"$f":"IF($A8<>\"\",INDEX('Seznam družstev'!N$7:N$40,MATCH($B8,'Seznam družstev'!$B$7:$B$40,0),1),\"\")","v":""},{"$f":"IF($A8<>\"\",\n    IF(INDEX('Seznam družstev'!$P$7:$P$107, MATCH($B8,'Seznam družstev'!$B$7:$B$107,0),1) <> \"\",\n        \"Mimo soutěž\",\n        IF(AND(D8>0,OR(ISNA(MATCH($A8, 'Seznam družstev'!$O$7:$O$40, 0)), ISNA(MATCH($A9, 'Seznam družstev'!$O$7:$O$40,0)))), \"Rozstřel\", \"\")\n    ),\"\")","v":""}]
[{"$f":"IF('Seznam družstev'!B9<>\"\",$A8+1,\"\")","v":""},{"$f":"IF($A9<>\"\",INDEX('Seznam družstev'!$B$7:$B$40,MATCH($A9,'Pom. pořadí družstva'!$Q$7:$Q$40,0),1),\"\")","v":""},{"$f":"IF($A9<>\"\",INDEX('Seznam družstev'!$A$7:$A$40,MATCH($B9,'Seznam družstev'!$B$7:$B$40,0),1),\"\")","v":""},"",{"$f":"IF($A9<>\"\",INDEX('Seznam družstev'!D$7:D$40,MATCH($B9,'Seznam družstev'!$B$7:$B$40,0),1),\"\")","v":""},{"$f":"IF($A9<>\"\",INDEX('Seznam družstev'!E$7:E$40,MATCH($B9,'Seznam družstev'!$B$7:$B$40,0),1),\"\")","v":""},{"$f":"IF($A9<>\"\",INDEX('Seznam družstev'!F$7:F$40,MATCH($B9,'Seznam družstev'!$B$7:$B$40,0),1),\"\")","v":""},{"$f":"IF($A9<>\"\",INDEX('Seznam družstev'!G$7:G$40,MATCH($B9,'Seznam družstev'!$B$7:$B$40,0),1),\"\")","v":""},{"$f":"IF($A9<>\"\",INDEX('Seznam družstev'!H$7:H$40,MATCH($B9,'Seznam družstev'!$B$7:$B$40,0),1),\"\")","v":""},{"$f":"IF($A9<>\"\",INDEX('Seznam družstev'!I$7:I$40,MATCH($B9,'Seznam družstev'!$B$7:$B$40,0),1),\"\")","v":""},{"$f":"IF($A9<>\"\",INDEX('Seznam družstev'!J$7:J$40,MATCH($B9,'Seznam družstev'!$B$7:$B$40,0),1),\"\")","v":""},{"$f":"IF($A9<>\"\",INDEX('Seznam družstev'!K$7:K$40,MATCH($B9,'Seznam družstev'!$B$7:$B$40,0),1),\"\")","v":""},{"$f":"IF($A9<>\"\",INDEX('Seznam družstev'!L$7:L$40,MATCH($B9,'Seznam družstev'!$B$7:$B$40,0),1),\"\")","v":""},{"$f":"IF($A9<>\"\",INDEX('Seznam družstev'!M$7:M$40,MATCH($B9,'Seznam družstev'!$B$7:$B$40,0),1),\"\")","v":""},{"$f":"IF($A9<>\"\",INDEX('Seznam družstev'!N$7:N$40,MATCH($B9,'Seznam družstev'!$B$7:$B$40,0),1),\"\")","v":""},{"$f":"IF($A9<>\"\",\n    IF(INDEX('Seznam družstev'!$P$7:$P$107, MATCH($B9,'Seznam družstev'!$B$7:$B$107,0),1) <> \"\",\n        \"Mimo soutěž\",\n        IF(AND(D9>0,OR(ISNA(MATCH($A9, 'Seznam družstev'!$O$7:$O$40, 0)), ISNA(MATCH($A10, 'Seznam družstev'!$O$7:$O$40,0)))), \"Rozstřel\", \"\")\n    ),\"\")","v":""}]
[{"$f":"IF('Seznam družstev'!B10<>\"\",$A9+1,\"\")","v":""},{"$f":"IF($A10<>\"\",INDEX('Seznam družstev'!$B$7:$B$40,MATCH($A10,'Pom. pořadí družstva'!$Q$7:$Q$40,0),1),\"\")","v":""},{"$f":"IF($A10<>\"\",INDEX('Seznam družstev'!$A$7:$A$40,MATCH($B10,'Seznam družstev'!$B$7:$B$40,0),1),\"\")","v":""},"",{"$f":"IF($A10<>\"\",INDEX('Seznam družstev'!D$7:D$40,MATCH($B10,'Seznam družstev'!$B$7:$B$40,0),1),\"\")","v":""},{"$f":"IF($A10<>\"\",INDEX('Seznam družstev'!E$7:E$40,MATCH($B10,'Seznam družstev'!$B$7:$B$40,0),1),\"\")","v":""},{"$f":"IF($A10<>\"\",INDEX('Seznam družstev'!F$7:F$40,MATCH($B10,'Seznam družstev'!$B$7:$B$40,0),1),\"\")","v":""},{"$f":"IF($A10<>\"\",INDEX('Seznam družstev'!G$7:G$40,MATCH($B10,'Seznam družstev'!$B$7:$B$40,0),1),\"\")","v":""},{"$f":"IF($A10<>\"\",INDEX('Seznam družstev'!H$7:H$40,MATCH($B10,'Seznam družstev'!$B$7:$B$40,0),1),\"\")","v":""},{"$f":"IF($A10<>\"\",INDEX('Seznam družstev'!I$7:I$40,MATCH($B10,'Seznam družstev'!$B$7:$B$40,0),1),\"\")","v":""},{"$f":"IF($A10<>\"\",INDEX('Seznam družstev'!J$7:J$40,MATCH($B10,'Seznam družstev'!$B$7:$B$40,0),1),\"\")","v":""},{"$f":"IF($A10<>\"\",INDEX('Seznam družstev'!K$7:K$40,MATCH($B10,'Seznam družstev'!$B$7:$B$40,0),1),\"\")","v":""},{"$f":"IF($A10<>\"\",INDEX('Seznam družstev'!L$7:L$40,MATCH($B10,'Seznam družstev'!$B$7:$B$40,0),1),\"\")","v":""},{"$f":"IF($A10<>\"\",INDEX('Seznam družstev'!M$7:M$40,MATCH($B10,'Seznam družstev'!$B$7:$B$40,0),1),\"\")","v":""},{"$f":"IF($A10<>\"\",INDEX('Seznam družstev'!N$7:N$40,MATCH($B10,'Seznam družstev'!$B$7:$B$40,0),1),\"\")","v":""},{"$f":"IF($A10<>\"\",\n    IF(INDEX('Seznam družstev'!$P$7:$P$107, MATCH($B10,'Seznam družstev'!$B$7:$B$107,0),1) <> \"\",\n        \"Mimo soutěž\",\n        IF(AND(D10>0,OR(ISNA(MATCH($A10, 'Seznam družstev'!$O$7:$O$40, 0)), ISNA(MATCH($A11, 'Seznam družstev'!$O$7:$O$40,0)))), \"Rozstřel\", \"\")\n    ),\"\")","v":""}]
[{"$f":"IF('Seznam družstev'!B11<>\"\",$A10+1,\"\")","v":""},{"$f":"IF($A11<>\"\",INDEX('Seznam družstev'!$B$7:$B$40,MATCH($A11,'Pom. pořadí družstva'!$Q$7:$Q$40,0),1),\"\")","v":""},{"$f":"IF($A11<>\"\",INDEX('Seznam družstev'!$A$7:$A$40,MATCH($B11,'Seznam družstev'!$B$7:$B$40,0),1),\"\")","v":""},"",{"$f":"IF($A11<>\"\",INDEX('Seznam družstev'!D$7:D$40,MATCH($B11,'Seznam družstev'!$B$7:$B$40,0),1),\"\")","v":""},{"$f":"IF($A11<>\"\",INDEX('Seznam družstev'!E$7:E$40,MATCH($B11,'Seznam družstev'!$B$7:$B$40,0),1),\"\")","v":""},{"$f":"IF($A11<>\"\",INDEX('Seznam družstev'!F$7:F$40,MATCH($B11,'Seznam družstev'!$B$7:$B$40,0),1),\"\")","v":""},{"$f":"IF($A11<>\"\",INDEX('Seznam družstev'!G$7:G$40,MATCH($B11,'Seznam družstev'!$B$7:$B$40,0),1),\"\")","v":""},{"$f":"IF($A11<>\"\",INDEX('Seznam družstev'!H$7:H$40,MATCH($B11,'Seznam družstev'!$B$7:$B$40,0),1),\"\")","v":""},{"$f":"IF($A11<>\"\",INDEX('Seznam družstev'!I$7:I$40,MATCH($B11,'Seznam družstev'!$B$7:$B$40,0),1),\"\")","v":""},{"$f":"IF($A11<>\"\",INDEX('Seznam družstev'!J$7:J$40,MATCH($B11,'Seznam družstev'!$B$7:$B$40,0),1),\"\")","v":""},{"$f":"IF($A11<>\"\",INDEX('Seznam družstev'!K$7:K$40,MATCH($B11,'Seznam družstev'!$B$7:$B$40,0),1),\"\")","v":""},{"$f":"IF($A11<>\"\",INDEX('Seznam družstev'!L$7:L$40,MATCH($B11,'Seznam družstev'!$B$7:$B$40,0),1),\"\")","v":""},{"$f":"IF($A11<>\"\",INDEX('Seznam družstev'!M$7:M$40,MATCH($B11,'Seznam družstev'!$B$7:$B$40,0),1),\"\")","v":""},{"$f":"IF($A11<>\"\",INDEX('Seznam družstev'!N$7:N$40,MATCH($B11,'Seznam družstev'!$B$7:$B$40,0),1),\"\")","v":""},{"$f":"IF($A11<>\"\",\n    IF(INDEX('Seznam družstev'!$P$7:$P$107, MATCH($B11,'Seznam družstev'!$B$7:$B$107,0),1) <> \"\",\n        \"Mimo soutěž\",\n        IF(AND(D11>0,OR(ISNA(MATCH($A11, 'Seznam družstev'!$O$7:$O$40, 0)), ISNA(MATCH($A12, 'Seznam družstev'!$O$7:$O$40,0)))), \"Rozstřel\", \"\")\n    ),\"\")","v":""}]
[{"$f":"IF('Seznam družstev'!B12<>\"\",$A11+1,\"\")","v":""},{"$f":"IF($A12<>\"\",INDEX('Seznam družstev'!$B$7:$B$40,MATCH($A12,'Pom. pořadí družstva'!$Q$7:$Q$40,0),1),\"\")","v":""},{"$f":"IF($A12<>\"\",INDEX('Seznam družstev'!$A$7:$A$40,MATCH($B12,'Seznam družstev'!$B$7:$B$40,0),1),\"\")","v":""},"",{"$f":"IF($A12<>\"\",INDEX('Seznam družstev'!D$7:D$40,MATCH($B12,'Seznam družstev'!$B$7:$B$40,0),1),\"\")","v":""},{"$f":"IF($A12<>\"\",INDEX('Seznam družstev'!E$7:E$40,MATCH($B12,'Seznam družstev'!$B$7:$B$40,0),1),\"\")","v":""},{"$f":"IF($A12<>\"\",INDEX('Seznam družstev'!F$7:F$40,MATCH($B12,'Seznam družstev'!$B$7:$B$40,0),1),\"\")","v":""},{"$f":"IF($A12<>\"\",INDEX('Seznam družstev'!G$7:G$40,MATCH($B12,'Seznam družstev'!$B$7:$B$40,0),1),\"\")","v":""},{"$f":"IF($A12<>\"\",INDEX('Seznam družstev'!H$7:H$40,MATCH($B12,'Seznam družstev'!$B$7:$B$40,0),1),\"\")","v":""},{"$f":"IF($A12<>\"\",INDEX('Seznam družstev'!I$7:I$40,MATCH($B12,'Seznam družstev'!$B$7:$B$40,0),1),\"\")","v":""},{"$f":"IF($A12<>\"\",INDEX('Seznam družstev'!J$7:J$40,MATCH($B12,'Seznam družstev'!$B$7:$B$40,0),1),\"\")","v":""},{"$f":"IF($A12<>\"\",INDEX('Seznam družstev'!K$7:K$40,MATCH($B12,'Seznam družstev'!$B$7:$B$40,0),1),\"\")","v":""},{"$f":"IF($A12<>\"\",INDEX('Seznam družstev'!L$7:L$40,MATCH($B12,'Seznam družstev'!$B$7:$B$40,0),1),\"\")","v":""},{"$f":"IF($A12<>\"\",INDEX('Seznam družstev'!M$7:M$40,MATCH($B12,'Seznam družstev'!$B$7:$B$40,0),1),\"\")","v":""},{"$f":"IF($A12<>\"\",INDEX('Seznam družstev'!N$7:N$40,MATCH($B12,'Seznam družstev'!$B$7:$B$40,0),1),\"\")","v":""},{"$f":"IF($A12<>\"\",\n    IF(INDEX('Seznam družstev'!$P$7:$P$107, MATCH($B12,'Seznam družstev'!$B$7:$B$107,0),1) <> \"\",\n        \"Mimo soutěž\",\n        IF(AND(D12>0,OR(ISNA(MATCH($A12, 'Seznam družstev'!$O$7:$O$40, 0)), ISNA(MATCH($A13, 'Seznam družstev'!$O$7:$O$40,0)))), \"Rozstřel\", \"\")\n    ),\"\")","v":""}]
[{"$f":"IF('Seznam družstev'!B13<>\"\",$A12+1,\"\")","v":""},{"$f":"IF($A13<>\"\",INDEX('Seznam družstev'!$B$7:$B$40,MATCH($A13,'Pom. pořadí družstva'!$Q$7:$Q$40,0),1),\"\")","v":""},{"$f":"IF($A13<>\"\",INDEX('Seznam družstev'!$A$7:$A$40,MATCH($B13,'Seznam družstev'!$B$7:$B$40,0),1),\"\")","v":""},"",{"$f":"IF($A13<>\"\",INDEX('Seznam družstev'!D$7:D$40,MATCH($B13,'Seznam družstev'!$B$7:$B$40,0),1),\"\")","v":""},{"$f":"IF($A13<>\"\",INDEX('Seznam družstev'!E$7:E$40,MATCH($B13,'Seznam družstev'!$B$7:$B$40,0),1),\"\")","v":""},{"$f":"IF($A13<>\"\",INDEX('Seznam družstev'!F$7:F$40,MATCH($B13,'Seznam družstev'!$B$7:$B$40,0),1),\"\")","v":""},{"$f":"IF($A13<>\"\",INDEX('Seznam družstev'!G$7:G$40,MATCH($B13,'Seznam družstev'!$B$7:$B$40,0),1),\"\")","v":""},{"$f":"IF($A13<>\"\",INDEX('Seznam družstev'!H$7:H$40,MATCH($B13,'Seznam družstev'!$B$7:$B$40,0),1),\"\")","v":""},{"$f":"IF($A13<>\"\",INDEX('Seznam družstev'!I$7:I$40,MATCH($B13,'Seznam družstev'!$B$7:$B$40,0),1),\"\")","v":""},{"$f":"IF($A13<>\"\",INDEX('Seznam družstev'!J$7:J$40,MATCH($B13,'Seznam družstev'!$B$7:$B$40,0),1),\"\")","v":""},{"$f":"IF($A13<>\"\",INDEX('Seznam družstev'!K$7:K$40,MATCH($B13,'Seznam družstev'!$B$7:$B$40,0),1),\"\")","v":""},{"$f":"IF($A13<>\"\",INDEX('Seznam družstev'!L$7:L$40,MATCH($B13,'Seznam družstev'!$B$7:$B$40,0),1),\"\")","v":""},{"$f":"IF($A13<>\"\",INDEX('Seznam družstev'!M$7:M$40,MATCH($B13,'Seznam družstev'!$B$7:$B$40,0),1),\"\")","v":""},{"$f":"IF($A13<>\"\",INDEX('Seznam družstev'!N$7:N$40,MATCH($B13,'Seznam družstev'!$B$7:$B$40,0),1),\"\")","v":""},{"$f":"IF($A13<>\"\",\n    IF(INDEX('Seznam družstev'!$P$7:$P$107, MATCH($B13,'Seznam družstev'!$B$7:$B$107,0),1) <> \"\",\n        \"Mimo soutěž\",\n        IF(AND(D13>0,OR(ISNA(MATCH($A13, 'Seznam družstev'!$O$7:$O$40, 0)), ISNA(MATCH($A14, 'Seznam družstev'!$O$7:$O$40,0)))), \"Rozstřel\", \"\")\n    ),\"\")","v":""}]
[{"$f":"IF('Seznam družstev'!B14<>\"\",$A13+1,\"\")","v":""},{"$f":"IF($A14<>\"\",INDEX('Seznam družstev'!$B$7:$B$40,MATCH($A14,'Pom. pořadí družstva'!$Q$7:$Q$40,0),1),\"\")","v":""},{"$f":"IF($A14<>\"\",INDEX('Seznam družstev'!$A$7:$A$40,MATCH($B14,'Seznam družstev'!$B$7:$B$40,0),1),\"\")","v":""},"",{"$f":"IF($A14<>\"\",INDEX('Seznam družstev'!D$7:D$40,MATCH($B14,'Seznam družstev'!$B$7:$B$40,0),1),\"\")","v":""},{"$f":"IF($A14<>\"\",INDEX('Seznam družstev'!E$7:E$40,MATCH($B14,'Seznam družstev'!$B$7:$B$40,0),1),\"\")","v":""},{"$f":"IF($A14<>\"\",INDEX('Seznam družstev'!F$7:F$40,MATCH($B14,'Seznam družstev'!$B$7:$B$40,0),1),\"\")","v":""},{"$f":"IF($A14<>\"\",INDEX('Seznam družstev'!G$7:G$40,MATCH($B14,'Seznam družstev'!$B$7:$B$40,0),1),\"\")","v":""},{"$f":"IF($A14<>\"\",INDEX('Seznam družstev'!H$7:H$40,MATCH($B14,'Seznam družstev'!$B$7:$B$40,0),1),\"\")","v":""},{"$f":"IF($A14<>\"\",INDEX('Seznam družstev'!I$7:I$40,MATCH($B14,'Seznam družstev'!$B$7:$B$40,0),1),\"\")","v":""},{"$f":"IF($A14<>\"\",INDEX('Seznam družstev'!J$7:J$40,MATCH($B14,'Seznam družstev'!$B$7:$B$40,0),1),\"\")","v":""},{"$f":"IF($A14<>\"\",INDEX('Seznam družstev'!K$7:K$40,MATCH($B14,'Seznam družstev'!$B$7:$B$40,0),1),\"\")","v":""},{"$f":"IF($A14<>\"\",INDEX('Seznam družstev'!L$7:L$40,MATCH($B14,'Seznam družstev'!$B$7:$B$40,0),1),\"\")","v":""},{"$f":"IF($A14<>\"\",INDEX('Seznam družstev'!M$7:M$40,MATCH($B14,'Seznam družstev'!$B$7:$B$40,0),1),\"\")","v":""},{"$f":"IF($A14<>\"\",INDEX('Seznam družstev'!N$7:N$40,MATCH($B14,'Seznam družstev'!$B$7:$B$40,0),1),\"\")","v":""},{"$f":"IF($A14<>\"\",\n    IF(INDEX('Seznam družstev'!$P$7:$P$107, MATCH($B14,'Seznam družstev'!$B$7:$B$107,0),1) <> \"\",\n        \"Mimo soutěž\",\n        IF(AND(D14>0,OR(ISNA(MATCH($A14, 'Seznam družstev'!$O$7:$O$40, 0)), ISNA(MATCH($A15, 'Seznam družstev'!$O$7:$O$40,0)))), \"Rozstřel\", \"\")\n    ),\"\")","v":""}]
[{"$f":"IF('Seznam družstev'!B15<>\"\",$A14+1,\"\")","v":""},{"$f":"IF($A15<>\"\",INDEX('Seznam družstev'!$B$7:$B$40,MATCH($A15,'Pom. pořadí družstva'!$Q$7:$Q$40,0),1),\"\")","v":""},{"$f":"IF($A15<>\"\",INDEX('Seznam družstev'!$A$7:$A$40,MATCH($B15,'Seznam družstev'!$B$7:$B$40,0),1),\"\")","v":""},"",{"$f":"IF($A15<>\"\",INDEX('Seznam družstev'!D$7:D$40,MATCH($B15,'Seznam družstev'!$B$7:$B$40,0),1),\"\")","v":""},{"$f":"IF($A15<>\"\",INDEX('Seznam družstev'!E$7:E$40,MATCH($B15,'Seznam družstev'!$B$7:$B$40,0),1),\"\")","v":""},{"$f":"IF($A15<>\"\",INDEX('Seznam družstev'!F$7:F$40,MATCH($B15,'Seznam družstev'!$B$7:$B$40,0),1),\"\")","v":""},{"$f":"IF($A15<>\"\",INDEX('Seznam družstev'!G$7:G$40,MATCH($B15,'Seznam družstev'!$B$7:$B$40,0),1),\"\")","v":""},{"$f":"IF($A15<>\"\",INDEX('Seznam družstev'!H$7:H$40,MATCH($B15,'Seznam družstev'!$B$7:$B$40,0),1),\"\")","v":""},{"$f":"IF($A15<>\"\",INDEX('Seznam družstev'!I$7:I$40,MATCH($B15,'Seznam družstev'!$B$7:$B$40,0),1),\"\")","v":""},{"$f":"IF($A15<>\"\",INDEX('Seznam družstev'!J$7:J$40,MATCH($B15,'Seznam družstev'!$B$7:$B$40,0),1),\"\")","v":""},{"$f":"IF($A15<>\"\",INDEX('Seznam družstev'!K$7:K$40,MATCH($B15,'Seznam družstev'!$B$7:$B$40,0),1),\"\")","v":""},{"$f":"IF($A15<>\"\",INDEX('Seznam družstev'!L$7:L$40,MATCH($B15,'Seznam družstev'!$B$7:$B$40,0),1),\"\")","v":""},{"$f":"IF($A15<>\"\",INDEX('Seznam družstev'!M$7:M$40,MATCH($B15,'Seznam družstev'!$B$7:$B$40,0),1),\"\")","v":""},{"$f":"IF($A15<>\"\",INDEX('Seznam družstev'!N$7:N$40,MATCH($B15,'Seznam družstev'!$B$7:$B$40,0),1),\"\")","v":""},{"$f":"IF($A15<>\"\",\n    IF(INDEX('Seznam družstev'!$P$7:$P$107, MATCH($B15,'Seznam družstev'!$B$7:$B$107,0),1) <> \"\",\n        \"Mimo soutěž\",\n        IF(AND(D15>0,OR(ISNA(MATCH($A15, 'Seznam družstev'!$O$7:$O$40, 0)), ISNA(MATCH($A16, 'Seznam družstev'!$O$7:$O$40,0)))), \"Rozstřel\", \"\")\n    ),\"\")","v":""}]
[{"$f":"IF('Seznam družstev'!B16<>\"\",$A15+1,\"\")","v":""},{"$f":"IF($A16<>\"\",INDEX('Seznam družstev'!$B$7:$B$40,MATCH($A16,'Pom. pořadí družstva'!$Q$7:$Q$40,0),1),\"\")","v":""},{"$f":"IF($A16<>\"\",INDEX('Seznam družstev'!$A$7:$A$40,MATCH($B16,'Seznam družstev'!$B$7:$B$40,0),1),\"\")","v":""},"",{"$f":"IF($A16<>\"\",INDEX('Seznam družstev'!D$7:D$40,MATCH($B16,'Seznam družstev'!$B$7:$B$40,0),1),\"\")","v":""},{"$f":"IF($A16<>\"\",INDEX('Seznam družstev'!E$7:E$40,MATCH($B16,'Seznam družstev'!$B$7:$B$40,0),1),\"\")","v":""},{"$f":"IF($A16<>\"\",INDEX('Seznam družstev'!F$7:F$40,MATCH($B16,'Seznam družstev'!$B$7:$B$40,0),1),\"\")","v":""},{"$f":"IF($A16<>\"\",INDEX('Seznam družstev'!G$7:G$40,MATCH($B16,'Seznam družstev'!$B$7:$B$40,0),1),\"\")","v":""},{"$f":"IF($A16<>\"\",INDEX('Seznam družstev'!H$7:H$40,MATCH($B16,'Seznam družstev'!$B$7:$B$40,0),1),\"\")","v":""},{"$f":"IF($A16<>\"\",INDEX('Seznam družstev'!I$7:I$40,MATCH($B16,'Seznam družstev'!$B$7:$B$40,0),1),\"\")","v":""},{"$f":"IF($A16<>\"\",INDEX('Seznam družstev'!J$7:J$40,MATCH($B16,'Seznam družstev'!$B$7:$B$40,0),1),\"\")","v":""},{"$f":"IF($A16<>\"\",INDEX('Seznam družstev'!K$7:K$40,MATCH($B16,'Seznam družstev'!$B$7:$B$40,0),1),\"\")","v":""},{"$f":"IF($A16<>\"\",INDEX('Seznam družstev'!L$7:L$40,MATCH($B16,'Seznam družstev'!$B$7:$B$40,0),1),\"\")","v":""},{"$f":"IF($A16<>\"\",INDEX('Seznam družstev'!M$7:M$40,MATCH($B16,'Seznam družstev'!$B$7:$B$40,0),1),\"\")","v":""},{"$f":"IF($A16<>\"\",INDEX('Seznam družstev'!N$7:N$40,MATCH($B16,'Seznam družstev'!$B$7:$B$40,0),1),\"\")","v":""},{"$f":"IF($A16<>\"\",\n    IF(INDEX('Seznam družstev'!$P$7:$P$107, MATCH($B16,'Seznam družstev'!$B$7:$B$107,0),1) <> \"\",\n        \"Mimo soutěž\",\n        IF(AND(D16>0,OR(ISNA(MATCH($A16, 'Seznam družstev'!$O$7:$O$40, 0)), ISNA(MATCH($A17, 'Seznam družstev'!$O$7:$O$40,0)))), \"Rozstřel\", \"\")\n    ),\"\")","v":""}]
[{"$f":"IF('Seznam družstev'!B17<>\"\",$A16+1,\"\")","v":""},{"$f":"IF($A17<>\"\",INDEX('Seznam družstev'!$B$7:$B$40,MATCH($A17,'Pom. pořadí družstva'!$Q$7:$Q$40,0),1),\"\")","v":""},{"$f":"IF($A17<>\"\",INDEX('Seznam družstev'!$A$7:$A$40,MATCH($B17,'Seznam družstev'!$B$7:$B$40,0),1),\"\")","v":""},"",{"$f":"IF($A17<>\"\",INDEX('Seznam družstev'!D$7:D$40,MATCH($B17,'Seznam družstev'!$B$7:$B$40,0),1),\"\")","v":""},{"$f":"IF($A17<>\"\",INDEX('Seznam družstev'!E$7:E$40,MATCH($B17,'Seznam družstev'!$B$7:$B$40,0),1),\"\")","v":""},{"$f":"IF($A17<>\"\",INDEX('Seznam družstev'!F$7:F$40,MATCH($B17,'Seznam družstev'!$B$7:$B$40,0),1),\"\")","v":""},{"$f":"IF($A17<>\"\",INDEX('Seznam družstev'!G$7:G$40,MATCH($B17,'Seznam družstev'!$B$7:$B$40,0),1),\"\")","v":""},{"$f":"IF($A17<>\"\",INDEX('Seznam družstev'!H$7:H$40,MATCH($B17,'Seznam družstev'!$B$7:$B$40,0),1),\"\")","v":""},{"$f":"IF($A17<>\"\",INDEX('Seznam družstev'!I$7:I$40,MATCH($B17,'Seznam družstev'!$B$7:$B$40,0),1),\"\")","v":""},{"$f":"IF($A17<>\"\",INDEX('Seznam družstev'!J$7:J$40,MATCH($B17,'Seznam družstev'!$B$7:$B$40,0),1),\"\")","v":""},{"$f":"IF($A17<>\"\",INDEX('Seznam družstev'!K$7:K$40,MATCH($B17,'Seznam družstev'!$B$7:$B$40,0),1),\"\")","v":""},{"$f":"IF($A17<>\"\",INDEX('Seznam družstev'!L$7:L$40,MATCH($B17,'Seznam družstev'!$B$7:$B$40,0),1),\"\")","v":""},{"$f":"IF($A17<>\"\",INDEX('Seznam družstev'!M$7:M$40,MATCH($B17,'Seznam družstev'!$B$7:$B$40,0),1),\"\")","v":""},{"$f":"IF($A17<>\"\",INDEX('Seznam družstev'!N$7:N$40,MATCH($B17,'Seznam družstev'!$B$7:$B$40,0),1),\"\")","v":""},{"$f":"IF($A17<>\"\",\n    IF(INDEX('Seznam družstev'!$P$7:$P$107, MATCH($B17,'Seznam družstev'!$B$7:$B$107,0),1) <> \"\",\n        \"Mimo soutěž\",\n        IF(AND(D17>0,OR(ISNA(MATCH($A17, 'Seznam družstev'!$O$7:$O$40, 0)), ISNA(MATCH($A18, 'Seznam družstev'!$O$7:$O$40,0)))), \"Rozstřel\", \"\")\n    ),\"\")","v":""}]
[{"$f":"IF('Seznam družstev'!B18<>\"\",$A17+1,\"\")","v":""},{"$f":"IF($A18<>\"\",INDEX('Seznam družstev'!$B$7:$B$40,MATCH($A18,'Pom. pořadí družstva'!$Q$7:$Q$40,0),1),\"\")","v":""},{"$f":"IF($A18<>\"\",INDEX('Seznam družstev'!$A$7:$A$40,MATCH($B18,'Seznam družstev'!$B$7:$B$40,0),1),\"\")","v":""},"",{"$f":"IF($A18<>\"\",INDEX('Seznam družstev'!D$7:D$40,MATCH($B18,'Seznam družstev'!$B$7:$B$40,0),1),\"\")","v":""},{"$f":"IF($A18<>\"\",INDEX('Seznam družstev'!E$7:E$40,MATCH($B18,'Seznam družstev'!$B$7:$B$40,0),1),\"\")","v":""},{"$f":"IF($A18<>\"\",INDEX('Seznam družstev'!F$7:F$40,MATCH($B18,'Seznam družstev'!$B$7:$B$40,0),1),\"\")","v":""},{"$f":"IF($A18<>\"\",INDEX('Seznam družstev'!G$7:G$40,MATCH($B18,'Seznam družstev'!$B$7:$B$40,0),1),\"\")","v":""},{"$f":"IF($A18<>\"\",INDEX('Seznam družstev'!H$7:H$40,MATCH($B18,'Seznam družstev'!$B$7:$B$40,0),1),\"\")","v":""},{"$f":"IF($A18<>\"\",INDEX('Seznam družstev'!I$7:I$40,MATCH($B18,'Seznam družstev'!$B$7:$B$40,0),1),\"\")","v":""},{"$f":"IF($A18<>\"\",INDEX('Seznam družstev'!J$7:J$40,MATCH($B18,'Seznam družstev'!$B$7:$B$40,0),1),\"\")","v":""},{"$f":"IF($A18<>\"\",INDEX('Seznam družstev'!K$7:K$40,MATCH($B18,'Seznam družstev'!$B$7:$B$40,0),1),\"\")","v":""},{"$f":"IF($A18<>\"\",INDEX('Seznam družstev'!L$7:L$40,MATCH($B18,'Seznam družstev'!$B$7:$B$40,0),1),\"\")","v":""},{"$f":"IF($A18<>\"\",INDEX('Seznam družstev'!M$7:M$40,MATCH($B18,'Seznam družstev'!$B$7:$B$40,0),1),\"\")","v":""},{"$f":"IF($A18<>\"\",INDEX('Seznam družstev'!N$7:N$40,MATCH($B18,'Seznam družstev'!$B$7:$B$40,0),1),\"\")","v":""},{"$f":"IF($A18<>\"\",\n    IF(INDEX('Seznam družstev'!$P$7:$P$107, MATCH($B18,'Seznam družstev'!$B$7:$B$107,0),1) <> \"\",\n        \"Mimo soutěž\",\n        IF(AND(D18>0,OR(ISNA(MATCH($A18, 'Seznam družstev'!$O$7:$O$40, 0)), ISNA(MATCH($A19, 'Seznam družstev'!$O$7:$O$40,0)))), \"Rozstřel\", \"\")\n    ),\"\")","v":""}]
[{"$f":"IF('Seznam družstev'!B19<>\"\",$A18+1,\"\")","v":""},{"$f":"IF($A19<>\"\",INDEX('Seznam družstev'!$B$7:$B$40,MATCH($A19,'Pom. pořadí družstva'!$Q$7:$Q$40,0),1),\"\")","v":""},{"$f":"IF($A19<>\"\",INDEX('Seznam družstev'!$A$7:$A$40,MATCH($B19,'Seznam družstev'!$B$7:$B$40,0),1),\"\")","v":""},"",{"$f":"IF($A19<>\"\",INDEX('Seznam družstev'!D$7:D$40,MATCH($B19,'Seznam družstev'!$B$7:$B$40,0),1),\"\")","v":""},{"$f":"IF($A19<>\"\",INDEX('Seznam družstev'!E$7:E$40,MATCH($B19,'Seznam družstev'!$B$7:$B$40,0),1),\"\")","v":""},{"$f":"IF($A19<>\"\",INDEX('Seznam družstev'!F$7:F$40,MATCH($B19,'Seznam družstev'!$B$7:$B$40,0),1),\"\")","v":""},{"$f":"IF($A19<>\"\",INDEX('Seznam družstev'!G$7:G$40,MATCH($B19,'Seznam družstev'!$B$7:$B$40,0),1),\"\")","v":""},{"$f":"IF($A19<>\"\",INDEX('Seznam družstev'!H$7:H$40,MATCH($B19,'Seznam družstev'!$B$7:$B$40,0),1),\"\")","v":""},{"$f":"IF($A19<>\"\",INDEX('Seznam družstev'!I$7:I$40,MATCH($B19,'Seznam družstev'!$B$7:$B$40,0),1),\"\")","v":""},{"$f":"IF($A19<>\"\",INDEX('Seznam družstev'!J$7:J$40,MATCH($B19,'Seznam družstev'!$B$7:$B$40,0),1),\"\")","v":""},{"$f":"IF($A19<>\"\",INDEX('Seznam družstev'!K$7:K$40,MATCH($B19,'Seznam družstev'!$B$7:$B$40,0),1),\"\")","v":""},{"$f":"IF($A19<>\"\",INDEX('Seznam družstev'!L$7:L$40,MATCH($B19,'Seznam družstev'!$B$7:$B$40,0),1),\"\")","v":""},{"$f":"IF($A19<>\"\",INDEX('Seznam družstev'!M$7:M$40,MATCH($B19,'Seznam družstev'!$B$7:$B$40,0),1),\"\")","v":""},{"$f":"IF($A19<>\"\",INDEX('Seznam družstev'!N$7:N$40,MATCH($B19,'Seznam družstev'!$B$7:$B$40,0),1),\"\")","v":""},{"$f":"IF($A19<>\"\",\n    IF(INDEX('Seznam družstev'!$P$7:$P$107, MATCH($B19,'Seznam družstev'!$B$7:$B$107,0),1) <> \"\",\n        \"Mimo soutěž\",\n        IF(AND(D19>0,OR(ISNA(MATCH($A19, 'Seznam družstev'!$O$7:$O$40, 0)), ISNA(MATCH($A20, 'Seznam družstev'!$O$7:$O$40,0)))), \"Rozstřel\", \"\")\n    ),\"\")","v":""}]
[{"$f":"IF('Seznam družstev'!B20<>\"\",$A19+1,\"\")","v":""},{"$f":"IF($A20<>\"\",INDEX('Seznam družstev'!$B$7:$B$40,MATCH($A20,'Pom. pořadí družstva'!$Q$7:$Q$40,0),1),\"\")","v":""},{"$f":"IF($A20<>\"\",INDEX('Seznam družstev'!$A$7:$A$40,MATCH($B20,'Seznam družstev'!$B$7:$B$40,0),1),\"\")","v":""},"",{"$f":"IF($A20<>\"\",INDEX('Seznam družstev'!D$7:D$40,MATCH($B20,'Seznam družstev'!$B$7:$B$40,0),1),\"\")","v":""},{"$f":"IF($A20<>\"\",INDEX('Seznam družstev'!E$7:E$40,MATCH($B20,'Seznam družstev'!$B$7:$B$40,0),1),\"\")","v":""},{"$f":"IF($A20<>\"\",INDEX('Seznam družstev'!F$7:F$40,MATCH($B20,'Seznam družstev'!$B$7:$B$40,0),1),\"\")","v":""},{"$f":"IF($A20<>\"\",INDEX('Seznam družstev'!G$7:G$40,MATCH($B20,'Seznam družstev'!$B$7:$B$40,0),1),\"\")","v":""},{"$f":"IF($A20<>\"\",INDEX('Seznam družstev'!H$7:H$40,MATCH($B20,'Seznam družstev'!$B$7:$B$40,0),1),\"\")","v":""},{"$f":"IF($A20<>\"\",INDEX('Seznam družstev'!I$7:I$40,MATCH($B20,'Seznam družstev'!$B$7:$B$40,0),1),\"\")","v":""},{"$f":"IF($A20<>\"\",INDEX('Seznam družstev'!J$7:J$40,MATCH($B20,'Seznam družstev'!$B$7:$B$40,0),1),\"\")","v":""},{"$f":"IF($A20<>\"\",INDEX('Seznam družstev'!K$7:K$40,MATCH($B20,'Seznam družstev'!$B$7:$B$40,0),1),\"\")","v":""},{"$f":"IF($A20<>\"\",INDEX('Seznam družstev'!L$7:L$40,MATCH($B20,'Seznam družstev'!$B$7:$B$40,0),1),\"\")","v":""},{"$f":"IF($A20<>\"\",INDEX('Seznam družstev'!M$7:M$40,MATCH($B20,'Seznam družstev'!$B$7:$B$40,0),1),\"\")","v":""},{"$f":"IF($A20<>\"\",INDEX('Seznam družstev'!N$7:N$40,MATCH($B20,'Seznam družstev'!$B$7:$B$40,0),1),\"\")","v":""},{"$f":"IF($A20<>\"\",\n    IF(INDEX('Seznam družstev'!$P$7:$P$107, MATCH($B20,'Seznam družstev'!$B$7:$B$107,0),1) <> \"\",\n        \"Mimo soutěž\",\n        IF(AND(D20>0,OR(ISNA(MATCH($A20, 'Seznam družstev'!$O$7:$O$40, 0)), ISNA(MATCH($A21, 'Seznam družstev'!$O$7:$O$40,0)))), \"Rozstřel\", \"\")\n    ),\"\")","v":""}]
[{"$f":"IF('Seznam družstev'!B21<>\"\",$A20+1,\"\")","v":""},{"$f":"IF($A21<>\"\",INDEX('Seznam družstev'!$B$7:$B$40,MATCH($A21,'Pom. pořadí družstva'!$Q$7:$Q$40,0),1),\"\")","v":""},{"$f":"IF($A21<>\"\",INDEX('Seznam družstev'!$A$7:$A$40,MATCH($B21,'Seznam družstev'!$B$7:$B$40,0),1),\"\")","v":""},"",{"$f":"IF($A21<>\"\",INDEX('Seznam družstev'!D$7:D$40,MATCH($B21,'Seznam družstev'!$B$7:$B$40,0),1),\"\")","v":""},{"$f":"IF($A21<>\"\",INDEX('Seznam družstev'!E$7:E$40,MATCH($B21,'Seznam družstev'!$B$7:$B$40,0),1),\"\")","v":""},{"$f":"IF($A21<>\"\",INDEX('Seznam družstev'!F$7:F$40,MATCH($B21,'Seznam družstev'!$B$7:$B$40,0),1),\"\")","v":""},{"$f":"IF($A21<>\"\",INDEX('Seznam družstev'!G$7:G$40,MATCH($B21,'Seznam družstev'!$B$7:$B$40,0),1),\"\")","v":""},{"$f":"IF($A21<>\"\",INDEX('Seznam družstev'!H$7:H$40,MATCH($B21,'Seznam družstev'!$B$7:$B$40,0),1),\"\")","v":""},{"$f":"IF($A21<>\"\",INDEX('Seznam družstev'!I$7:I$40,MATCH($B21,'Seznam družstev'!$B$7:$B$40,0),1),\"\")","v":""},{"$f":"IF($A21<>\"\",INDEX('Seznam družstev'!J$7:J$40,MATCH($B21,'Seznam družstev'!$B$7:$B$40,0),1),\"\")","v":""},{"$f":"IF($A21<>\"\",INDEX('Seznam družstev'!K$7:K$40,MATCH($B21,'Seznam družstev'!$B$7:$B$40,0),1),\"\")","v":""},{"$f":"IF($A21<>\"\",INDEX('Seznam družstev'!L$7:L$40,MATCH($B21,'Seznam družstev'!$B$7:$B$40,0),1),\"\")","v":""},{"$f":"IF($A21<>\"\",INDEX('Seznam družstev'!M$7:M$40,MATCH($B21,'Seznam družstev'!$B$7:$B$40,0),1),\"\")","v":""},{"$f":"IF($A21<>\"\",INDEX('Seznam družstev'!N$7:N$40,MATCH($B21,'Seznam družstev'!$B$7:$B$40,0),1),\"\")","v":""},{"$f":"IF($A21<>\"\",\n    IF(INDEX('Seznam družstev'!$P$7:$P$107, MATCH($B21,'Seznam družstev'!$B$7:$B$107,0),1) <> \"\",\n        \"Mimo soutěž\",\n        IF(AND(D21>0,OR(ISNA(MATCH($A21, 'Seznam družstev'!$O$7:$O$40, 0)), ISNA(MATCH($A22, 'Seznam družstev'!$O$7:$O$40,0)))), \"Rozstřel\", \"\")\n    ),\"\")","v":""}]
[{"$f":"IF('Seznam družstev'!B22<>\"\",$A21+1,\"\")","v":""},{"$f":"IF($A22<>\"\",INDEX('Seznam družstev'!$B$7:$B$40,MATCH($A22,'Pom. pořadí družstva'!$Q$7:$Q$40,0),1),\"\")","v":""},{"$f":"IF($A22<>\"\",INDEX('Seznam družstev'!$A$7:$A$40,MATCH($B22,'Seznam družstev'!$B$7:$B$40,0),1),\"\")","v":""},"",{"$f":"IF($A22<>\"\",INDEX('Seznam družstev'!D$7:D$40,MATCH($B22,'Seznam družstev'!$B$7:$B$40,0),1),\"\")","v":""},{"$f":"IF($A22<>\"\",INDEX('Seznam družstev'!E$7:E$40,MATCH($B22,'Seznam družstev'!$B$7:$B$40,0),1),\"\")","v":""},{"$f":"IF($A22<>\"\",INDEX('Seznam družstev'!F$7:F$40,MATCH($B22,'Seznam družstev'!$B$7:$B$40,0),1),\"\")","v":""},{"$f":"IF($A22<>\"\",INDEX('Seznam družstev'!G$7:G$40,MATCH($B22,'Seznam družstev'!$B$7:$B$40,0),1),\"\")","v":""},{"$f":"IF($A22<>\"\",INDEX('Seznam družstev'!H$7:H$40,MATCH($B22,'Seznam družstev'!$B$7:$B$40,0),1),\"\")","v":""},{"$f":"IF($A22<>\"\",INDEX('Seznam družstev'!I$7:I$40,MATCH($B22,'Seznam družstev'!$B$7:$B$40,0),1),\"\")","v":""},{"$f":"IF($A22<>\"\",INDEX('Seznam družstev'!J$7:J$40,MATCH($B22,'Seznam družstev'!$B$7:$B$40,0),1),\"\")","v":""},{"$f":"IF($A22<>\"\",INDEX('Seznam družstev'!K$7:K$40,MATCH($B22,'Seznam družstev'!$B$7:$B$40,0),1),\"\")","v":""},{"$f":"IF($A22<>\"\",INDEX('Seznam družstev'!L$7:L$40,MATCH($B22,'Seznam družstev'!$B$7:$B$40,0),1),\"\")","v":""},{"$f":"IF($A22<>\"\",INDEX('Seznam družstev'!M$7:M$40,MATCH($B22,'Seznam družstev'!$B$7:$B$40,0),1),\"\")","v":""},{"$f":"IF($A22<>\"\",INDEX('Seznam družstev'!N$7:N$40,MATCH($B22,'Seznam družstev'!$B$7:$B$40,0),1),\"\")","v":""},{"$f":"IF($A22<>\"\",\n    IF(INDEX('Seznam družstev'!$P$7:$P$107, MATCH($B22,'Seznam družstev'!$B$7:$B$107,0),1) <> \"\",\n        \"Mimo soutěž\",\n        IF(AND(D22>0,OR(ISNA(MATCH($A22, 'Seznam družstev'!$O$7:$O$40, 0)), ISNA(MATCH($A23, 'Seznam družstev'!$O$7:$O$40,0)))), \"Rozstřel\", \"\")\n    ),\"\")","v":""}]
[{"$f":"IF('Seznam družstev'!B23<>\"\",$A22+1,\"\")","v":""},{"$f":"IF($A23<>\"\",INDEX('Seznam družstev'!$B$7:$B$40,MATCH($A23,'Pom. pořadí družstva'!$Q$7:$Q$40,0),1),\"\")","v":""},{"$f":"IF($A23<>\"\",INDEX('Seznam družstev'!$A$7:$A$40,MATCH($B23,'Seznam družstev'!$B$7:$B$40,0),1),\"\")","v":""},"",{"$f":"IF($A23<>\"\",INDEX('Seznam družstev'!D$7:D$40,MATCH($B23,'Seznam družstev'!$B$7:$B$40,0),1),\"\")","v":""},{"$f":"IF($A23<>\"\",INDEX('Seznam družstev'!E$7:E$40,MATCH($B23,'Seznam družstev'!$B$7:$B$40,0),1),\"\")","v":""},{"$f":"IF($A23<>\"\",INDEX('Seznam družstev'!F$7:F$40,MATCH($B23,'Seznam družstev'!$B$7:$B$40,0),1),\"\")","v":""},{"$f":"IF($A23<>\"\",INDEX('Seznam družstev'!G$7:G$40,MATCH($B23,'Seznam družstev'!$B$7:$B$40,0),1),\"\")","v":""},{"$f":"IF($A23<>\"\",INDEX('Seznam družstev'!H$7:H$40,MATCH($B23,'Seznam družstev'!$B$7:$B$40,0),1),\"\")","v":""},{"$f":"IF($A23<>\"\",INDEX('Seznam družstev'!I$7:I$40,MATCH($B23,'Seznam družstev'!$B$7:$B$40,0),1),\"\")","v":""},{"$f":"IF($A23<>\"\",INDEX('Seznam družstev'!J$7:J$40,MATCH($B23,'Seznam družstev'!$B$7:$B$40,0),1),\"\")","v":""},{"$f":"IF($A23<>\"\",INDEX('Seznam družstev'!K$7:K$40,MATCH($B23,'Seznam družstev'!$B$7:$B$40,0),1),\"\")","v":""},{"$f":"IF($A23<>\"\",INDEX('Seznam družstev'!L$7:L$40,MATCH($B23,'Seznam družstev'!$B$7:$B$40,0),1),\"\")","v":""},{"$f":"IF($A23<>\"\",INDEX('Seznam družstev'!M$7:M$40,MATCH($B23,'Seznam družstev'!$B$7:$B$40,0),1),\"\")","v":""},{"$f":"IF($A23<>\"\",INDEX('Seznam družstev'!N$7:N$40,MATCH($B23,'Seznam družstev'!$B$7:$B$40,0),1),\"\")","v":""},{"$f":"IF($A23<>\"\",\n    IF(INDEX('Seznam družstev'!$P$7:$P$107, MATCH($B23,'Seznam družstev'!$B$7:$B$107,0),1) <> \"\",\n        \"Mimo soutěž\",\n        IF(AND(D23>0,OR(ISNA(MATCH($A23, 'Seznam družstev'!$O$7:$O$40, 0)), ISNA(MATCH($A24, 'Seznam družstev'!$O$7:$O$40,0)))), \"Rozstřel\", \"\")\n    ),\"\")","v":""}]
[{"$f":"IF('Seznam družstev'!B24<>\"\",$A23+1,\"\")","v":""},{"$f":"IF($A24<>\"\",INDEX('Seznam družstev'!$B$7:$B$40,MATCH($A24,'Pom. pořadí družstva'!$Q$7:$Q$40,0),1),\"\")","v":""},{"$f":"IF($A24<>\"\",INDEX('Seznam družstev'!$A$7:$A$40,MATCH($B24,'Seznam družstev'!$B$7:$B$40,0),1),\"\")","v":""},"",{"$f":"IF($A24<>\"\",INDEX('Seznam družstev'!D$7:D$40,MATCH($B24,'Seznam družstev'!$B$7:$B$40,0),1),\"\")","v":""},{"$f":"IF($A24<>\"\",INDEX('Seznam družstev'!E$7:E$40,MATCH($B24,'Seznam družstev'!$B$7:$B$40,0),1),\"\")","v":""},{"$f":"IF($A24<>\"\",INDEX('Seznam družstev'!F$7:F$40,MATCH($B24,'Seznam družstev'!$B$7:$B$40,0),1),\"\")","v":""},{"$f":"IF($A24<>\"\",INDEX('Seznam družstev'!G$7:G$40,MATCH($B24,'Seznam družstev'!$B$7:$B$40,0),1),\"\")","v":""},{"$f":"IF($A24<>\"\",INDEX('Seznam družstev'!H$7:H$40,MATCH($B24,'Seznam družstev'!$B$7:$B$40,0),1),\"\")","v":""},{"$f":"IF($A24<>\"\",INDEX('Seznam družstev'!I$7:I$40,MATCH($B24,'Seznam družstev'!$B$7:$B$40,0),1),\"\")","v":""},{"$f":"IF($A24<>\"\",INDEX('Seznam družstev'!J$7:J$40,MATCH($B24,'Seznam družstev'!$B$7:$B$40,0),1),\"\")","v":""},{"$f":"IF($A24<>\"\",INDEX('Seznam družstev'!K$7:K$40,MATCH($B24,'Seznam družstev'!$B$7:$B$40,0),1),\"\")","v":""},{"$f":"IF($A24<>\"\",INDEX('Seznam družstev'!L$7:L$40,MATCH($B24,'Seznam družstev'!$B$7:$B$40,0),1),\"\")","v":""},{"$f":"IF($A24<>\"\",INDEX('Seznam družstev'!M$7:M$40,MATCH($B24,'Seznam družstev'!$B$7:$B$40,0),1),\"\")","v":""},{"$f":"IF($A24<>\"\",INDEX('Seznam družstev'!N$7:N$40,MATCH($B24,'Seznam družstev'!$B$7:$B$40,0),1),\"\")","v":""},{"$f":"IF($A24<>\"\",\n    IF(INDEX('Seznam družstev'!$P$7:$P$107, MATCH($B24,'Seznam družstev'!$B$7:$B$107,0),1) <> \"\",\n        \"Mimo soutěž\",\n        IF(AND(D24>0,OR(ISNA(MATCH($A24, 'Seznam družstev'!$O$7:$O$40, 0)), ISNA(MATCH($A25, 'Seznam družstev'!$O$7:$O$40,0)))), \"Rozstřel\", \"\")\n    ),\"\")","v":""}]
[{"$f":"IF('Seznam družstev'!B25<>\"\",$A24+1,\"\")","v":""},{"$f":"IF($A25<>\"\",INDEX('Seznam družstev'!$B$7:$B$40,MATCH($A25,'Pom. pořadí družstva'!$Q$7:$Q$40,0),1),\"\")","v":""},{"$f":"IF($A25<>\"\",INDEX('Seznam družstev'!$A$7:$A$40,MATCH($B25,'Seznam družstev'!$B$7:$B$40,0),1),\"\")","v":""},"",{"$f":"IF($A25<>\"\",INDEX('Seznam družstev'!D$7:D$40,MATCH($B25,'Seznam družstev'!$B$7:$B$40,0),1),\"\")","v":""},{"$f":"IF($A25<>\"\",INDEX('Seznam družstev'!E$7:E$40,MATCH($B25,'Seznam družstev'!$B$7:$B$40,0),1),\"\")","v":""},{"$f":"IF($A25<>\"\",INDEX('Seznam družstev'!F$7:F$40,MATCH($B25,'Seznam družstev'!$B$7:$B$40,0),1),\"\")","v":""},{"$f":"IF($A25<>\"\",INDEX('Seznam družstev'!G$7:G$40,MATCH($B25,'Seznam družstev'!$B$7:$B$40,0),1),\"\")","v":""},{"$f":"IF($A25<>\"\",INDEX('Seznam družstev'!H$7:H$40,MATCH($B25,'Seznam družstev'!$B$7:$B$40,0),1),\"\")","v":""},{"$f":"IF($A25<>\"\",INDEX('Seznam družstev'!I$7:I$40,MATCH($B25,'Seznam družstev'!$B$7:$B$40,0),1),\"\")","v":""},{"$f":"IF($A25<>\"\",INDEX('Seznam družstev'!J$7:J$40,MATCH($B25,'Seznam družstev'!$B$7:$B$40,0),1),\"\")","v":""},{"$f":"IF($A25<>\"\",INDEX('Seznam družstev'!K$7:K$40,MATCH($B25,'Seznam družstev'!$B$7:$B$40,0),1),\"\")","v":""},{"$f":"IF($A25<>\"\",INDEX('Seznam družstev'!L$7:L$40,MATCH($B25,'Seznam družstev'!$B$7:$B$40,0),1),\"\")","v":""},{"$f":"IF($A25<>\"\",INDEX('Seznam družstev'!M$7:M$40,MATCH($B25,'Seznam družstev'!$B$7:$B$40,0),1),\"\")","v":""},{"$f":"IF($A25<>\"\",INDEX('Seznam družstev'!N$7:N$40,MATCH($B25,'Seznam družstev'!$B$7:$B$40,0),1),\"\")","v":""},{"$f":"IF($A25<>\"\",\n    IF(INDEX('Seznam družstev'!$P$7:$P$107, MATCH($B25,'Seznam družstev'!$B$7:$B$107,0),1) <> \"\",\n        \"Mimo soutěž\",\n        IF(AND(D25>0,OR(ISNA(MATCH($A25, 'Seznam družstev'!$O$7:$O$40, 0)), ISNA(MATCH($A26, 'Seznam družstev'!$O$7:$O$40,0)))), \"Rozstřel\", \"\")\n    ),\"\")","v":""}]
[{"$f":"IF('Seznam družstev'!B26<>\"\",$A25+1,\"\")","v":""},{"$f":"IF($A26<>\"\",INDEX('Seznam družstev'!$B$7:$B$40,MATCH($A26,'Pom. pořadí družstva'!$Q$7:$Q$40,0),1),\"\")","v":""},{"$f":"IF($A26<>\"\",INDEX('Seznam družstev'!$A$7:$A$40,MATCH($B26,'Seznam družstev'!$B$7:$B$40,0),1),\"\")","v":""},"",{"$f":"IF($A26<>\"\",INDEX('Seznam družstev'!D$7:D$40,MATCH($B26,'Seznam družstev'!$B$7:$B$40,0),1),\"\")","v":""},{"$f":"IF($A26<>\"\",INDEX('Seznam družstev'!E$7:E$40,MATCH($B26,'Seznam družstev'!$B$7:$B$40,0),1),\"\")","v":""},{"$f":"IF($A26<>\"\",INDEX('Seznam družstev'!F$7:F$40,MATCH($B26,'Seznam družstev'!$B$7:$B$40,0),1),\"\")","v":""},{"$f":"IF($A26<>\"\",INDEX('Seznam družstev'!G$7:G$40,MATCH($B26,'Seznam družstev'!$B$7:$B$40,0),1),\"\")","v":""},{"$f":"IF($A26<>\"\",INDEX('Seznam družstev'!H$7:H$40,MATCH($B26,'Seznam družstev'!$B$7:$B$40,0),1),\"\")","v":""},{"$f":"IF($A26<>\"\",INDEX('Seznam družstev'!I$7:I$40,MATCH($B26,'Seznam družstev'!$B$7:$B$40,0),1),\"\")","v":""},{"$f":"IF($A26<>\"\",INDEX('Seznam družstev'!J$7:J$40,MATCH($B26,'Seznam družstev'!$B$7:$B$40,0),1),\"\")","v":""},{"$f":"IF($A26<>\"\",INDEX('Seznam družstev'!K$7:K$40,MATCH($B26,'Seznam družstev'!$B$7:$B$40,0),1),\"\")","v":""},{"$f":"IF($A26<>\"\",INDEX('Seznam družstev'!L$7:L$40,MATCH($B26,'Seznam družstev'!$B$7:$B$40,0),1),\"\")","v":""},{"$f":"IF($A26<>\"\",INDEX('Seznam družstev'!M$7:M$40,MATCH($B26,'Seznam družstev'!$B$7:$B$40,0),1),\"\")","v":""},{"$f":"IF($A26<>\"\",INDEX('Seznam družstev'!N$7:N$40,MATCH($B26,'Seznam družstev'!$B$7:$B$40,0),1),\"\")","v":""},{"$f":"IF($A26<>\"\",\n    IF(INDEX('Seznam družstev'!$P$7:$P$107, MATCH($B26,'Seznam družstev'!$B$7:$B$107,0),1) <> \"\",\n        \"Mimo soutěž\",\n        IF(AND(D26>0,OR(ISNA(MATCH($A26, 'Seznam družstev'!$O$7:$O$40, 0)), ISNA(MATCH($A27, 'Seznam družstev'!$O$7:$O$40,0)))), \"Rozstřel\", \"\")\n    ),\"\")","v":""}]
[{"$f":"IF('Seznam družstev'!B27<>\"\",$A26+1,\"\")","v":""},{"$f":"IF($A27<>\"\",INDEX('Seznam družstev'!$B$7:$B$40,MATCH($A27,'Pom. pořadí družstva'!$Q$7:$Q$40,0),1),\"\")","v":""},{"$f":"IF($A27<>\"\",INDEX('Seznam družstev'!$A$7:$A$40,MATCH($B27,'Seznam družstev'!$B$7:$B$40,0),1),\"\")","v":""},"",{"$f":"IF($A27<>\"\",INDEX('Seznam družstev'!D$7:D$40,MATCH($B27,'Seznam družstev'!$B$7:$B$40,0),1),\"\")","v":""},{"$f":"IF($A27<>\"\",INDEX('Seznam družstev'!E$7:E$40,MATCH($B27,'Seznam družstev'!$B$7:$B$40,0),1),\"\")","v":""},{"$f":"IF($A27<>\"\",INDEX('Seznam družstev'!F$7:F$40,MATCH($B27,'Seznam družstev'!$B$7:$B$40,0),1),\"\")","v":""},{"$f":"IF($A27<>\"\",INDEX('Seznam družstev'!G$7:G$40,MATCH($B27,'Seznam družstev'!$B$7:$B$40,0),1),\"\")","v":""},{"$f":"IF($A27<>\"\",INDEX('Seznam družstev'!H$7:H$40,MATCH($B27,'Seznam družstev'!$B$7:$B$40,0),1),\"\")","v":""},{"$f":"IF($A27<>\"\",INDEX('Seznam družstev'!I$7:I$40,MATCH($B27,'Seznam družstev'!$B$7:$B$40,0),1),\"\")","v":""},{"$f":"IF($A27<>\"\",INDEX('Seznam družstev'!J$7:J$40,MATCH($B27,'Seznam družstev'!$B$7:$B$40,0),1),\"\")","v":""},{"$f":"IF($A27<>\"\",INDEX('Seznam družstev'!K$7:K$40,MATCH($B27,'Seznam družstev'!$B$7:$B$40,0),1),\"\")","v":""},{"$f":"IF($A27<>\"\",INDEX('Seznam družstev'!L$7:L$40,MATCH($B27,'Seznam družstev'!$B$7:$B$40,0),1),\"\")","v":""},{"$f":"IF($A27<>\"\",INDEX('Seznam družstev'!M$7:M$40,MATCH($B27,'Seznam družstev'!$B$7:$B$40,0),1),\"\")","v":""},{"$f":"IF($A27<>\"\",INDEX('Seznam družstev'!N$7:N$40,MATCH($B27,'Seznam družstev'!$B$7:$B$40,0),1),\"\")","v":""},{"$f":"IF($A27<>\"\",\n    IF(INDEX('Seznam družstev'!$P$7:$P$107, MATCH($B27,'Seznam družstev'!$B$7:$B$107,0),1) <> \"\",\n        \"Mimo soutěž\",\n        IF(AND(D27>0,OR(ISNA(MATCH($A27, 'Seznam družstev'!$O$7:$O$40, 0)), ISNA(MATCH($A28, 'Seznam družstev'!$O$7:$O$40,0)))), \"Rozstřel\", \"\")\n    ),\"\")","v":""}]
[{"$f":"IF('Seznam družstev'!B28<>\"\",$A27+1,\"\")","v":""},{"$f":"IF($A28<>\"\",INDEX('Seznam družstev'!$B$7:$B$40,MATCH($A28,'Pom. pořadí družstva'!$Q$7:$Q$40,0),1),\"\")","v":""},{"$f":"IF($A28<>\"\",INDEX('Seznam družstev'!$A$7:$A$40,MATCH($B28,'Seznam družstev'!$B$7:$B$40,0),1),\"\")","v":""},"",{"$f":"IF($A28<>\"\",INDEX('Seznam družstev'!D$7:D$40,MATCH($B28,'Seznam družstev'!$B$7:$B$40,0),1),\"\")","v":""},{"$f":"IF($A28<>\"\",INDEX('Seznam družstev'!E$7:E$40,MATCH($B28,'Seznam družstev'!$B$7:$B$40,0),1),\"\")","v":""},{"$f":"IF($A28<>\"\",INDEX('Seznam družstev'!F$7:F$40,MATCH($B28,'Seznam družstev'!$B$7:$B$40,0),1),\"\")","v":""},{"$f":"IF($A28<>\"\",INDEX('Seznam družstev'!G$7:G$40,MATCH($B28,'Seznam družstev'!$B$7:$B$40,0),1),\"\")","v":""},{"$f":"IF($A28<>\"\",INDEX('Seznam družstev'!H$7:H$40,MATCH($B28,'Seznam družstev'!$B$7:$B$40,0),1),\"\")","v":""},{"$f":"IF($A28<>\"\",INDEX('Seznam družstev'!I$7:I$40,MATCH($B28,'Seznam družstev'!$B$7:$B$40,0),1),\"\")","v":""},{"$f":"IF($A28<>\"\",INDEX('Seznam družstev'!J$7:J$40,MATCH($B28,'Seznam družstev'!$B$7:$B$40,0),1),\"\")","v":""},{"$f":"IF($A28<>\"\",INDEX('Seznam družstev'!K$7:K$40,MATCH($B28,'Seznam družstev'!$B$7:$B$40,0),1),\"\")","v":""},{"$f":"IF($A28<>\"\",INDEX('Seznam družstev'!L$7:L$40,MATCH($B28,'Seznam družstev'!$B$7:$B$40,0),1),\"\")","v":""},{"$f":"IF($A28<>\"\",INDEX('Seznam družstev'!M$7:M$40,MATCH($B28,'Seznam družstev'!$B$7:$B$40,0),1),\"\")","v":""},{"$f":"IF($A28<>\"\",INDEX('Seznam družstev'!N$7:N$40,MATCH($B28,'Seznam družstev'!$B$7:$B$40,0),1),\"\")","v":""},{"$f":"IF($A28<>\"\",\n    IF(INDEX('Seznam družstev'!$P$7:$P$107, MATCH($B28,'Seznam družstev'!$B$7:$B$107,0),1) <> \"\",\n        \"Mimo soutěž\",\n        IF(AND(D28>0,OR(ISNA(MATCH($A28, 'Seznam družstev'!$O$7:$O$40, 0)), ISNA(MATCH($A29, 'Seznam družstev'!$O$7:$O$40,0)))), \"Rozstřel\", \"\")\n    ),\"\")","v":""}]
[{"$f":"IF('Seznam družstev'!B29<>\"\",$A28+1,\"\")","v":""},{"$f":"IF($A29<>\"\",INDEX('Seznam družstev'!$B$7:$B$40,MATCH($A29,'Pom. pořadí družstva'!$Q$7:$Q$40,0),1),\"\")","v":""},{"$f":"IF($A29<>\"\",INDEX('Seznam družstev'!$A$7:$A$40,MATCH($B29,'Seznam družstev'!$B$7:$B$40,0),1),\"\")","v":""},"",{"$f":"IF($A29<>\"\",INDEX('Seznam družstev'!D$7:D$40,MATCH($B29,'Seznam družstev'!$B$7:$B$40,0),1),\"\")","v":""},{"$f":"IF($A29<>\"\",INDEX('Seznam družstev'!E$7:E$40,MATCH($B29,'Seznam družstev'!$B$7:$B$40,0),1),\"\")","v":""},{"$f":"IF($A29<>\"\",INDEX('Seznam družstev'!F$7:F$40,MATCH($B29,'Seznam družstev'!$B$7:$B$40,0),1),\"\")","v":""},{"$f":"IF($A29<>\"\",INDEX('Seznam družstev'!G$7:G$40,MATCH($B29,'Seznam družstev'!$B$7:$B$40,0),1),\"\")","v":""},{"$f":"IF($A29<>\"\",INDEX('Seznam družstev'!H$7:H$40,MATCH($B29,'Seznam družstev'!$B$7:$B$40,0),1),\"\")","v":""},{"$f":"IF($A29<>\"\",INDEX('Seznam družstev'!I$7:I$40,MATCH($B29,'Seznam družstev'!$B$7:$B$40,0),1),\"\")","v":""},{"$f":"IF($A29<>\"\",INDEX('Seznam družstev'!J$7:J$40,MATCH($B29,'Seznam družstev'!$B$7:$B$40,0),1),\"\")","v":""},{"$f":"IF($A29<>\"\",INDEX('Seznam družstev'!K$7:K$40,MATCH($B29,'Seznam družstev'!$B$7:$B$40,0),1),\"\")","v":""},{"$f":"IF($A29<>\"\",INDEX('Seznam družstev'!L$7:L$40,MATCH($B29,'Seznam družstev'!$B$7:$B$40,0),1),\"\")","v":""},{"$f":"IF($A29<>\"\",INDEX('Seznam družstev'!M$7:M$40,MATCH($B29,'Seznam družstev'!$B$7:$B$40,0),1),\"\")","v":""},{"$f":"IF($A29<>\"\",INDEX('Seznam družstev'!N$7:N$40,MATCH($B29,'Seznam družstev'!$B$7:$B$40,0),1),\"\")","v":""},{"$f":"IF($A29<>\"\",\n    IF(INDEX('Seznam družstev'!$P$7:$P$107, MATCH($B29,'Seznam družstev'!$B$7:$B$107,0),1) <> \"\",\n        \"Mimo soutěž\",\n        IF(AND(D29>0,OR(ISNA(MATCH($A29, 'Seznam družstev'!$O$7:$O$40, 0)), ISNA(MATCH($A30, 'Seznam družstev'!$O$7:$O$40,0)))), \"Rozstřel\", \"\")\n    ),\"\")","v":""}]
[{"$f":"IF('Seznam družstev'!B30<>\"\",$A29+1,\"\")","v":""},{"$f":"IF($A30<>\"\",INDEX('Seznam družstev'!$B$7:$B$40,MATCH($A30,'Pom. pořadí družstva'!$Q$7:$Q$40,0),1),\"\")","v":""},{"$f":"IF($A30<>\"\",INDEX('Seznam družstev'!$A$7:$A$40,MATCH($B30,'Seznam družstev'!$B$7:$B$40,0),1),\"\")","v":""},"",{"$f":"IF($A30<>\"\",INDEX('Seznam družstev'!D$7:D$40,MATCH($B30,'Seznam družstev'!$B$7:$B$40,0),1),\"\")","v":""},{"$f":"IF($A30<>\"\",INDEX('Seznam družstev'!E$7:E$40,MATCH($B30,'Seznam družstev'!$B$7:$B$40,0),1),\"\")","v":""},{"$f":"IF($A30<>\"\",INDEX('Seznam družstev'!F$7:F$40,MATCH($B30,'Seznam družstev'!$B$7:$B$40,0),1),\"\")","v":""},{"$f":"IF($A30<>\"\",INDEX('Seznam družstev'!G$7:G$40,MATCH($B30,'Seznam družstev'!$B$7:$B$40,0),1),\"\")","v":""},{"$f":"IF($A30<>\"\",INDEX('Seznam družstev'!H$7:H$40,MATCH($B30,'Seznam družstev'!$B$7:$B$40,0),1),\"\")","v":""},{"$f":"IF($A30<>\"\",INDEX('Seznam družstev'!I$7:I$40,MATCH($B30,'Seznam družstev'!$B$7:$B$40,0),1),\"\")","v":""},{"$f":"IF($A30<>\"\",INDEX('Seznam družstev'!J$7:J$40,MATCH($B30,'Seznam družstev'!$B$7:$B$40,0),1),\"\")","v":""},{"$f":"IF($A30<>\"\",INDEX('Seznam družstev'!K$7:K$40,MATCH($B30,'Seznam družstev'!$B$7:$B$40,0),1),\"\")","v":""},{"$f":"IF($A30<>\"\",INDEX('Seznam družstev'!L$7:L$40,MATCH($B30,'Seznam družstev'!$B$7:$B$40,0),1),\"\")","v":""},{"$f":"IF($A30<>\"\",INDEX('Seznam družstev'!M$7:M$40,MATCH($B30,'Seznam družstev'!$B$7:$B$40,0),1),\"\")","v":""},{"$f":"IF($A30<>\"\",INDEX('Seznam družstev'!N$7:N$40,MATCH($B30,'Seznam družstev'!$B$7:$B$40,0),1),\"\")","v":""},{"$f":"IF($A30<>\"\",\n    IF(INDEX('Seznam družstev'!$P$7:$P$107, MATCH($B30,'Seznam družstev'!$B$7:$B$107,0),1) <> \"\",\n        \"Mimo soutěž\",\n        IF(AND(D30>0,OR(ISNA(MATCH($A30, 'Seznam družstev'!$O$7:$O$40, 0)), ISNA(MATCH($A31, 'Seznam družstev'!$O$7:$O$40,0)))), \"Rozstřel\", \"\")\n    ),\"\")","v":""}]
[{"$f":"IF('Seznam družstev'!B31<>\"\",$A30+1,\"\")","v":""},{"$f":"IF($A31<>\"\",INDEX('Seznam družstev'!$B$7:$B$40,MATCH($A31,'Pom. pořadí družstva'!$Q$7:$Q$40,0),1),\"\")","v":""},{"$f":"IF($A31<>\"\",INDEX('Seznam družstev'!$A$7:$A$40,MATCH($B31,'Seznam družstev'!$B$7:$B$40,0),1),\"\")","v":""},"",{"$f":"IF($A31<>\"\",INDEX('Seznam družstev'!D$7:D$40,MATCH($B31,'Seznam družstev'!$B$7:$B$40,0),1),\"\")","v":""},{"$f":"IF($A31<>\"\",INDEX('Seznam družstev'!E$7:E$40,MATCH($B31,'Seznam družstev'!$B$7:$B$40,0),1),\"\")","v":""},{"$f":"IF($A31<>\"\",INDEX('Seznam družstev'!F$7:F$40,MATCH($B31,'Seznam družstev'!$B$7:$B$40,0),1),\"\")","v":""},{"$f":"IF($A31<>\"\",INDEX('Seznam družstev'!G$7:G$40,MATCH($B31,'Seznam družstev'!$B$7:$B$40,0),1),\"\")","v":""},{"$f":"IF($A31<>\"\",INDEX('Seznam družstev'!H$7:H$40,MATCH($B31,'Seznam družstev'!$B$7:$B$40,0),1),\"\")","v":""},{"$f":"IF($A31<>\"\",INDEX('Seznam družstev'!I$7:I$40,MATCH($B31,'Seznam družstev'!$B$7:$B$40,0),1),\"\")","v":""},{"$f":"IF($A31<>\"\",INDEX('Seznam družstev'!J$7:J$40,MATCH($B31,'Seznam družstev'!$B$7:$B$40,0),1),\"\")","v":""},{"$f":"IF($A31<>\"\",INDEX('Seznam družstev'!K$7:K$40,MATCH($B31,'Seznam družstev'!$B$7:$B$40,0),1),\"\")","v":""},{"$f":"IF($A31<>\"\",INDEX('Seznam družstev'!L$7:L$40,MATCH($B31,'Seznam družstev'!$B$7:$B$40,0),1),\"\")","v":""},{"$f":"IF($A31<>\"\",INDEX('Seznam družstev'!M$7:M$40,MATCH($B31,'Seznam družstev'!$B$7:$B$40,0),1),\"\")","v":""},{"$f":"IF($A31<>\"\",INDEX('Seznam družstev'!N$7:N$40,MATCH($B31,'Seznam družstev'!$B$7:$B$40,0),1),\"\")","v":""},{"$f":"IF($A31<>\"\",\n    IF(INDEX('Seznam družstev'!$P$7:$P$107, MATCH($B31,'Seznam družstev'!$B$7:$B$107,0),1) <> \"\",\n        \"Mimo soutěž\",\n        IF(AND(D31>0,OR(ISNA(MATCH($A31, 'Seznam družstev'!$O$7:$O$40, 0)), ISNA(MATCH($A32, 'Seznam družstev'!$O$7:$O$40,0)))), \"Rozstřel\", \"\")\n    ),\"\")","v":""}]
[{"$f":"IF('Seznam družstev'!B32<>\"\",$A31+1,\"\")","v":""},{"$f":"IF($A32<>\"\",INDEX('Seznam družstev'!$B$7:$B$40,MATCH($A32,'Pom. pořadí družstva'!$Q$7:$Q$40,0),1),\"\")","v":""},{"$f":"IF($A32<>\"\",INDEX('Seznam družstev'!$A$7:$A$40,MATCH($B32,'Seznam družstev'!$B$7:$B$40,0),1),\"\")","v":""},"",{"$f":"IF($A32<>\"\",INDEX('Seznam družstev'!D$7:D$40,MATCH($B32,'Seznam družstev'!$B$7:$B$40,0),1),\"\")","v":""},{"$f":"IF($A32<>\"\",INDEX('Seznam družstev'!E$7:E$40,MATCH($B32,'Seznam družstev'!$B$7:$B$40,0),1),\"\")","v":""},{"$f":"IF($A32<>\"\",INDEX('Seznam družstev'!F$7:F$40,MATCH($B32,'Seznam družstev'!$B$7:$B$40,0),1),\"\")","v":""},{"$f":"IF($A32<>\"\",INDEX('Seznam družstev'!G$7:G$40,MATCH($B32,'Seznam družstev'!$B$7:$B$40,0),1),\"\")","v":""},{"$f":"IF($A32<>\"\",INDEX('Seznam družstev'!H$7:H$40,MATCH($B32,'Seznam družstev'!$B$7:$B$40,0),1),\"\")","v":""},{"$f":"IF($A32<>\"\",INDEX('Seznam družstev'!I$7:I$40,MATCH($B32,'Seznam družstev'!$B$7:$B$40,0),1),\"\")","v":""},{"$f":"IF($A32<>\"\",INDEX('Seznam družstev'!J$7:J$40,MATCH($B32,'Seznam družstev'!$B$7:$B$40,0),1),\"\")","v":""},{"$f":"IF($A32<>\"\",INDEX('Seznam družstev'!K$7:K$40,MATCH($B32,'Seznam družstev'!$B$7:$B$40,0),1),\"\")","v":""},{"$f":"IF($A32<>\"\",INDEX('Seznam družstev'!L$7:L$40,MATCH($B32,'Seznam družstev'!$B$7:$B$40,0),1),\"\")","v":""},{"$f":"IF($A32<>\"\",INDEX('Seznam družstev'!M$7:M$40,MATCH($B32,'Seznam družstev'!$B$7:$B$40,0),1),\"\")","v":""},{"$f":"IF($A32<>\"\",INDEX('Seznam družstev'!N$7:N$40,MATCH($B32,'Seznam družstev'!$B$7:$B$40,0),1),\"\")","v":""},{"$f":"IF($A32<>\"\",\n    IF(INDEX('Seznam družstev'!$P$7:$P$107, MATCH($B32,'Seznam družstev'!$B$7:$B$107,0),1) <> \"\",\n        \"Mimo soutěž\",\n        IF(AND(D32>0,OR(ISNA(MATCH($A32, 'Seznam družstev'!$O$7:$O$40, 0)), ISNA(MATCH($A33, 'Seznam družstev'!$O$7:$O$40,0)))), \"Rozstřel\", \"\")\n    ),\"\")","v":""}]
[{"$f":"IF('Seznam družstev'!B33<>\"\",$A32+1,\"\")","v":""},{"$f":"IF($A33<>\"\",INDEX('Seznam družstev'!$B$7:$B$40,MATCH($A33,'Pom. pořadí družstva'!$Q$7:$Q$40,0),1),\"\")","v":""},{"$f":"IF($A33<>\"\",INDEX('Seznam družstev'!$A$7:$A$40,MATCH($B33,'Seznam družstev'!$B$7:$B$40,0),1),\"\")","v":""},"",{"$f":"IF($A33<>\"\",INDEX('Seznam družstev'!D$7:D$40,MATCH($B33,'Seznam družstev'!$B$7:$B$40,0),1),\"\")","v":""},{"$f":"IF($A33<>\"\",INDEX('Seznam družstev'!E$7:E$40,MATCH($B33,'Seznam družstev'!$B$7:$B$40,0),1),\"\")","v":""},{"$f":"IF($A33<>\"\",INDEX('Seznam družstev'!F$7:F$40,MATCH($B33,'Seznam družstev'!$B$7:$B$40,0),1),\"\")","v":""},{"$f":"IF($A33<>\"\",INDEX('Seznam družstev'!G$7:G$40,MATCH($B33,'Seznam družstev'!$B$7:$B$40,0),1),\"\")","v":""},{"$f":"IF($A33<>\"\",INDEX('Seznam družstev'!H$7:H$40,MATCH($B33,'Seznam družstev'!$B$7:$B$40,0),1),\"\")","v":""},{"$f":"IF($A33<>\"\",INDEX('Seznam družstev'!I$7:I$40,MATCH($B33,'Seznam družstev'!$B$7:$B$40,0),1),\"\")","v":""},{"$f":"IF($A33<>\"\",INDEX('Seznam družstev'!J$7:J$40,MATCH($B33,'Seznam družstev'!$B$7:$B$40,0),1),\"\")","v":""},{"$f":"IF($A33<>\"\",INDEX('Seznam družstev'!K$7:K$40,MATCH($B33,'Seznam družstev'!$B$7:$B$40,0),1),\"\")","v":""},{"$f":"IF($A33<>\"\",INDEX('Seznam družstev'!L$7:L$40,MATCH($B33,'Seznam družstev'!$B$7:$B$40,0),1),\"\")","v":""},{"$f":"IF($A33<>\"\",INDEX('Seznam družstev'!M$7:M$40,MATCH($B33,'Seznam družstev'!$B$7:$B$40,0),1),\"\")","v":""},{"$f":"IF($A33<>\"\",INDEX('Seznam družstev'!N$7:N$40,MATCH($B33,'Seznam družstev'!$B$7:$B$40,0),1),\"\")","v":""},{"$f":"IF($A33<>\"\",\n    IF(INDEX('Seznam družstev'!$P$7:$P$107, MATCH($B33,'Seznam družstev'!$B$7:$B$107,0),1) <> \"\",\n        \"Mimo soutěž\",\n        IF(AND(D33>0,OR(ISNA(MATCH($A33, 'Seznam družstev'!$O$7:$O$40, 0)), ISNA(MATCH($A34, 'Seznam družstev'!$O$7:$O$40,0)))), \"Rozstřel\", \"\")\n    ),\"\")","v":""}]
[{"$f":"IF('Seznam družstev'!B34<>\"\",$A33+1,\"\")","v":""},{"$f":"IF($A34<>\"\",INDEX('Seznam družstev'!$B$7:$B$40,MATCH($A34,'Pom. pořadí družstva'!$Q$7:$Q$40,0),1),\"\")","v":""},{"$f":"IF($A34<>\"\",INDEX('Seznam družstev'!$A$7:$A$40,MATCH($B34,'Seznam družstev'!$B$7:$B$40,0),1),\"\")","v":""},"",{"$f":"IF($A34<>\"\",INDEX('Seznam družstev'!D$7:D$40,MATCH($B34,'Seznam družstev'!$B$7:$B$40,0),1),\"\")","v":""},{"$f":"IF($A34<>\"\",INDEX('Seznam družstev'!E$7:E$40,MATCH($B34,'Seznam družstev'!$B$7:$B$40,0),1),\"\")","v":""},{"$f":"IF($A34<>\"\",INDEX('Seznam družstev'!F$7:F$40,MATCH($B34,'Seznam družstev'!$B$7:$B$40,0),1),\"\")","v":""},{"$f":"IF($A34<>\"\",INDEX('Seznam družstev'!G$7:G$40,MATCH($B34,'Seznam družstev'!$B$7:$B$40,0),1),\"\")","v":""},{"$f":"IF($A34<>\"\",INDEX('Seznam družstev'!H$7:H$40,MATCH($B34,'Seznam družstev'!$B$7:$B$40,0),1),\"\")","v":""},{"$f":"IF($A34<>\"\",INDEX('Seznam družstev'!I$7:I$40,MATCH($B34,'Seznam družstev'!$B$7:$B$40,0),1),\"\")","v":""},{"$f":"IF($A34<>\"\",INDEX('Seznam družstev'!J$7:J$40,MATCH($B34,'Seznam družstev'!$B$7:$B$40,0),1),\"\")","v":""},{"$f":"IF($A34<>\"\",INDEX('Seznam družstev'!K$7:K$40,MATCH($B34,'Seznam družstev'!$B$7:$B$40,0),1),\"\")","v":""},{"$f":"IF($A34<>\"\",INDEX('Seznam družstev'!L$7:L$40,MATCH($B34,'Seznam družstev'!$B$7:$B$40,0),1),\"\")","v":""},{"$f":"IF($A34<>\"\",INDEX('Seznam družstev'!M$7:M$40,MATCH($B34,'Seznam družstev'!$B$7:$B$40,0),1),\"\")","v":""},{"$f":"IF($A34<>\"\",INDEX('Seznam družstev'!N$7:N$40,MATCH($B34,'Seznam družstev'!$B$7:$B$40,0),1),\"\")","v":""},{"$f":"IF($A34<>\"\",\n    IF(INDEX('Seznam družstev'!$P$7:$P$107, MATCH($B34,'Seznam družstev'!$B$7:$B$107,0),1) <> \"\",\n        \"Mimo soutěž\",\n        IF(AND(D34>0,OR(ISNA(MATCH($A34, 'Seznam družstev'!$O$7:$O$40, 0)), ISNA(MATCH($A35, 'Seznam družstev'!$O$7:$O$40,0)))), \"Rozstřel\", \"\")\n    ),\"\")","v":""}]
[{"$f":"IF('Seznam družstev'!B35<>\"\",$A34+1,\"\")","v":""},{"$f":"IF($A35<>\"\",INDEX('Seznam družstev'!$B$7:$B$40,MATCH($A35,'Pom. pořadí družstva'!$Q$7:$Q$40,0),1),\"\")","v":""},{"$f":"IF($A35<>\"\",INDEX('Seznam družstev'!$A$7:$A$40,MATCH($B35,'Seznam družstev'!$B$7:$B$40,0),1),\"\")","v":""},"",{"$f":"IF($A35<>\"\",INDEX('Seznam družstev'!D$7:D$40,MATCH($B35,'Seznam družstev'!$B$7:$B$40,0),1),\"\")","v":""},{"$f":"IF($A35<>\"\",INDEX('Seznam družstev'!E$7:E$40,MATCH($B35,'Seznam družstev'!$B$7:$B$40,0),1),\"\")","v":""},{"$f":"IF($A35<>\"\",INDEX('Seznam družstev'!F$7:F$40,MATCH($B35,'Seznam družstev'!$B$7:$B$40,0),1),\"\")","v":""},{"$f":"IF($A35<>\"\",INDEX('Seznam družstev'!G$7:G$40,MATCH($B35,'Seznam družstev'!$B$7:$B$40,0),1),\"\")","v":""},{"$f":"IF($A35<>\"\",INDEX('Seznam družstev'!H$7:H$40,MATCH($B35,'Seznam družstev'!$B$7:$B$40,0),1),\"\")","v":""},{"$f":"IF($A35<>\"\",INDEX('Seznam družstev'!I$7:I$40,MATCH($B35,'Seznam družstev'!$B$7:$B$40,0),1),\"\")","v":""},{"$f":"IF($A35<>\"\",INDEX('Seznam družstev'!J$7:J$40,MATCH($B35,'Seznam družstev'!$B$7:$B$40,0),1),\"\")","v":""},{"$f":"IF($A35<>\"\",INDEX('Seznam družstev'!K$7:K$40,MATCH($B35,'Seznam družstev'!$B$7:$B$40,0),1),\"\")","v":""},{"$f":"IF($A35<>\"\",INDEX('Seznam družstev'!L$7:L$40,MATCH($B35,'Seznam družstev'!$B$7:$B$40,0),1),\"\")","v":""},{"$f":"IF($A35<>\"\",INDEX('Seznam družstev'!M$7:M$40,MATCH($B35,'Seznam družstev'!$B$7:$B$40,0),1),\"\")","v":""},{"$f":"IF($A35<>\"\",INDEX('Seznam družstev'!N$7:N$40,MATCH($B35,'Seznam družstev'!$B$7:$B$40,0),1),\"\")","v":""},{"$f":"IF($A35<>\"\",\n    IF(INDEX('Seznam družstev'!$P$7:$P$107, MATCH($B35,'Seznam družstev'!$B$7:$B$107,0),1) <> \"\",\n        \"Mimo soutěž\",\n        IF(AND(D35>0,OR(ISNA(MATCH($A35, 'Seznam družstev'!$O$7:$O$40, 0)), ISNA(MATCH($A36, 'Seznam družstev'!$O$7:$O$40,0)))), \"Rozstřel\", \"\")\n    ),\"\")","v":""}]
[{"$f":"IF('Seznam družstev'!B36<>\"\",$A35+1,\"\")","v":""},{"$f":"IF($A36<>\"\",INDEX('Seznam družstev'!$B$7:$B$40,MATCH($A36,'Pom. pořadí družstva'!$Q$7:$Q$40,0),1),\"\")","v":""},{"$f":"IF($A36<>\"\",INDEX('Seznam družstev'!$A$7:$A$40,MATCH($B36,'Seznam družstev'!$B$7:$B$40,0),1),\"\")","v":""},"",{"$f":"IF($A36<>\"\",INDEX('Seznam družstev'!D$7:D$40,MATCH($B36,'Seznam družstev'!$B$7:$B$40,0),1),\"\")","v":""},{"$f":"IF($A36<>\"\",INDEX('Seznam družstev'!E$7:E$40,MATCH($B36,'Seznam družstev'!$B$7:$B$40,0),1),\"\")","v":""},{"$f":"IF($A36<>\"\",INDEX('Seznam družstev'!F$7:F$40,MATCH($B36,'Seznam družstev'!$B$7:$B$40,0),1),\"\")","v":""},{"$f":"IF($A36<>\"\",INDEX('Seznam družstev'!G$7:G$40,MATCH($B36,'Seznam družstev'!$B$7:$B$40,0),1),\"\")","v":""},{"$f":"IF($A36<>\"\",INDEX('Seznam družstev'!H$7:H$40,MATCH($B36,'Seznam družstev'!$B$7:$B$40,0),1),\"\")","v":""},{"$f":"IF($A36<>\"\",INDEX('Seznam družstev'!I$7:I$40,MATCH($B36,'Seznam družstev'!$B$7:$B$40,0),1),\"\")","v":""},{"$f":"IF($A36<>\"\",INDEX('Seznam družstev'!J$7:J$40,MATCH($B36,'Seznam družstev'!$B$7:$B$40,0),1),\"\")","v":""},{"$f":"IF($A36<>\"\",INDEX('Seznam družstev'!K$7:K$40,MATCH($B36,'Seznam družstev'!$B$7:$B$40,0),1),\"\")","v":""},{"$f":"IF($A36<>\"\",INDEX('Seznam družstev'!L$7:L$40,MATCH($B36,'Seznam družstev'!$B$7:$B$40,0),1),\"\")","v":""},{"$f":"IF($A36<>\"\",INDEX('Seznam družstev'!M$7:M$40,MATCH($B36,'Seznam družstev'!$B$7:$B$40,0),1),\"\")","v":""},{"$f":"IF($A36<>\"\",INDEX('Seznam družstev'!N$7:N$40,MATCH($B36,'Seznam družstev'!$B$7:$B$40,0),1),\"\")","v":""},{"$f":"IF($A36<>\"\",\n    IF(INDEX('Seznam družstev'!$P$7:$P$107, MATCH($B36,'Seznam družstev'!$B$7:$B$107,0),1) <> \"\",\n        \"Mimo soutěž\",\n        IF(AND(D36>0,OR(ISNA(MATCH($A36, 'Seznam družstev'!$O$7:$O$40, 0)), ISNA(MATCH($A37, 'Seznam družstev'!$O$7:$O$40,0)))), \"Rozstřel\", \"\")\n    ),\"\")","v":""}]
[{"$f":"IF('Seznam družstev'!B37<>\"\",$A36+1,\"\")","v":""},{"$f":"IF($A37<>\"\",INDEX('Seznam družstev'!$B$7:$B$40,MATCH($A37,'Pom. pořadí družstva'!$Q$7:$Q$40,0),1),\"\")","v":""},{"$f":"IF($A37<>\"\",INDEX('Seznam družstev'!$A$7:$A$40,MATCH($B37,'Seznam družstev'!$B$7:$B$40,0),1),\"\")","v":""},"",{"$f":"IF($A37<>\"\",INDEX('Seznam družstev'!D$7:D$40,MATCH($B37,'Seznam družstev'!$B$7:$B$40,0),1),\"\")","v":""},{"$f":"IF($A37<>\"\",INDEX('Seznam družstev'!E$7:E$40,MATCH($B37,'Seznam družstev'!$B$7:$B$40,0),1),\"\")","v":""},{"$f":"IF($A37<>\"\",INDEX('Seznam družstev'!F$7:F$40,MATCH($B37,'Seznam družstev'!$B$7:$B$40,0),1),\"\")","v":""},{"$f":"IF($A37<>\"\",INDEX('Seznam družstev'!G$7:G$40,MATCH($B37,'Seznam družstev'!$B$7:$B$40,0),1),\"\")","v":""},{"$f":"IF($A37<>\"\",INDEX('Seznam družstev'!H$7:H$40,MATCH($B37,'Seznam družstev'!$B$7:$B$40,0),1),\"\")","v":""},{"$f":"IF($A37<>\"\",INDEX('Seznam družstev'!I$7:I$40,MATCH($B37,'Seznam družstev'!$B$7:$B$40,0),1),\"\")","v":""},{"$f":"IF($A37<>\"\",INDEX('Seznam družstev'!J$7:J$40,MATCH($B37,'Seznam družstev'!$B$7:$B$40,0),1),\"\")","v":""},{"$f":"IF($A37<>\"\",INDEX('Seznam družstev'!K$7:K$40,MATCH($B37,'Seznam družstev'!$B$7:$B$40,0),1),\"\")","v":""},{"$f":"IF($A37<>\"\",INDEX('Seznam družstev'!L$7:L$40,MATCH($B37,'Seznam družstev'!$B$7:$B$40,0),1),\"\")","v":""},{"$f":"IF($A37<>\"\",INDEX('Seznam družstev'!M$7:M$40,MATCH($B37,'Seznam družstev'!$B$7:$B$40,0),1),\"\")","v":""},{"$f":"IF($A37<>\"\",INDEX('Seznam družstev'!N$7:N$40,MATCH($B37,'Seznam družstev'!$B$7:$B$40,0),1),\"\")","v":""},{"$f":"IF($A37<>\"\",\n    IF(INDEX('Seznam družstev'!$P$7:$P$107, MATCH($B37,'Seznam družstev'!$B$7:$B$107,0),1) <> \"\",\n        \"Mimo soutěž\",\n        IF(AND(D37>0,OR(ISNA(MATCH($A37, 'Seznam družstev'!$O$7:$O$40, 0)), ISNA(MATCH($A38, 'Seznam družstev'!$O$7:$O$40,0)))), \"Rozstřel\", \"\")\n    ),\"\")","v":""}]
[{"$f":"IF('Seznam družstev'!B38<>\"\",$A37+1,\"\")","v":""},{"$f":"IF($A38<>\"\",INDEX('Seznam družstev'!$B$7:$B$40,MATCH($A38,'Pom. pořadí družstva'!$Q$7:$Q$40,0),1),\"\")","v":""},{"$f":"IF($A38<>\"\",INDEX('Seznam družstev'!$A$7:$A$40,MATCH($B38,'Seznam družstev'!$B$7:$B$40,0),1),\"\")","v":""},"",{"$f":"IF($A38<>\"\",INDEX('Seznam družstev'!D$7:D$40,MATCH($B38,'Seznam družstev'!$B$7:$B$40,0),1),\"\")","v":""},{"$f":"IF($A38<>\"\",INDEX('Seznam družstev'!E$7:E$40,MATCH($B38,'Seznam družstev'!$B$7:$B$40,0),1),\"\")","v":""},{"$f":"IF($A38<>\"\",INDEX('Seznam družstev'!F$7:F$40,MATCH($B38,'Seznam družstev'!$B$7:$B$40,0),1),\"\")","v":""},{"$f":"IF($A38<>\"\",INDEX('Seznam družstev'!G$7:G$40,MATCH($B38,'Seznam družstev'!$B$7:$B$40,0),1),\"\")","v":""},{"$f":"IF($A38<>\"\",INDEX('Seznam družstev'!H$7:H$40,MATCH($B38,'Seznam družstev'!$B$7:$B$40,0),1),\"\")","v":""},{"$f":"IF($A38<>\"\",INDEX('Seznam družstev'!I$7:I$40,MATCH($B38,'Seznam družstev'!$B$7:$B$40,0),1),\"\")","v":""},{"$f":"IF($A38<>\"\",INDEX('Seznam družstev'!J$7:J$40,MATCH($B38,'Seznam družstev'!$B$7:$B$40,0),1),\"\")","v":""},{"$f":"IF($A38<>\"\",INDEX('Seznam družstev'!K$7:K$40,MATCH($B38,'Seznam družstev'!$B$7:$B$40,0),1),\"\")","v":""},{"$f":"IF($A38<>\"\",INDEX('Seznam družstev'!L$7:L$40,MATCH($B38,'Seznam družstev'!$B$7:$B$40,0),1),\"\")","v":""},{"$f":"IF($A38<>\"\",INDEX('Seznam družstev'!M$7:M$40,MATCH($B38,'Seznam družstev'!$B$7:$B$40,0),1),\"\")","v":""},{"$f":"IF($A38<>\"\",INDEX('Seznam družstev'!N$7:N$40,MATCH($B38,'Seznam družstev'!$B$7:$B$40,0),1),\"\")","v":""},{"$f":"IF($A38<>\"\",\n    IF(INDEX('Seznam družstev'!$P$7:$P$107, MATCH($B38,'Seznam družstev'!$B$7:$B$107,0),1) <> \"\",\n        \"Mimo soutěž\",\n        IF(AND(D38>0,OR(ISNA(MATCH($A38, 'Seznam družstev'!$O$7:$O$40, 0)), ISNA(MATCH($A39, 'Seznam družstev'!$O$7:$O$40,0)))), \"Rozstřel\", \"\")\n    ),\"\")","v":""}]
[{"$f":"IF('Seznam družstev'!B39<>\"\",$A38+1,\"\")","v":""},{"$f":"IF($A39<>\"\",INDEX('Seznam družstev'!$B$7:$B$40,MATCH($A39,'Pom. pořadí družstva'!$Q$7:$Q$40,0),1),\"\")","v":""},{"$f":"IF($A39<>\"\",INDEX('Seznam družstev'!$A$7:$A$40,MATCH($B39,'Seznam družstev'!$B$7:$B$40,0),1),\"\")","v":""},"",{"$f":"IF($A39<>\"\",INDEX('Seznam družstev'!D$7:D$40,MATCH($B39,'Seznam družstev'!$B$7:$B$40,0),1),\"\")","v":""},{"$f":"IF($A39<>\"\",INDEX('Seznam družstev'!E$7:E$40,MATCH($B39,'Seznam družstev'!$B$7:$B$40,0),1),\"\")","v":""},{"$f":"IF($A39<>\"\",INDEX('Seznam družstev'!F$7:F$40,MATCH($B39,'Seznam družstev'!$B$7:$B$40,0),1),\"\")","v":""},{"$f":"IF($A39<>\"\",INDEX('Seznam družstev'!G$7:G$40,MATCH($B39,'Seznam družstev'!$B$7:$B$40,0),1),\"\")","v":""},{"$f":"IF($A39<>\"\",INDEX('Seznam družstev'!H$7:H$40,MATCH($B39,'Seznam družstev'!$B$7:$B$40,0),1),\"\")","v":""},{"$f":"IF($A39<>\"\",INDEX('Seznam družstev'!I$7:I$40,MATCH($B39,'Seznam družstev'!$B$7:$B$40,0),1),\"\")","v":""},{"$f":"IF($A39<>\"\",INDEX('Seznam družstev'!J$7:J$40,MATCH($B39,'Seznam družstev'!$B$7:$B$40,0),1),\"\")","v":""},{"$f":"IF($A39<>\"\",INDEX('Seznam družstev'!K$7:K$40,MATCH($B39,'Seznam družstev'!$B$7:$B$40,0),1),\"\")","v":""},{"$f":"IF($A39<>\"\",INDEX('Seznam družstev'!L$7:L$40,MATCH($B39,'Seznam družstev'!$B$7:$B$40,0),1),\"\")","v":""},{"$f":"IF($A39<>\"\",INDEX('Seznam družstev'!M$7:M$40,MATCH($B39,'Seznam družstev'!$B$7:$B$40,0),1),\"\")","v":""},{"$f":"IF($A39<>\"\",INDEX('Seznam družstev'!N$7:N$40,MATCH($B39,'Seznam družstev'!$B$7:$B$40,0),1),\"\")","v":""},{"$f":"IF($A39<>\"\",\n    IF(INDEX('Seznam družstev'!$P$7:$P$107, MATCH($B39,'Seznam družstev'!$B$7:$B$107,0),1) <> \"\",\n        \"Mimo soutěž\",\n        IF(AND(D39>0,OR(ISNA(MATCH($A39, 'Seznam družstev'!$O$7:$O$40, 0)), ISNA(MATCH($A40, 'Seznam družstev'!$O$7:$O$40,0)))), \"Rozstřel\", \"\")\n    ),\"\")","v":""}]
[{"$f":"IF('Seznam družstev'!B40<>\"\",$A39+1,\"\")","v":""},{"$f":"IF($A40<>\"\",INDEX('Seznam družstev'!$B$7:$B$40,MATCH($A40,'Pom. pořadí družstva'!$Q$7:$Q$40,0),1),\"\")","v":""},{"$f":"IF($A40<>\"\",INDEX('Seznam družstev'!$A$7:$A$40,MATCH($B40,'Seznam družstev'!$B$7:$B$40,0),1),\"\")","v":""},"",{"$f":"IF($A40<>\"\",INDEX('Seznam družstev'!D$7:D$40,MATCH($B40,'Seznam družstev'!$B$7:$B$40,0),1),\"\")","v":""},{"$f":"IF($A40<>\"\",INDEX('Seznam družstev'!E$7:E$40,MATCH($B40,'Seznam družstev'!$B$7:$B$40,0),1),\"\")","v":""},{"$f":"IF($A40<>\"\",INDEX('Seznam družstev'!F$7:F$40,MATCH($B40,'Seznam družstev'!$B$7:$B$40,0),1),\"\")","v":""},{"$f":"IF($A40<>\"\",INDEX('Seznam družstev'!G$7:G$40,MATCH($B40,'Seznam družstev'!$B$7:$B$40,0),1),\"\")","v":""},{"$f":"IF($A40<>\"\",INDEX('Seznam družstev'!H$7:H$40,MATCH($B40,'Seznam družstev'!$B$7:$B$40,0),1),\"\")","v":""},{"$f":"IF($A40<>\"\",INDEX('Seznam družstev'!I$7:I$40,MATCH($B40,'Seznam družstev'!$B$7:$B$40,0),1),\"\")","v":""},{"$f":"IF($A40<>\"\",INDEX('Seznam družstev'!J$7:J$40,MATCH($B40,'Seznam družstev'!$B$7:$B$40,0),1),\"\")","v":""},{"$f":"IF($A40<>\"\",INDEX('Seznam družstev'!K$7:K$40,MATCH($B40,'Seznam družstev'!$B$7:$B$40,0),1),\"\")","v":""},{"$f":"IF($A40<>\"\",INDEX('Seznam družstev'!L$7:L$40,MATCH($B40,'Seznam družstev'!$B$7:$B$40,0),1),\"\")","v":""},{"$f":"IF($A40<>\"\",INDEX('Seznam družstev'!M$7:M$40,MATCH($B40,'Seznam družstev'!$B$7:$B$40,0),1),\"\")","v":""},{"$f":"IF($A40<>\"\",INDEX('Seznam družstev'!N$7:N$40,MATCH($B40,'Seznam družstev'!$B$7:$B$40,0),1),\"\")","v":""},{"$f":"IF($A40<>\"\",\n    IF(INDEX('Seznam družstev'!$P$7:$P$107, MATCH($B40,'Seznam družstev'!$B$7:$B$107,0),1) <> \"\",\n        \"Mimo soutěž\",\n        IF(AND(D40>0,OR(ISNA(MATCH($A40, 'Seznam družstev'!$O$7:$O$40, 0)), ISNA(MATCH($A41, 'Seznam družstev'!$O$7:$O$40,0)))), \"Rozstřel\", \"\")\n    ),\"\")","v":""}]

{"sheet":"Los a nastavení","index":6,"n_rows":107,"n_cols":18,"rows_kept":107,"cut":false,"hidden":false,"merged":[[3,6,4,6],[2,0,2,17]]}
["Stiskněte F9 pro přegenerování losu. "]
[]
["Losování nelze \"uzamknout\", neboť Excel průběžně mění obsah sloupců. Pokud je seznam střelců konečný, musí se ve sloupci \"Generované startovní číslo\" vybrat celý rozsah startovních čísel, uložit do schránky Windows (viz Úpravy -> Vložit nebo Ctrl V) a hodnoty přepsat do vedlejšího sloupce \"Pevné startovní číslo\" (viz Úpravy -> Vložit jinak -> Hodnoty). Tím se přepíší vzorce, které se stále mění, pevnými hodnotami a los je zafixován.\nSeznam jmen ve sloupci \"Jméno\" je přeskládán náhodně podle vylosovaného pořadí. Nyní je třeba překopírovat seznam jmen a případně i číslo družstva, pokud je zadáno, z listu \"Los a nastavení\" zpět do listu \"Seznam střelců\". Vyberte celý rozsah jmen a uložte do schránky Windows (viz Ctrl-C). Přejděte na list \"Seznam střelců\" a vložte jména (viz Úpravy -> Vložit jinak -> Hodnoty).\n\n Pokud se losují družstva, nastavte počet členů družstva a potom stejně jako u startovních čísel překopírujte hodnoty ze sloupce \"Generované číslo družstva\" do sloupce \"Pevné číslo družstva\". "]
["Počet hodnocených pořadí jednotlivci",3,"Počet hodnocených družstev",3,"Počet členů družstva",0,"Počet terčů v disciplině:",{"$f":"'Seznam střelců'!F$6","v":"Disc. 1"},{"$f":"'Seznam střelců'!G$6","v":"Disc. 2"},{"$f":"'Seznam střelců'!H$6","v":"Disc. 3"},{"$f":"'Seznam střelců'!I$6","v":"Disc. 4"},{"$f":"'Seznam střelců'!J$6","v":"Disc. 5"},{"$f":"'Seznam střelců'!K$6","v":"Disc. 6"},{"$f":"'Seznam střelců'!L$6","v":"Disc. 7"},{"$f":"'Seznam střelců'!M$6","v":"Zajíc"},{"$f":"'Seznam střelců'!N$6","v":"LK II"},{"$f":"'Seznam střelců'!O$6","v":"LK I"},{"$f":"'Seznam střelců'!P$6","v":"Finále"}]
["Počet střelců v rundě: ",6,"Max. číslo rundy",{"$f":"MAX('Seznam střelců'!$B$7:$B$107)","v":6},"Max. číslo družstva",{"$f":"MAX(I7:I107)","v":0},null,0,0,0,0,0,0,0,0,0,0,0]
["Startovní číslo","Družstvo","Jméno","Pomocné náhodné číslo","Pomocné startovní číslo","Pevné startovní číslo","Pomocné náhodné číslo","Pomocné číslo pro generování družstva","Generované číslo družstva","Pevné číslo družstva"]
[{"$f":"IF('Seznam střelců'!E7<>\"\",'Seznam střelců'!A7,\"\")","v":1},{"$f":"IF($A7<>\"\",INDEX('Seznam střelců'!$D$7:$D$107,MATCH($F7,'Seznam střelců'!$A$7:$A$107,0),1),\"\")","v":0},{"$f":"IF($A7<>\"\",INDEX('Seznam střelců'!$E$7:$E$107,MATCH($F7,'Seznam střelců'!$A$7:$A$107,0),1),\"\")","v":"Šimon Jaroslav"},{"$f":"IF(A7<>\"\",RAND(),\"\")","v":0.23521908136835457},{"$f":"IF(A7<>\"\", RANK(D7,$D$7:$D$107, 1),\"\")","v":7},{"$f":"E7","v":7},{"$f":"IF(A7<>\"\",RAND(),\"\")","v":0.45764512221507769},{"$f":"IF(A7<>\"\",RANK(G7,$G$7:$G$107),\"\")","v":17},{"$f":"IF(AND(A7<>\"\",$F$4>0),1+INT((RANK(G7,$G$7:$G$107)-1)/$F$4),\"\")","v":""},{"$f":"I7","v":""}]
[{"$f":"IF('Seznam střelců'!E8<>\"\",'Seznam střelců'!A8,\"\")","v":2},{"$f":"IF($A8<>\"\",INDEX('Seznam střelců'!$D$7:$D$107,MATCH($F8,'Seznam střelců'!$A$7:$A$107,0),1),\"\")","v":0},{"$f":"IF($A8<>\"\",INDEX('Seznam střelců'!$E$7:$E$107,MATCH($F8,'Seznam střelců'!$A$7:$A$107,0),1),\"\")","v":"Kašpar Jiří"},{"$f":"IF(A8<>\"\",RAND(),\"\")","v":0.82153156976490904},{"$f":"IF(A8<>\"\", RANK(D8,$D$7:$D$107, 1),\"\")","v":30},{"$f":"E8","v":30},0.32997175901971953,22,"",{"$f":"I8","v":""}]
[{"$f":"IF('Seznam střelců'!E9<>\"\",'Seznam střelců'!A9,\"\")","v":3},{"$f":"IF($A9<>\"\",INDEX('Seznam střelců'!$D$7:$D$107,MATCH($F9,'Seznam střelců'!$A$7:$A$107,0),1),\"\")","v":0},{"$f":"IF($A9<>\"\",INDEX('Seznam střelců'!$E$7:$E$107,MATCH($F9,'Seznam střelců'!$A$7:$A$107,0),1),\"\")","v":"Holub Robert"},{"$f":"IF(A9<>\"\",RAND(),\"\")","v":0.75117629427634669},26,26,0.76013679892859809,5,"",{"$f":"I9","v":""}]
[{"$f":"IF('Seznam střelců'!E10<>\"\",'Seznam střelců'!A10,\"\")","v":4},{"$f":"IF($A10<>\"\",INDEX('Seznam střelců'!$D$7:$D$107,MATCH($F10,'Seznam střelců'!$A$7:$A$107,0),1),\"\")","v":0},{"$f":"IF($A10<>\"\",INDEX('Seznam střelců'!$E$7:$E$107,MATCH($F10,'Seznam střelců'!$A$7:$A$107,0),1),\"\")","v":"Lagron Čeněk"},0.48929535981518768,16,16,0.80569338775482002,4,"",""]
[{"$f":"IF('Seznam střelců'!E11<>\"\",'Seznam střelců'!A11,\"\")","v":5},{"$f":"IF($A11<>\"\",INDEX('Seznam střelců'!$D$7:$D$107,MATCH($F11,'Seznam střelců'!$A$7:$A$107,0),1),\"\")","v":0},{"$f":"IF($A11<>\"\",INDEX('Seznam střelců'!$E$7:$E$107,MATCH($F11,'Seznam střelců'!$A$7:$A$107,0),1),\"\")","v":"Borek Miloslav"},0.59172458894281288,21,21,0.10215400226624727,30,"",""]
[{"$f":"IF('Seznam střelců'!E12<>\"\",'Seznam střelců'!A12,\"\")","v":6},{"$f":"IF($A12<>\"\",INDEX('Seznam střelců'!$D$7:$D$107,MATCH($F12,'Seznam střelců'!$A$7:$A$107,0),1),\"\")","v":0},{"$f":"IF($A12<>\"\",INDEX('Seznam střelců'!$E$7:$E$107,MATCH($F12,'Seznam střelců'!$A$7:$A$107,0),1),\"\")","v":"Bělík Michal"},0.80203474150949638,29,29,0.13388692186429307,27,"",""]
[{"$f":"IF('Seznam střelců'!E13<>\"\",'Seznam střelců'!A13,\"\")","v":7},{"$f":"IF($A13<>\"\",INDEX('Seznam střelců'!$D$7:$D$107,MATCH($F13,'Seznam střelců'!$A$7:$A$107,0),1),\"\")","v":0},{"$f":"IF($A13<>\"\",INDEX('Seznam střelců'!$E$7:$E$107,MATCH($F13,'Seznam střelců'!$A$7:$A$107,0),1),\"\")","v":"Hrbek Václav"},0.4667140586593681,15,15,0.74017222575896846,7,"",""]
[{"$f":"IF('Seznam střelců'!E14<>\"\",'Seznam střelců'!A14,\"\")","v":8},{"$f":"IF($A14<>\"\",INDEX('Seznam střelců'!$D$7:$D$107,MATCH($F14,'Seznam střelců'!$A$7:$A$107,0),1),\"\")","v":0},{"$f":"IF($A14<>\"\",INDEX('Seznam střelců'!$E$7:$E$107,MATCH($F14,'Seznam střelců'!$A$7:$A$107,0),1),\"\")","v":"Kubín Ladislav"},0.53144827015554874,18,18,0.10783899343771797,29,"",""]
[{"$f":"IF('Seznam střelců'!E15<>\"\",'Seznam střelců'!A15,\"\")","v":9},{"$f":"IF($A15<>\"\",INDEX('Seznam střelců'!$D$7:$D$107,MATCH($F15,'Seznam střelců'!$A$7:$A$107,0),1),\"\")","v":0},{"$f":"IF($A15<>\"\",INDEX('Seznam střelců'!$E$7:$E$107,MATCH($F15,'Seznam střelců'!$A$7:$A$107,0),1),\"\")","v":"Šváb Antonín"},0.89451110843635462,32,32,0.567628326865663,13,"",""]
[{"$f":"IF('Seznam střelců'!E16<>\"\",'Seznam střelců'!A16,\"\")","v":10},{"$f":"IF($A16<>\"\",INDEX('Seznam střelců'!$D$7:$D$107,MATCH($F16,'Seznam střelců'!$A$7:$A$107,0),1),\"\")","v":0},{"$f":"IF($A16<>\"\",INDEX('Seznam střelců'!$E$7:$E$107,MATCH($F16,'Seznam střelců'!$A$7:$A$107,0),1),\"\")","v":"Hochman Miloš"},0.67569101793201991,24,24,0.35693853984710078,21,"",""]
[{"$f":"IF('Seznam střelců'!E17<>\"\",'Seznam střelců'!A17,\"\")","v":11},{"$f":"IF($A17<>\"\",INDEX('Seznam střelců'!$D$7:$D$107,MATCH($F17,'Seznam střelců'!$A$7:$A$107,0),1),\"\")","v":0},{"$f":"IF($A17<>\"\",INDEX('Seznam střelců'!$E$7:$E$107,MATCH($F17,'Seznam střelců'!$A$7:$A$107,0),1),\"\")","v":"Sobotka Libor"},0.63809736898205216,23,23,0.22987148964571258,25,"",""]
[{"$f":"IF('Seznam střelců'!E18<>\"\",'Seznam střelců'!A18,\"\")","v":12},{"$f":"IF($A18<>\"\",INDEX('Seznam střelců'!$D$7:$D$107,MATCH($F18,'Seznam střelců'!$A$7:$A$107,0),1),\"\")","v":0},{"$f":"IF($A18<>\"\",INDEX('Seznam střelců'!$E$7:$E$107,MATCH($F18,'Seznam střelců'!$A$7:$A$107,0),1),\"\")","v":"Brunclík Jiří"},0.1196041327085331,2,2,0.13331487011629761,28,"",""]
[{"$f":"IF('Seznam střelců'!E19<>\"\",'Seznam střelců'!A19,\"\")","v":13},{"$f":"IF($A19<>\"\",INDEX('Seznam střelců'!$D$7:$D$107,MATCH($F19,'Seznam střelců'!$A$7:$A$107,0),1),\"\")","v":0},{"$f":"IF($A19<>\"\",INDEX('Seznam střelců'!$E$7:$E$107,MATCH($F19,'Seznam střelců'!$A$7:$A$107,0),1),\"\")","v":"Čupr Bohumil"},0.30717414180839508,11,11,9.31610258588913E-2,33,"",""]
[{"$f":"IF('Seznam střelců'!E20<>\"\",'Seznam střelců'!A20,\"\")","v":14},{"$f":"IF($A20<>\"\",INDEX('Seznam střelců'!$D$7:$D$107,MATCH($F20,'Seznam střelců'!$A$7:$A$107,0),1),\"\")","v":0},{"$f":"IF($A20<>\"\",INDEX('Seznam střelců'!$E$7:$E$107,MATCH($F20,'Seznam střelců'!$A$7:$A$107,0),1),\"\")","v":"Brunclík Tomáš"},0.77517541831843051,28,28,0.40472316088556681,19,"",""]
[{"$f":"IF('Seznam střelců'!E21<>\"\",'Seznam střelců'!A21,\"\")","v":15},{"$f":"IF($A21<>\"\",INDEX('Seznam střelců'!$D$7:$D$107,MATCH($F21,'Seznam střelců'!$A$7:$A$107,0),1),\"\")","v":0},{"$f":"IF($A21<>\"\",INDEX('Seznam střelců'!$E$7:$E$107,MATCH($F21,'Seznam střelců'!$A$7:$A$107,0),1),\"\")","v":"Vranka David"},0.62351495273084745,22,22,0.230423638027065,24,"",""]
[{"$f":"IF('Seznam střelců'!E22<>\"\",'Seznam střelců'!A22,\"\")","v":16},{"$f":"IF($A22<>\"\",INDEX('Seznam střelců'!$D$7:$D$107,MATCH($F22,'Seznam střelců'!$A$7:$A$107,0),1),\"\")","v":0},{"$f":"IF($A22<>\"\",INDEX('Seznam střelců'!$E$7:$E$107,MATCH($F22,'Seznam střelců'!$A$7:$A$107,0),1),\"\")","v":"Minář Jaroslav"},0.91859700106759412,33,33,0.22200890348511337,26,"",""]
[{"$f":"IF('Seznam střelců'!E23<>\"\",'Seznam střelců'!A23,\"\")","v":17},{"$f":"IF($A23<>\"\",INDEX('Seznam střelců'!$D$7:$D$107,MATCH($F23,'Seznam střelců'!$A$7:$A$107,0),1),\"\")","v":0},{"$f":"IF($A23<>\"\",INDEX('Seznam střelců'!$E$7:$E$107,MATCH($F23,'Seznam střelců'!$A$7:$A$107,0),1),\"\")","v":"Rusek Aleš"},0.13184851209406023,3,3,0.88143536427033808,3,"",""]
[{"$f":"IF('Seznam střelců'!E24<>\"\",'Seznam střelců'!A24,\"\")","v":18},{"$f":"IF($A24<>\"\",INDEX('Seznam střelců'!$D$7:$D$107,MATCH($F24,'Seznam střelců'!$A$7:$A$107,0),1),\"\")","v":0},{"$f":"IF($A24<>\"\",INDEX('Seznam střelců'!$E$7:$E$107,MATCH($F24,'Seznam střelců'!$A$7:$A$107,0),1),\"\")","v":"Vrzal Petr"},0.54573523349121,19,19,0.89135796694303515,2,"",""]
[{"$f":"IF('Seznam střelců'!E25<>\"\",'Seznam střelců'!A25,\"\")","v":19},{"$f":"IF($A25<>\"\",INDEX('Seznam střelců'!$D$7:$D$107,MATCH($F25,'Seznam střelců'!$A$7:$A$107,0),1),\"\")","v":0},{"$f":"IF($A25<>\"\",INDEX('Seznam střelců'!$E$7:$E$107,MATCH($F25,'Seznam střelců'!$A$7:$A$107,0),1),\"\")","v":"Vrbas Josef"},0.83666623029219256,31,31,9.6925914377433031E-2,32,"",""]
[{"$f":"IF('Seznam střelců'!E26<>\"\",'Seznam střelců'!A26,\"\")","v":20},{"$f":"IF($A26<>\"\",INDEX('Seznam střelců'!$D$7:$D$107,MATCH($F26,'Seznam střelců'!$A$7:$A$107,0),1),\"\")","v":0},{"$f":"IF($A26<>\"\",INDEX('Seznam střelců'!$E$7:$E$107,MATCH($F26,'Seznam střelců'!$A$7:$A$107,0),1),\"\")","v":"Toufar Milan"},0.19488281202202629,6,6,9.9212371600713389E-2,31,"",""]
[{"$f":"IF('Seznam střelců'!E27<>\"\",'Seznam střelců'!A27,\"\")","v":21},{"$f":"IF($A27<>\"\",INDEX('Seznam střelců'!$D$7:$D$107,MATCH($F27,'Seznam střelců'!$A$7:$A$107,0),1),\"\")","v":0},{"$f":"IF($A27<>\"\",INDEX('Seznam střelců'!$E$7:$E$107,MATCH($F27,'Seznam střelců'!$A$7:$A$107,0),1),\"\")","v":"Vaňhara Hynek"},0.39237851264255053,13,13,0.68255392664993586,8,"",""]
[{"$f":"IF('Seznam střelců'!E28<>\"\",'Seznam střelců'!A28,\"\")","v":22},{"$f":"IF($A28<>\"\",INDEX('Seznam střelců'!$D$7:$D$107,MATCH($F28,'Seznam střelců'!$A$7:$A$107,0),1),\"\")","v":0},{"$f":"IF($A28<>\"\",INDEX('Seznam střelců'!$E$7:$E$107,MATCH($F28,'Seznam střelců'!$A$7:$A$107,0),1),\"\")","v":"Lukeš Zdeněk"},0.23573200694919727,8,8,0.30180871733558234,23,"",""]
[{"$f":"IF('Seznam střelců'!E29<>\"\",'Seznam střelců'!A29,\"\")","v":23},{"$f":"IF($A29<>\"\",INDEX('Seznam střelců'!$D$7:$D$107,MATCH($F29,'Seznam střelců'!$A$7:$A$107,0),1),\"\")","v":0},{"$f":"IF($A29<>\"\",INDEX('Seznam střelců'!$E$7:$E$107,MATCH($F29,'Seznam střelců'!$A$7:$A$107,0),1),\"\")","v":"Malý Pavel"},0.3115187007896294,12,12,0.63840493637275331,9,"",""]
[{"$f":"IF('Seznam střelců'!E30<>\"\",'Seznam střelců'!A30,\"\")","v":24},{"$f":"IF($A30<>\"\",INDEX('Seznam střelců'!$D$7:$D$107,MATCH($F30,'Seznam střelců'!$A$7:$A$107,0),1),\"\")","v":0},{"$f":"IF($A30<>\"\",INDEX('Seznam střelců'!$E$7:$E$107,MATCH($F30,'Seznam střelců'!$A$7:$A$107,0),1),\"\")","v":"Letáček Zbyněk"},0.73348533031120056,25,25,0.59082059058304193,11,"",""]
[{"$f":"IF('Seznam střelců'!E31<>\"\",'Seznam střelců'!A31,\"\")","v":25},{"$f":"IF($A31<>\"\",INDEX('Seznam střelců'!$D$7:$D$107,MATCH($F31,'Seznam střelců'!$A$7:$A$107,0),1),\"\")","v":0},{"$f":"IF($A31<>\"\",INDEX('Seznam střelců'!$E$7:$E$107,MATCH($F31,'Seznam střelců'!$A$7:$A$107,0),1),\"\")","v":"Prchal Karel"},0.55980737215446474,20,20,0.50379744634007406,14,"",""]
[{"$f":"IF('Seznam střelců'!E32<>\"\",'Seznam střelců'!A32,\"\")","v":26},{"$f":"IF($A32<>\"\",INDEX('Seznam střelců'!$D$7:$D$107,MATCH($F32,'Seznam střelců'!$A$7:$A$107,0),1),\"\")","v":0},{"$f":"IF($A32<>\"\",INDEX('Seznam střelců'!$E$7:$E$107,MATCH($F32,'Seznam střelců'!$A$7:$A$107,0),1),\"\")","v":"Pešek Josef"},7.2040380242605728E-2,1,1,0.93234742808265203,1,"",""]
[{"$f":"IF('Seznam střelců'!E33<>\"\",'Seznam střelců'!A33,\"\")","v":27},{"$f":"IF($A33<>\"\",INDEX('Seznam střelců'!$D$7:$D$107,MATCH($F33,'Seznam střelců'!$A$7:$A$107,0),1),\"\")","v":0},{"$f":"IF($A33<>\"\",INDEX('Seznam střelců'!$E$7:$E$107,MATCH($F33,'Seznam střelců'!$A$7:$A$107,0),1),\"\")","v":"Barák Dominik"},0.27441318703878137,9,9,0.4065924679966102,18,"",""]
[{"$f":"IF('Seznam střelců'!E34<>\"\",'Seznam střelců'!A34,\"\")","v":28},{"$f":"IF($A34<>\"\",INDEX('Seznam střelců'!$D$7:$D$107,MATCH($F34,'Seznam střelců'!$A$7:$A$107,0),1),\"\")","v":0},{"$f":"IF($A34<>\"\",INDEX('Seznam střelců'!$E$7:$E$107,MATCH($F34,'Seznam střelců'!$A$7:$A$107,0),1),\"\")","v":"Marák Tomáš"},0.39272498026715841,14,14,0.59984795341536623,10,"",""]
[{"$f":"IF('Seznam střelců'!E35<>\"\",'Seznam střelců'!A35,\"\")","v":29},{"$f":"IF($A35<>\"\",INDEX('Seznam střelců'!$D$7:$D$107,MATCH($F35,'Seznam střelců'!$A$7:$A$107,0),1),\"\")","v":0},{"$f":"IF($A35<>\"\",INDEX('Seznam střelců'!$E$7:$E$107,MATCH($F35,'Seznam střelců'!$A$7:$A$107,0),1),\"\")","v":"Podsedník Ladislav"},0.94677710241279311,34,34,1.6249452471264192E-3,34,"",""]
[{"$f":"IF('Seznam střelců'!E36<>\"\",'Seznam střelců'!A36,\"\")","v":30},{"$f":"IF($A36<>\"\",INDEX('Seznam střelců'!$D$7:$D$107,MATCH($F36,'Seznam střelců'!$A$7:$A$107,0),1),\"\")","v":0},{"$f":"IF($A36<>\"\", INDEX('Seznam střelců'!$E$7:$E$107,MATCH($F36, 'Seznam střelců'!$A$7:$A$107, 0), 1),\"\")","v":"Juračka Luděk"},0.29790280815155645,10,10,0.46586094507518427,15,"",""]
[{"$f":"IF('Seznam střelců'!E37<>\"\",'Seznam střelců'!A37,\"\")","v":31},{"$f":"IF($A37<>\"\",INDEX('Seznam střelců'!$D$7:$D$107,MATCH($F37,'Seznam střelců'!$A$7:$A$107,0),1),\"\")","v":0},{"$f":"IF($A37<>\"\",INDEX('Seznam střelců'!$E$7:$E$107,MATCH($F37,'Seznam střelců'!$A$7:$A$107,0),1),\"\")","v":"Kachlík Petr"},0.18667966385201185,5,5,0.46433007751738753,16,"",""]
[{"$f":"IF('Seznam střelců'!E38<>\"\",'Seznam střelců'!A38,\"\")","v":32},{"$f":"IF($A38<>\"\",INDEX('Seznam střelců'!$D$7:$D$107,MATCH($F38,'Seznam střelců'!$A$7:$A$107,0),1),\"\")","v":0},{"$f":"IF($A38<>\"\",INDEX('Seznam střelců'!$E$7:$E$107,MATCH($F38,'Seznam střelců'!$A$7:$A$107,0),1),\"\")","v":"Žák Svatopluk"},0.13770374663830065,4,4,0.74891726648486401,6,"",""]
[{"$f":"IF('Seznam střelců'!E39<>\"\",'Seznam střelců'!A39,\"\")","v":33},{"$f":"IF($A39<>\"\",INDEX('Seznam střelců'!$D$7:$D$107,MATCH($F39,'Seznam střelců'!$A$7:$A$107,0),1),\"\")","v":0},{"$f":"IF($A39<>\"\",INDEX('Seznam střelců'!$E$7:$E$107,MATCH($F39,'Seznam střelců'!$A$7:$A$107,0),1),\"\")","v":"Holub Petr"},0.76206358642119021,27,27,{"$f":"IF(A39<>\"\",RAND(),\"\")","v":0.58736472800479689},{"$f":"IF(A39<>\"\",RANK(G39,$G$7:$G$107),\"\")","v":12},{"$f":"IF(AND(A39<>\"\",$F$4>0),1+INT((RANK(G39,$G$7:$G$107)-1)/$F$4),\"\")","v":""},""]
[{"$f":"IF('Seznam střelců'!E40<>\"\",'Seznam střelců'!A40,\"\")","v":34},{"$f":"IF($A40<>\"\",INDEX('Seznam střelců'!$D$7:$D$107,MATCH($F40,'Seznam střelců'!$A$7:$A$107,0),1),\"\")","v":0},{"$f":"IF($A40<>\"\",INDEX('Seznam střelců'!$E$7:$E$107,MATCH($F40,'Seznam střelců'!$A$7:$A$107,0),1),\"\")","v":"Bělík Zdeněk"},0.50150356943448315,17,17,0.38406583724144472,20,"",""]
[{"$f":"IF('Seznam střelců'!E41<>\"\",'Seznam střelců'!A41,\"\")","v":""},{"$f":"IF($A41<>\"\",INDEX('Seznam střelců'!$D$7:$D$107,MATCH($F41,'Seznam střelců'!$A$7:$A$107,0),1),\"\")","v":""},{"$f":"IF($A41<>\"\",INDEX('Seznam střelců'!$E$7:$E$107,MATCH($F41,'Seznam střelců'!$A$7:$A$107,0),1),\"\")","v":""},"","","","","","",""]
[{"$f":"IF('Seznam střelců'!E42<>\"\",'Seznam střelců'!A42,\"\")","v":""},{"$f":"IF($A42<>\"\",INDEX('Seznam střelců'!$D$7:$D$107,MATCH($F42,'Seznam střelců'!$A$7:$A$107,0),1),\"\")","v":""},{"$f":"IF($A42<>\"\",INDEX('Seznam střelců'!$E$7:$E$107,MATCH($F42,'Seznam střelců'!$A$7:$A$107,0),1),\"\")","v":""},"","","","","","",""]
[{"$f":"IF('Seznam střelců'!E43<>\"\",'Seznam střelců'!A43,\"\")","v":""},{"$f":"IF($A43<>\"\",INDEX('Seznam střelců'!$D$7:$D$107,MATCH($F43,'Seznam střelců'!$A$7:$A$107,0),1),\"\")","v":""},{"$f":"IF($A43<>\"\",INDEX('Seznam střelců'!$E$7:$E$107,MATCH($F43,'Seznam střelců'!$A$7:$A$107,0),1),\"\")","v":""},"","","","","","",""]
[{"$f":"IF('Seznam střelců'!E44<>\"\",'Seznam střelců'!A44,\"\")","v":""},{"$f":"IF($A44<>\"\",INDEX('Seznam střelců'!$D$7:$D$107,MATCH($F44,'Seznam střelců'!$A$7:$A$107,0),1),\"\")","v":""},{"$f":"IF($A44<>\"\",INDEX('Seznam střelců'!$E$7:$E$107,MATCH($F44,'Seznam střelců'!$A$7:$A$107,0),1),\"\")","v":""},"","","","","","",""]
[{"$f":"IF('Seznam střelců'!E45<>\"\",'Seznam střelců'!A45,\"\")","v":""},{"$f":"IF($A45<>\"\",INDEX('Seznam střelců'!$D$7:$D$107,MATCH($F45,'Seznam střelců'!$A$7:$A$107,0),1),\"\")","v":""},{"$f":"IF($A45<>\"\",INDEX('Seznam střelců'!$E$7:$E$107,MATCH($F45,'Seznam střelců'!$A$7:$A$107,0),1),\"\")","v":""},"","","","","","",""]
[{"$f":"IF('Seznam střelců'!E46<>\"\",'Seznam střelců'!A46,\"\")","v":""},{"$f":"IF($A46<>\"\",INDEX('Seznam střelců'!$D$7:$D$107,MATCH($F46,'Seznam střelců'!$A$7:$A$107,0),1),\"\")","v":""},{"$f":"IF($A46<>\"\",INDEX('Seznam střelců'!$E$7:$E$107,MATCH($F46,'Seznam střelců'!$A$7:$A$107,0),1),\"\")","v":""},"","","","","","",""]
[{"$f":"IF('Seznam střelců'!E47<>\"\",'Seznam střelců'!A47,\"\")","v":""},{"$f":"IF($A47<>\"\",INDEX('Seznam střelců'!$D$7:$D$107,MATCH($F47,'Seznam střelců'!$A$7:$A$107,0),1),\"\")","v":""},{"$f":"IF($A47<>\"\",INDEX('Seznam střelců'!$E$7:$E$107,MATCH($F47,'Seznam střelců'!$A$7:$A$107,0),1),\"\")","v":""},"","","","","","",""]
[{"$f":"IF('Seznam střelců'!E48<>\"\",'Seznam střelců'!A48,\"\")","v":""},{"$f":"IF($A48<>\"\",INDEX('Seznam střelců'!$D$7:$D$107,MATCH($F48,'Seznam střelců'!$A$7:$A$107,0),1),\"\")","v":""},{"$f":"IF($A48<>\"\",INDEX('Seznam střelců'!$E$7:$E$107,MATCH($F48,'Seznam střelců'!$A$7:$A$107,0),1),\"\")","v":""},"","","","","","",""]
[{"$f":"IF('Seznam střelců'!E49<>\"\",'Seznam střelců'!A49,\"\")","v":""},{"$f":"IF($A49<>\"\",INDEX('Seznam střelců'!$D$7:$D$107,MATCH($F49,'Seznam střelců'!$A$7:$A$107,0),1),\"\")","v":""},{"$f":"IF($A49<>\"\",INDEX('Seznam střelců'!$E$7:$E$107,MATCH($F49,'Seznam střelců'!$A$7:$A$107,0),1),\"\")","v":""},"","","","","","",""]
[{"$f":"IF('Seznam střelců'!E50<>\"\",'Seznam střelců'!A50,\"\")","v":""},{"$f":"IF($A50<>\"\",INDEX('Seznam střelců'!$D$7:$D$107,MATCH($F50,'Seznam střelců'!$A$7:$A$107,0),1),\"\")","v":""},{"$f":"IF($A50<>\"\",INDEX('Seznam střelců'!$E$7:$E$107,MATCH($F50,'Seznam střelců'!$A$7:$A$107,0),1),\"\")","v":""},"","","","","","",""]
[{"$f":"IF('Seznam střelců'!E51<>\"\",'Seznam střelců'!A51,\"\")","v":""},{"$f":"IF($A51<>\"\",INDEX('Seznam střelců'!$D$7:$D$107,MATCH($F51,'Seznam střelců'!$A$7:$A$107,0),1),\"\")","v":""},{"$f":"IF($A51<>\"\",INDEX('Seznam střelců'!$E$7:$E$107,MATCH($F51,'Seznam střelců'!$A$7:$A$107,0),1),\"\")","v":""},"","","","","","",""]
[{"$f":"IF('Seznam střelců'!E52<>\"\",'Seznam střelců'!A52,\"\")","v":""},{"$f":"IF($A52<>\"\",INDEX('Seznam střelců'!$D$7:$D$107,MATCH($F52,'Seznam střelců'!$A$7:$A$107,0),1),\"\")","v":""},{"$f":"IF($A52<>\"\",INDEX('Seznam střelců'!$E$7:$E$107,MATCH($F52,'Seznam střelců'!$A$7:$A$107,0),1),\"\")","v":""},"","","","","","",""]
[{"$f":"IF('Seznam střelců'!E53<>\"\",'Seznam střelců'!A53,\"\")","v":""},{"$f":"IF($A53<>\"\",INDEX('Seznam střelců'!$D$7:$D$107,MATCH($F53,'Seznam střelců'!$A$7:$A$107,0),1),\"\")","v":""},{"$f":"IF($A53<>\"\",INDEX('Seznam střelců'!$E$7:$E$107,MATCH($F53,'Seznam střelců'!$A$7:$A$107,0),1),\"\")","v":""},"","","","","","",""]
[{"$f":"IF('Seznam střelců'!E54<>\"\",'Seznam střelců'!A54,\"\")","v":""},{"$f":"IF($A54<>\"\",INDEX('Seznam střelců'!$D$7:$D$107,MATCH($F54,'Seznam střelců'!$A$7:$A$107,0),1),\"\")","v":""},{"$f":"IF($A54<>\"\",INDEX('Seznam střelců'!$E$7:$E$107,MATCH($F54,'Seznam střelců'!$A$7:$A$107,0),1),\"\")","v":""},"","","","","","",""]
[{"$f":"IF('Seznam střelců'!E55<>\"\",'Seznam střelců'!A55,\"\")","v":""},{"$f":"IF($A55<>\"\",INDEX('Seznam střelců'!$D$7:$D$107,MATCH($F55,'Seznam střelců'!$A$7:$A$107,0),1),\"\")","v":""},{"$f":"IF($A55<>\"\",INDEX('Seznam střelců'!$E$7:$E$107,MATCH($F55,'Seznam střelců'!$A$7:$A$107,0),1),\"\")","v":""},"","","","","","",""]
[{"$f":"IF('Seznam střelců'!E56<>\"\",'Seznam střelců'!A56,\"\")","v":""},{"$f":"IF($A56<>\"\",INDEX('Seznam střelců'!$D$7:$D$107,MATCH($F56,'Seznam střelců'!$A$7:$A$107,0),1),\"\")","v":""},{"$f":"IF($A56<>\"\",INDEX('Seznam střelců'!$E$7:$E$107,MATCH($F56,'Seznam střelců'!$A$7:$A$107,0),1),\"\")","v":""},"","","","","","",""]
[{"$f":"IF('Seznam střelců'!E57<>\"\",'Seznam střelců'!A57,\"\")","v":""},{"$f":"IF($A57<>\"\",INDEX('Seznam střelců'!$D$7:$D$107,MATCH($F57,'Seznam střelců'!$A$7:$A$107,0),1),\"\")","v":""},{"$f":"IF($A57<>\"\",INDEX('Seznam střelců'!$E$7:$E$107,MATCH($F57,'Seznam střelců'!$A$7:$A$107,0),1),\"\")","v":""},"","","","","","",""]
[{"$f":"IF('Seznam střelců'!E58<>\"\",'Seznam střelců'!A58,\"\")","v":""},{"$f":"IF($A58<>\"\",INDEX('Seznam střelců'!$D$7:$D$107,MATCH($F58,'Seznam střelců'!$A$7:$A$107,0),1),\"\")","v":""},{"$f":"IF($A58<>\"\",INDEX('Seznam střelců'!$E$7:$E$107,MATCH($F58,'Seznam střelců'!$A$7:$A$107,0),1),\"\")","v":""},"","","","","","",""]
[{"$f":"IF('Seznam střelců'!E59<>\"\",'Seznam střelců'!A59,\"\")","v":""},{"$f":"IF($A59<>\"\",INDEX('Seznam střelců'!$D$7:$D$107,MATCH($F59,'Seznam střelců'!$A$7:$A$107,0),1),\"\")","v":""},{"$f":"IF($A59<>\"\",INDEX('Seznam střelců'!$E$7:$E$107,MATCH($F59,'Seznam střelců'!$A$7:$A$107,0),1),\"\")","v":""},"","","","","","",""]
[{"$f":"IF('Seznam střelců'!E60<>\"\",'Seznam střelců'!A60,\"\")","v":""},{"$f":"IF($A60<>\"\",INDEX('Seznam střelců'!$D$7:$D$107,MATCH($F60,'Seznam střelců'!$A$7:$A$107,0),1),\"\")","v":""},{"$f":"IF($A60<>\"\",INDEX('Seznam střelců'!$E$7:$E$107,MATCH($F60,'Seznam střelců'!$A$7:$A$107,0),1),\"\")","v":""},"","","","","","",""]
[{"$f":"IF('Seznam střelců'!E61<>\"\",'Seznam střelců'!A61,\"\")","v":""},{"$f":"IF($A61<>\"\",INDEX('Seznam střelců'!$D$7:$D$107,MATCH($F61,'Seznam střelců'!$A$7:$A$107,0),1),\"\")","v":""},{"$f":"IF($A61<>\"\",INDEX('Seznam střelců'!$E$7:$E$107,MATCH($F61,'Seznam střelců'!$A$7:$A$107,0),1),\"\")","v":""},"","","","","","",""]
[{"$f":"IF('Seznam střelců'!E62<>\"\",'Seznam střelců'!A62,\"\")","v":""},{"$f":"IF($A62<>\"\",INDEX('Seznam střelců'!$D$7:$D$107,MATCH($F62,'Seznam střelců'!$A$7:$A$107,0),1),\"\")","v":""},{"$f":"IF($A62<>\"\",INDEX('Seznam střelců'!$E$7:$E$107,MATCH($F62,'Seznam střelců'!$A$7:$A$107,0),1),\"\")","v":""},"","","","","","",""]
[{"$f":"IF('Seznam střelců'!E63<>\"\",'Seznam střelců'!A63,\"\")","v":""},{"$f":"IF($A63<>\"\",INDEX('Seznam střelců'!$D$7:$D$107,MATCH($F63,'Seznam střelců'!$A$7:$A$107,0),1),\"\")","v":""},{"$f":"IF($A63<>\"\",INDEX('Seznam střelců'!$E$7:$E$107,MATCH($F63,'Seznam střelců'!$A$7:$A$107,0),1),\"\")","v":""},"","","","","","",""]
[{"$f":"IF('Seznam střelců'!E64<>\"\",'Seznam střelců'!A64,\"\")","v":""},{"$f":"IF($A64<>\"\",INDEX('Seznam střelců'!$D$7:$D$107,MATCH($F64,'Seznam střelců'!$A$7:$A$107,0),1),\"\")","v":""},{"$f":"IF($A64<>\"\",INDEX('Seznam střelců'!$E$7:$E$107,MATCH($F64,'Seznam střelců'!$A$7:$A$107,0),1),\"\")","v":""},"","","","","","",""]
[{"$f":"IF('Seznam střelců'!E65<>\"\",'Seznam střelců'!A65,\"\")","v":""},{"$f":"IF($A65<>\"\",INDEX('Seznam střelců'!$D$7:$D$107,MATCH($F65,'Seznam střelců'!$A$7:$A$107,0),1),\"\")","v":""},{"$f":"IF($A65<>\"\",INDEX('Seznam střelců'!$E$7:$E$107,MATCH($F65,'Seznam střelců'!$A$7:$A$107,0),1),\"\")","v":""},"","","","","","",""]
[{"$f":"IF('Seznam střelců'!E66<>\"\",'Seznam střelců'!A66,\"\")","v":""},{"$f":"IF($A66<>\"\",INDEX('Seznam střelců'!$D$7:$D$107,MATCH($F66,'Seznam střelců'!$A$7:$A$107,0),1),\"\")","v":""},{"$f":"IF($A66<>\"\",INDEX('Seznam střelců'!$E$7:$E$107,MATCH($F66,'Seznam střelců'!$A$7:$A$107,0),1),\"\")","v":""},"","","","","","",""]
[{"$f":"IF('Seznam střelců'!E67<>\"\",'Seznam střelců'!A67,\"\")","v":""},{"$f":"IF($A67<>\"\",INDEX('Seznam střelců'!$D$7:$D$107,MATCH($F67,'Seznam střelců'!$A$7:$A$107,0),1),\"\")","v":""},{"$f":"IF($A67<>\"\",INDEX('Seznam střelců'!$E$7:$E$107,MATCH($F67,'Seznam střelců'!$A$7:$A$107,0),1),\"\")","v":""},"","","","","","",""]
[{"$f":"IF('Seznam střelců'!E68<>\"\",'Seznam střelců'!A68,\"\")","v":""},{"$f":"IF($A68<>\"\",INDEX('Seznam střelců'!$D$7:$D$107,MATCH($F68,'Seznam střelců'!$A$7:$A$107,0),1),\"\")","v":""},{"$f":"IF($A68<>\"\",INDEX('Seznam střelců'!$E$7:$E$107,MATCH($F68,'Seznam střelců'!$A$7:$A$107,0),1),\"\")","v":""},"","","","","","",""]
[{"$f":"IF('Seznam střelců'!E69<>\"\",'Seznam střelců'!A69,\"\")","v":""},{"$f":"IF($A69<>\"\",INDEX('Seznam střelců'!$D$7:$D$107,MATCH($F69,'Seznam střelců'!$A$7:$A$107,0),1),\"\")","v":""},{"$f":"IF($A69<>\"\",INDEX('Seznam střelců'!$E$7:$E$107,MATCH($F69,'Seznam střelců'!$A$7:$A$107,0),1),\"\")","v":""},"","","","","","",""]
[{"$f":"IF('Seznam střelců'!E70<>\"\",'Seznam střelců'!A70,\"\")","v":""},{"$f":"IF($A70<>\"\",INDEX('Seznam střelců'!$D$7:$D$107,MATCH($F70,'Seznam střelců'!$A$7:$A$107,0),1),\"\")","v":""},{"$f":"IF($A70<>\"\",INDEX('Seznam střelců'!$E$7:$E$107,MATCH($F70,'Seznam střelců'!$A$7:$A$107,0),1),\"\")","v":""},"","","","","","",""]
[{"$f":"IF('Seznam střelců'!E71<>\"\",'Seznam střelců'!A71,\"\")","v":""},{"$f":"IF($A71<>\"\",INDEX('Seznam střelců'!$D$7:$D$107,MATCH($F71,'Seznam střelců'!$A$7:$A$107,0),1),\"\")","v":""},{"$f":"IF($A71<>\"\",INDEX('Seznam střelců'!$E$7:$E$107,MATCH($F71,'Seznam střelců'!$A$7:$A$107,0),1),\"\")","v":""},"","","",{"$f":"IF(A71<>\"\",RAND(),\"\")","v":""},{"$f":"IF(A71<>\"\",RANK(G71,$G$7:$G$107),\"\")","v":""},{"$f":"IF(AND(A71<>\"\",$F$4>0),1+INT((RANK(G71,$G$7:$G$107)-1)/$F$4),\"\")","v":""},""]
[{"$f":"IF('Seznam střelců'!E72<>\"\",'Seznam střelců'!A72,\"\")","v":""},{"$f":"IF($A72<>\"\",INDEX('Seznam střelců'!$D$7:$D$107,MATCH($F72,'Seznam střelců'!$A$7:$A$107,0),1),\"\")","v":""},{"$f":"IF($A72<>\"\",INDEX('Seznam střelců'!$E$7:$E$107,MATCH($F72,'Seznam střelců'!$A$7:$A$107,0),1),\"\")","v":""},{"$f":"IF(A72<>\"\",RAND(),\"\")","v":""},{"$f":"IF(A72<>\"\", RANK(D72,$D$7:$D$107, 1),\"\")","v":""},{"$f":"E72","v":""},"","","",{"$f":"I72","v":""}]
[{"$f":"IF('Seznam střelců'!E73<>\"\",'Seznam střelců'!A73,\"\")","v":""},{"$f":"IF($A73<>\"\",INDEX('Seznam střelců'!$D$7:$D$107,MATCH($F73,'Seznam střelců'!$A$7:$A$107,0),1),\"\")","v":""},{"$f":"IF($A73<>\"\",INDEX('Seznam střelců'!$E$7:$E$107,MATCH($F73,'Seznam střelců'!$A$7:$A$107,0),1),\"\")","v":""},"","","","","","",""]
[{"$f":"IF('Seznam střelců'!E74<>\"\",'Seznam střelců'!A74,\"\")","v":""},{"$f":"IF($A74<>\"\",INDEX('Seznam střelců'!$D$7:$D$107,MATCH($F74,'Seznam střelců'!$A$7:$A$107,0),1),\"\")","v":""},{"$f":"IF($A74<>\"\",INDEX('Seznam střelců'!$E$7:$E$107,MATCH($F74,'Seznam střelců'!$A$7:$A$107,0),1),\"\")","v":""},"","","","","","",""]
[{"$f":"IF('Seznam střelců'!E75<>\"\",'Seznam střelců'!A75,\"\")","v":""},{"$f":"IF($A75<>\"\",INDEX('Seznam střelců'!$D$7:$D$107,MATCH($F75,'Seznam střelců'!$A$7:$A$107,0),1),\"\")","v":""},{"$f":"IF($A75<>\"\",INDEX('Seznam střelců'!$E$7:$E$107,MATCH($F75,'Seznam střelců'!$A$7:$A$107,0),1),\"\")","v":""},"","","","","","",""]
[{"$f":"IF('Seznam střelců'!E76<>\"\",'Seznam střelců'!A76,\"\")","v":""},{"$f":"IF($A76<>\"\",INDEX('Seznam střelců'!$D$7:$D$107,MATCH($F76,'Seznam střelců'!$A$7:$A$107,0),1),\"\")","v":""},{"$f":"IF($A76<>\"\",INDEX('Seznam střelců'!$E$7:$E$107,MATCH($F76,'Seznam střelců'!$A$7:$A$107,0),1),\"\")","v":""},"","","","","","",""]
[{"$f":"IF('Seznam střelců'!E77<>\"\",'Seznam střelců'!A77,\"\")","v":""},{"$f":"IF($A77<>\"\",INDEX('Seznam střelců'!$D$7:$D$107,MATCH($F77,'Seznam střelců'!$A$7:$A$107,0),1),\"\")","v":""},{"$f":"IF($A77<>\"\",INDEX('Seznam střelců'!$E$7:$E$107,MATCH($F77,'Seznam střelců'!$A$7:$A$107,0),1),\"\")","v":""},"","","","","","",""]
[{"$f":"IF('Seznam střelců'!E78<>\"\",'Seznam střelců'!A78,\"\")","v":""},{"$f":"IF($A78<>\"\",INDEX('Seznam střelců'!$D$7:$D$107,MATCH($F78,'Seznam střelců'!$A$7:$A$107,0),1),\"\")","v":""},{"$f":"IF($A78<>\"\",INDEX('Seznam střelců'!$E$7:$E$107,MATCH($F78,'Seznam střelců'!$A$7:$A$107,0),1),\"\")","v":""},"","","","","","",""]
[{"$f":"IF('Seznam střelců'!E79<>\"\",'Seznam střelců'!A79,\"\")","v":""},{"$f":"IF($A79<>\"\",INDEX('Seznam střelců'!$D$7:$D$107,MATCH($F79,'Seznam střelců'!$A$7:$A$107,0),1),\"\")","v":""},{"$f":"IF($A79<>\"\",INDEX('Seznam střelců'!$E$7:$E$107,MATCH($F79,'Seznam střelců'!$A$7:$A$107,0),1),\"\")","v":""},"","","","","","",""]
[{"$f":"IF('Seznam střelců'!E80<>\"\",'Seznam střelců'!A80,\"\")","v":""},{"$f":"IF($A80<>\"\",INDEX('Seznam střelců'!$D$7:$D$107,MATCH($F80,'Seznam střelců'!$A$7:$A$107,0),1),\"\")","v":""},{"$f":"IF($A80<>\"\",INDEX('Seznam střelců'!$E$7:$E$107,MATCH($F80,'Seznam střelců'!$A$7:$A$107,0),1),\"\")","v":""},"","","","","","",""]
[{"$f":"IF('Seznam střelců'!E81<>\"\",'Seznam střelců'!A81,\"\")","v":""},{"$f":"IF($A81<>\"\",INDEX('Seznam střelců'!$D$7:$D$107,MATCH($F81,'Seznam střelců'!$A$7:$A$107,0),1),\"\")","v":""},{"$f":"IF($A81<>\"\",INDEX('Seznam střelců'!$E$7:$E$107,MATCH($F81,'Seznam střelců'!$A$7:$A$107,0),1),\"\")","v":""},"","","","","","",""]
[{"$f":"IF('Seznam střelců'!E82<>\"\",'Seznam střelců'!A82,\"\")","v":""},{"$f":"IF($A82<>\"\",INDEX('Seznam střelců'!$D$7:$D$107,MATCH($F82,'Seznam střelců'!$A$7:$A$107,0),1),\"\")","v":""},{"$f":"IF($A82<>\"\",INDEX('Seznam střelců'!$E$7:$E$107,MATCH($F82,'Seznam střelců'!$A$7:$A$107,0),1),\"\")","v":""},"","","","","","",""]
[{"$f":"IF('Seznam střelců'!E83<>\"\",'Seznam střelců'!A83,\"\")","v":""},{"$f":"IF($A83<>\"\",INDEX('Seznam střelců'!$D$7:$D$107,MATCH($F83,'Seznam střelců'!$A$7:$A$107,0),1),\"\")","v":""},{"$f":"IF($A83<>\"\",INDEX('Seznam střelců'!$E$7:$E$107,MATCH($F83,'Seznam střelců'!$A$7:$A$107,0),1),\"\")","v":""},"","","","","","",""]
[{"$f":"IF('Seznam střelců'!E84<>\"\",'Seznam střelců'!A84,\"\")","v":""},{"$f":"IF($A84<>\"\",INDEX('Seznam střelců'!$D$7:$D$107,MATCH($F84,'Seznam střelců'!$A$7:$A$107,0),1),\"\")","v":""},{"$f":"IF($A84<>\"\",INDEX('Seznam střelců'!$E$7:$E$107,MATCH($F84,'Seznam střelců'!$A$7:$A$107,0),1),\"\")","v":""},"","","","","","",""]
[{"$f":"IF('Seznam střelců'!E85<>\"\",'Seznam střelců'!A85,\"\")","v":""},{"$f":"IF($A85<>\"\",INDEX('Seznam střelců'!$D$7:$D$107,MATCH($F85,'Seznam střelců'!$A$7:$A$107,0),1),\"\")","v":""},{"$f":"IF($A85<>\"\",INDEX('Seznam střelců'!$E$7:$E$107,MATCH($F85,'Seznam střelců'!$A$7:$A$107,0),1),\"\")","v":""},"","","","","","",""]
[{"$f":"IF('Seznam střelců'!E86<>\"\",'Seznam střelců'!A86,\"\")","v":""},{"$f":"IF($A86<>\"\",INDEX('Seznam střelců'!$D$7:$D$107,MATCH($F86,'Seznam střelců'!$A$7:$A$107,0),1),\"\")","v":""},{"$f":"IF($A86<>\"\",INDEX('Seznam střelců'!$E$7:$E$107,MATCH($F86,'Seznam střelců'!$A$7:$A$107,0),1),\"\")","v":""},"","","","","","",""]
[{"$f":"IF('Seznam střelců'!E87<>\"\",'Seznam střelců'!A87,\"\")","v":""},{"$f":"IF($A87<>\"\",INDEX('Seznam střelců'!$D$7:$D$107,MATCH($F87,'Seznam střelců'!$A$7:$A$107,0),1),\"\")","v":""},{"$f":"IF($A87<>\"\",INDEX('Seznam střelců'!$E$7:$E$107,MATCH($F87,'Seznam střelců'!$A$7:$A$107,0),1),\"\")","v":""},"","","","","","",""]
[{"$f":"IF('Seznam střelců'!E88<>\"\",'Seznam střelců'!A88,\"\")","v":""},{"$f":"IF($A88<>\"\",INDEX('Seznam střelců'!$D$7:$D$107,MATCH($F88,'Seznam střelců'!$A$7:$A$107,0),1),\"\")","v":""},{"$f":"IF($A88<>\"\",INDEX('Seznam střelců'!$E$7:$E$107,MATCH($F88,'Seznam střelců'!$A$7:$A$107,0),1),\"\")","v":""},"","","","","","",""]
[{"$f":"IF('Seznam střelců'!E89<>\"\",'Seznam střelců'!A89,\"\")","v":""},{"$f":"IF($A89<>\"\",INDEX('Seznam střelců'!$D$7:$D$107,MATCH($F89,'Seznam střelců'!$A$7:$A$107,0),1),\"\")","v":""},{"$f":"IF($A89<>\"\",INDEX('Seznam střelců'!$E$7:$E$107,MATCH($F89,'Seznam střelců'!$A$7:$A$107,0),1),\"\")","v":""},"","","","","","",""]
[{"$f":"IF('Seznam střelců'!E90<>\"\",'Seznam střelců'!A90,\"\")","v":""},{"$f":"IF($A90<>\"\",INDEX('Seznam střelců'!$D$7:$D$107,MATCH($F90,'Seznam střelců'!$A$7:$A$107,0),1),\"\")","v":""},{"$f":"IF($A90<>\"\",INDEX('Seznam střelců'!$E$7:$E$107,MATCH($F90,'Seznam střelců'!$A$7:$A$107,0),1),\"\")","v":""},"","","","","","",""]
[{"$f":"IF('Seznam střelců'!E91<>\"\",'Seznam střelců'!A91,\"\")","v":""},{"$f":"IF($A91<>\"\",INDEX('Seznam střelců'!$D$7:$D$107,MATCH($F91,'Seznam střelců'!$A$7:$A$107,0),1),\"\")","v":""},{"$f":"IF($A91<>\"\",INDEX('Seznam střelců'!$E$7:$E$107,MATCH($F91,'Seznam střelců'!$A$7:$A$107,0),1),\"\")","v":""},"","","","","","",""]
[{"$f":"IF('Seznam střelců'!E92<>\"\",'Seznam střelců'!A92,\"\")","v":""},{"$f":"IF($A92<>\"\",INDEX('Seznam střelců'!$D$7:$D$107,MATCH($F92,'Seznam střelců'!$A$7:$A$107,0),1),\"\")","v":""},{"$f":"IF($A92<>\"\",INDEX('Seznam střelců'!$E$7:$E$107,MATCH($F92,'Seznam střelců'!$A$7:$A$107,0),1),\"\")","v":""},"","","","","","",""]
[{"$f":"IF('Seznam střelců'!E93<>\"\",'Seznam střelců'!A93,\"\")","v":""},{"$f":"IF($A93<>\"\",INDEX('Seznam střelců'!$D$7:$D$107,MATCH($F93,'Seznam střelců'!$A$7:$A$107,0),1),\"\")","v":""},{"$f":"IF($A93<>\"\",INDEX('Seznam střelců'!$E$7:$E$107,MATCH($F93,'Seznam střelců'!$A$7:$A$107,0),1),\"\")","v":""},"","","","","","",""]
[{"$f":"IF('Seznam střelců'!E94<>\"\",'Seznam střelců'!A94,\"\")","v":""},{"$f":"IF($A94<>\"\",INDEX('Seznam střelců'!$D$7:$D$107,MATCH($F94,'Seznam střelců'!$A$7:$A$107,0),1),\"\")","v":""},{"$f":"IF($A94<>\"\",INDEX('Seznam střelců'!$E$7:$E$107,MATCH($F94,'Seznam střelců'!$A$7:$A$107,0),1),\"\")","v":""},"","","","","","",""]
[{"$f":"IF('Seznam střelců'!E95<>\"\",'Seznam střelců'!A95,\"\")","v":""},{"$f":"IF($A95<>\"\",INDEX('Seznam střelců'!$D$7:$D$107,MATCH($F95,'Seznam střelců'!$A$7:$A$107,0),1),\"\")","v":""},{"$f":"IF($A95<>\"\",INDEX('Seznam střelců'!$E$7:$E$107,MATCH($F95,'Seznam střelců'!$A$7:$A$107,0),1),\"\")","v":""},"","","","","","",""]
[{"$f":"IF('Seznam střelců'!E96<>\"\",'Seznam střelců'!A96,\"\")","v":""},{"$f":"IF($A96<>\"\",INDEX('Seznam střelců'!$D$7:$D$107,MATCH($F96,'Seznam střelců'!$A$7:$A$107,0),1),\"\")","v":""},{"$f":"IF($A96<>\"\",INDEX('Seznam střelců'!$E$7:$E$107,MATCH($F96,'Seznam střelců'!$A$7:$A$107,0),1),\"\")","v":""},"","","","","","",""]
[{"$f":"IF('Seznam střelců'!E97<>\"\",'Seznam střelců'!A97,\"\")","v":""},{"$f":"IF($A97<>\"\",INDEX('Seznam střelců'!$D$7:$D$107,MATCH($F97,'Seznam střelců'!$A$7:$A$107,0),1),\"\")","v":""},{"$f":"IF($A97<>\"\",INDEX('Seznam střelců'!$E$7:$E$107,MATCH($F97,'Seznam střelců'!$A$7:$A$107,0),1),\"\")","v":""},"","","","","","",""]
[{"$f":"IF('Seznam střelců'!E98<>\"\",'Seznam střelců'!A98,\"\")","v":""},{"$f":"IF($A98<>\"\",INDEX('Seznam střelců'!$D$7:$D$107,MATCH($F98,'Seznam střelců'!$A$7:$A$107,0),1),\"\")","v":""},{"$f":"IF($A98<>\"\",INDEX('Seznam střelců'!$E$7:$E$107,MATCH($F98,'Seznam střelců'!$A$7:$A$107,0),1),\"\")","v":""},"","","","","","",""]
[{"$f":"IF('Seznam střelců'!E99<>\"\",'Seznam střelců'!A99,\"\")","v":""},{"$f":"IF($A99<>\"\",INDEX('Seznam střelců'!$D$7:$D$107,MATCH($F99,'Seznam střelců'!$A$7:$A$107,0),1),\"\")","v":""},{"$f":"IF($A99<>\"\",INDEX('Seznam střelců'!$E$7:$E$107,MATCH($F99,'Seznam střelců'!$A$7:$A$107,0),1),\"\")","v":""},"","","","","","",""]
[{"$f":"IF('Seznam střelců'!E100<>\"\",'Seznam střelců'!A100,\"\")","v":""},{"$f":"IF($A100<>\"\",INDEX('Seznam střelců'!$D$7:$D$107,MATCH($F100,'Seznam střelců'!$A$7:$A$107,0),1),\"\")","v":""},{"$f":"IF($A100<>\"\",INDEX('Seznam střelců'!$E$7:$E$107,MATCH($F100,'Seznam střelců'!$A$7:$A$107,0),1),\"\")","v":""},"","","","","","",""]
[{"$f":"IF('Seznam střelců'!E101<>\"\",'Seznam střelců'!A101,\"\")","v":""},{"$f":"IF($A101<>\"\",INDEX('Seznam střelců'!$D$7:$D$107,MATCH($F101,'Seznam střelců'!$A$7:$A$107,0),1),\"\")","v":""},{"$f":"IF($A101<>\"\",INDEX('Seznam střelců'!$E$7:$E$107,MATCH($F101,'Seznam střelců'!$A$7:$A$107,0),1),\"\")","v":""},"","","","","","",""]
[{"$f":"IF('Seznam střelců'!E102<>\"\",'Seznam střelců'!A102,\"\")","v":""},{"$f":"IF($A102<>\"\",INDEX('Seznam střelců'!$D$7:$D$107,MATCH($F102,'Seznam střelců'!$A$7:$A$107,0),1),\"\")","v":""},{"$f":"IF($A102<>\"\",INDEX('Seznam střelců'!$E$7:$E$107,MATCH($F102,'Seznam střelců'!$A$7:$A$107,0),1),\"\")","v":""},"","","","","","",""]
[{"$f":"IF('Seznam střelců'!E103<>\"\",'Seznam střelců'!A103,\"\")","v":""},{"$f":"IF($A103<>\"\",INDEX('Seznam střelců'!$D$7:$D$107,MATCH($F103,'Seznam střelců'!$A$7:$A$107,0),1),\"\")","v":""},{"$f":"IF($A103<>\"\",INDEX('Seznam střelců'!$E$7:$E$107,MATCH($F103,'Seznam střelců'!$A$7:$A$107,0),1),\"\")","v":""},"","","","",{"$f":"IF(A103<>\"\",RANK(G103,$G$7:$G$107),\"\")","v":""},"",""]
[{"$f":"IF('Seznam střelců'!E104<>\"\",'Seznam střelců'!A104,\"\")","v":""},{"$f":"IF($A104<>\"\",INDEX('Seznam střelců'!$D$7:$D$107,MATCH($F104,'Seznam střelců'!$A$7:$A$107,0),1),\"\")","v":""},{"$f":"IF($A104<>\"\",INDEX('Seznam střelců'!$E$7:$E$107,MATCH($F104,'Seznam střelců'!$A$7:$A$107,0),1),\"\")","v":""},"","","","",{"$f":"IF(A104<>\"\",RANK(G104,$G$7:$G$107),\"\")","v":""},"",""]
[{"$f":"IF('Seznam střelců'!E105<>\"\",'Seznam střelců'!A105,\"\")","v":""},{"$f":"IF($A105<>\"\",INDEX('Seznam střelců'!$D$7:$D$107,MATCH($F105,'Seznam střelců'!$A$7:$A$107,0),1),\"\")","v":""},{"$f":"IF($A105<>\"\",INDEX('Seznam střelců'!$E$7:$E$107,MATCH($F105,'Seznam střelců'!$A$7:$A$107,0),1),\"\")","v":""},"","","","",{"$f":"IF(A105<>\"\",RANK(G105,$G$7:$G$107),\"\")","v":""},"",""]
[{"$f":"IF('Seznam střelců'!E106<>\"\",'Seznam střelců'!A106,\"\")","v":""},{"$f":"IF($A106<>\"\",INDEX('Seznam střelců'!$D$7:$D$107,MATCH($F106,'Seznam střelců'!$A$7:$A$107,0),1),\"\")","v":""},{"$f":"IF($A106<>\"\",INDEX('Seznam střelců'!$E$7:$E$107,MATCH($F106,'Seznam střelců'!$A$7:$A$107,0),1),\"\")","v":""},"","","","",{"$f":"IF(A106<>\"\",RANK(G106,$G$7:$G$107),\"\")","v":""},"",""]
[{"$f":"IF('Seznam střelců'!E107<>\"\",'Seznam střelců'!A107,\"\")","v":""},{"$f":"IF($A107<>\"\",INDEX('Seznam střelců'!$D$7:$D$107,MATCH($F107,'Seznam střelců'!$A$7:$A$107,0),1),\"\")","v":""},{"$f":"IF($A107<>\"\",INDEX('Seznam střelců'!$E$7:$E$107,MATCH($F107,'Seznam střelců'!$A$7:$A$107,0),1),\"\")","v":""},"","","","",{"$f":"IF(A107<>\"\",RANK(G107,$G$7:$G$107),\"\")","v":""},"",""]

{"sheet":"Pom. pořadí jednotlivci","index":7,"n_rows":107,"n_cols":17,"rows_kept":107,"cut":false,"hidden":false,"merged":[]}
[]
["Pomocný výpočet multikriteriálního stanovení pořadí jednotlivců."]
[]
[]
[]
["Pořadové číslo","Celkový součet","Hrubé pořadí jen podle součtu (s duplicitami)",{"$f":"\"Mezivýsledek po \"&'Seznam střelců'!O6","v":"Mezivýsledek po LK I"},{"$f":"\"Mezivýsledek po \"&'Seznam střelců'!N6","v":"Mezivýsledek po LK II"},{"$f":"\"Mezivýsledek po \"&'Seznam střelců'!M6","v":"Mezivýsledek po Zajíc"},{"$f":"\"Mezivýsledek po \"&'Seznam střelců'!L6","v":"Mezivýsledek po Disc. 7"},{"$f":"\"Mezivýsledek po \"&'Seznam střelců'!K6","v":"Mezivýsledek po Disc. 6"},{"$f":"\"Mezivýsledek po \"&'Seznam střelců'!J6","v":"Mezivýsledek po Disc. 5"},{"$f":"\"Mezivýsledek po \"&'Seznam střelců'!I6","v":"Mezivýsledek po Disc. 4"},{"$f":"\"Mezivýsledek po \"&'Seznam střelců'!H6","v":"Mezivýsledek po Disc. 3"},{"$f":"\"Mezivýsledek po \"&'Seznam střelců'!G6","v":"Mezivýsledek po Disc. 2"},{"$f":"\"Mezivýsledek po \"&'Seznam střelců'!F6","v":"Mezivýsledek po Disc. 1"},{"$f":"\"Mezivýsledek po \"&'Seznam střelců'!Q6","v":"Mezivýsledek po Rozstřel"},"Konečné pořadí (multikriteriální, s duplicitami) a finále","Opakovaci index pří shodě ve stejném ranku","Umělé pořadí bez duplicit - pro hledání jmen"]
[{"$f":"'Seznam střelců'!A7","v":1},{"$f":"IF('Seznam střelců'!C7<>\"\", 0, 'Seznam střelců'!R7)","v":41},{"$f":"IF(A7<>\"\", RANK(B7, $B$7:$B$107), \"\")","v":29},{"$f":"IF($A7<>\"\", SUMPRODUCT(--($C$7:$C$107=$C7), --('Seznam střelců'!$O7 < 'Seznam střelců'!$O$7:$O$107)),\"\")","v":0},{"$f":"IF($A7<>\"\", SUMPRODUCT(--($C$7:$C$107=$C7), --($D$7:$D$107=$D7), --('Seznam střelců'!$N7 <'Seznam střelců'!$N$7:$N$107)),\"\")","v":0},{"$f":"IF($A7<>\"\", SUMPRODUCT(--($C$7:$C$107=$C7), --($D$7:$D$107=$D7), --($E$7:$E$107=$E7), --('Seznam střelců'!$M7 <'Seznam střelců'!$M$7:$M$107)),\"\")","v":0},{"$f":"IF($A7<>\"\", SUMPRODUCT(--($C$7:$C$107=$C7), --($D$7:$D$107=$D7), --($E$7:$E$107=$E7), --($F$7:$F$107=$F7), --('Seznam střelců'!$L7 <'Seznam střelců'!$L$7:$L$107)),\"\")","v":0},{"$f":"IF($A7<>\"\", SUMPRODUCT(--($C$7:$C$107=$C7), --($D$7:$D$107=$D7), --($E$7:$E$107=$E7), --($F$7:$F$107=$F7), --($G$7:$G$107=$G7), --('Seznam střelců'!$K7 <'Seznam střelců'!$K$7:$K$107)),\"\")","v":0},{"$f":"IF($A7<>\"\", SUMPRODUCT(--($C$7:$C$107=$C7), --($D$7:$D$107=$D7), --($E$7:$E$107=$E7), --($F$7:$F$107=$F7), --($G$7:$G$107=$G7), --($H$7:$H$107=$H7), --('Seznam střelců'!$J7 <'Seznam střelců'!$J$7:$J$107)),\"\")","v":0},{"$f":"IF($A7<>\"\", SUMPRODUCT(--($C$7:$C$107=$C7), --($D$7:$D$107=$D7), --($E$7:$E$107=$E7), --($F$7:$F$107=$F7), --($G$7:$G$107=$G7), --($H$7:$H$107=$H7), --($I$7:$I$107=$I7), --('Seznam střelců'!$I7 <'Seznam střelců'!$I$7:$I$107)),\"\")","v":0},{"$f":"IF($A7<>\"\", SUMPRODUCT(--($C$7:$C$107=$C7), --($D$7:$D$107=$D7), --($E$7:$E$107=$E7), --($F$7:$F$107=$F7), --($G$7:$G$107=$G7), --($H$7:$H$107=$H7), --($I$7:$I$107=$I7), --($J$7:$J$107=$J7), --('Seznam střelců'!$H7 <'Seznam střelců'!$H$7:$H$107)),\"\")","v":0},{"$f":"IF($A7<>\"\", SUMPRODUCT(--($C$7:$C$107=$C7), --($D$7:$D$107=$D7), --($E$7:$E$107=$E7), --($F$7:$F$107=$F7), --($G$7:$G$107=$G7), --($H$7:$H$107=$H7), --($I$7:$I$107=$I7), --($J$7:$J$107=$J7), --($K$7:$K$107=$K7), --('Seznam střelců'!$G7 <'Seznam střelců'!$G$7:$G$107)),\"\")","v":0},{"$f":"IF($A7<>\"\", SUMPRODUCT(--($C$7:$C$107=$C7), --($D$7:$D$107=$D7), --($E$7:$E$107=$E7), --($F$7:$F$107=$F7), --($G$7:$G$107=$G7), --($H$7:$H$107=$H7), --($I$7:$I$107=$I7), --($J$7:$J$107=$J7), --($K$7:$K$107=$K7), --($L$7:$L$107=$L7), --('Seznam střelců'!$F7 <'Seznam střelců'!$F$7:$F$107)),\"\")","v":0},{"$f":"IF($A7<>\"\", SUMPRODUCT(--($C$7:$C$107=$C7), --($D$7:$D$107=$D7), --($E$7:$E$107=$E7), --($F$7:$F$107=$F7), --($G$7:$G$107=$G7), --($H$7:$H$107=$H7), --($I$7:$I$107=$I7),  --($J$7:$J$107=$J7), --($K$7:$K$107=$K7), --($L$7:$L$107=$L7),--($M$7:$M$107=$M7), --('Seznam střelců'!$Q7 <'Seznam střelců'!$Q$7:$Q$107)),\"\")","v":0},{"$f":"IF($A7<>\"\",\n      IF(ISBLANK('Seznam střelců'!$P7),\n         SUM($C7:$N7),\n         $C7+SUMPRODUCT(--($C$7:$C$107=$C7), --('Seznam střelců'!$Q7 <'Seznam střelců'!$Q$7:$Q$107))\n      ),\n      \"\")","v":29},{"$f":"IF(A7<>\"\",COUNTIF($O$7:$O7,$O7)-1,\"\")","v":0},{"$f":"IF(A7<>\"\",O7+P7,\"\")","v":29}]
[{"$f":"'Seznam střelců'!A8","v":2},{"$f":"IF('Seznam střelců'!C8<>\"\", 0, 'Seznam střelců'!R8)","v":54},{"$f":"IF(A8<>\"\", RANK(B8, $B$7:$B$107), \"\")","v":3},{"$f":"IF($A8<>\"\", SUMPRODUCT(--($C$7:$C$107=$C8), --('Seznam střelců'!$O8 < 'Seznam střelců'!$O$7:$O$107)),\"\")","v":0},{"$f":"IF($A8<>\"\", SUMPRODUCT(--($C$7:$C$107=$C8), --($D$7:$D$107=$D8), --('Seznam střelců'!$N8 <'Seznam střelců'!$N$7:$N$107)),\"\")","v":0},{"$f":"IF($A8<>\"\", SUMPRODUCT(--($C$7:$C$107=$C8), --($D$7:$D$107=$D8), --($E$7:$E$107=$E8), --('Seznam střelců'!$M8 <'Seznam střelců'!$M$7:$M$107)),\"\")","v":0},{"$f":"IF($A8<>\"\", SUMPRODUCT(--($C$7:$C$107=$C8), --($D$7:$D$107=$D8), --($E$7:$E$107=$E8), --($F$7:$F$107=$F8), --('Seznam střelců'!$L8 <'Seznam střelců'!$L$7:$L$107)),\"\")","v":0},{"$f":"IF($A8<>\"\", SUMPRODUCT(--($C$7:$C$107=$C8), --($D$7:$D$107=$D8), --($E$7:$E$107=$E8), --($F$7:$F$107=$F8), --($G$7:$G$107=$G8), --('Seznam střelců'!$K8 <'Seznam střelců'!$K$7:$K$107)),\"\")","v":0},{"$f":"IF($A8<>\"\", SUMPRODUCT(--($C$7:$C$107=$C8), --($D$7:$D$107=$D8), --($E$7:$E$107=$E8), --($F$7:$F$107=$F8), --($G$7:$G$107=$G8), --($H$7:$H$107=$H8), --('Seznam střelců'!$J8 <'Seznam střelců'!$J$7:$J$107)),\"\")","v":0},{"$f":"IF($A8<>\"\", SUMPRODUCT(--($C$7:$C$107=$C8), --($D$7:$D$107=$D8), --($E$7:$E$107=$E8), --($F$7:$F$107=$F8), --($G$7:$G$107=$G8), --($H$7:$H$107=$H8), --($I$7:$I$107=$I8), --('Seznam střelců'!$I8 <'Seznam střelců'!$I$7:$I$107)),\"\")","v":0},{"$f":"IF($A8<>\"\", SUMPRODUCT(--($C$7:$C$107=$C8), --($D$7:$D$107=$D8), --($E$7:$E$107=$E8), --($F$7:$F$107=$F8), --($G$7:$G$107=$G8), --($H$7:$H$107=$H8), --($I$7:$I$107=$I8), --($J$7:$J$107=$J8), --('Seznam střelců'!$H8 <'Seznam střelců'!$H$7:$H$107)),\"\")","v":0},{"$f":"IF($A8<>\"\", SUMPRODUCT(--($C$7:$C$107=$C8), --($D$7:$D$107=$D8), --($E$7:$E$107=$E8), --($F$7:$F$107=$F8), --($G$7:$G$107=$G8), --($H$7:$H$107=$H8), --($I$7:$I$107=$I8), --($J$7:$J$107=$J8), --($K$7:$K$107=$K8), --('Seznam střelců'!$G8 <'Seznam střelců'!$G$7:$G$107)),\"\")","v":0},{"$f":"IF($A8<>\"\", SUMPRODUCT(--($C$7:$C$107=$C8), --($D$7:$D$107=$D8), --($E$7:$E$107=$E8), --($F$7:$F$107=$F8), --($G$7:$G$107=$G8), --($H$7:$H$107=$H8), --($I$7:$I$107=$I8), --($J$7:$J$107=$J8), --($K$7:$K$107=$K8), --($L$7:$L$107=$L8), --('Seznam střelců'!$F8 <'Seznam střelců'!$F$7:$F$107)),\"\")","v":0},{"$f":"IF($A8<>\"\", SUMPRODUCT(--($C$7:$C$107=$C8), --($D$7:$D$107=$D8), --($E$7:$E$107=$E8), --($F$7:$F$107=$F8), --($G$7:$G$107=$G8), --($H$7:$H$107=$H8), --($I$7:$I$107=$I8),  --($J$7:$J$107=$J8), --($K$7:$K$107=$K8), --($L$7:$L$107=$L8),--($M$7:$M$107=$M8), --('Seznam střelců'!$Q8 <'Seznam střelců'!$Q$7:$Q$107)),\"\")","v":0},{"$f":"IF($A8<>\"\",\n      IF(ISBLANK('Seznam střelců'!$P8),\n         SUM($C8:$N8),\n         $C8+SUMPRODUCT(--($C$7:$C$107=$C8), --('Seznam střelců'!$Q8 <'Seznam střelců'!$Q$7:$Q$107))\n      ),\n      \"\")","v":3},{"$f":"IF(A8<>\"\",COUNTIF($O$7:$O8,$O8)-1,\"\")","v":0},3]
[{"$f":"'Seznam střelců'!A9","v":3},{"$f":"IF('Seznam střelců'!C9<>\"\", 0, 'Seznam střelců'!R9)","v":50},11,{"$f":"IF($A9<>\"\", SUMPRODUCT(--($C$7:$C$107=$C9), --('Seznam střelců'!$O9 < 'Seznam střelců'!$O$7:$O$107)),\"\")","v":0},{"$f":"IF($A9<>\"\", SUMPRODUCT(--($C$7:$C$107=$C9), --($D$7:$D$107=$D9), --('Seznam střelců'!$N9 <'Seznam střelců'!$N$7:$N$107)),\"\")","v":0},{"$f":"IF($A9<>\"\", SUMPRODUCT(--($C$7:$C$107=$C9), --($D$7:$D$107=$D9), --($E$7:$E$107=$E9), --('Seznam střelců'!$M9 <'Seznam střelců'!$M$7:$M$107)),\"\")","v":0},{"$f":"IF($A9<>\"\", SUMPRODUCT(--($C$7:$C$107=$C9), --($D$7:$D$107=$D9), --($E$7:$E$107=$E9), --($F$7:$F$107=$F9), --('Seznam střelců'!$L9 <'Seznam střelců'!$L$7:$L$107)),\"\")","v":0},{"$f":"IF($A9<>\"\", SUMPRODUCT(--($C$7:$C$107=$C9), --($D$7:$D$107=$D9), --($E$7:$E$107=$E9), --($F$7:$F$107=$F9), --($G$7:$G$107=$G9), --('Seznam střelců'!$K9 <'Seznam střelců'!$K$7:$K$107)),\"\")","v":0},{"$f":"IF($A9<>\"\", SUMPRODUCT(--($C$7:$C$107=$C9), --($D$7:$D$107=$D9), --($E$7:$E$107=$E9), --($F$7:$F$107=$F9), --($G$7:$G$107=$G9), --($H$7:$H$107=$H9), --('Seznam střelců'!$J9 <'Seznam střelců'!$J$7:$J$107)),\"\")","v":0},{"$f":"IF($A9<>\"\", SUMPRODUCT(--($C$7:$C$107=$C9), --($D$7:$D$107=$D9), --($E$7:$E$107=$E9), --($F$7:$F$107=$F9), --($G$7:$G$107=$G9), --($H$7:$H$107=$H9), --($I$7:$I$107=$I9), --('Seznam střelců'!$I9 <'Seznam střelců'!$I$7:$I$107)),\"\")","v":0},{"$f":"IF($A9<>\"\", SUMPRODUCT(--($C$7:$C$107=$C9), --($D$7:$D$107=$D9), --($E$7:$E$107=$E9), --($F$7:$F$107=$F9), --($G$7:$G$107=$G9), --($H$7:$H$107=$H9), --($I$7:$I$107=$I9), --($J$7:$J$107=$J9), --('Seznam střelců'!$H9 <'Seznam střelců'!$H$7:$H$107)),\"\")","v":0},{"$f":"IF($A9<>\"\", SUMPRODUCT(--($C$7:$C$107=$C9), --($D$7:$D$107=$D9), --($E$7:$E$107=$E9), --($F$7:$F$107=$F9), --($G$7:$G$107=$G9), --($H$7:$H$107=$H9), --($I$7:$I$107=$I9), --($J$7:$J$107=$J9), --($K$7:$K$107=$K9), --('Seznam střelců'!$G9 <'Seznam střelců'!$G$7:$G$107)),\"\")","v":0},{"$f":"IF($A9<>\"\", SUMPRODUCT(--($C$7:$C$107=$C9), --($D$7:$D$107=$D9), --($E$7:$E$107=$E9), --($F$7:$F$107=$F9), --($G$7:$G$107=$G9), --($H$7:$H$107=$H9), --($I$7:$I$107=$I9), --($J$7:$J$107=$J9), --($K$7:$K$107=$K9), --($L$7:$L$107=$L9), --('Seznam střelců'!$F9 <'Seznam střelců'!$F$7:$F$107)),\"\")","v":0},{"$f":"IF($A9<>\"\", SUMPRODUCT(--($C$7:$C$107=$C9), --($D$7:$D$107=$D9), --($E$7:$E$107=$E9), --($F$7:$F$107=$F9), --($G$7:$G$107=$G9), --($H$7:$H$107=$H9), --($I$7:$I$107=$I9),  --($J$7:$J$107=$J9), --($K$7:$K$107=$K9), --($L$7:$L$107=$L9),--($M$7:$M$107=$M9), --('Seznam střelců'!$Q9 <'Seznam střelců'!$Q$7:$Q$107)),\"\")","v":0},{"$f":"IF($A9<>\"\",\n      IF(ISBLANK('Seznam střelců'!$P9),\n         SUM($C9:$N9),\n         $C9+SUMPRODUCT(--($C$7:$C$107=$C9), --('Seznam střelců'!$Q9 <'Seznam střelců'!$Q$7:$Q$107))\n      ),\n      \"\")","v":11},{"$f":"IF(A9<>\"\",COUNTIF($O$7:$O9,$O9)-1,\"\")","v":0},11]
[{"$f":"'Seznam střelců'!A10","v":4},{"$f":"IF('Seznam střelců'!C10<>\"\", 0, 'Seznam střelců'!R10)","v":32},33,{"$f":"IF($A10<>\"\", SUMPRODUCT(--($C$7:$C$107=$C10), --('Seznam střelců'!$O10 < 'Seznam střelců'!$O$7:$O$107)),\"\")","v":0},{"$f":"IF($A10<>\"\", SUMPRODUCT(--($C$7:$C$107=$C10), --($D$7:$D$107=$D10), --('Seznam střelců'!$N10 <'Seznam střelců'!$N$7:$N$107)),\"\")","v":0},{"$f":"IF($A10<>\"\", SUMPRODUCT(--($C$7:$C$107=$C10), --($D$7:$D$107=$D10), --($E$7:$E$107=$E10), --('Seznam střelců'!$M10 <'Seznam střelců'!$M$7:$M$107)),\"\")","v":0},{"$f":"IF($A10<>\"\", SUMPRODUCT(--($C$7:$C$107=$C10), --($D$7:$D$107=$D10), --($E$7:$E$107=$E10), --($F$7:$F$107=$F10), --('Seznam střelců'!$L10 <'Seznam střelců'!$L$7:$L$107)),\"\")","v":0},{"$f":"IF($A10<>\"\", SUMPRODUCT(--($C$7:$C$107=$C10), --($D$7:$D$107=$D10), --($E$7:$E$107=$E10), --($F$7:$F$107=$F10), --($G$7:$G$107=$G10), --('Seznam střelců'!$K10 <'Seznam střelců'!$K$7:$K$107)),\"\")","v":0},{"$f":"IF($A10<>\"\", SUMPRODUCT(--($C$7:$C$107=$C10), --($D$7:$D$107=$D10), --($E$7:$E$107=$E10), --($F$7:$F$107=$F10), --($G$7:$G$107=$G10), --($H$7:$H$107=$H10), --('Seznam střelců'!$J10 <'Seznam střelců'!$J$7:$J$107)),\"\")","v":0},{"$f":"IF($A10<>\"\", SUMPRODUCT(--($C$7:$C$107=$C10), --($D$7:$D$107=$D10), --($E$7:$E$107=$E10), --($F$7:$F$107=$F10), --($G$7:$G$107=$G10), --($H$7:$H$107=$H10), --($I$7:$I$107=$I10), --('Seznam střelců'!$I10 <'Seznam střelců'!$I$7:$I$107)),\"\")","v":0},{"$f":"IF($A10<>\"\", SUMPRODUCT(--($C$7:$C$107=$C10), --($D$7:$D$107=$D10), --($E$7:$E$107=$E10), --($F$7:$F$107=$F10), --($G$7:$G$107=$G10), --($H$7:$H$107=$H10), --($I$7:$I$107=$I10), --($J$7:$J$107=$J10), --('Seznam střelců'!$H10 <'Seznam střelců'!$H$7:$H$107)),\"\")","v":0},{"$f":"IF($A10<>\"\", SUMPRODUCT(--($C$7:$C$107=$C10), --($D$7:$D$107=$D10), --($E$7:$E$107=$E10), --($F$7:$F$107=$F10), --($G$7:$G$107=$G10), --($H$7:$H$107=$H10), --($I$7:$I$107=$I10), --($J$7:$J$107=$J10), --($K$7:$K$107=$K10), --('Seznam střelců'!$G10 <'Seznam střelců'!$G$7:$G$107)),\"\")","v":0},{"$f":"IF($A10<>\"\", SUMPRODUCT(--($C$7:$C$107=$C10), --($D$7:$D$107=$D10), --($E$7:$E$107=$E10), --($F$7:$F$107=$F10), --($G$7:$G$107=$G10), --($H$7:$H$107=$H10), --($I$7:$I$107=$I10), --($J$7:$J$107=$J10), --($K$7:$K$107=$K10), --($L$7:$L$107=$L10), --('Seznam střelců'!$F10 <'Seznam střelců'!$F$7:$F$107)),\"\")","v":0},{"$f":"IF($A10<>\"\", SUMPRODUCT(--($C$7:$C$107=$C10), --($D$7:$D$107=$D10), --($E$7:$E$107=$E10), --($F$7:$F$107=$F10), --($G$7:$G$107=$G10), --($H$7:$H$107=$H10), --($I$7:$I$107=$I10),  --($J$7:$J$107=$J10), --($K$7:$K$107=$K10), --($L$7:$L$107=$L10),--($M$7:$M$107=$M10), --('Seznam střelců'!$Q10 <'Seznam střelců'!$Q$7:$Q$107)),\"\")","v":0},{"$f":"IF($A10<>\"\",\n      IF(ISBLANK('Seznam střelců'!$P10),\n         SUM($C10:$N10),\n         $C10+SUMPRODUCT(--($C$7:$C$107=$C10), --('Seznam střelců'!$Q10 <'Seznam střelců'!$Q$7:$Q$107))\n      ),\n      \"\")","v":33},{"$f":"IF(A10<>\"\",COUNTIF($O$7:$O10,$O10)-1,\"\")","v":0},33]
[{"$f":"'Seznam střelců'!A11","v":5},{"$f":"IF('Seznam střelců'!C11<>\"\", 0, 'Seznam střelců'!R11)","v":46},22,{"$f":"IF($A11<>\"\", SUMPRODUCT(--($C$7:$C$107=$C11), --('Seznam střelců'!$O11 < 'Seznam střelců'!$O$7:$O$107)),\"\")","v":0},{"$f":"IF($A11<>\"\", SUMPRODUCT(--($C$7:$C$107=$C11), --($D$7:$D$107=$D11), --('Seznam střelců'!$N11 <'Seznam střelců'!$N$7:$N$107)),\"\")","v":0},{"$f":"IF($A11<>\"\", SUMPRODUCT(--($C$7:$C$107=$C11), --($D$7:$D$107=$D11), --($E$7:$E$107=$E11), --('Seznam střelců'!$M11 <'Seznam střelců'!$M$7:$M$107)),\"\")","v":0},{"$f":"IF($A11<>\"\", SUMPRODUCT(--($C$7:$C$107=$C11), --($D$7:$D$107=$D11), --($E$7:$E$107=$E11), --($F$7:$F$107=$F11), --('Seznam střelců'!$L11 <'Seznam střelců'!$L$7:$L$107)),\"\")","v":0},{"$f":"IF($A11<>\"\", SUMPRODUCT(--($C$7:$C$107=$C11), --($D$7:$D$107=$D11), --($E$7:$E$107=$E11), --($F$7:$F$107=$F11), --($G$7:$G$107=$G11), --('Seznam střelců'!$K11 <'Seznam střelců'!$K$7:$K$107)),\"\")","v":0},{"$f":"IF($A11<>\"\", SUMPRODUCT(--($C$7:$C$107=$C11), --($D$7:$D$107=$D11), --($E$7:$E$107=$E11), --($F$7:$F$107=$F11), --($G$7:$G$107=$G11), --($H$7:$H$107=$H11), --('Seznam střelců'!$J11 <'Seznam střelců'!$J$7:$J$107)),\"\")","v":0},{"$f":"IF($A11<>\"\", SUMPRODUCT(--($C$7:$C$107=$C11), --($D$7:$D$107=$D11), --($E$7:$E$107=$E11), --($F$7:$F$107=$F11), --($G$7:$G$107=$G11), --($H$7:$H$107=$H11), --($I$7:$I$107=$I11), --('Seznam střelců'!$I11 <'Seznam střelců'!$I$7:$I$107)),\"\")","v":0},{"$f":"IF($A11<>\"\", SUMPRODUCT(--($C$7:$C$107=$C11), --($D$7:$D$107=$D11), --($E$7:$E$107=$E11), --($F$7:$F$107=$F11), --($G$7:$G$107=$G11), --($H$7:$H$107=$H11), --($I$7:$I$107=$I11), --($J$7:$J$107=$J11), --('Seznam střelců'!$H11 <'Seznam střelců'!$H$7:$H$107)),\"\")","v":0},{"$f":"IF($A11<>\"\", SUMPRODUCT(--($C$7:$C$107=$C11), --($D$7:$D$107=$D11), --($E$7:$E$107=$E11), --($F$7:$F$107=$F11), --($G$7:$G$107=$G11), --($H$7:$H$107=$H11), --($I$7:$I$107=$I11), --($J$7:$J$107=$J11), --($K$7:$K$107=$K11), --('Seznam střelců'!$G11 <'Seznam střelců'!$G$7:$G$107)),\"\")","v":0},{"$f":"IF($A11<>\"\", SUMPRODUCT(--($C$7:$C$107=$C11), --($D$7:$D$107=$D11), --($E$7:$E$107=$E11), --($F$7:$F$107=$F11), --($G$7:$G$107=$G11), --($H$7:$H$107=$H11), --($I$7:$I$107=$I11), --($J$7:$J$107=$J11), --($K$7:$K$107=$K11), --($L$7:$L$107=$L11), --('Seznam střelců'!$F11 <'Seznam střelců'!$F$7:$F$107)),\"\")","v":0},{"$f":"IF($A11<>\"\", SUMPRODUCT(--($C$7:$C$107=$C11), --($D$7:$D$107=$D11), --($E$7:$E$107=$E11), --($F$7:$F$107=$F11), --($G$7:$G$107=$G11), --($H$7:$H$107=$H11), --($I$7:$I$107=$I11),  --($J$7:$J$107=$J11), --($K$7:$K$107=$K11), --($L$7:$L$107=$L11),--($M$7:$M$107=$M11), --('Seznam střelců'!$Q11 <'Seznam střelců'!$Q$7:$Q$107)),\"\")","v":0},{"$f":"IF($A11<>\"\",\n      IF(ISBLANK('Seznam střelců'!$P11),\n         SUM($C11:$N11),\n         $C11+SUMPRODUCT(--($C$7:$C$107=$C11), --('Seznam střelců'!$Q11 <'Seznam střelců'!$Q$7:$Q$107))\n      ),\n      \"\")","v":22},{"$f":"IF(A11<>\"\",COUNTIF($O$7:$O11,$O11)-1,\"\")","v":0},22]
[{"$f":"'Seznam střelců'!A12","v":6},{"$f":"IF('Seznam střelců'!C12<>\"\", 0, 'Seznam střelců'!R12)","v":34},32,{"$f":"IF($A12<>\"\", SUMPRODUCT(--($C$7:$C$107=$C12), --('Seznam střelců'!$O12 < 'Seznam střelců'!$O$7:$O$107)),\"\")","v":0},{"$f":"IF($A12<>\"\", SUMPRODUCT(--($C$7:$C$107=$C12), --($D$7:$D$107=$D12), --('Seznam střelců'!$N12 <'Seznam střelců'!$N$7:$N$107)),\"\")","v":0},{"$f":"IF($A12<>\"\", SUMPRODUCT(--($C$7:$C$107=$C12), --($D$7:$D$107=$D12), --($E$7:$E$107=$E12), --('Seznam střelců'!$M12 <'Seznam střelců'!$M$7:$M$107)),\"\")","v":0},{"$f":"IF($A12<>\"\", SUMPRODUCT(--($C$7:$C$107=$C12), --($D$7:$D$107=$D12), --($E$7:$E$107=$E12), --($F$7:$F$107=$F12), --('Seznam střelců'!$L12 <'Seznam střelců'!$L$7:$L$107)),\"\")","v":0},{"$f":"IF($A12<>\"\", SUMPRODUCT(--($C$7:$C$107=$C12), --($D$7:$D$107=$D12), --($E$7:$E$107=$E12), --($F$7:$F$107=$F12), --($G$7:$G$107=$G12), --('Seznam střelců'!$K12 <'Seznam střelců'!$K$7:$K$107)),\"\")","v":0},{"$f":"IF($A12<>\"\", SUMPRODUCT(--($C$7:$C$107=$C12), --($D$7:$D$107=$D12), --($E$7:$E$107=$E12), --($F$7:$F$107=$F12), --($G$7:$G$107=$G12), --($H$7:$H$107=$H12), --('Seznam střelců'!$J12 <'Seznam střelců'!$J$7:$J$107)),\"\")","v":0},{"$f":"IF($A12<>\"\", SUMPRODUCT(--($C$7:$C$107=$C12), --($D$7:$D$107=$D12), --($E$7:$E$107=$E12), --($F$7:$F$107=$F12), --($G$7:$G$107=$G12), --($H$7:$H$107=$H12), --($I$7:$I$107=$I12), --('Seznam střelců'!$I12 <'Seznam střelců'!$I$7:$I$107)),\"\")","v":0},{"$f":"IF($A12<>\"\", SUMPRODUCT(--($C$7:$C$107=$C12), --($D$7:$D$107=$D12), --($E$7:$E$107=$E12), --($F$7:$F$107=$F12), --($G$7:$G$107=$G12), --($H$7:$H$107=$H12), --($I$7:$I$107=$I12), --($J$7:$J$107=$J12), --('Seznam střelců'!$H12 <'Seznam střelců'!$H$7:$H$107)),\"\")","v":0},{"$f":"IF($A12<>\"\", SUMPRODUCT(--($C$7:$C$107=$C12), --($D$7:$D$107=$D12), --($E$7:$E$107=$E12), --($F$7:$F$107=$F12), --($G$7:$G$107=$G12), --($H$7:$H$107=$H12), --($I$7:$I$107=$I12), --($J$7:$J$107=$J12), --($K$7:$K$107=$K12), --('Seznam střelců'!$G12 <'Seznam střelců'!$G$7:$G$107)),\"\")","v":0},{"$f":"IF($A12<>\"\", SUMPRODUCT(--($C$7:$C$107=$C12), --($D$7:$D$107=$D12), --($E$7:$E$107=$E12), --($F$7:$F$107=$F12), --($G$7:$G$107=$G12), --($H$7:$H$107=$H12), --($I$7:$I$107=$I12), --($J$7:$J$107=$J12), --($K$7:$K$107=$K12), --($L$7:$L$107=$L12), --('Seznam střelců'!$F12 <'Seznam střelců'!$F$7:$F$107)),\"\")","v":0},{"$f":"IF($A12<>\"\", SUMPRODUCT(--($C$7:$C$107=$C12), --($D$7:$D$107=$D12), --($E$7:$E$107=$E12), --($F$7:$F$107=$F12), --($G$7:$G$107=$G12), --($H$7:$H$107=$H12), --($I$7:$I$107=$I12),  --($J$7:$J$107=$J12), --($K$7:$K$107=$K12), --($L$7:$L$107=$L12),--($M$7:$M$107=$M12), --('Seznam střelců'!$Q12 <'Seznam střelců'!$Q$7:$Q$107)),\"\")","v":0},{"$f":"IF($A12<>\"\",\n      IF(ISBLANK('Seznam střelců'!$P12),\n         SUM($C12:$N12),\n         $C12+SUMPRODUCT(--($C$7:$C$107=$C12), --('Seznam střelců'!$Q12 <'Seznam střelců'!$Q$7:$Q$107))\n      ),\n      \"\")","v":32},{"$f":"IF(A12<>\"\",COUNTIF($O$7:$O12,$O12)-1,\"\")","v":0},32]
[{"$f":"'Seznam střelců'!A13","v":7},{"$f":"IF('Seznam střelců'!C13<>\"\", 0, 'Seznam střelců'!R13)","v":52},7,{"$f":"IF($A13<>\"\", SUMPRODUCT(--($C$7:$C$107=$C13), --('Seznam střelců'!$O13 < 'Seznam střelců'!$O$7:$O$107)),\"\")","v":0},{"$f":"IF($A13<>\"\", SUMPRODUCT(--($C$7:$C$107=$C13), --($D$7:$D$107=$D13), --('Seznam střelců'!$N13 <'Seznam střelců'!$N$7:$N$107)),\"\")","v":0},{"$f":"IF($A13<>\"\", SUMPRODUCT(--($C$7:$C$107=$C13), --($D$7:$D$107=$D13), --($E$7:$E$107=$E13), --('Seznam střelců'!$M13 <'Seznam střelců'!$M$7:$M$107)),\"\")","v":0},{"$f":"IF($A13<>\"\", SUMPRODUCT(--($C$7:$C$107=$C13), --($D$7:$D$107=$D13), --($E$7:$E$107=$E13), --($F$7:$F$107=$F13), --('Seznam střelců'!$L13 <'Seznam střelců'!$L$7:$L$107)),\"\")","v":0},{"$f":"IF($A13<>\"\", SUMPRODUCT(--($C$7:$C$107=$C13), --($D$7:$D$107=$D13), --($E$7:$E$107=$E13), --($F$7:$F$107=$F13), --($G$7:$G$107=$G13), --('Seznam střelců'!$K13 <'Seznam střelců'!$K$7:$K$107)),\"\")","v":0},{"$f":"IF($A13<>\"\", SUMPRODUCT(--($C$7:$C$107=$C13), --($D$7:$D$107=$D13), --($E$7:$E$107=$E13), --($F$7:$F$107=$F13), --($G$7:$G$107=$G13), --($H$7:$H$107=$H13), --('Seznam střelců'!$J13 <'Seznam střelců'!$J$7:$J$107)),\"\")","v":0},{"$f":"IF($A13<>\"\", SUMPRODUCT(--($C$7:$C$107=$C13), --($D$7:$D$107=$D13), --($E$7:$E$107=$E13), --($F$7:$F$107=$F13), --($G$7:$G$107=$G13), --($H$7:$H$107=$H13), --($I$7:$I$107=$I13), --('Seznam střelců'!$I13 <'Seznam střelců'!$I$7:$I$107)),\"\")","v":0},{"$f":"IF($A13<>\"\", SUMPRODUCT(--($C$7:$C$107=$C13), --($D$7:$D$107=$D13), --($E$7:$E$107=$E13), --($F$7:$F$107=$F13), --($G$7:$G$107=$G13), --($H$7:$H$107=$H13), --($I$7:$I$107=$I13), --($J$7:$J$107=$J13), --('Seznam střelců'!$H13 <'Seznam střelců'!$H$7:$H$107)),\"\")","v":0},{"$f":"IF($A13<>\"\", SUMPRODUCT(--($C$7:$C$107=$C13), --($D$7:$D$107=$D13), --($E$7:$E$107=$E13), --($F$7:$F$107=$F13), --($G$7:$G$107=$G13), --($H$7:$H$107=$H13), --($I$7:$I$107=$I13), --($J$7:$J$107=$J13), --($K$7:$K$107=$K13), --('Seznam střelců'!$G13 <'Seznam střelců'!$G$7:$G$107)),\"\")","v":0},{"$f":"IF($A13<>\"\", SUMPRODUCT(--($C$7:$C$107=$C13), --($D$7:$D$107=$D13), --($E$7:$E$107=$E13), --($F$7:$F$107=$F13), --($G$7:$G$107=$G13), --($H$7:$H$107=$H13), --($I$7:$I$107=$I13), --($J$7:$J$107=$J13), --($K$7:$K$107=$K13), --($L$7:$L$107=$L13), --('Seznam střelců'!$F13 <'Seznam střelců'!$F$7:$F$107)),\"\")","v":0},{"$f":"IF($A13<>\"\", SUMPRODUCT(--($C$7:$C$107=$C13), --($D$7:$D$107=$D13), --($E$7:$E$107=$E13), --($F$7:$F$107=$F13), --($G$7:$G$107=$G13), --($H$7:$H$107=$H13), --($I$7:$I$107=$I13),  --($J$7:$J$107=$J13), --($K$7:$K$107=$K13), --($L$7:$L$107=$L13),--($M$7:$M$107=$M13), --('Seznam střelců'!$Q13 <'Seznam střelců'!$Q$7:$Q$107)),\"\")","v":0},{"$f":"IF($A13<>\"\",\n      IF(ISBLANK('Seznam střelců'!$P13),\n         SUM($C13:$N13),\n         $C13+SUMPRODUCT(--($C$7:$C$107=$C13), --('Seznam střelců'!$Q13 <'Seznam střelců'!$Q$7:$Q$107))\n      ),\n      \"\")","v":7},{"$f":"IF(A13<>\"\",COUNTIF($O$7:$O13,$O13)-1,\"\")","v":0},7]
[{"$f":"'Seznam střelců'!A14","v":8},{"$f":"IF('Seznam střelců'!C14<>\"\", 0, 'Seznam střelců'!R14)","v":46},22,{"$f":"IF($A14<>\"\", SUMPRODUCT(--($C$7:$C$107=$C14), --('Seznam střelců'!$O14 < 'Seznam střelců'!$O$7:$O$107)),\"\")","v":1},{"$f":"IF($A14<>\"\", SUMPRODUCT(--($C$7:$C$107=$C14), --($D$7:$D$107=$D14), --('Seznam střelců'!$N14 <'Seznam střelců'!$N$7:$N$107)),\"\")","v":0},{"$f":"IF($A14<>\"\", SUMPRODUCT(--($C$7:$C$107=$C14), --($D$7:$D$107=$D14), --($E$7:$E$107=$E14), --('Seznam střelců'!$M14 <'Seznam střelců'!$M$7:$M$107)),\"\")","v":0},{"$f":"IF($A14<>\"\", SUMPRODUCT(--($C$7:$C$107=$C14), --($D$7:$D$107=$D14), --($E$7:$E$107=$E14), --($F$7:$F$107=$F14), --('Seznam střelců'!$L14 <'Seznam střelců'!$L$7:$L$107)),\"\")","v":0},{"$f":"IF($A14<>\"\", SUMPRODUCT(--($C$7:$C$107=$C14), --($D$7:$D$107=$D14), --($E$7:$E$107=$E14), --($F$7:$F$107=$F14), --($G$7:$G$107=$G14), --('Seznam střelců'!$K14 <'Seznam střelců'!$K$7:$K$107)),\"\")","v":0},{"$f":"IF($A14<>\"\", SUMPRODUCT(--($C$7:$C$107=$C14), --($D$7:$D$107=$D14), --($E$7:$E$107=$E14), --($F$7:$F$107=$F14), --($G$7:$G$107=$G14), --($H$7:$H$107=$H14), --('Seznam střelců'!$J14 <'Seznam střelců'!$J$7:$J$107)),\"\")","v":0},{"$f":"IF($A14<>\"\", SUMPRODUCT(--($C$7:$C$107=$C14), --($D$7:$D$107=$D14), --($E$7:$E$107=$E14), --($F$7:$F$107=$F14), --($G$7:$G$107=$G14), --($H$7:$H$107=$H14), --($I$7:$I$107=$I14), --('Seznam střelců'!$I14 <'Seznam střelců'!$I$7:$I$107)),\"\")","v":0},{"$f":"IF($A14<>\"\", SUMPRODUCT(--($C$7:$C$107=$C14), --($D$7:$D$107=$D14), --($E$7:$E$107=$E14), --($F$7:$F$107=$F14), --($G$7:$G$107=$G14), --($H$7:$H$107=$H14), --($I$7:$I$107=$I14), --($J$7:$J$107=$J14), --('Seznam střelců'!$H14 <'Seznam střelců'!$H$7:$H$107)),\"\")","v":0},{"$f":"IF($A14<>\"\", SUMPRODUCT(--($C$7:$C$107=$C14), --($D$7:$D$107=$D14), --($E$7:$E$107=$E14), --($F$7:$F$107=$F14), --($G$7:$G$107=$G14), --($H$7:$H$107=$H14), --($I$7:$I$107=$I14), --($J$7:$J$107=$J14), --($K$7:$K$107=$K14), --('Seznam střelců'!$G14 <'Seznam střelců'!$G$7:$G$107)),\"\")","v":0},{"$f":"IF($A14<>\"\", SUMPRODUCT(--($C$7:$C$107=$C14), --($D$7:$D$107=$D14), --($E$7:$E$107=$E14), --($F$7:$F$107=$F14), --($G$7:$G$107=$G14), --($H$7:$H$107=$H14), --($I$7:$I$107=$I14), --($J$7:$J$107=$J14), --($K$7:$K$107=$K14), --($L$7:$L$107=$L14), --('Seznam střelců'!$F14 <'Seznam střelců'!$F$7:$F$107)),\"\")","v":0},{"$f":"IF($A14<>\"\", SUMPRODUCT(--($C$7:$C$107=$C14), --($D$7:$D$107=$D14), --($E$7:$E$107=$E14), --($F$7:$F$107=$F14), --($G$7:$G$107=$G14), --($H$7:$H$107=$H14), --($I$7:$I$107=$I14),  --($J$7:$J$107=$J14), --($K$7:$K$107=$K14), --($L$7:$L$107=$L14),--($M$7:$M$107=$M14), --('Seznam střelců'!$Q14 <'Seznam střelců'!$Q$7:$Q$107)),\"\")","v":0},{"$f":"IF($A14<>\"\",\n      IF(ISBLANK('Seznam střelců'!$P14),\n         SUM($C14:$N14),\n         $C14+SUMPRODUCT(--($C$7:$C$107=$C14), --('Seznam střelců'!$Q14 <'Seznam střelců'!$Q$7:$Q$107))\n      ),\n      \"\")","v":23},{"$f":"IF(A14<>\"\",COUNTIF($O$7:$O14,$O14)-1,\"\")","v":0},23]
[{"$f":"'Seznam střelců'!A15","v":9},{"$f":"IF('Seznam střelců'!C15<>\"\", 0, 'Seznam střelců'!R15)","v":52},7,{"$f":"IF($A15<>\"\", SUMPRODUCT(--($C$7:$C$107=$C15), --('Seznam střelců'!$O15 < 'Seznam střelců'!$O$7:$O$107)),\"\")","v":1},{"$f":"IF($A15<>\"\", SUMPRODUCT(--($C$7:$C$107=$C15), --($D$7:$D$107=$D15), --('Seznam střelců'!$N15 <'Seznam střelců'!$N$7:$N$107)),\"\")","v":0},{"$f":"IF($A15<>\"\", SUMPRODUCT(--($C$7:$C$107=$C15), --($D$7:$D$107=$D15), --($E$7:$E$107=$E15), --('Seznam střelců'!$M15 <'Seznam střelců'!$M$7:$M$107)),\"\")","v":0},{"$f":"IF($A15<>\"\", SUMPRODUCT(--($C$7:$C$107=$C15), --($D$7:$D$107=$D15), --($E$7:$E$107=$E15), --($F$7:$F$107=$F15), --('Seznam střelců'!$L15 <'Seznam střelců'!$L$7:$L$107)),\"\")","v":0},{"$f":"IF($A15<>\"\", SUMPRODUCT(--($C$7:$C$107=$C15), --($D$7:$D$107=$D15), --($E$7:$E$107=$E15), --($F$7:$F$107=$F15), --($G$7:$G$107=$G15), --('Seznam střelců'!$K15 <'Seznam střelců'!$K$7:$K$107)),\"\")","v":0},{"$f":"IF($A15<>\"\", SUMPRODUCT(--($C$7:$C$107=$C15), --($D$7:$D$107=$D15), --($E$7:$E$107=$E15), --($F$7:$F$107=$F15), --($G$7:$G$107=$G15), --($H$7:$H$107=$H15), --('Seznam střelců'!$J15 <'Seznam střelců'!$J$7:$J$107)),\"\")","v":0},{"$f":"IF($A15<>\"\", SUMPRODUCT(--($C$7:$C$107=$C15), --($D$7:$D$107=$D15), --($E$7:$E$107=$E15), --($F$7:$F$107=$F15), --($G$7:$G$107=$G15), --($H$7:$H$107=$H15), --($I$7:$I$107=$I15), --('Seznam střelců'!$I15 <'Seznam střelců'!$I$7:$I$107)),\"\")","v":0},{"$f":"IF($A15<>\"\", SUMPRODUCT(--($C$7:$C$107=$C15), --($D$7:$D$107=$D15), --($E$7:$E$107=$E15), --($F$7:$F$107=$F15), --($G$7:$G$107=$G15), --($H$7:$H$107=$H15), --($I$7:$I$107=$I15), --($J$7:$J$107=$J15), --('Seznam střelců'!$H15 <'Seznam střelců'!$H$7:$H$107)),\"\")","v":0},{"$f":"IF($A15<>\"\", SUMPRODUCT(--($C$7:$C$107=$C15), --($D$7:$D$107=$D15), --($E$7:$E$107=$E15), --($F$7:$F$107=$F15), --($G$7:$G$107=$G15), --($H$7:$H$107=$H15), --($I$7:$I$107=$I15), --($J$7:$J$107=$J15), --($K$7:$K$107=$K15), --('Seznam střelců'!$G15 <'Seznam střelců'!$G$7:$G$107)),\"\")","v":0},{"$f":"IF($A15<>\"\", SUMPRODUCT(--($C$7:$C$107=$C15), --($D$7:$D$107=$D15), --($E$7:$E$107=$E15), --($F$7:$F$107=$F15), --($G$7:$G$107=$G15), --($H$7:$H$107=$H15), --($I$7:$I$107=$I15), --($J$7:$J$107=$J15), --($K$7:$K$107=$K15), --($L$7:$L$107=$L15), --('Seznam střelců'!$F15 <'Seznam střelců'!$F$7:$F$107)),\"\")","v":0},{"$f":"IF($A15<>\"\", SUMPRODUCT(--($C$7:$C$107=$C15), --($D$7:$D$107=$D15), --($E$7:$E$107=$E15), --($F$7:$F$107=$F15), --($G$7:$G$107=$G15), --($H$7:$H$107=$H15), --($I$7:$I$107=$I15),  --($J$7:$J$107=$J15), --($K$7:$K$107=$K15), --($L$7:$L$107=$L15),--($M$7:$M$107=$M15), --('Seznam střelců'!$Q15 <'Seznam střelců'!$Q$7:$Q$107)),\"\")","v":1},{"$f":"IF($A15<>\"\",\n      IF(ISBLANK('Seznam střelců'!$P15),\n         SUM($C15:$N15),\n         $C15+SUMPRODUCT(--($C$7:$C$107=$C15), --('Seznam střelců'!$Q15 <'Seznam střelců'!$Q$7:$Q$107))\n      ),\n      \"\")","v":9},{"$f":"IF(A15<>\"\",COUNTIF($O$7:$O15,$O15)-1,\"\")","v":0},9]
[{"$f":"'Seznam střelců'!A16","v":10},{"$f":"IF('Seznam střelců'!C16<>\"\", 0, 'Seznam střelců'!R16)","v":44},25,{"$f":"IF($A16<>\"\", SUMPRODUCT(--($C$7:$C$107=$C16), --('Seznam střelců'!$O16 < 'Seznam střelců'!$O$7:$O$107)),\"\")","v":0},{"$f":"IF($A16<>\"\", SUMPRODUCT(--($C$7:$C$107=$C16), --($D$7:$D$107=$D16), --('Seznam střelců'!$N16 <'Seznam střelců'!$N$7:$N$107)),\"\")","v":0},{"$f":"IF($A16<>\"\", SUMPRODUCT(--($C$7:$C$107=$C16), --($D$7:$D$107=$D16), --($E$7:$E$107=$E16), --('Seznam střelců'!$M16 <'Seznam střelců'!$M$7:$M$107)),\"\")","v":0},{"$f":"IF($A16<>\"\", SUMPRODUCT(--($C$7:$C$107=$C16), --($D$7:$D$107=$D16), --($E$7:$E$107=$E16), --($F$7:$F$107=$F16), --('Seznam střelců'!$L16 <'Seznam střelců'!$L$7:$L$107)),\"\")","v":0},{"$f":"IF($A16<>\"\", SUMPRODUCT(--($C$7:$C$107=$C16), --($D$7:$D$107=$D16), --($E$7:$E$107=$E16), --($F$7:$F$107=$F16), --($G$7:$G$107=$G16), --('Seznam střelců'!$K16 <'Seznam střelců'!$K$7:$K$107)),\"\")","v":0},{"$f":"IF($A16<>\"\", SUMPRODUCT(--($C$7:$C$107=$C16), --($D$7:$D$107=$D16), --($E$7:$E$107=$E16), --($F$7:$F$107=$F16), --($G$7:$G$107=$G16), --($H$7:$H$107=$H16), --('Seznam střelců'!$J16 <'Seznam střelců'!$J$7:$J$107)),\"\")","v":0},{"$f":"IF($A16<>\"\", SUMPRODUCT(--($C$7:$C$107=$C16), --($D$7:$D$107=$D16), --($E$7:$E$107=$E16), --($F$7:$F$107=$F16), --($G$7:$G$107=$G16), --($H$7:$H$107=$H16), --($I$7:$I$107=$I16), --('Seznam střelců'!$I16 <'Seznam střelců'!$I$7:$I$107)),\"\")","v":0},{"$f":"IF($A16<>\"\", SUMPRODUCT(--($C$7:$C$107=$C16), --($D$7:$D$107=$D16), --($E$7:$E$107=$E16), --($F$7:$F$107=$F16), --($G$7:$G$107=$G16), --($H$7:$H$107=$H16), --($I$7:$I$107=$I16), --($J$7:$J$107=$J16), --('Seznam střelců'!$H16 <'Seznam střelců'!$H$7:$H$107)),\"\")","v":0},{"$f":"IF($A16<>\"\", SUMPRODUCT(--($C$7:$C$107=$C16), --($D$7:$D$107=$D16), --($E$7:$E$107=$E16), --($F$7:$F$107=$F16), --($G$7:$G$107=$G16), --($H$7:$H$107=$H16), --($I$7:$I$107=$I16), --($J$7:$J$107=$J16), --($K$7:$K$107=$K16), --('Seznam střelců'!$G16 <'Seznam střelců'!$G$7:$G$107)),\"\")","v":0},{"$f":"IF($A16<>\"\", SUMPRODUCT(--($C$7:$C$107=$C16), --($D$7:$D$107=$D16), --($E$7:$E$107=$E16), --($F$7:$F$107=$F16), --($G$7:$G$107=$G16), --($H$7:$H$107=$H16), --($I$7:$I$107=$I16), --($J$7:$J$107=$J16), --($K$7:$K$107=$K16), --($L$7:$L$107=$L16), --('Seznam střelců'!$F16 <'Seznam střelců'!$F$7:$F$107)),\"\")","v":0},{"$f":"IF($A16<>\"\", SUMPRODUCT(--($C$7:$C$107=$C16), --($D$7:$D$107=$D16), --($E$7:$E$107=$E16), --($F$7:$F$107=$F16), --($G$7:$G$107=$G16), --($H$7:$H$107=$H16), --($I$7:$I$107=$I16),  --($J$7:$J$107=$J16), --($K$7:$K$107=$K16), --($L$7:$L$107=$L16),--($M$7:$M$107=$M16), --('Seznam střelců'!$Q16 <'Seznam střelců'!$Q$7:$Q$107)),\"\")","v":0},{"$f":"IF($A16<>\"\",\n      IF(ISBLANK('Seznam střelců'!$P16),\n         SUM($C16:$N16),\n         $C16+SUMPRODUCT(--($C$7:$C$107=$C16), --('Seznam střelců'!$Q16 <'Seznam střelců'!$Q$7:$Q$107))\n      ),\n      \"\")","v":25},{"$f":"IF(A16<>\"\",COUNTIF($O$7:$O16,$O16)-1,\"\")","v":0},25]
[{"$f":"'Seznam střelců'!A17","v":11},{"$f":"IF('Seznam střelců'!C17<>\"\", 0, 'Seznam střelců'!R17)","v":42},27,{"$f":"IF($A17<>\"\", SUMPRODUCT(--($C$7:$C$107=$C17), --('Seznam střelců'!$O17 < 'Seznam střelců'!$O$7:$O$107)),\"\")","v":1},{"$f":"IF($A17<>\"\", SUMPRODUCT(--($C$7:$C$107=$C17), --($D$7:$D$107=$D17), --('Seznam střelců'!$N17 <'Seznam střelců'!$N$7:$N$107)),\"\")","v":0},{"$f":"IF($A17<>\"\", SUMPRODUCT(--($C$7:$C$107=$C17), --($D$7:$D$107=$D17), --($E$7:$E$107=$E17), --('Seznam střelců'!$M17 <'Seznam střelců'!$M$7:$M$107)),\"\")","v":0},{"$f":"IF($A17<>\"\", SUMPRODUCT(--($C$7:$C$107=$C17), --($D$7:$D$107=$D17), --($E$7:$E$107=$E17), --($F$7:$F$107=$F17), --('Seznam střelců'!$L17 <'Seznam střelců'!$L$7:$L$107)),\"\")","v":0},{"$f":"IF($A17<>\"\", SUMPRODUCT(--($C$7:$C$107=$C17), --($D$7:$D$107=$D17), --($E$7:$E$107=$E17), --($F$7:$F$107=$F17), --($G$7:$G$107=$G17), --('Seznam střelců'!$K17 <'Seznam střelců'!$K$7:$K$107)),\"\")","v":0},{"$f":"IF($A17<>\"\", SUMPRODUCT(--($C$7:$C$107=$C17), --($D$7:$D$107=$D17), --($E$7:$E$107=$E17), --($F$7:$F$107=$F17), --($G$7:$G$107=$G17), --($H$7:$H$107=$H17), --('Seznam střelců'!$J17 <'Seznam střelců'!$J$7:$J$107)),\"\")","v":0},{"$f":"IF($A17<>\"\", SUMPRODUCT(--($C$7:$C$107=$C17), --($D$7:$D$107=$D17), --($E$7:$E$107=$E17), --($F$7:$F$107=$F17), --($G$7:$G$107=$G17), --($H$7:$H$107=$H17), --($I$7:$I$107=$I17), --('Seznam střelců'!$I17 <'Seznam střelců'!$I$7:$I$107)),\"\")","v":0},{"$f":"IF($A17<>\"\", SUMPRODUCT(--($C$7:$C$107=$C17), --($D$7:$D$107=$D17), --($E$7:$E$107=$E17), --($F$7:$F$107=$F17), --($G$7:$G$107=$G17), --($H$7:$H$107=$H17), --($I$7:$I$107=$I17), --($J$7:$J$107=$J17), --('Seznam střelců'!$H17 <'Seznam střelců'!$H$7:$H$107)),\"\")","v":0},{"$f":"IF($A17<>\"\", SUMPRODUCT(--($C$7:$C$107=$C17), --($D$7:$D$107=$D17), --($E$7:$E$107=$E17), --($F$7:$F$107=$F17), --($G$7:$G$107=$G17), --($H$7:$H$107=$H17), --($I$7:$I$107=$I17), --($J$7:$J$107=$J17), --($K$7:$K$107=$K17), --('Seznam střelců'!$G17 <'Seznam střelců'!$G$7:$G$107)),\"\")","v":0},{"$f":"IF($A17<>\"\", SUMPRODUCT(--($C$7:$C$107=$C17), --($D$7:$D$107=$D17), --($E$7:$E$107=$E17), --($F$7:$F$107=$F17), --($G$7:$G$107=$G17), --($H$7:$H$107=$H17), --($I$7:$I$107=$I17), --($J$7:$J$107=$J17), --($K$7:$K$107=$K17), --($L$7:$L$107=$L17), --('Seznam střelců'!$F17 <'Seznam střelců'!$F$7:$F$107)),\"\")","v":0},{"$f":"IF($A17<>\"\", SUMPRODUCT(--($C$7:$C$107=$C17), --($D$7:$D$107=$D17), --($E$7:$E$107=$E17), --($F$7:$F$107=$F17), --($G$7:$G$107=$G17), --($H$7:$H$107=$H17), --($I$7:$I$107=$I17),  --($J$7:$J$107=$J17), --($K$7:$K$107=$K17), --($L$7:$L$107=$L17),--($M$7:$M$107=$M17), --('Seznam střelců'!$Q17 <'Seznam střelců'!$Q$7:$Q$107)),\"\")","v":0},{"$f":"IF($A17<>\"\",\n      IF(ISBLANK('Seznam střelců'!$P17),\n         SUM($C17:$N17),\n         $C17+SUMPRODUCT(--($C$7:$C$107=$C17), --('Seznam střelců'!$Q17 <'Seznam střelců'!$Q$7:$Q$107))\n      ),\n      \"\")","v":28},{"$f":"IF(A17<>\"\",COUNTIF($O$7:$O17,$O17)-1,\"\")","v":0},28]
[{"$f":"'Seznam střelců'!A18","v":12},{"$f":"IF('Seznam střelců'!C18<>\"\", 0, 'Seznam střelců'!R18)","v":49},12,{"$f":"IF($A18<>\"\", SUMPRODUCT(--($C$7:$C$107=$C18), --('Seznam střelců'!$O18 < 'Seznam střelců'!$O$7:$O$107)),\"\")","v":0},{"$f":"IF($A18<>\"\", SUMPRODUCT(--($C$7:$C$107=$C18), --($D$7:$D$107=$D18), --('Seznam střelců'!$N18 <'Seznam střelců'!$N$7:$N$107)),\"\")","v":0},{"$f":"IF($A18<>\"\", SUMPRODUCT(--($C$7:$C$107=$C18), --($D$7:$D$107=$D18), --($E$7:$E$107=$E18), --('Seznam střelců'!$M18 <'Seznam střelců'!$M$7:$M$107)),\"\")","v":0},{"$f":"IF($A18<>\"\", SUMPRODUCT(--($C$7:$C$107=$C18), --($D$7:$D$107=$D18), --($E$7:$E$107=$E18), --($F$7:$F$107=$F18), --('Seznam střelců'!$L18 <'Seznam střelců'!$L$7:$L$107)),\"\")","v":0},{"$f":"IF($A18<>\"\", SUMPRODUCT(--($C$7:$C$107=$C18), --($D$7:$D$107=$D18), --($E$7:$E$107=$E18), --($F$7:$F$107=$F18), --($G$7:$G$107=$G18), --('Seznam střelců'!$K18 <'Seznam střelců'!$K$7:$K$107)),\"\")","v":0},{"$f":"IF($A18<>\"\", SUMPRODUCT(--($C$7:$C$107=$C18), --($D$7:$D$107=$D18), --($E$7:$E$107=$E18), --($F$7:$F$107=$F18), --($G$7:$G$107=$G18), --($H$7:$H$107=$H18), --('Seznam střelců'!$J18 <'Seznam střelců'!$J$7:$J$107)),\"\")","v":0},{"$f":"IF($A18<>\"\", SUMPRODUCT(--($C$7:$C$107=$C18), --($D$7:$D$107=$D18), --($E$7:$E$107=$E18), --($F$7:$F$107=$F18), --($G$7:$G$107=$G18), --($H$7:$H$107=$H18), --($I$7:$I$107=$I18), --('Seznam střelců'!$I18 <'Seznam střelců'!$I$7:$I$107)),\"\")","v":0},{"$f":"IF($A18<>\"\", SUMPRODUCT(--($C$7:$C$107=$C18), --($D$7:$D$107=$D18), --($E$7:$E$107=$E18), --($F$7:$F$107=$F18), --($G$7:$G$107=$G18), --($H$7:$H$107=$H18), --($I$7:$I$107=$I18), --($J$7:$J$107=$J18), --('Seznam střelců'!$H18 <'Seznam střelců'!$H$7:$H$107)),\"\")","v":0},{"$f":"IF($A18<>\"\", SUMPRODUCT(--($C$7:$C$107=$C18), --($D$7:$D$107=$D18), --($E$7:$E$107=$E18), --($F$7:$F$107=$F18), --($G$7:$G$107=$G18), --($H$7:$H$107=$H18), --($I$7:$I$107=$I18), --($J$7:$J$107=$J18), --($K$7:$K$107=$K18), --('Seznam střelců'!$G18 <'Seznam střelců'!$G$7:$G$107)),\"\")","v":0},{"$f":"IF($A18<>\"\", SUMPRODUCT(--($C$7:$C$107=$C18), --($D$7:$D$107=$D18), --($E$7:$E$107=$E18), --($F$7:$F$107=$F18), --($G$7:$G$107=$G18), --($H$7:$H$107=$H18), --($I$7:$I$107=$I18), --($J$7:$J$107=$J18), --($K$7:$K$107=$K18), --($L$7:$L$107=$L18), --('Seznam střelců'!$F18 <'Seznam střelců'!$F$7:$F$107)),\"\")","v":0},{"$f":"IF($A18<>\"\", SUMPRODUCT(--($C$7:$C$107=$C18), --($D$7:$D$107=$D18), --($E$7:$E$107=$E18), --($F$7:$F$107=$F18), --($G$7:$G$107=$G18), --($H$7:$H$107=$H18), --($I$7:$I$107=$I18),  --($J$7:$J$107=$J18), --($K$7:$K$107=$K18), --($L$7:$L$107=$L18),--($M$7:$M$107=$M18), --('Seznam střelců'!$Q18 <'Seznam střelců'!$Q$7:$Q$107)),\"\")","v":0},{"$f":"IF($A18<>\"\",\n      IF(ISBLANK('Seznam střelců'!$P18),\n         SUM($C18:$N18),\n         $C18+SUMPRODUCT(--($C$7:$C$107=$C18), --('Seznam střelců'!$Q18 <'Seznam střelců'!$Q$7:$Q$107))\n      ),\n      \"\")","v":12},{"$f":"IF(A18<>\"\",COUNTIF($O$7:$O18,$O18)-1,\"\")","v":0},12]
[{"$f":"'Seznam střelců'!A19","v":13},{"$f":"IF('Seznam střelců'!C19<>\"\", 0, 'Seznam střelců'!R19)","v":51},10,{"$f":"IF($A19<>\"\", SUMPRODUCT(--($C$7:$C$107=$C19), --('Seznam střelců'!$O19 < 'Seznam střelců'!$O$7:$O$107)),\"\")","v":0},{"$f":"IF($A19<>\"\", SUMPRODUCT(--($C$7:$C$107=$C19), --($D$7:$D$107=$D19), --('Seznam střelců'!$N19 <'Seznam střelců'!$N$7:$N$107)),\"\")","v":0},{"$f":"IF($A19<>\"\", SUMPRODUCT(--($C$7:$C$107=$C19), --($D$7:$D$107=$D19), --($E$7:$E$107=$E19), --('Seznam střelců'!$M19 <'Seznam střelců'!$M$7:$M$107)),\"\")","v":0},{"$f":"IF($A19<>\"\", SUMPRODUCT(--($C$7:$C$107=$C19), --($D$7:$D$107=$D19), --($E$7:$E$107=$E19), --($F$7:$F$107=$F19), --('Seznam střelců'!$L19 <'Seznam střelců'!$L$7:$L$107)),\"\")","v":0},{"$f":"IF($A19<>\"\", SUMPRODUCT(--($C$7:$C$107=$C19), --($D$7:$D$107=$D19), --($E$7:$E$107=$E19), --($F$7:$F$107=$F19), --($G$7:$G$107=$G19), --('Seznam střelců'!$K19 <'Seznam střelců'!$K$7:$K$107)),\"\")","v":0},{"$f":"IF($A19<>\"\", SUMPRODUCT(--($C$7:$C$107=$C19), --($D$7:$D$107=$D19), --($E$7:$E$107=$E19), --($F$7:$F$107=$F19), --($G$7:$G$107=$G19), --($H$7:$H$107=$H19), --('Seznam střelců'!$J19 <'Seznam střelců'!$J$7:$J$107)),\"\")","v":0},{"$f":"IF($A19<>\"\", SUMPRODUCT(--($C$7:$C$107=$C19), --($D$7:$D$107=$D19), --($E$7:$E$107=$E19), --($F$7:$F$107=$F19), --($G$7:$G$107=$G19), --($H$7:$H$107=$H19), --($I$7:$I$107=$I19), --('Seznam střelců'!$I19 <'Seznam střelců'!$I$7:$I$107)),\"\")","v":0},{"$f":"IF($A19<>\"\", SUMPRODUCT(--($C$7:$C$107=$C19), --($D$7:$D$107=$D19), --($E$7:$E$107=$E19), --($F$7:$F$107=$F19), --($G$7:$G$107=$G19), --($H$7:$H$107=$H19), --($I$7:$I$107=$I19), --($J$7:$J$107=$J19), --('Seznam střelců'!$H19 <'Seznam střelců'!$H$7:$H$107)),\"\")","v":0},{"$f":"IF($A19<>\"\", SUMPRODUCT(--($C$7:$C$107=$C19), --($D$7:$D$107=$D19), --($E$7:$E$107=$E19), --($F$7:$F$107=$F19), --($G$7:$G$107=$G19), --($H$7:$H$107=$H19), --($I$7:$I$107=$I19), --($J$7:$J$107=$J19), --($K$7:$K$107=$K19), --('Seznam střelců'!$G19 <'Seznam střelců'!$G$7:$G$107)),\"\")","v":0},{"$f":"IF($A19<>\"\", SUMPRODUCT(--($C$7:$C$107=$C19), --($D$7:$D$107=$D19), --($E$7:$E$107=$E19), --($F$7:$F$107=$F19), --($G$7:$G$107=$G19), --($H$7:$H$107=$H19), --($I$7:$I$107=$I19), --($J$7:$J$107=$J19), --($K$7:$K$107=$K19), --($L$7:$L$107=$L19), --('Seznam střelců'!$F19 <'Seznam střelců'!$F$7:$F$107)),\"\")","v":0},{"$f":"IF($A19<>\"\", SUMPRODUCT(--($C$7:$C$107=$C19), --($D$7:$D$107=$D19), --($E$7:$E$107=$E19), --($F$7:$F$107=$F19), --($G$7:$G$107=$G19), --($H$7:$H$107=$H19), --($I$7:$I$107=$I19),  --($J$7:$J$107=$J19), --($K$7:$K$107=$K19), --($L$7:$L$107=$L19),--($M$7:$M$107=$M19), --('Seznam střelců'!$Q19 <'Seznam střelců'!$Q$7:$Q$107)),\"\")","v":0},{"$f":"IF($A19<>\"\",\n      IF(ISBLANK('Seznam střelců'!$P19),\n         SUM($C19:$N19),\n         $C19+SUMPRODUCT(--($C$7:$C$107=$C19), --('Seznam střelců'!$Q19 <'Seznam střelců'!$Q$7:$Q$107))\n      ),\n      \"\")","v":10},{"$f":"IF(A19<>\"\",COUNTIF($O$7:$O19,$O19)-1,\"\")","v":0},10]
[{"$f":"'Seznam střelců'!A20","v":14},{"$f":"IF('Seznam střelců'!C20<>\"\", 0, 'Seznam střelců'!R20)","v":48},13,{"$f":"IF($A20<>\"\", SUMPRODUCT(--($C$7:$C$107=$C20), --('Seznam střelců'!$O20 < 'Seznam střelců'!$O$7:$O$107)),\"\")","v":0},{"$f":"IF($A20<>\"\", SUMPRODUCT(--($C$7:$C$107=$C20), --($D$7:$D$107=$D20), --('Seznam střelců'!$N20 <'Seznam střelců'!$N$7:$N$107)),\"\")","v":0},{"$f":"IF($A20<>\"\", SUMPRODUCT(--($C$7:$C$107=$C20), --($D$7:$D$107=$D20), --($E$7:$E$107=$E20), --('Seznam střelců'!$M20 <'Seznam střelců'!$M$7:$M$107)),\"\")","v":0},{"$f":"IF($A20<>\"\", SUMPRODUCT(--($C$7:$C$107=$C20), --($D$7:$D$107=$D20), --($E$7:$E$107=$E20), --($F$7:$F$107=$F20), --('Seznam střelců'!$L20 <'Seznam střelců'!$L$7:$L$107)),\"\")","v":0},{"$f":"IF($A20<>\"\", SUMPRODUCT(--($C$7:$C$107=$C20), --($D$7:$D$107=$D20), --($E$7:$E$107=$E20), --($F$7:$F$107=$F20), --($G$7:$G$107=$G20), --('Seznam střelců'!$K20 <'Seznam střelců'!$K$7:$K$107)),\"\")","v":0},{"$f":"IF($A20<>\"\", SUMPRODUCT(--($C$7:$C$107=$C20), --($D$7:$D$107=$D20), --($E$7:$E$107=$E20), --($F$7:$F$107=$F20), --($G$7:$G$107=$G20), --($H$7:$H$107=$H20), --('Seznam střelců'!$J20 <'Seznam střelců'!$J$7:$J$107)),\"\")","v":0},{"$f":"IF($A20<>\"\", SUMPRODUCT(--($C$7:$C$107=$C20), --($D$7:$D$107=$D20), --($E$7:$E$107=$E20), --($F$7:$F$107=$F20), --($G$7:$G$107=$G20), --($H$7:$H$107=$H20), --($I$7:$I$107=$I20), --('Seznam střelců'!$I20 <'Seznam střelců'!$I$7:$I$107)),\"\")","v":0},{"$f":"IF($A20<>\"\", SUMPRODUCT(--($C$7:$C$107=$C20), --($D$7:$D$107=$D20), --($E$7:$E$107=$E20), --($F$7:$F$107=$F20), --($G$7:$G$107=$G20), --($H$7:$H$107=$H20), --($I$7:$I$107=$I20), --($J$7:$J$107=$J20), --('Seznam střelců'!$H20 <'Seznam střelců'!$H$7:$H$107)),\"\")","v":0},{"$f":"IF($A20<>\"\", SUMPRODUCT(--($C$7:$C$107=$C20), --($D$7:$D$107=$D20), --($E$7:$E$107=$E20), --($F$7:$F$107=$F20), --($G$7:$G$107=$G20), --($H$7:$H$107=$H20), --($I$7:$I$107=$I20), --($J$7:$J$107=$J20), --($K$7:$K$107=$K20), --('Seznam střelců'!$G20 <'Seznam střelců'!$G$7:$G$107)),\"\")","v":0},{"$f":"IF($A20<>\"\", SUMPRODUCT(--($C$7:$C$107=$C20), --($D$7:$D$107=$D20), --($E$7:$E$107=$E20), --($F$7:$F$107=$F20), --($G$7:$G$107=$G20), --($H$7:$H$107=$H20), --($I$7:$I$107=$I20), --($J$7:$J$107=$J20), --($K$7:$K$107=$K20), --($L$7:$L$107=$L20), --('Seznam střelců'!$F20 <'Seznam střelců'!$F$7:$F$107)),\"\")","v":0},{"$f":"IF($A20<>\"\", SUMPRODUCT(--($C$7:$C$107=$C20), --($D$7:$D$107=$D20), --($E$7:$E$107=$E20), --($F$7:$F$107=$F20), --($G$7:$G$107=$G20), --($H$7:$H$107=$H20), --($I$7:$I$107=$I20),  --($J$7:$J$107=$J20), --($K$7:$K$107=$K20), --($L$7:$L$107=$L20),--($M$7:$M$107=$M20), --('Seznam střelců'!$Q20 <'Seznam střelců'!$Q$7:$Q$107)),\"\")","v":0},{"$f":"IF($A20<>\"\",\n      IF(ISBLANK('Seznam střelců'!$P20),\n         SUM($C20:$N20),\n         $C20+SUMPRODUCT(--($C$7:$C$107=$C20), --('Seznam střelců'!$Q20 <'Seznam střelců'!$Q$7:$Q$107))\n      ),\n      \"\")","v":13},{"$f":"IF(A20<>\"\",COUNTIF($O$7:$O20,$O20)-1,\"\")","v":0},13]
[{"$f":"'Seznam střelců'!A21","v":15},{"$f":"IF('Seznam střelců'!C21<>\"\", 0, 'Seznam střelců'!R21)","v":43},26,{"$f":"IF($A21<>\"\", SUMPRODUCT(--($C$7:$C$107=$C21), --('Seznam střelců'!$O21 < 'Seznam střelců'!$O$7:$O$107)),\"\")","v":0},{"$f":"IF($A21<>\"\", SUMPRODUCT(--($C$7:$C$107=$C21), --($D$7:$D$107=$D21), --('Seznam střelců'!$N21 <'Seznam střelců'!$N$7:$N$107)),\"\")","v":0},{"$f":"IF($A21<>\"\", SUMPRODUCT(--($C$7:$C$107=$C21), --($D$7:$D$107=$D21), --($E$7:$E$107=$E21), --('Seznam střelců'!$M21 <'Seznam střelců'!$M$7:$M$107)),\"\")","v":0},{"$f":"IF($A21<>\"\", SUMPRODUCT(--($C$7:$C$107=$C21), --($D$7:$D$107=$D21), --($E$7:$E$107=$E21), --($F$7:$F$107=$F21), --('Seznam střelců'!$L21 <'Seznam střelců'!$L$7:$L$107)),\"\")","v":0},{"$f":"IF($A21<>\"\", SUMPRODUCT(--($C$7:$C$107=$C21), --($D$7:$D$107=$D21), --($E$7:$E$107=$E21), --($F$7:$F$107=$F21), --($G$7:$G$107=$G21), --('Seznam střelců'!$K21 <'Seznam střelců'!$K$7:$K$107)),\"\")","v":0},{"$f":"IF($A21<>\"\", SUMPRODUCT(--($C$7:$C$107=$C21), --($D$7:$D$107=$D21), --($E$7:$E$107=$E21), --($F$7:$F$107=$F21), --($G$7:$G$107=$G21), --($H$7:$H$107=$H21), --('Seznam střelců'!$J21 <'Seznam střelců'!$J$7:$J$107)),\"\")","v":0},{"$f":"IF($A21<>\"\", SUMPRODUCT(--($C$7:$C$107=$C21), --($D$7:$D$107=$D21), --($E$7:$E$107=$E21), --($F$7:$F$107=$F21), --($G$7:$G$107=$G21), --($H$7:$H$107=$H21), --($I$7:$I$107=$I21), --('Seznam střelců'!$I21 <'Seznam střelců'!$I$7:$I$107)),\"\")","v":0},{"$f":"IF($A21<>\"\", SUMPRODUCT(--($C$7:$C$107=$C21), --($D$7:$D$107=$D21), --($E$7:$E$107=$E21), --($F$7:$F$107=$F21), --($G$7:$G$107=$G21), --($H$7:$H$107=$H21), --($I$7:$I$107=$I21), --($J$7:$J$107=$J21), --('Seznam střelců'!$H21 <'Seznam střelců'!$H$7:$H$107)),\"\")","v":0},{"$f":"IF($A21<>\"\", SUMPRODUCT(--($C$7:$C$107=$C21), --($D$7:$D$107=$D21), --($E$7:$E$107=$E21), --($F$7:$F$107=$F21), --($G$7:$G$107=$G21), --($H$7:$H$107=$H21), --($I$7:$I$107=$I21), --($J$7:$J$107=$J21), --($K$7:$K$107=$K21), --('Seznam střelců'!$G21 <'Seznam střelců'!$G$7:$G$107)),\"\")","v":0},{"$f":"IF($A21<>\"\", SUMPRODUCT(--($C$7:$C$107=$C21), --($D$7:$D$107=$D21), --($E$7:$E$107=$E21), --($F$7:$F$107=$F21), --($G$7:$G$107=$G21), --($H$7:$H$107=$H21), --($I$7:$I$107=$I21), --($J$7:$J$107=$J21), --($K$7:$K$107=$K21), --($L$7:$L$107=$L21), --('Seznam střelců'!$F21 <'Seznam střelců'!$F$7:$F$107)),\"\")","v":0},{"$f":"IF($A21<>\"\", SUMPRODUCT(--($C$7:$C$107=$C21), --($D$7:$D$107=$D21), --($E$7:$E$107=$E21), --($F$7:$F$107=$F21), --($G$7:$G$107=$G21), --($H$7:$H$107=$H21), --($I$7:$I$107=$I21),  --($J$7:$J$107=$J21), --($K$7:$K$107=$K21), --($L$7:$L$107=$L21),--($M$7:$M$107=$M21), --('Seznam střelců'!$Q21 <'Seznam střelců'!$Q$7:$Q$107)),\"\")","v":0},{"$f":"IF($A21<>\"\",\n      IF(ISBLANK('Seznam střelců'!$P21),\n         SUM($C21:$N21),\n         $C21+SUMPRODUCT(--($C$7:$C$107=$C21), --('Seznam střelců'!$Q21 <'Seznam střelců'!$Q$7:$Q$107))\n      ),\n      \"\")","v":26},{"$f":"IF(A21<>\"\",COUNTIF($O$7:$O21,$O21)-1,\"\")","v":0},26]
[{"$f":"'Seznam střelců'!A22","v":16},{"$f":"IF('Seznam střelců'!C22<>\"\", 0, 'Seznam střelců'!R22)","v":56},2,{"$f":"IF($A22<>\"\", SUMPRODUCT(--($C$7:$C$107=$C22), --('Seznam střelců'!$O22 < 'Seznam střelců'!$O$7:$O$107)),\"\")","v":0},{"$f":"IF($A22<>\"\", SUMPRODUCT(--($C$7:$C$107=$C22), --($D$7:$D$107=$D22), --('Seznam střelců'!$N22 <'Seznam střelců'!$N$7:$N$107)),\"\")","v":0},{"$f":"IF($A22<>\"\", SUMPRODUCT(--($C$7:$C$107=$C22), --($D$7:$D$107=$D22), --($E$7:$E$107=$E22), --('Seznam střelců'!$M22 <'Seznam střelců'!$M$7:$M$107)),\"\")","v":0},{"$f":"IF($A22<>\"\", SUMPRODUCT(--($C$7:$C$107=$C22), --($D$7:$D$107=$D22), --($E$7:$E$107=$E22), --($F$7:$F$107=$F22), --('Seznam střelců'!$L22 <'Seznam střelců'!$L$7:$L$107)),\"\")","v":0},{"$f":"IF($A22<>\"\", SUMPRODUCT(--($C$7:$C$107=$C22), --($D$7:$D$107=$D22), --($E$7:$E$107=$E22), --($F$7:$F$107=$F22), --($G$7:$G$107=$G22), --('Seznam střelců'!$K22 <'Seznam střelců'!$K$7:$K$107)),\"\")","v":0},{"$f":"IF($A22<>\"\", SUMPRODUCT(--($C$7:$C$107=$C22), --($D$7:$D$107=$D22), --($E$7:$E$107=$E22), --($F$7:$F$107=$F22), --($G$7:$G$107=$G22), --($H$7:$H$107=$H22), --('Seznam střelců'!$J22 <'Seznam střelců'!$J$7:$J$107)),\"\")","v":0},{"$f":"IF($A22<>\"\", SUMPRODUCT(--($C$7:$C$107=$C22), --($D$7:$D$107=$D22), --($E$7:$E$107=$E22), --($F$7:$F$107=$F22), --($G$7:$G$107=$G22), --($H$7:$H$107=$H22), --($I$7:$I$107=$I22), --('Seznam střelců'!$I22 <'Seznam střelců'!$I$7:$I$107)),\"\")","v":0},{"$f":"IF($A22<>\"\", SUMPRODUCT(--($C$7:$C$107=$C22), --($D$7:$D$107=$D22), --($E$7:$E$107=$E22), --($F$7:$F$107=$F22), --($G$7:$G$107=$G22), --($H$7:$H$107=$H22), --($I$7:$I$107=$I22), --($J$7:$J$107=$J22), --('Seznam střelců'!$H22 <'Seznam střelců'!$H$7:$H$107)),\"\")","v":0},{"$f":"IF($A22<>\"\", SUMPRODUCT(--($C$7:$C$107=$C22), --($D$7:$D$107=$D22), --($E$7:$E$107=$E22), --($F$7:$F$107=$F22), --($G$7:$G$107=$G22), --($H$7:$H$107=$H22), --($I$7:$I$107=$I22), --($J$7:$J$107=$J22), --($K$7:$K$107=$K22), --('Seznam střelců'!$G22 <'Seznam střelců'!$G$7:$G$107)),\"\")","v":0},{"$f":"IF($A22<>\"\", SUMPRODUCT(--($C$7:$C$107=$C22), --($D$7:$D$107=$D22), --($E$7:$E$107=$E22), --($F$7:$F$107=$F22), --($G$7:$G$107=$G22), --($H$7:$H$107=$H22), --($I$7:$I$107=$I22), --($J$7:$J$107=$J22), --($K$7:$K$107=$K22), --($L$7:$L$107=$L22), --('Seznam střelců'!$F22 <'Seznam střelců'!$F$7:$F$107)),\"\")","v":0},{"$f":"IF($A22<>\"\", SUMPRODUCT(--($C$7:$C$107=$C22), --($D$7:$D$107=$D22), --($E$7:$E$107=$E22), --($F$7:$F$107=$F22), --($G$7:$G$107=$G22), --($H$7:$H$107=$H22), --($I$7:$I$107=$I22),  --($J$7:$J$107=$J22), --($K$7:$K$107=$K22), --($L$7:$L$107=$L22),--($M$7:$M$107=$M22), --('Seznam střelců'!$Q22 <'Seznam střelců'!$Q$7:$Q$107)),\"\")","v":0},{"$f":"IF($A22<>\"\",\n      IF(ISBLANK('Seznam střelců'!$P22),\n         SUM($C22:$N22),\n         $C22+SUMPRODUCT(--($C$7:$C$107=$C22), --('Seznam střelců'!$Q22 <'Seznam střelců'!$Q$7:$Q$107))\n      ),\n      \"\")","v":2},{"$f":"IF(A22<>\"\",COUNTIF($O$7:$O22,$O22)-1,\"\")","v":0},2]
[{"$f":"'Seznam střelců'!A23","v":17},{"$f":"IF('Seznam střelců'!C23<>\"\", 0, 'Seznam střelců'!R23)","v":48},13,{"$f":"IF($A23<>\"\", SUMPRODUCT(--($C$7:$C$107=$C23), --('Seznam střelců'!$O23 < 'Seznam střelců'!$O$7:$O$107)),\"\")","v":0},{"$f":"IF($A23<>\"\", SUMPRODUCT(--($C$7:$C$107=$C23), --($D$7:$D$107=$D23), --('Seznam střelců'!$N23 <'Seznam střelců'!$N$7:$N$107)),\"\")","v":1},{"$f":"IF($A23<>\"\", SUMPRODUCT(--($C$7:$C$107=$C23), --($D$7:$D$107=$D23), --($E$7:$E$107=$E23), --('Seznam střelců'!$M23 <'Seznam střelců'!$M$7:$M$107)),\"\")","v":0},{"$f":"IF($A23<>\"\", SUMPRODUCT(--($C$7:$C$107=$C23), --($D$7:$D$107=$D23), --($E$7:$E$107=$E23), --($F$7:$F$107=$F23), --('Seznam střelců'!$L23 <'Seznam střelců'!$L$7:$L$107)),\"\")","v":0},{"$f":"IF($A23<>\"\", SUMPRODUCT(--($C$7:$C$107=$C23), --($D$7:$D$107=$D23), --($E$7:$E$107=$E23), --($F$7:$F$107=$F23), --($G$7:$G$107=$G23), --('Seznam střelců'!$K23 <'Seznam střelců'!$K$7:$K$107)),\"\")","v":0},{"$f":"IF($A23<>\"\", SUMPRODUCT(--($C$7:$C$107=$C23), --($D$7:$D$107=$D23), --($E$7:$E$107=$E23), --($F$7:$F$107=$F23), --($G$7:$G$107=$G23), --($H$7:$H$107=$H23), --('Seznam střelců'!$J23 <'Seznam střelců'!$J$7:$J$107)),\"\")","v":0},{"$f":"IF($A23<>\"\", SUMPRODUCT(--($C$7:$C$107=$C23), --($D$7:$D$107=$D23), --($E$7:$E$107=$E23), --($F$7:$F$107=$F23), --($G$7:$G$107=$G23), --($H$7:$H$107=$H23), --($I$7:$I$107=$I23), --('Seznam střelců'!$I23 <'Seznam střelců'!$I$7:$I$107)),\"\")","v":0},{"$f":"IF($A23<>\"\", SUMPRODUCT(--($C$7:$C$107=$C23), --($D$7:$D$107=$D23), --($E$7:$E$107=$E23), --($F$7:$F$107=$F23), --($G$7:$G$107=$G23), --($H$7:$H$107=$H23), --($I$7:$I$107=$I23), --($J$7:$J$107=$J23), --('Seznam střelců'!$H23 <'Seznam střelců'!$H$7:$H$107)),\"\")","v":0},{"$f":"IF($A23<>\"\", SUMPRODUCT(--($C$7:$C$107=$C23), --($D$7:$D$107=$D23), --($E$7:$E$107=$E23), --($F$7:$F$107=$F23), --($G$7:$G$107=$G23), --($H$7:$H$107=$H23), --($I$7:$I$107=$I23), --($J$7:$J$107=$J23), --($K$7:$K$107=$K23), --('Seznam střelců'!$G23 <'Seznam střelců'!$G$7:$G$107)),\"\")","v":0},{"$f":"IF($A23<>\"\", SUMPRODUCT(--($C$7:$C$107=$C23), --($D$7:$D$107=$D23), --($E$7:$E$107=$E23), --($F$7:$F$107=$F23), --($G$7:$G$107=$G23), --($H$7:$H$107=$H23), --($I$7:$I$107=$I23), --($J$7:$J$107=$J23), --($K$7:$K$107=$K23), --($L$7:$L$107=$L23), --('Seznam střelců'!$F23 <'Seznam střelců'!$F$7:$F$107)),\"\")","v":0},{"$f":"IF($A23<>\"\", SUMPRODUCT(--($C$7:$C$107=$C23), --($D$7:$D$107=$D23), --($E$7:$E$107=$E23), --($F$7:$F$107=$F23), --($G$7:$G$107=$G23), --($H$7:$H$107=$H23), --($I$7:$I$107=$I23),  --($J$7:$J$107=$J23), --($K$7:$K$107=$K23), --($L$7:$L$107=$L23),--($M$7:$M$107=$M23), --('Seznam střelců'!$Q23 <'Seznam střelců'!$Q$7:$Q$107)),\"\")","v":0},{"$f":"IF($A23<>\"\",\n      IF(ISBLANK('Seznam střelců'!$P23),\n         SUM($C23:$N23),\n         $C23+SUMPRODUCT(--($C$7:$C$107=$C23), --('Seznam střelců'!$Q23 <'Seznam střelců'!$Q$7:$Q$107))\n      ),\n      \"\")","v":14},{"$f":"IF(A23<>\"\",COUNTIF($O$7:$O23,$O23)-1,\"\")","v":0},14]
[{"$f":"'Seznam střelců'!A24","v":18},{"$f":"IF('Seznam střelců'!C24<>\"\", 0, 'Seznam střelců'!R24)","v":29},34,{"$f":"IF($A24<>\"\", SUMPRODUCT(--($C$7:$C$107=$C24), --('Seznam střelců'!$O24 < 'Seznam střelců'!$O$7:$O$107)),\"\")","v":0},{"$f":"IF($A24<>\"\", SUMPRODUCT(--($C$7:$C$107=$C24), --($D$7:$D$107=$D24), --('Seznam střelců'!$N24 <'Seznam střelců'!$N$7:$N$107)),\"\")","v":0},{"$f":"IF($A24<>\"\", SUMPRODUCT(--($C$7:$C$107=$C24), --($D$7:$D$107=$D24), --($E$7:$E$107=$E24), --('Seznam střelců'!$M24 <'Seznam střelců'!$M$7:$M$107)),\"\")","v":0},{"$f":"IF($A24<>\"\", SUMPRODUCT(--($C$7:$C$107=$C24), --($D$7:$D$107=$D24), --($E$7:$E$107=$E24), --($F$7:$F$107=$F24), --('Seznam střelců'!$L24 <'Seznam střelců'!$L$7:$L$107)),\"\")","v":0},{"$f":"IF($A24<>\"\", SUMPRODUCT(--($C$7:$C$107=$C24), --($D$7:$D$107=$D24), --($E$7:$E$107=$E24), --($F$7:$F$107=$F24), --($G$7:$G$107=$G24), --('Seznam střelců'!$K24 <'Seznam střelců'!$K$7:$K$107)),\"\")","v":0},{"$f":"IF($A24<>\"\", SUMPRODUCT(--($C$7:$C$107=$C24), --($D$7:$D$107=$D24), --($E$7:$E$107=$E24), --($F$7:$F$107=$F24), --($G$7:$G$107=$G24), --($H$7:$H$107=$H24), --('Seznam střelců'!$J24 <'Seznam střelců'!$J$7:$J$107)),\"\")","v":0},{"$f":"IF($A24<>\"\", SUMPRODUCT(--($C$7:$C$107=$C24), --($D$7:$D$107=$D24), --($E$7:$E$107=$E24), --($F$7:$F$107=$F24), --($G$7:$G$107=$G24), --($H$7:$H$107=$H24), --($I$7:$I$107=$I24), --('Seznam střelců'!$I24 <'Seznam střelců'!$I$7:$I$107)),\"\")","v":0},{"$f":"IF($A24<>\"\", SUMPRODUCT(--($C$7:$C$107=$C24), --($D$7:$D$107=$D24), --($E$7:$E$107=$E24), --($F$7:$F$107=$F24), --($G$7:$G$107=$G24), --($H$7:$H$107=$H24), --($I$7:$I$107=$I24), --($J$7:$J$107=$J24), --('Seznam střelců'!$H24 <'Seznam střelců'!$H$7:$H$107)),\"\")","v":0},{"$f":"IF($A24<>\"\", SUMPRODUCT(--($C$7:$C$107=$C24), --($D$7:$D$107=$D24), --($E$7:$E$107=$E24), --($F$7:$F$107=$F24), --($G$7:$G$107=$G24), --($H$7:$H$107=$H24), --($I$7:$I$107=$I24), --($J$7:$J$107=$J24), --($K$7:$K$107=$K24), --('Seznam střelců'!$G24 <'Seznam střelců'!$G$7:$G$107)),\"\")","v":0},{"$f":"IF($A24<>\"\", SUMPRODUCT(--($C$7:$C$107=$C24), --($D$7:$D$107=$D24), --($E$7:$E$107=$E24), --($F$7:$F$107=$F24), --($G$7:$G$107=$G24), --($H$7:$H$107=$H24), --($I$7:$I$107=$I24), --($J$7:$J$107=$J24), --($K$7:$K$107=$K24), --($L$7:$L$107=$L24), --('Seznam střelců'!$F24 <'Seznam střelců'!$F$7:$F$107)),\"\")","v":0},{"$f":"IF($A24<>\"\", SUMPRODUCT(--($C$7:$C$107=$C24), --($D$7:$D$107=$D24), --($E$7:$E$107=$E24), --($F$7:$F$107=$F24), --($G$7:$G$107=$G24), --($H$7:$H$107=$H24), --($I$7:$I$107=$I24),  --($J$7:$J$107=$J24), --($K$7:$K$107=$K24), --($L$7:$L$107=$L24),--($M$7:$M$107=$M24), --('Seznam střelců'!$Q24 <'Seznam střelců'!$Q$7:$Q$107)),\"\")","v":0},{"$f":"IF($A24<>\"\",\n      IF(ISBLANK('Seznam střelců'!$P24),\n         SUM($C24:$N24),\n         $C24+SUMPRODUCT(--($C$7:$C$107=$C24), --('Seznam střelců'!$Q24 <'Seznam střelců'!$Q$7:$Q$107))\n      ),\n      \"\")","v":34},{"$f":"IF(A24<>\"\",COUNTIF($O$7:$O24,$O24)-1,\"\")","v":0},34]
[{"$f":"'Seznam střelců'!A25","v":19},{"$f":"IF('Seznam střelců'!C25<>\"\", 0, 'Seznam střelců'!R25)","v":53},4,{"$f":"IF($A25<>\"\", SUMPRODUCT(--($C$7:$C$107=$C25), --('Seznam střelců'!$O25 < 'Seznam střelců'!$O$7:$O$107)),\"\")","v":0},{"$f":"IF($A25<>\"\", SUMPRODUCT(--($C$7:$C$107=$C25), --($D$7:$D$107=$D25), --('Seznam střelců'!$N25 <'Seznam střelců'!$N$7:$N$107)),\"\")","v":0},{"$f":"IF($A25<>\"\", SUMPRODUCT(--($C$7:$C$107=$C25), --($D$7:$D$107=$D25), --($E$7:$E$107=$E25), --('Seznam střelců'!$M25 <'Seznam střelců'!$M$7:$M$107)),\"\")","v":0},{"$f":"IF($A25<>\"\", SUMPRODUCT(--($C$7:$C$107=$C25), --($D$7:$D$107=$D25), --($E$7:$E$107=$E25), --($F$7:$F$107=$F25), --('Seznam střelců'!$L25 <'Seznam střelců'!$L$7:$L$107)),\"\")","v":0},{"$f":"IF($A25<>\"\", SUMPRODUCT(--($C$7:$C$107=$C25), --($D$7:$D$107=$D25), --($E$7:$E$107=$E25), --($F$7:$F$107=$F25), --($G$7:$G$107=$G25), --('Seznam střelců'!$K25 <'Seznam střelců'!$K$7:$K$107)),\"\")","v":0},{"$f":"IF($A25<>\"\", SUMPRODUCT(--($C$7:$C$107=$C25), --($D$7:$D$107=$D25), --($E$7:$E$107=$E25), --($F$7:$F$107=$F25), --($G$7:$G$107=$G25), --($H$7:$H$107=$H25), --('Seznam střelců'!$J25 <'Seznam střelců'!$J$7:$J$107)),\"\")","v":0},{"$f":"IF($A25<>\"\", SUMPRODUCT(--($C$7:$C$107=$C25), --($D$7:$D$107=$D25), --($E$7:$E$107=$E25), --($F$7:$F$107=$F25), --($G$7:$G$107=$G25), --($H$7:$H$107=$H25), --($I$7:$I$107=$I25), --('Seznam střelců'!$I25 <'Seznam střelců'!$I$7:$I$107)),\"\")","v":0},{"$f":"IF($A25<>\"\", SUMPRODUCT(--($C$7:$C$107=$C25), --($D$7:$D$107=$D25), --($E$7:$E$107=$E25), --($F$7:$F$107=$F25), --($G$7:$G$107=$G25), --($H$7:$H$107=$H25), --($I$7:$I$107=$I25), --($J$7:$J$107=$J25), --('Seznam střelců'!$H25 <'Seznam střelců'!$H$7:$H$107)),\"\")","v":0},{"$f":"IF($A25<>\"\", SUMPRODUCT(--($C$7:$C$107=$C25), --($D$7:$D$107=$D25), --($E$7:$E$107=$E25), --($F$7:$F$107=$F25), --($G$7:$G$107=$G25), --($H$7:$H$107=$H25), --($I$7:$I$107=$I25), --($J$7:$J$107=$J25), --($K$7:$K$107=$K25), --('Seznam střelců'!$G25 <'Seznam střelců'!$G$7:$G$107)),\"\")","v":0},{"$f":"IF($A25<>\"\", SUMPRODUCT(--($C$7:$C$107=$C25), --($D$7:$D$107=$D25), --($E$7:$E$107=$E25), --($F$7:$F$107=$F25), --($G$7:$G$107=$G25), --($H$7:$H$107=$H25), --($I$7:$I$107=$I25), --($J$7:$J$107=$J25), --($K$7:$K$107=$K25), --($L$7:$L$107=$L25), --('Seznam střelců'!$F25 <'Seznam střelců'!$F$7:$F$107)),\"\")","v":0},{"$f":"IF($A25<>\"\", SUMPRODUCT(--($C$7:$C$107=$C25), --($D$7:$D$107=$D25), --($E$7:$E$107=$E25), --($F$7:$F$107=$F25), --($G$7:$G$107=$G25), --($H$7:$H$107=$H25), --($I$7:$I$107=$I25),  --($J$7:$J$107=$J25), --($K$7:$K$107=$K25), --($L$7:$L$107=$L25),--($M$7:$M$107=$M25), --('Seznam střelců'!$Q25 <'Seznam střelců'!$Q$7:$Q$107)),\"\")","v":0},{"$f":"IF($A25<>\"\",\n      IF(ISBLANK('Seznam střelců'!$P25),\n         SUM($C25:$N25),\n         $C25+SUMPRODUCT(--($C$7:$C$107=$C25), --('Seznam střelců'!$Q25 <'Seznam střelců'!$Q$7:$Q$107))\n      ),\n      \"\")","v":4},{"$f":"IF(A25<>\"\",COUNTIF($O$7:$O25,$O25)-1,\"\")","v":0},4]
[{"$f":"'Seznam střelců'!A26","v":20},{"$f":"IF('Seznam střelců'!C26<>\"\", 0, 'Seznam střelců'!R26)","v":47},18,{"$f":"IF($A26<>\"\", SUMPRODUCT(--($C$7:$C$107=$C26), --('Seznam střelců'!$O26 < 'Seznam střelců'!$O$7:$O$107)),\"\")","v":3},{"$f":"IF($A26<>\"\", SUMPRODUCT(--($C$7:$C$107=$C26), --($D$7:$D$107=$D26), --('Seznam střelců'!$N26 <'Seznam střelců'!$N$7:$N$107)),\"\")","v":0},{"$f":"IF($A26<>\"\", SUMPRODUCT(--($C$7:$C$107=$C26), --($D$7:$D$107=$D26), --($E$7:$E$107=$E26), --('Seznam střelců'!$M26 <'Seznam střelců'!$M$7:$M$107)),\"\")","v":0},{"$f":"IF($A26<>\"\", SUMPRODUCT(--($C$7:$C$107=$C26), --($D$7:$D$107=$D26), --($E$7:$E$107=$E26), --($F$7:$F$107=$F26), --('Seznam střelců'!$L26 <'Seznam střelců'!$L$7:$L$107)),\"\")","v":0},{"$f":"IF($A26<>\"\", SUMPRODUCT(--($C$7:$C$107=$C26), --($D$7:$D$107=$D26), --($E$7:$E$107=$E26), --($F$7:$F$107=$F26), --($G$7:$G$107=$G26), --('Seznam střelců'!$K26 <'Seznam střelců'!$K$7:$K$107)),\"\")","v":0},{"$f":"IF($A26<>\"\", SUMPRODUCT(--($C$7:$C$107=$C26), --($D$7:$D$107=$D26), --($E$7:$E$107=$E26), --($F$7:$F$107=$F26), --($G$7:$G$107=$G26), --($H$7:$H$107=$H26), --('Seznam střelců'!$J26 <'Seznam střelců'!$J$7:$J$107)),\"\")","v":0},{"$f":"IF($A26<>\"\", SUMPRODUCT(--($C$7:$C$107=$C26), --($D$7:$D$107=$D26), --($E$7:$E$107=$E26), --($F$7:$F$107=$F26), --($G$7:$G$107=$G26), --($H$7:$H$107=$H26), --($I$7:$I$107=$I26), --('Seznam střelců'!$I26 <'Seznam střelců'!$I$7:$I$107)),\"\")","v":0},{"$f":"IF($A26<>\"\", SUMPRODUCT(--($C$7:$C$107=$C26), --($D$7:$D$107=$D26), --($E$7:$E$107=$E26), --($F$7:$F$107=$F26), --($G$7:$G$107=$G26), --($H$7:$H$107=$H26), --($I$7:$I$107=$I26), --($J$7:$J$107=$J26), --('Seznam střelců'!$H26 <'Seznam střelců'!$H$7:$H$107)),\"\")","v":0},{"$f":"IF($A26<>\"\", SUMPRODUCT(--($C$7:$C$107=$C26), --($D$7:$D$107=$D26), --($E$7:$E$107=$E26), --($F$7:$F$107=$F26), --($G$7:$G$107=$G26), --($H$7:$H$107=$H26), --($I$7:$I$107=$I26), --($J$7:$J$107=$J26), --($K$7:$K$107=$K26), --('Seznam střelců'!$G26 <'Seznam střelců'!$G$7:$G$107)),\"\")","v":0},{"$f":"IF($A26<>\"\", SUMPRODUCT(--($C$7:$C$107=$C26), --($D$7:$D$107=$D26), --($E$7:$E$107=$E26), --($F$7:$F$107=$F26), --($G$7:$G$107=$G26), --($H$7:$H$107=$H26), --($I$7:$I$107=$I26), --($J$7:$J$107=$J26), --($K$7:$K$107=$K26), --($L$7:$L$107=$L26), --('Seznam střelců'!$F26 <'Seznam střelců'!$F$7:$F$107)),\"\")","v":0},{"$f":"IF($A26<>\"\", SUMPRODUCT(--($C$7:$C$107=$C26), --($D$7:$D$107=$D26), --($E$7:$E$107=$E26), --($F$7:$F$107=$F26), --($G$7:$G$107=$G26), --($H$7:$H$107=$H26), --($I$7:$I$107=$I26),  --($J$7:$J$107=$J26), --($K$7:$K$107=$K26), --($L$7:$L$107=$L26),--($M$7:$M$107=$M26), --('Seznam střelců'!$Q26 <'Seznam střelců'!$Q$7:$Q$107)),\"\")","v":0},{"$f":"IF($A26<>\"\",\n      IF(ISBLANK('Seznam střelců'!$P26),\n         SUM($C26:$N26),\n         $C26+SUMPRODUCT(--($C$7:$C$107=$C26), --('Seznam střelců'!$Q26 <'Seznam střelců'!$Q$7:$Q$107))\n      ),\n      \"\")","v":21},{"$f":"IF(A26<>\"\",COUNTIF($O$7:$O26,$O26)-1,\"\")","v":0},21]
[{"$f":"'Seznam střelců'!A27","v":21},{"$f":"IF('Seznam střelců'!C27<>\"\", 0, 'Seznam střelců'!R27)","v":36},30,{"$f":"IF($A27<>\"\", SUMPRODUCT(--($C$7:$C$107=$C27), --('Seznam střelců'!$O27 < 'Seznam střelců'!$O$7:$O$107)),\"\")","v":0},{"$f":"IF($A27<>\"\", SUMPRODUCT(--($C$7:$C$107=$C27), --($D$7:$D$107=$D27), --('Seznam střelců'!$N27 <'Seznam střelců'!$N$7:$N$107)),\"\")","v":0},{"$f":"IF($A27<>\"\", SUMPRODUCT(--($C$7:$C$107=$C27), --($D$7:$D$107=$D27), --($E$7:$E$107=$E27), --('Seznam střelců'!$M27 <'Seznam střelců'!$M$7:$M$107)),\"\")","v":0},{"$f":"IF($A27<>\"\", SUMPRODUCT(--($C$7:$C$107=$C27), --($D$7:$D$107=$D27), --($E$7:$E$107=$E27), --($F$7:$F$107=$F27), --('Seznam střelců'!$L27 <'Seznam střelců'!$L$7:$L$107)),\"\")","v":0},{"$f":"IF($A27<>\"\", SUMPRODUCT(--($C$7:$C$107=$C27), --($D$7:$D$107=$D27), --($E$7:$E$107=$E27), --($F$7:$F$107=$F27), --($G$7:$G$107=$G27), --('Seznam střelců'!$K27 <'Seznam střelců'!$K$7:$K$107)),\"\")","v":0},{"$f":"IF($A27<>\"\", SUMPRODUCT(--($C$7:$C$107=$C27), --($D$7:$D$107=$D27), --($E$7:$E$107=$E27), --($F$7:$F$107=$F27), --($G$7:$G$107=$G27), --($H$7:$H$107=$H27), --('Seznam střelců'!$J27 <'Seznam střelců'!$J$7:$J$107)),\"\")","v":0},{"$f":"IF($A27<>\"\", SUMPRODUCT(--($C$7:$C$107=$C27), --($D$7:$D$107=$D27), --($E$7:$E$107=$E27), --($F$7:$F$107=$F27), --($G$7:$G$107=$G27), --($H$7:$H$107=$H27), --($I$7:$I$107=$I27), --('Seznam střelců'!$I27 <'Seznam střelců'!$I$7:$I$107)),\"\")","v":0},{"$f":"IF($A27<>\"\", SUMPRODUCT(--($C$7:$C$107=$C27), --($D$7:$D$107=$D27), --($E$7:$E$107=$E27), --($F$7:$F$107=$F27), --($G$7:$G$107=$G27), --($H$7:$H$107=$H27), --($I$7:$I$107=$I27), --($J$7:$J$107=$J27), --('Seznam střelců'!$H27 <'Seznam střelců'!$H$7:$H$107)),\"\")","v":0},{"$f":"IF($A27<>\"\", SUMPRODUCT(--($C$7:$C$107=$C27), --($D$7:$D$107=$D27), --($E$7:$E$107=$E27), --($F$7:$F$107=$F27), --($G$7:$G$107=$G27), --($H$7:$H$107=$H27), --($I$7:$I$107=$I27), --($J$7:$J$107=$J27), --($K$7:$K$107=$K27), --('Seznam střelců'!$G27 <'Seznam střelců'!$G$7:$G$107)),\"\")","v":0},{"$f":"IF($A27<>\"\", SUMPRODUCT(--($C$7:$C$107=$C27), --($D$7:$D$107=$D27), --($E$7:$E$107=$E27), --($F$7:$F$107=$F27), --($G$7:$G$107=$G27), --($H$7:$H$107=$H27), --($I$7:$I$107=$I27), --($J$7:$J$107=$J27), --($K$7:$K$107=$K27), --($L$7:$L$107=$L27), --('Seznam střelců'!$F27 <'Seznam střelců'!$F$7:$F$107)),\"\")","v":0},{"$f":"IF($A27<>\"\", SUMPRODUCT(--($C$7:$C$107=$C27), --($D$7:$D$107=$D27), --($E$7:$E$107=$E27), --($F$7:$F$107=$F27), --($G$7:$G$107=$G27), --($H$7:$H$107=$H27), --($I$7:$I$107=$I27),  --($J$7:$J$107=$J27), --($K$7:$K$107=$K27), --($L$7:$L$107=$L27),--($M$7:$M$107=$M27), --('Seznam střelců'!$Q27 <'Seznam střelců'!$Q$7:$Q$107)),\"\")","v":0},{"$f":"IF($A27<>\"\",\n      IF(ISBLANK('Seznam střelců'!$P27),\n         SUM($C27:$N27),\n         $C27+SUMPRODUCT(--($C$7:$C$107=$C27), --('Seznam střelců'!$Q27 <'Seznam střelců'!$Q$7:$Q$107))\n      ),\n      \"\")","v":30},{"$f":"IF(A27<>\"\",COUNTIF($O$7:$O27,$O27)-1,\"\")","v":0},30]
[{"$f":"'Seznam střelců'!A28","v":22},{"$f":"IF('Seznam střelců'!C28<>\"\", 0, 'Seznam střelců'!R28)","v":53},4,{"$f":"IF($A28<>\"\", SUMPRODUCT(--($C$7:$C$107=$C28), --('Seznam střelců'!$O28 < 'Seznam střelců'!$O$7:$O$107)),\"\")","v":1},{"$f":"IF($A28<>\"\", SUMPRODUCT(--($C$7:$C$107=$C28), --($D$7:$D$107=$D28), --('Seznam střelců'!$N28 <'Seznam střelců'!$N$7:$N$107)),\"\")","v":1},{"$f":"IF($A28<>\"\", SUMPRODUCT(--($C$7:$C$107=$C28), --($D$7:$D$107=$D28), --($E$7:$E$107=$E28), --('Seznam střelců'!$M28 <'Seznam střelců'!$M$7:$M$107)),\"\")","v":0},{"$f":"IF($A28<>\"\", SUMPRODUCT(--($C$7:$C$107=$C28), --($D$7:$D$107=$D28), --($E$7:$E$107=$E28), --($F$7:$F$107=$F28), --('Seznam střelců'!$L28 <'Seznam střelců'!$L$7:$L$107)),\"\")","v":0},{"$f":"IF($A28<>\"\", SUMPRODUCT(--($C$7:$C$107=$C28), --($D$7:$D$107=$D28), --($E$7:$E$107=$E28), --($F$7:$F$107=$F28), --($G$7:$G$107=$G28), --('Seznam střelců'!$K28 <'Seznam střelců'!$K$7:$K$107)),\"\")","v":0},{"$f":"IF($A28<>\"\", SUMPRODUCT(--($C$7:$C$107=$C28), --($D$7:$D$107=$D28), --($E$7:$E$107=$E28), --($F$7:$F$107=$F28), --($G$7:$G$107=$G28), --($H$7:$H$107=$H28), --('Seznam střelců'!$J28 <'Seznam střelců'!$J$7:$J$107)),\"\")","v":0},{"$f":"IF($A28<>\"\", SUMPRODUCT(--($C$7:$C$107=$C28), --($D$7:$D$107=$D28), --($E$7:$E$107=$E28), --($F$7:$F$107=$F28), --($G$7:$G$107=$G28), --($H$7:$H$107=$H28), --($I$7:$I$107=$I28), --('Seznam střelců'!$I28 <'Seznam střelců'!$I$7:$I$107)),\"\")","v":0},{"$f":"IF($A28<>\"\", SUMPRODUCT(--($C$7:$C$107=$C28), --($D$7:$D$107=$D28), --($E$7:$E$107=$E28), --($F$7:$F$107=$F28), --($G$7:$G$107=$G28), --($H$7:$H$107=$H28), --($I$7:$I$107=$I28), --($J$7:$J$107=$J28), --('Seznam střelců'!$H28 <'Seznam střelců'!$H$7:$H$107)),\"\")","v":0},{"$f":"IF($A28<>\"\", SUMPRODUCT(--($C$7:$C$107=$C28), --($D$7:$D$107=$D28), --($E$7:$E$107=$E28), --($F$7:$F$107=$F28), --($G$7:$G$107=$G28), --($H$7:$H$107=$H28), --($I$7:$I$107=$I28), --($J$7:$J$107=$J28), --($K$7:$K$107=$K28), --('Seznam střelců'!$G28 <'Seznam střelců'!$G$7:$G$107)),\"\")","v":0},{"$f":"IF($A28<>\"\", SUMPRODUCT(--($C$7:$C$107=$C28), --($D$7:$D$107=$D28), --($E$7:$E$107=$E28), --($F$7:$F$107=$F28), --($G$7:$G$107=$G28), --($H$7:$H$107=$H28), --($I$7:$I$107=$I28), --($J$7:$J$107=$J28), --($K$7:$K$107=$K28), --($L$7:$L$107=$L28), --('Seznam střelců'!$F28 <'Seznam střelců'!$F$7:$F$107)),\"\")","v":0},{"$f":"IF($A28<>\"\", SUMPRODUCT(--($C$7:$C$107=$C28), --($D$7:$D$107=$D28), --($E$7:$E$107=$E28), --($F$7:$F$107=$F28), --($G$7:$G$107=$G28), --($H$7:$H$107=$H28), --($I$7:$I$107=$I28),  --($J$7:$J$107=$J28), --($K$7:$K$107=$K28), --($L$7:$L$107=$L28),--($M$7:$M$107=$M28), --('Seznam střelců'!$Q28 <'Seznam střelců'!$Q$7:$Q$107)),\"\")","v":0},{"$f":"IF($A28<>\"\",\n      IF(ISBLANK('Seznam střelců'!$P28),\n         SUM($C28:$N28),\n         $C28+SUMPRODUCT(--($C$7:$C$107=$C28), --('Seznam střelců'!$Q28 <'Seznam střelců'!$Q$7:$Q$107))\n      ),\n      \"\")","v":6},{"$f":"IF(A28<>\"\",COUNTIF($O$7:$O28,$O28)-1,\"\")","v":0},6]
[{"$f":"'Seznam střelců'!A29","v":23},{"$f":"IF('Seznam střelců'!C29<>\"\", 0, 'Seznam střelců'!R29)","v":48},13,{"$f":"IF($A29<>\"\", SUMPRODUCT(--($C$7:$C$107=$C29), --('Seznam střelců'!$O29 < 'Seznam střelců'!$O$7:$O$107)),\"\")","v":3},{"$f":"IF($A29<>\"\", SUMPRODUCT(--($C$7:$C$107=$C29), --($D$7:$D$107=$D29), --('Seznam střelců'!$N29 <'Seznam střelců'!$N$7:$N$107)),\"\")","v":0},{"$f":"IF($A29<>\"\", SUMPRODUCT(--($C$7:$C$107=$C29), --($D$7:$D$107=$D29), --($E$7:$E$107=$E29), --('Seznam střelců'!$M29 <'Seznam střelců'!$M$7:$M$107)),\"\")","v":0},{"$f":"IF($A29<>\"\", SUMPRODUCT(--($C$7:$C$107=$C29), --($D$7:$D$107=$D29), --($E$7:$E$107=$E29), --($F$7:$F$107=$F29), --('Seznam střelců'!$L29 <'Seznam střelců'!$L$7:$L$107)),\"\")","v":0},{"$f":"IF($A29<>\"\", SUMPRODUCT(--($C$7:$C$107=$C29), --($D$7:$D$107=$D29), --($E$7:$E$107=$E29), --($F$7:$F$107=$F29), --($G$7:$G$107=$G29), --('Seznam střelců'!$K29 <'Seznam střelců'!$K$7:$K$107)),\"\")","v":0},{"$f":"IF($A29<>\"\", SUMPRODUCT(--($C$7:$C$107=$C29), --($D$7:$D$107=$D29), --($E$7:$E$107=$E29), --($F$7:$F$107=$F29), --($G$7:$G$107=$G29), --($H$7:$H$107=$H29), --('Seznam střelců'!$J29 <'Seznam střelců'!$J$7:$J$107)),\"\")","v":0},{"$f":"IF($A29<>\"\", SUMPRODUCT(--($C$7:$C$107=$C29), --($D$7:$D$107=$D29), --($E$7:$E$107=$E29), --($F$7:$F$107=$F29), --($G$7:$G$107=$G29), --($H$7:$H$107=$H29), --($I$7:$I$107=$I29), --('Seznam střelců'!$I29 <'Seznam střelců'!$I$7:$I$107)),\"\")","v":0},{"$f":"IF($A29<>\"\", SUMPRODUCT(--($C$7:$C$107=$C29), --($D$7:$D$107=$D29), --($E$7:$E$107=$E29), --($F$7:$F$107=$F29), --($G$7:$G$107=$G29), --($H$7:$H$107=$H29), --($I$7:$I$107=$I29), --($J$7:$J$107=$J29), --('Seznam střelců'!$H29 <'Seznam střelců'!$H$7:$H$107)),\"\")","v":0},{"$f":"IF($A29<>\"\", SUMPRODUCT(--($C$7:$C$107=$C29), --($D$7:$D$107=$D29), --($E$7:$E$107=$E29), --($F$7:$F$107=$F29), --($G$7:$G$107=$G29), --($H$7:$H$107=$H29), --($I$7:$I$107=$I29), --($J$7:$J$107=$J29), --($K$7:$K$107=$K29), --('Seznam střelců'!$G29 <'Seznam střelců'!$G$7:$G$107)),\"\")","v":0},{"$f":"IF($A29<>\"\", SUMPRODUCT(--($C$7:$C$107=$C29), --($D$7:$D$107=$D29), --($E$7:$E$107=$E29), --($F$7:$F$107=$F29), --($G$7:$G$107=$G29), --($H$7:$H$107=$H29), --($I$7:$I$107=$I29), --($J$7:$J$107=$J29), --($K$7:$K$107=$K29), --($L$7:$L$107=$L29), --('Seznam střelců'!$F29 <'Seznam střelců'!$F$7:$F$107)),\"\")","v":0},{"$f":"IF($A29<>\"\", SUMPRODUCT(--($C$7:$C$107=$C29), --($D$7:$D$107=$D29), --($E$7:$E$107=$E29), --($F$7:$F$107=$F29), --($G$7:$G$107=$G29), --($H$7:$H$107=$H29), --($I$7:$I$107=$I29),  --($J$7:$J$107=$J29), --($K$7:$K$107=$K29), --($L$7:$L$107=$L29),--($M$7:$M$107=$M29), --('Seznam střelců'!$Q29 <'Seznam střelců'!$Q$7:$Q$107)),\"\")","v":1},{"$f":"IF($A29<>\"\",\n      IF(ISBLANK('Seznam střelců'!$P29),\n         SUM($C29:$N29),\n         $C29+SUMPRODUCT(--($C$7:$C$107=$C29), --('Seznam střelců'!$Q29 <'Seznam střelců'!$Q$7:$Q$107))\n      ),\n      \"\")","v":17},{"$f":"IF(A29<>\"\",COUNTIF($O$7:$O29,$O29)-1,\"\")","v":0},17]
[{"$f":"'Seznam střelců'!A30","v":24},{"$f":"IF('Seznam střelců'!C30<>\"\", 0, 'Seznam střelců'!R30)","v":35},31,{"$f":"IF($A30<>\"\", SUMPRODUCT(--($C$7:$C$107=$C30), --('Seznam střelců'!$O30 < 'Seznam střelců'!$O$7:$O$107)),\"\")","v":0},{"$f":"IF($A30<>\"\", SUMPRODUCT(--($C$7:$C$107=$C30), --($D$7:$D$107=$D30), --('Seznam střelců'!$N30 <'Seznam střelců'!$N$7:$N$107)),\"\")","v":0},{"$f":"IF($A30<>\"\", SUMPRODUCT(--($C$7:$C$107=$C30), --($D$7:$D$107=$D30), --($E$7:$E$107=$E30), --('Seznam střelců'!$M30 <'Seznam střelců'!$M$7:$M$107)),\"\")","v":0},{"$f":"IF($A30<>\"\", SUMPRODUCT(--($C$7:$C$107=$C30), --($D$7:$D$107=$D30), --($E$7:$E$107=$E30), --($F$7:$F$107=$F30), --('Seznam střelců'!$L30 <'Seznam střelců'!$L$7:$L$107)),\"\")","v":0},{"$f":"IF($A30<>\"\", SUMPRODUCT(--($C$7:$C$107=$C30), --($D$7:$D$107=$D30), --($E$7:$E$107=$E30), --($F$7:$F$107=$F30), --($G$7:$G$107=$G30), --('Seznam střelců'!$K30 <'Seznam střelců'!$K$7:$K$107)),\"\")","v":0},{"$f":"IF($A30<>\"\", SUMPRODUCT(--($C$7:$C$107=$C30), --($D$7:$D$107=$D30), --($E$7:$E$107=$E30), --($F$7:$F$107=$F30), --($G$7:$G$107=$G30), --($H$7:$H$107=$H30), --('Seznam střelců'!$J30 <'Seznam střelců'!$J$7:$J$107)),\"\")","v":0},{"$f":"IF($A30<>\"\", SUMPRODUCT(--($C$7:$C$107=$C30), --($D$7:$D$107=$D30), --($E$7:$E$107=$E30), --($F$7:$F$107=$F30), --($G$7:$G$107=$G30), --($H$7:$H$107=$H30), --($I$7:$I$107=$I30), --('Seznam střelců'!$I30 <'Seznam střelců'!$I$7:$I$107)),\"\")","v":0},{"$f":"IF($A30<>\"\", SUMPRODUCT(--($C$7:$C$107=$C30), --($D$7:$D$107=$D30), --($E$7:$E$107=$E30), --($F$7:$F$107=$F30), --($G$7:$G$107=$G30), --($H$7:$H$107=$H30), --($I$7:$I$107=$I30), --($J$7:$J$107=$J30), --('Seznam střelců'!$H30 <'Seznam střelců'!$H$7:$H$107)),\"\")","v":0},{"$f":"IF($A30<>\"\", SUMPRODUCT(--($C$7:$C$107=$C30), --($D$7:$D$107=$D30), --($E$7:$E$107=$E30), --($F$7:$F$107=$F30), --($G$7:$G$107=$G30), --($H$7:$H$107=$H30), --($I$7:$I$107=$I30), --($J$7:$J$107=$J30), --($K$7:$K$107=$K30), --('Seznam střelců'!$G30 <'Seznam střelců'!$G$7:$G$107)),\"\")","v":0},{"$f":"IF($A30<>\"\", SUMPRODUCT(--($C$7:$C$107=$C30), --($D$7:$D$107=$D30), --($E$7:$E$107=$E30), --($F$7:$F$107=$F30), --($G$7:$G$107=$G30), --($H$7:$H$107=$H30), --($I$7:$I$107=$I30), --($J$7:$J$107=$J30), --($K$7:$K$107=$K30), --($L$7:$L$107=$L30), --('Seznam střelců'!$F30 <'Seznam střelců'!$F$7:$F$107)),\"\")","v":0},{"$f":"IF($A30<>\"\", SUMPRODUCT(--($C$7:$C$107=$C30), --($D$7:$D$107=$D30), --($E$7:$E$107=$E30), --($F$7:$F$107=$F30), --($G$7:$G$107=$G30), --($H$7:$H$107=$H30), --($I$7:$I$107=$I30),  --($J$7:$J$107=$J30), --($K$7:$K$107=$K30), --($L$7:$L$107=$L30),--($M$7:$M$107=$M30), --('Seznam střelců'!$Q30 <'Seznam střelců'!$Q$7:$Q$107)),\"\")","v":0},{"$f":"IF($A30<>\"\",\n      IF(ISBLANK('Seznam střelců'!$P30),\n         SUM($C30:$N30),\n         $C30+SUMPRODUCT(--($C$7:$C$107=$C30), --('Seznam střelců'!$Q30 <'Seznam střelců'!$Q$7:$Q$107))\n      ),\n      \"\")","v":31},{"$f":"IF(A30<>\"\",COUNTIF($O$7:$O30,$O30)-1,\"\")","v":0},31]
[{"$f":"'Seznam střelců'!A31","v":25},{"$f":"IF('Seznam střelců'!C31<>\"\", 0, 'Seznam střelců'!R31)","v":52},7,{"$f":"IF($A31<>\"\", SUMPRODUCT(--($C$7:$C$107=$C31), --('Seznam střelců'!$O31 < 'Seznam střelců'!$O$7:$O$107)),\"\")","v":1},{"$f":"IF($A31<>\"\", SUMPRODUCT(--($C$7:$C$107=$C31), --($D$7:$D$107=$D31), --('Seznam střelců'!$N31 <'Seznam střelců'!$N$7:$N$107)),\"\")","v":0},{"$f":"IF($A31<>\"\", SUMPRODUCT(--($C$7:$C$107=$C31), --($D$7:$D$107=$D31), --($E$7:$E$107=$E31), --('Seznam střelců'!$M31 <'Seznam střelců'!$M$7:$M$107)),\"\")","v":0},{"$f":"IF($A31<>\"\", SUMPRODUCT(--($C$7:$C$107=$C31), --($D$7:$D$107=$D31), --($E$7:$E$107=$E31), --($F$7:$F$107=$F31), --('Seznam střelců'!$L31 <'Seznam střelců'!$L$7:$L$107)),\"\")","v":0},{"$f":"IF($A31<>\"\", SUMPRODUCT(--($C$7:$C$107=$C31), --($D$7:$D$107=$D31), --($E$7:$E$107=$E31), --($F$7:$F$107=$F31), --($G$7:$G$107=$G31), --('Seznam střelců'!$K31 <'Seznam střelců'!$K$7:$K$107)),\"\")","v":0},{"$f":"IF($A31<>\"\", SUMPRODUCT(--($C$7:$C$107=$C31), --($D$7:$D$107=$D31), --($E$7:$E$107=$E31), --($F$7:$F$107=$F31), --($G$7:$G$107=$G31), --($H$7:$H$107=$H31), --('Seznam střelců'!$J31 <'Seznam střelců'!$J$7:$J$107)),\"\")","v":0},{"$f":"IF($A31<>\"\", SUMPRODUCT(--($C$7:$C$107=$C31), --($D$7:$D$107=$D31), --($E$7:$E$107=$E31), --($F$7:$F$107=$F31), --($G$7:$G$107=$G31), --($H$7:$H$107=$H31), --($I$7:$I$107=$I31), --('Seznam střelců'!$I31 <'Seznam střelců'!$I$7:$I$107)),\"\")","v":0},{"$f":"IF($A31<>\"\", SUMPRODUCT(--($C$7:$C$107=$C31), --($D$7:$D$107=$D31), --($E$7:$E$107=$E31), --($F$7:$F$107=$F31), --($G$7:$G$107=$G31), --($H$7:$H$107=$H31), --($I$7:$I$107=$I31), --($J$7:$J$107=$J31), --('Seznam střelců'!$H31 <'Seznam střelců'!$H$7:$H$107)),\"\")","v":0},{"$f":"IF($A31<>\"\", SUMPRODUCT(--($C$7:$C$107=$C31), --($D$7:$D$107=$D31), --($E$7:$E$107=$E31), --($F$7:$F$107=$F31), --($G$7:$G$107=$G31), --($H$7:$H$107=$H31), --($I$7:$I$107=$I31), --($J$7:$J$107=$J31), --($K$7:$K$107=$K31), --('Seznam střelců'!$G31 <'Seznam střelců'!$G$7:$G$107)),\"\")","v":0},{"$f":"IF($A31<>\"\", SUMPRODUCT(--($C$7:$C$107=$C31), --($D$7:$D$107=$D31), --($E$7:$E$107=$E31), --($F$7:$F$107=$F31), --($G$7:$G$107=$G31), --($H$7:$H$107=$H31), --($I$7:$I$107=$I31), --($J$7:$J$107=$J31), --($K$7:$K$107=$K31), --($L$7:$L$107=$L31), --('Seznam střelců'!$F31 <'Seznam střelců'!$F$7:$F$107)),\"\")","v":0},{"$f":"IF($A31<>\"\", SUMPRODUCT(--($C$7:$C$107=$C31), --($D$7:$D$107=$D31), --($E$7:$E$107=$E31), --($F$7:$F$107=$F31), --($G$7:$G$107=$G31), --($H$7:$H$107=$H31), --($I$7:$I$107=$I31),  --($J$7:$J$107=$J31), --($K$7:$K$107=$K31), --($L$7:$L$107=$L31),--($M$7:$M$107=$M31), --('Seznam střelců'!$Q31 <'Seznam střelců'!$Q$7:$Q$107)),\"\")","v":0},{"$f":"IF($A31<>\"\",\n      IF(ISBLANK('Seznam střelců'!$P31),\n         SUM($C31:$N31),\n         $C31+SUMPRODUCT(--($C$7:$C$107=$C31), --('Seznam střelců'!$Q31 <'Seznam střelců'!$Q$7:$Q$107))\n      ),\n      \"\")","v":8},{"$f":"IF(A31<>\"\",COUNTIF($O$7:$O31,$O31)-1,\"\")","v":0},8]
[{"$f":"'Seznam střelců'!A32","v":26},{"$f":"IF('Seznam střelců'!C32<>\"\", 0, 'Seznam střelců'!R32)","v":48},13,{"$f":"IF($A32<>\"\", SUMPRODUCT(--($C$7:$C$107=$C32), --('Seznam střelců'!$O32 < 'Seznam střelců'!$O$7:$O$107)),\"\")","v":0},{"$f":"IF($A32<>\"\", SUMPRODUCT(--($C$7:$C$107=$C32), --($D$7:$D$107=$D32), --('Seznam střelců'!$N32 <'Seznam střelců'!$N$7:$N$107)),\"\")","v":1},{"$f":"IF($A32<>\"\", SUMPRODUCT(--($C$7:$C$107=$C32), --($D$7:$D$107=$D32), --($E$7:$E$107=$E32), --('Seznam střelců'!$M32 <'Seznam střelců'!$M$7:$M$107)),\"\")","v":0},{"$f":"IF($A32<>\"\", SUMPRODUCT(--($C$7:$C$107=$C32), --($D$7:$D$107=$D32), --($E$7:$E$107=$E32), --($F$7:$F$107=$F32), --('Seznam střelců'!$L32 <'Seznam střelců'!$L$7:$L$107)),\"\")","v":0},{"$f":"IF($A32<>\"\", SUMPRODUCT(--($C$7:$C$107=$C32), --($D$7:$D$107=$D32), --($E$7:$E$107=$E32), --($F$7:$F$107=$F32), --($G$7:$G$107=$G32), --('Seznam střelců'!$K32 <'Seznam střelců'!$K$7:$K$107)),\"\")","v":0},{"$f":"IF($A32<>\"\", SUMPRODUCT(--($C$7:$C$107=$C32), --($D$7:$D$107=$D32), --($E$7:$E$107=$E32), --($F$7:$F$107=$F32), --($G$7:$G$107=$G32), --($H$7:$H$107=$H32), --('Seznam střelců'!$J32 <'Seznam střelců'!$J$7:$J$107)),\"\")","v":0},{"$f":"IF($A32<>\"\", SUMPRODUCT(--($C$7:$C$107=$C32), --($D$7:$D$107=$D32), --($E$7:$E$107=$E32), --($F$7:$F$107=$F32), --($G$7:$G$107=$G32), --($H$7:$H$107=$H32), --($I$7:$I$107=$I32), --('Seznam střelců'!$I32 <'Seznam střelců'!$I$7:$I$107)),\"\")","v":0},{"$f":"IF($A32<>\"\", SUMPRODUCT(--($C$7:$C$107=$C32), --($D$7:$D$107=$D32), --($E$7:$E$107=$E32), --($F$7:$F$107=$F32), --($G$7:$G$107=$G32), --($H$7:$H$107=$H32), --($I$7:$I$107=$I32), --($J$7:$J$107=$J32), --('Seznam střelců'!$H32 <'Seznam střelců'!$H$7:$H$107)),\"\")","v":0},{"$f":"IF($A32<>\"\", SUMPRODUCT(--($C$7:$C$107=$C32), --($D$7:$D$107=$D32), --($E$7:$E$107=$E32), --($F$7:$F$107=$F32), --($G$7:$G$107=$G32), --($H$7:$H$107=$H32), --($I$7:$I$107=$I32), --($J$7:$J$107=$J32), --($K$7:$K$107=$K32), --('Seznam střelců'!$G32 <'Seznam střelců'!$G$7:$G$107)),\"\")","v":0},{"$f":"IF($A32<>\"\", SUMPRODUCT(--($C$7:$C$107=$C32), --($D$7:$D$107=$D32), --($E$7:$E$107=$E32), --($F$7:$F$107=$F32), --($G$7:$G$107=$G32), --($H$7:$H$107=$H32), --($I$7:$I$107=$I32), --($J$7:$J$107=$J32), --($K$7:$K$107=$K32), --($L$7:$L$107=$L32), --('Seznam střelců'!$F32 <'Seznam střelců'!$F$7:$F$107)),\"\")","v":0},{"$f":"IF($A32<>\"\", SUMPRODUCT(--($C$7:$C$107=$C32), --($D$7:$D$107=$D32), --($E$7:$E$107=$E32), --($F$7:$F$107=$F32), --($G$7:$G$107=$G32), --($H$7:$H$107=$H32), --($I$7:$I$107=$I32),  --($J$7:$J$107=$J32), --($K$7:$K$107=$K32), --($L$7:$L$107=$L32),--($M$7:$M$107=$M32), --('Seznam střelců'!$Q32 <'Seznam střelců'!$Q$7:$Q$107)),\"\")","v":1},{"$f":"IF($A32<>\"\",\n      IF(ISBLANK('Seznam střelců'!$P32),\n         SUM($C32:$N32),\n         $C32+SUMPRODUCT(--($C$7:$C$107=$C32), --('Seznam střelců'!$Q32 <'Seznam střelců'!$Q$7:$Q$107))\n      ),\n      \"\")","v":15},{"$f":"IF(A32<>\"\",COUNTIF($O$7:$O32,$O32)-1,\"\")","v":0},15]
[{"$f":"'Seznam střelců'!A33","v":27},{"$f":"IF('Seznam střelců'!C33<>\"\", 0, 'Seznam střelců'!R33)","v":42},27,{"$f":"IF($A33<>\"\", SUMPRODUCT(--($C$7:$C$107=$C33), --('Seznam střelců'!$O33 < 'Seznam střelců'!$O$7:$O$107)),\"\")","v":0},{"$f":"IF($A33<>\"\", SUMPRODUCT(--($C$7:$C$107=$C33), --($D$7:$D$107=$D33), --('Seznam střelců'!$N33 <'Seznam střelců'!$N$7:$N$107)),\"\")","v":0},{"$f":"IF($A33<>\"\", SUMPRODUCT(--($C$7:$C$107=$C33), --($D$7:$D$107=$D33), --($E$7:$E$107=$E33), --('Seznam střelců'!$M33 <'Seznam střelců'!$M$7:$M$107)),\"\")","v":0},{"$f":"IF($A33<>\"\", SUMPRODUCT(--($C$7:$C$107=$C33), --($D$7:$D$107=$D33), --($E$7:$E$107=$E33), --($F$7:$F$107=$F33), --('Seznam střelců'!$L33 <'Seznam střelců'!$L$7:$L$107)),\"\")","v":0},{"$f":"IF($A33<>\"\", SUMPRODUCT(--($C$7:$C$107=$C33), --($D$7:$D$107=$D33), --($E$7:$E$107=$E33), --($F$7:$F$107=$F33), --($G$7:$G$107=$G33), --('Seznam střelců'!$K33 <'Seznam střelců'!$K$7:$K$107)),\"\")","v":0},{"$f":"IF($A33<>\"\", SUMPRODUCT(--($C$7:$C$107=$C33), --($D$7:$D$107=$D33), --($E$7:$E$107=$E33), --($F$7:$F$107=$F33), --($G$7:$G$107=$G33), --($H$7:$H$107=$H33), --('Seznam střelců'!$J33 <'Seznam střelců'!$J$7:$J$107)),\"\")","v":0},{"$f":"IF($A33<>\"\", SUMPRODUCT(--($C$7:$C$107=$C33), --($D$7:$D$107=$D33), --($E$7:$E$107=$E33), --($F$7:$F$107=$F33), --($G$7:$G$107=$G33), --($H$7:$H$107=$H33), --($I$7:$I$107=$I33), --('Seznam střelců'!$I33 <'Seznam střelců'!$I$7:$I$107)),\"\")","v":0},{"$f":"IF($A33<>\"\", SUMPRODUCT(--($C$7:$C$107=$C33), --($D$7:$D$107=$D33), --($E$7:$E$107=$E33), --($F$7:$F$107=$F33), --($G$7:$G$107=$G33), --($H$7:$H$107=$H33), --($I$7:$I$107=$I33), --($J$7:$J$107=$J33), --('Seznam střelců'!$H33 <'Seznam střelců'!$H$7:$H$107)),\"\")","v":0},{"$f":"IF($A33<>\"\", SUMPRODUCT(--($C$7:$C$107=$C33), --($D$7:$D$107=$D33), --($E$7:$E$107=$E33), --($F$7:$F$107=$F33), --($G$7:$G$107=$G33), --($H$7:$H$107=$H33), --($I$7:$I$107=$I33), --($J$7:$J$107=$J33), --($K$7:$K$107=$K33), --('Seznam střelců'!$G33 <'Seznam střelců'!$G$7:$G$107)),\"\")","v":0},{"$f":"IF($A33<>\"\", SUMPRODUCT(--($C$7:$C$107=$C33), --($D$7:$D$107=$D33), --($E$7:$E$107=$E33), --($F$7:$F$107=$F33), --($G$7:$G$107=$G33), --($H$7:$H$107=$H33), --($I$7:$I$107=$I33), --($J$7:$J$107=$J33), --($K$7:$K$107=$K33), --($L$7:$L$107=$L33), --('Seznam střelců'!$F33 <'Seznam střelců'!$F$7:$F$107)),\"\")","v":0},{"$f":"IF($A33<>\"\", SUMPRODUCT(--($C$7:$C$107=$C33), --($D$7:$D$107=$D33), --($E$7:$E$107=$E33), --($F$7:$F$107=$F33), --($G$7:$G$107=$G33), --($H$7:$H$107=$H33), --($I$7:$I$107=$I33),  --($J$7:$J$107=$J33), --($K$7:$K$107=$K33), --($L$7:$L$107=$L33),--($M$7:$M$107=$M33), --('Seznam střelců'!$Q33 <'Seznam střelců'!$Q$7:$Q$107)),\"\")","v":0},{"$f":"IF($A33<>\"\",\n      IF(ISBLANK('Seznam střelců'!$P33),\n         SUM($C33:$N33),\n         $C33+SUMPRODUCT(--($C$7:$C$107=$C33), --('Seznam střelců'!$Q33 <'Seznam střelců'!$Q$7:$Q$107))\n      ),\n      \"\")","v":27},{"$f":"IF(A33<>\"\",COUNTIF($O$7:$O33,$O33)-1,\"\")","v":0},27]
[{"$f":"'Seznam střelců'!A34","v":28},{"$f":"IF('Seznam střelců'!C34<>\"\", 0, 'Seznam střelců'!R34)","v":47},18,{"$f":"IF($A34<>\"\", SUMPRODUCT(--($C$7:$C$107=$C34), --('Seznam střelců'!$O34 < 'Seznam střelců'!$O$7:$O$107)),\"\")","v":1},{"$f":"IF($A34<>\"\", SUMPRODUCT(--($C$7:$C$107=$C34), --($D$7:$D$107=$D34), --('Seznam střelců'!$N34 <'Seznam střelců'!$N$7:$N$107)),\"\")","v":0},{"$f":"IF($A34<>\"\", SUMPRODUCT(--($C$7:$C$107=$C34), --($D$7:$D$107=$D34), --($E$7:$E$107=$E34), --('Seznam střelců'!$M34 <'Seznam střelců'!$M$7:$M$107)),\"\")","v":0},{"$f":"IF($A34<>\"\", SUMPRODUCT(--($C$7:$C$107=$C34), --($D$7:$D$107=$D34), --($E$7:$E$107=$E34), --($F$7:$F$107=$F34), --('Seznam střelců'!$L34 <'Seznam střelců'!$L$7:$L$107)),\"\")","v":0},{"$f":"IF($A34<>\"\", SUMPRODUCT(--($C$7:$C$107=$C34), --($D$7:$D$107=$D34), --($E$7:$E$107=$E34), --($F$7:$F$107=$F34), --($G$7:$G$107=$G34), --('Seznam střelců'!$K34 <'Seznam střelců'!$K$7:$K$107)),\"\")","v":0},{"$f":"IF($A34<>\"\", SUMPRODUCT(--($C$7:$C$107=$C34), --($D$7:$D$107=$D34), --($E$7:$E$107=$E34), --($F$7:$F$107=$F34), --($G$7:$G$107=$G34), --($H$7:$H$107=$H34), --('Seznam střelců'!$J34 <'Seznam střelců'!$J$7:$J$107)),\"\")","v":0},{"$f":"IF($A34<>\"\", SUMPRODUCT(--($C$7:$C$107=$C34), --($D$7:$D$107=$D34), --($E$7:$E$107=$E34), --($F$7:$F$107=$F34), --($G$7:$G$107=$G34), --($H$7:$H$107=$H34), --($I$7:$I$107=$I34), --('Seznam střelců'!$I34 <'Seznam střelců'!$I$7:$I$107)),\"\")","v":0},{"$f":"IF($A34<>\"\", SUMPRODUCT(--($C$7:$C$107=$C34), --($D$7:$D$107=$D34), --($E$7:$E$107=$E34), --($F$7:$F$107=$F34), --($G$7:$G$107=$G34), --($H$7:$H$107=$H34), --($I$7:$I$107=$I34), --($J$7:$J$107=$J34), --('Seznam střelců'!$H34 <'Seznam střelců'!$H$7:$H$107)),\"\")","v":0},{"$f":"IF($A34<>\"\", SUMPRODUCT(--($C$7:$C$107=$C34), --($D$7:$D$107=$D34), --($E$7:$E$107=$E34), --($F$7:$F$107=$F34), --($G$7:$G$107=$G34), --($H$7:$H$107=$H34), --($I$7:$I$107=$I34), --($J$7:$J$107=$J34), --($K$7:$K$107=$K34), --('Seznam střelců'!$G34 <'Seznam střelců'!$G$7:$G$107)),\"\")","v":0},{"$f":"IF($A34<>\"\", SUMPRODUCT(--($C$7:$C$107=$C34), --($D$7:$D$107=$D34), --($E$7:$E$107=$E34), --($F$7:$F$107=$F34), --($G$7:$G$107=$G34), --($H$7:$H$107=$H34), --($I$7:$I$107=$I34), --($J$7:$J$107=$J34), --($K$7:$K$107=$K34), --($L$7:$L$107=$L34), --('Seznam střelců'!$F34 <'Seznam střelců'!$F$7:$F$107)),\"\")","v":0},{"$f":"IF($A34<>\"\", SUMPRODUCT(--($C$7:$C$107=$C34), --($D$7:$D$107=$D34), --($E$7:$E$107=$E34), --($F$7:$F$107=$F34), --($G$7:$G$107=$G34), --($H$7:$H$107=$H34), --($I$7:$I$107=$I34),  --($J$7:$J$107=$J34), --($K$7:$K$107=$K34), --($L$7:$L$107=$L34),--($M$7:$M$107=$M34), --('Seznam střelců'!$Q34 <'Seznam střelců'!$Q$7:$Q$107)),\"\")","v":0},{"$f":"IF($A34<>\"\",\n      IF(ISBLANK('Seznam střelců'!$P34),\n         SUM($C34:$N34),\n         $C34+SUMPRODUCT(--($C$7:$C$107=$C34), --('Seznam střelců'!$Q34 <'Seznam střelců'!$Q$7:$Q$107))\n      ),\n      \"\")","v":19},{"$f":"IF(A34<>\"\",COUNTIF($O$7:$O34,$O34)-1,\"\")","v":0},19]
[{"$f":"'Seznam střelců'!A35","v":29},{"$f":"IF('Seznam střelců'!C35<>\"\", 0, 'Seznam střelců'!R35)","v":53},4,{"$f":"IF($A35<>\"\", SUMPRODUCT(--($C$7:$C$107=$C35), --('Seznam střelců'!$O35 < 'Seznam střelců'!$O$7:$O$107)),\"\")","v":1},{"$f":"IF($A35<>\"\", SUMPRODUCT(--($C$7:$C$107=$C35), --($D$7:$D$107=$D35), --('Seznam střelců'!$N35 <'Seznam střelců'!$N$7:$N$107)),\"\")","v":0},{"$f":"IF($A35<>\"\", SUMPRODUCT(--($C$7:$C$107=$C35), --($D$7:$D$107=$D35), --($E$7:$E$107=$E35), --('Seznam střelců'!$M35 <'Seznam střelců'!$M$7:$M$107)),\"\")","v":0},{"$f":"IF($A35<>\"\", SUMPRODUCT(--($C$7:$C$107=$C35), --($D$7:$D$107=$D35), --($E$7:$E$107=$E35), --($F$7:$F$107=$F35), --('Seznam střelců'!$L35 <'Seznam střelců'!$L$7:$L$107)),\"\")","v":0},{"$f":"IF($A35<>\"\", SUMPRODUCT(--($C$7:$C$107=$C35), --($D$7:$D$107=$D35), --($E$7:$E$107=$E35), --($F$7:$F$107=$F35), --($G$7:$G$107=$G35), --('Seznam střelců'!$K35 <'Seznam střelců'!$K$7:$K$107)),\"\")","v":0},{"$f":"IF($A35<>\"\", SUMPRODUCT(--($C$7:$C$107=$C35), --($D$7:$D$107=$D35), --($E$7:$E$107=$E35), --($F$7:$F$107=$F35), --($G$7:$G$107=$G35), --($H$7:$H$107=$H35), --('Seznam střelců'!$J35 <'Seznam střelců'!$J$7:$J$107)),\"\")","v":0},{"$f":"IF($A35<>\"\", SUMPRODUCT(--($C$7:$C$107=$C35), --($D$7:$D$107=$D35), --($E$7:$E$107=$E35), --($F$7:$F$107=$F35), --($G$7:$G$107=$G35), --($H$7:$H$107=$H35), --($I$7:$I$107=$I35), --('Seznam střelců'!$I35 <'Seznam střelců'!$I$7:$I$107)),\"\")","v":0},{"$f":"IF($A35<>\"\", SUMPRODUCT(--($C$7:$C$107=$C35), --($D$7:$D$107=$D35), --($E$7:$E$107=$E35), --($F$7:$F$107=$F35), --($G$7:$G$107=$G35), --($H$7:$H$107=$H35), --($I$7:$I$107=$I35), --($J$7:$J$107=$J35), --('Seznam střelců'!$H35 <'Seznam střelců'!$H$7:$H$107)),\"\")","v":0},{"$f":"IF($A35<>\"\", SUMPRODUCT(--($C$7:$C$107=$C35), --($D$7:$D$107=$D35), --($E$7:$E$107=$E35), --($F$7:$F$107=$F35), --($G$7:$G$107=$G35), --($H$7:$H$107=$H35), --($I$7:$I$107=$I35), --($J$7:$J$107=$J35), --($K$7:$K$107=$K35), --('Seznam střelců'!$G35 <'Seznam střelců'!$G$7:$G$107)),\"\")","v":0},{"$f":"IF($A35<>\"\", SUMPRODUCT(--($C$7:$C$107=$C35), --($D$7:$D$107=$D35), --($E$7:$E$107=$E35), --($F$7:$F$107=$F35), --($G$7:$G$107=$G35), --($H$7:$H$107=$H35), --($I$7:$I$107=$I35), --($J$7:$J$107=$J35), --($K$7:$K$107=$K35), --($L$7:$L$107=$L35), --('Seznam střelců'!$F35 <'Seznam střelců'!$F$7:$F$107)),\"\")","v":0},{"$f":"IF($A35<>\"\", SUMPRODUCT(--($C$7:$C$107=$C35), --($D$7:$D$107=$D35), --($E$7:$E$107=$E35), --($F$7:$F$107=$F35), --($G$7:$G$107=$G35), --($H$7:$H$107=$H35), --($I$7:$I$107=$I35),  --($J$7:$J$107=$J35), --($K$7:$K$107=$K35), --($L$7:$L$107=$L35),--($M$7:$M$107=$M35), --('Seznam střelců'!$Q35 <'Seznam střelců'!$Q$7:$Q$107)),\"\")","v":0},{"$f":"IF($A35<>\"\",\n      IF(ISBLANK('Seznam střelců'!$P35),\n         SUM($C35:$N35),\n         $C35+SUMPRODUCT(--($C$7:$C$107=$C35), --('Seznam střelců'!$Q35 <'Seznam střelců'!$Q$7:$Q$107))\n      ),\n      \"\")","v":5},{"$f":"IF(A35<>\"\",COUNTIF($O$7:$O35,$O35)-1,\"\")","v":0},5]
[{"$f":"'Seznam střelců'!A36","v":30},{"$f":"IF('Seznam střelců'!C36<>\"\", 0, 'Seznam střelců'!R36)","v":47},18,{"$f":"IF($A36<>\"\", SUMPRODUCT(--($C$7:$C$107=$C36), --('Seznam střelců'!$O36 < 'Seznam střelců'!$O$7:$O$107)),\"\")","v":2},{"$f":"IF($A36<>\"\", SUMPRODUCT(--($C$7:$C$107=$C36), --($D$7:$D$107=$D36), --('Seznam střelců'!$N36 <'Seznam střelců'!$N$7:$N$107)),\"\")","v":0},{"$f":"IF($A36<>\"\", SUMPRODUCT(--($C$7:$C$107=$C36), --($D$7:$D$107=$D36), --($E$7:$E$107=$E36), --('Seznam střelců'!$M36 <'Seznam střelců'!$M$7:$M$107)),\"\")","v":0},{"$f":"IF($A36<>\"\", SUMPRODUCT(--($C$7:$C$107=$C36), --($D$7:$D$107=$D36), --($E$7:$E$107=$E36), --($F$7:$F$107=$F36), --('Seznam střelců'!$L36 <'Seznam střelců'!$L$7:$L$107)),\"\")","v":0},{"$f":"IF($A36<>\"\", SUMPRODUCT(--($C$7:$C$107=$C36), --($D$7:$D$107=$D36), --($E$7:$E$107=$E36), --($F$7:$F$107=$F36), --($G$7:$G$107=$G36), --('Seznam střelců'!$K36 <'Seznam střelců'!$K$7:$K$107)),\"\")","v":0},{"$f":"IF($A36<>\"\", SUMPRODUCT(--($C$7:$C$107=$C36), --($D$7:$D$107=$D36), --($E$7:$E$107=$E36), --($F$7:$F$107=$F36), --($G$7:$G$107=$G36), --($H$7:$H$107=$H36), --('Seznam střelců'!$J36 <'Seznam střelců'!$J$7:$J$107)),\"\")","v":0},{"$f":"IF($A36<>\"\", SUMPRODUCT(--($C$7:$C$107=$C36), --($D$7:$D$107=$D36), --($E$7:$E$107=$E36), --($F$7:$F$107=$F36), --($G$7:$G$107=$G36), --($H$7:$H$107=$H36), --($I$7:$I$107=$I36), --('Seznam střelců'!$I36 <'Seznam střelců'!$I$7:$I$107)),\"\")","v":0},{"$f":"IF($A36<>\"\", SUMPRODUCT(--($C$7:$C$107=$C36), --($D$7:$D$107=$D36), --($E$7:$E$107=$E36), --($F$7:$F$107=$F36), --($G$7:$G$107=$G36), --($H$7:$H$107=$H36), --($I$7:$I$107=$I36), --($J$7:$J$107=$J36), --('Seznam střelců'!$H36 <'Seznam střelců'!$H$7:$H$107)),\"\")","v":0},{"$f":"IF($A36<>\"\", SUMPRODUCT(--($C$7:$C$107=$C36), --($D$7:$D$107=$D36), --($E$7:$E$107=$E36), --($F$7:$F$107=$F36), --($G$7:$G$107=$G36), --($H$7:$H$107=$H36), --($I$7:$I$107=$I36), --($J$7:$J$107=$J36), --($K$7:$K$107=$K36), --('Seznam střelců'!$G36 <'Seznam střelců'!$G$7:$G$107)),\"\")","v":0},{"$f":"IF($A36<>\"\", SUMPRODUCT(--($C$7:$C$107=$C36), --($D$7:$D$107=$D36), --($E$7:$E$107=$E36), --($F$7:$F$107=$F36), --($G$7:$G$107=$G36), --($H$7:$H$107=$H36), --($I$7:$I$107=$I36), --($J$7:$J$107=$J36), --($K$7:$K$107=$K36), --($L$7:$L$107=$L36), --('Seznam střelců'!$F36 <'Seznam střelců'!$F$7:$F$107)),\"\")","v":0},{"$f":"IF($A36<>\"\", SUMPRODUCT(--($C$7:$C$107=$C36), --($D$7:$D$107=$D36), --($E$7:$E$107=$E36), --($F$7:$F$107=$F36), --($G$7:$G$107=$G36), --($H$7:$H$107=$H36), --($I$7:$I$107=$I36),  --($J$7:$J$107=$J36), --($K$7:$K$107=$K36), --($L$7:$L$107=$L36),--($M$7:$M$107=$M36), --('Seznam střelců'!$Q36 <'Seznam střelců'!$Q$7:$Q$107)),\"\")","v":0},{"$f":"IF($A36<>\"\",\n      IF(ISBLANK('Seznam střelců'!$P36),\n         SUM($C36:$N36),\n         $C36+SUMPRODUCT(--($C$7:$C$107=$C36), --('Seznam střelců'!$Q36 <'Seznam střelců'!$Q$7:$Q$107))\n      ),\n      \"\")","v":20},{"$f":"IF(A36<>\"\",COUNTIF($O$7:$O36,$O36)-1,\"\")","v":0},20]
[{"$f":"'Seznam střelců'!A37","v":31},{"$f":"IF('Seznam střelců'!C37<>\"\", 0, 'Seznam střelců'!R37)","v":48},13,{"$f":"IF($A37<>\"\", SUMPRODUCT(--($C$7:$C$107=$C37), --('Seznam střelců'!$O37 < 'Seznam střelců'!$O$7:$O$107)),\"\")","v":3},{"$f":"IF($A37<>\"\", SUMPRODUCT(--($C$7:$C$107=$C37), --($D$7:$D$107=$D37), --('Seznam střelců'!$N37 <'Seznam střelců'!$N$7:$N$107)),\"\")","v":0},{"$f":"IF($A37<>\"\", SUMPRODUCT(--($C$7:$C$107=$C37), --($D$7:$D$107=$D37), --($E$7:$E$107=$E37), --('Seznam střelců'!$M37 <'Seznam střelců'!$M$7:$M$107)),\"\")","v":0},{"$f":"IF($A37<>\"\", SUMPRODUCT(--($C$7:$C$107=$C37), --($D$7:$D$107=$D37), --($E$7:$E$107=$E37), --($F$7:$F$107=$F37), --('Seznam střelců'!$L37 <'Seznam střelců'!$L$7:$L$107)),\"\")","v":0},{"$f":"IF($A37<>\"\", SUMPRODUCT(--($C$7:$C$107=$C37), --($D$7:$D$107=$D37), --($E$7:$E$107=$E37), --($F$7:$F$107=$F37), --($G$7:$G$107=$G37), --('Seznam střelců'!$K37 <'Seznam střelců'!$K$7:$K$107)),\"\")","v":0},{"$f":"IF($A37<>\"\", SUMPRODUCT(--($C$7:$C$107=$C37), --($D$7:$D$107=$D37), --($E$7:$E$107=$E37), --($F$7:$F$107=$F37), --($G$7:$G$107=$G37), --($H$7:$H$107=$H37), --('Seznam střelců'!$J37 <'Seznam střelců'!$J$7:$J$107)),\"\")","v":0},{"$f":"IF($A37<>\"\", SUMPRODUCT(--($C$7:$C$107=$C37), --($D$7:$D$107=$D37), --($E$7:$E$107=$E37), --($F$7:$F$107=$F37), --($G$7:$G$107=$G37), --($H$7:$H$107=$H37), --($I$7:$I$107=$I37), --('Seznam střelců'!$I37 <'Seznam střelců'!$I$7:$I$107)),\"\")","v":0},{"$f":"IF($A37<>\"\", SUMPRODUCT(--($C$7:$C$107=$C37), --($D$7:$D$107=$D37), --($E$7:$E$107=$E37), --($F$7:$F$107=$F37), --($G$7:$G$107=$G37), --($H$7:$H$107=$H37), --($I$7:$I$107=$I37), --($J$7:$J$107=$J37), --('Seznam střelců'!$H37 <'Seznam střelců'!$H$7:$H$107)),\"\")","v":0},{"$f":"IF($A37<>\"\", SUMPRODUCT(--($C$7:$C$107=$C37), --($D$7:$D$107=$D37), --($E$7:$E$107=$E37), --($F$7:$F$107=$F37), --($G$7:$G$107=$G37), --($H$7:$H$107=$H37), --($I$7:$I$107=$I37), --($J$7:$J$107=$J37), --($K$7:$K$107=$K37), --('Seznam střelců'!$G37 <'Seznam střelců'!$G$7:$G$107)),\"\")","v":0},{"$f":"IF($A37<>\"\", SUMPRODUCT(--($C$7:$C$107=$C37), --($D$7:$D$107=$D37), --($E$7:$E$107=$E37), --($F$7:$F$107=$F37), --($G$7:$G$107=$G37), --($H$7:$H$107=$H37), --($I$7:$I$107=$I37), --($J$7:$J$107=$J37), --($K$7:$K$107=$K37), --($L$7:$L$107=$L37), --('Seznam střelců'!$F37 <'Seznam střelců'!$F$7:$F$107)),\"\")","v":0},{"$f":"IF($A37<>\"\", SUMPRODUCT(--($C$7:$C$107=$C37), --($D$7:$D$107=$D37), --($E$7:$E$107=$E37), --($F$7:$F$107=$F37), --($G$7:$G$107=$G37), --($H$7:$H$107=$H37), --($I$7:$I$107=$I37),  --($J$7:$J$107=$J37), --($K$7:$K$107=$K37), --($L$7:$L$107=$L37),--($M$7:$M$107=$M37), --('Seznam střelců'!$Q37 <'Seznam střelců'!$Q$7:$Q$107)),\"\")","v":0},{"$f":"IF($A37<>\"\",\n      IF(ISBLANK('Seznam střelců'!$P37),\n         SUM($C37:$N37),\n         $C37+SUMPRODUCT(--($C$7:$C$107=$C37), --('Seznam střelců'!$Q37 <'Seznam střelců'!$Q$7:$Q$107))\n      ),\n      \"\")","v":16},{"$f":"IF(A37<>\"\",COUNTIF($O$7:$O37,$O37)-1,\"\")","v":0},16]
[{"$f":"'Seznam střelců'!A38","v":32},{"$f":"IF('Seznam střelců'!C38<>\"\", 0, 'Seznam střelců'!R38)","v":45},24,{"$f":"IF($A38<>\"\", SUMPRODUCT(--($C$7:$C$107=$C38), --('Seznam střelců'!$O38 < 'Seznam střelců'!$O$7:$O$107)),\"\")","v":0},{"$f":"IF($A38<>\"\", SUMPRODUCT(--($C$7:$C$107=$C38), --($D$7:$D$107=$D38), --('Seznam střelců'!$N38 <'Seznam střelců'!$N$7:$N$107)),\"\")","v":0},{"$f":"IF($A38<>\"\", SUMPRODUCT(--($C$7:$C$107=$C38), --($D$7:$D$107=$D38), --($E$7:$E$107=$E38), --('Seznam střelců'!$M38 <'Seznam střelců'!$M$7:$M$107)),\"\")","v":0},{"$f":"IF($A38<>\"\", SUMPRODUCT(--($C$7:$C$107=$C38), --($D$7:$D$107=$D38), --($E$7:$E$107=$E38), --($F$7:$F$107=$F38), --('Seznam střelců'!$L38 <'Seznam střelců'!$L$7:$L$107)),\"\")","v":0},{"$f":"IF($A38<>\"\", SUMPRODUCT(--($C$7:$C$107=$C38), --($D$7:$D$107=$D38), --($E$7:$E$107=$E38), --($F$7:$F$107=$F38), --($G$7:$G$107=$G38), --('Seznam střelců'!$K38 <'Seznam střelců'!$K$7:$K$107)),\"\")","v":0},{"$f":"IF($A38<>\"\", SUMPRODUCT(--($C$7:$C$107=$C38), --($D$7:$D$107=$D38), --($E$7:$E$107=$E38), --($F$7:$F$107=$F38), --($G$7:$G$107=$G38), --($H$7:$H$107=$H38), --('Seznam střelců'!$J38 <'Seznam střelců'!$J$7:$J$107)),\"\")","v":0},{"$f":"IF($A38<>\"\", SUMPRODUCT(--($C$7:$C$107=$C38), --($D$7:$D$107=$D38), --($E$7:$E$107=$E38), --($F$7:$F$107=$F38), --($G$7:$G$107=$G38), --($H$7:$H$107=$H38), --($I$7:$I$107=$I38), --('Seznam střelců'!$I38 <'Seznam střelců'!$I$7:$I$107)),\"\")","v":0},{"$f":"IF($A38<>\"\", SUMPRODUCT(--($C$7:$C$107=$C38), --($D$7:$D$107=$D38), --($E$7:$E$107=$E38), --($F$7:$F$107=$F38), --($G$7:$G$107=$G38), --($H$7:$H$107=$H38), --($I$7:$I$107=$I38), --($J$7:$J$107=$J38), --('Seznam střelců'!$H38 <'Seznam střelců'!$H$7:$H$107)),\"\")","v":0},{"$f":"IF($A38<>\"\", SUMPRODUCT(--($C$7:$C$107=$C38), --($D$7:$D$107=$D38), --($E$7:$E$107=$E38), --($F$7:$F$107=$F38), --($G$7:$G$107=$G38), --($H$7:$H$107=$H38), --($I$7:$I$107=$I38), --($J$7:$J$107=$J38), --($K$7:$K$107=$K38), --('Seznam střelců'!$G38 <'Seznam střelců'!$G$7:$G$107)),\"\")","v":0},{"$f":"IF($A38<>\"\", SUMPRODUCT(--($C$7:$C$107=$C38), --($D$7:$D$107=$D38), --($E$7:$E$107=$E38), --($F$7:$F$107=$F38), --($G$7:$G$107=$G38), --($H$7:$H$107=$H38), --($I$7:$I$107=$I38), --($J$7:$J$107=$J38), --($K$7:$K$107=$K38), --($L$7:$L$107=$L38), --('Seznam střelců'!$F38 <'Seznam střelců'!$F$7:$F$107)),\"\")","v":0},{"$f":"IF($A38<>\"\", SUMPRODUCT(--($C$7:$C$107=$C38), --($D$7:$D$107=$D38), --($E$7:$E$107=$E38), --($F$7:$F$107=$F38), --($G$7:$G$107=$G38), --($H$7:$H$107=$H38), --($I$7:$I$107=$I38),  --($J$7:$J$107=$J38), --($K$7:$K$107=$K38), --($L$7:$L$107=$L38),--($M$7:$M$107=$M38), --('Seznam střelců'!$Q38 <'Seznam střelců'!$Q$7:$Q$107)),\"\")","v":0},{"$f":"IF($A38<>\"\",\n      IF(ISBLANK('Seznam střelců'!$P38),\n         SUM($C38:$N38),\n         $C38+SUMPRODUCT(--($C$7:$C$107=$C38), --('Seznam střelců'!$Q38 <'Seznam střelců'!$Q$7:$Q$107))\n      ),\n      \"\")","v":24},{"$f":"IF(A38<>\"\",COUNTIF($O$7:$O38,$O38)-1,\"\")","v":0},24]
[{"$f":"'Seznam střelců'!A39","v":33},{"$f":"IF('Seznam střelců'!C39<>\"\", 0, 'Seznam střelců'!R39)","v":47},18,{"$f":"IF($A39<>\"\", SUMPRODUCT(--($C$7:$C$107=$C39), --('Seznam střelců'!$O39 < 'Seznam střelců'!$O$7:$O$107)),\"\")","v":0},{"$f":"IF($A39<>\"\", SUMPRODUCT(--($C$7:$C$107=$C39), --($D$7:$D$107=$D39), --('Seznam střelců'!$N39 <'Seznam střelců'!$N$7:$N$107)),\"\")","v":0},{"$f":"IF($A39<>\"\", SUMPRODUCT(--($C$7:$C$107=$C39), --($D$7:$D$107=$D39), --($E$7:$E$107=$E39), --('Seznam střelců'!$M39 <'Seznam střelců'!$M$7:$M$107)),\"\")","v":0},{"$f":"IF($A39<>\"\", SUMPRODUCT(--($C$7:$C$107=$C39), --($D$7:$D$107=$D39), --($E$7:$E$107=$E39), --($F$7:$F$107=$F39), --('Seznam střelců'!$L39 <'Seznam střelců'!$L$7:$L$107)),\"\")","v":0},{"$f":"IF($A39<>\"\", SUMPRODUCT(--($C$7:$C$107=$C39), --($D$7:$D$107=$D39), --($E$7:$E$107=$E39), --($F$7:$F$107=$F39), --($G$7:$G$107=$G39), --('Seznam střelců'!$K39 <'Seznam střelců'!$K$7:$K$107)),\"\")","v":0},{"$f":"IF($A39<>\"\", SUMPRODUCT(--($C$7:$C$107=$C39), --($D$7:$D$107=$D39), --($E$7:$E$107=$E39), --($F$7:$F$107=$F39), --($G$7:$G$107=$G39), --($H$7:$H$107=$H39), --('Seznam střelců'!$J39 <'Seznam střelců'!$J$7:$J$107)),\"\")","v":0},{"$f":"IF($A39<>\"\", SUMPRODUCT(--($C$7:$C$107=$C39), --($D$7:$D$107=$D39), --($E$7:$E$107=$E39), --($F$7:$F$107=$F39), --($G$7:$G$107=$G39), --($H$7:$H$107=$H39), --($I$7:$I$107=$I39), --('Seznam střelců'!$I39 <'Seznam střelců'!$I$7:$I$107)),\"\")","v":0},{"$f":"IF($A39<>\"\", SUMPRODUCT(--($C$7:$C$107=$C39), --($D$7:$D$107=$D39), --($E$7:$E$107=$E39), --($F$7:$F$107=$F39), --($G$7:$G$107=$G39), --($H$7:$H$107=$H39), --($I$7:$I$107=$I39), --($J$7:$J$107=$J39), --('Seznam střelců'!$H39 <'Seznam střelců'!$H$7:$H$107)),\"\")","v":0},{"$f":"IF($A39<>\"\", SUMPRODUCT(--($C$7:$C$107=$C39), --($D$7:$D$107=$D39), --($E$7:$E$107=$E39), --($F$7:$F$107=$F39), --($G$7:$G$107=$G39), --($H$7:$H$107=$H39), --($I$7:$I$107=$I39), --($J$7:$J$107=$J39), --($K$7:$K$107=$K39), --('Seznam střelců'!$G39 <'Seznam střelců'!$G$7:$G$107)),\"\")","v":0},{"$f":"IF($A39<>\"\", SUMPRODUCT(--($C$7:$C$107=$C39), --($D$7:$D$107=$D39), --($E$7:$E$107=$E39), --($F$7:$F$107=$F39), --($G$7:$G$107=$G39), --($H$7:$H$107=$H39), --($I$7:$I$107=$I39), --($J$7:$J$107=$J39), --($K$7:$K$107=$K39), --($L$7:$L$107=$L39), --('Seznam střelců'!$F39 <'Seznam střelců'!$F$7:$F$107)),\"\")","v":0},{"$f":"IF($A39<>\"\", SUMPRODUCT(--($C$7:$C$107=$C39), --($D$7:$D$107=$D39), --($E$7:$E$107=$E39), --($F$7:$F$107=$F39), --($G$7:$G$107=$G39), --($H$7:$H$107=$H39), --($I$7:$I$107=$I39),  --($J$7:$J$107=$J39), --($K$7:$K$107=$K39), --($L$7:$L$107=$L39),--($M$7:$M$107=$M39), --('Seznam střelců'!$Q39 <'Seznam střelců'!$Q$7:$Q$107)),\"\")","v":0},{"$f":"IF($A39<>\"\",\n      IF(ISBLANK('Seznam střelců'!$P39),\n         SUM($C39:$N39),\n         $C39+SUMPRODUCT(--($C$7:$C$107=$C39), --('Seznam střelců'!$Q39 <'Seznam střelců'!$Q$7:$Q$107))\n      ),\n      \"\")","v":18},{"$f":"IF(A39<>\"\",COUNTIF($O$7:$O39,$O39)-1,\"\")","v":0},{"$f":"IF(A39<>\"\",O39+P39,\"\")","v":18}]
[{"$f":"'Seznam střelců'!A40","v":34},{"$f":"IF('Seznam střelců'!C40<>\"\", 0, 'Seznam střelců'!R40)","v":58},1,{"$f":"IF($A40<>\"\", SUMPRODUCT(--($C$7:$C$107=$C40), --('Seznam střelců'!$O40 < 'Seznam střelců'!$O$7:$O$107)),\"\")","v":0},{"$f":"IF($A40<>\"\", SUMPRODUCT(--($C$7:$C$107=$C40), --($D$7:$D$107=$D40), --('Seznam střelců'!$N40 <'Seznam střelců'!$N$7:$N$107)),\"\")","v":0},{"$f":"IF($A40<>\"\", SUMPRODUCT(--($C$7:$C$107=$C40), --($D$7:$D$107=$D40), --($E$7:$E$107=$E40), --('Seznam střelců'!$M40 <'Seznam střelců'!$M$7:$M$107)),\"\")","v":0},{"$f":"IF($A40<>\"\", SUMPRODUCT(--($C$7:$C$107=$C40), --($D$7:$D$107=$D40), --($E$7:$E$107=$E40), --($F$7:$F$107=$F40), --('Seznam střelců'!$L40 <'Seznam střelců'!$L$7:$L$107)),\"\")","v":0},{"$f":"IF($A40<>\"\", SUMPRODUCT(--($C$7:$C$107=$C40), --($D$7:$D$107=$D40), --($E$7:$E$107=$E40), --($F$7:$F$107=$F40), --($G$7:$G$107=$G40), --('Seznam střelců'!$K40 <'Seznam střelců'!$K$7:$K$107)),\"\")","v":0},{"$f":"IF($A40<>\"\", SUMPRODUCT(--($C$7:$C$107=$C40), --($D$7:$D$107=$D40), --($E$7:$E$107=$E40), --($F$7:$F$107=$F40), --($G$7:$G$107=$G40), --($H$7:$H$107=$H40), --('Seznam střelců'!$J40 <'Seznam střelců'!$J$7:$J$107)),\"\")","v":0},{"$f":"IF($A40<>\"\", SUMPRODUCT(--($C$7:$C$107=$C40), --($D$7:$D$107=$D40), --($E$7:$E$107=$E40), --($F$7:$F$107=$F40), --($G$7:$G$107=$G40), --($H$7:$H$107=$H40), --($I$7:$I$107=$I40), --('Seznam střelců'!$I40 <'Seznam střelců'!$I$7:$I$107)),\"\")","v":0},{"$f":"IF($A40<>\"\", SUMPRODUCT(--($C$7:$C$107=$C40), --($D$7:$D$107=$D40), --($E$7:$E$107=$E40), --($F$7:$F$107=$F40), --($G$7:$G$107=$G40), --($H$7:$H$107=$H40), --($I$7:$I$107=$I40), --($J$7:$J$107=$J40), --('Seznam střelců'!$H40 <'Seznam střelců'!$H$7:$H$107)),\"\")","v":0},{"$f":"IF($A40<>\"\", SUMPRODUCT(--($C$7:$C$107=$C40), --($D$7:$D$107=$D40), --($E$7:$E$107=$E40), --($F$7:$F$107=$F40), --($G$7:$G$107=$G40), --($H$7:$H$107=$H40), --($I$7:$I$107=$I40), --($J$7:$J$107=$J40), --($K$7:$K$107=$K40), --('Seznam střelců'!$G40 <'Seznam střelců'!$G$7:$G$107)),\"\")","v":0},{"$f":"IF($A40<>\"\", SUMPRODUCT(--($C$7:$C$107=$C40), --($D$7:$D$107=$D40), --($E$7:$E$107=$E40), --($F$7:$F$107=$F40), --($G$7:$G$107=$G40), --($H$7:$H$107=$H40), --($I$7:$I$107=$I40), --($J$7:$J$107=$J40), --($K$7:$K$107=$K40), --($L$7:$L$107=$L40), --('Seznam střelců'!$F40 <'Seznam střelců'!$F$7:$F$107)),\"\")","v":0},{"$f":"IF($A40<>\"\", SUMPRODUCT(--($C$7:$C$107=$C40), --($D$7:$D$107=$D40), --($E$7:$E$107=$E40), --($F$7:$F$107=$F40), --($G$7:$G$107=$G40), --($H$7:$H$107=$H40), --($I$7:$I$107=$I40),  --($J$7:$J$107=$J40), --($K$7:$K$107=$K40), --($L$7:$L$107=$L40),--($M$7:$M$107=$M40), --('Seznam střelců'!$Q40 <'Seznam střelců'!$Q$7:$Q$107)),\"\")","v":0},{"$f":"IF($A40<>\"\",\n      IF(ISBLANK('Seznam střelců'!$P40),\n         SUM($C40:$N40),\n         $C40+SUMPRODUCT(--($C$7:$C$107=$C40), --('Seznam střelců'!$Q40 <'Seznam střelců'!$Q$7:$Q$107))\n      ),\n      \"\")","v":1},{"$f":"IF(A40<>\"\",COUNTIF($O$7:$O40,$O40)-1,\"\")","v":0},1]
[{"$f":"'Seznam střelců'!A41","v":""},{"$f":"IF('Seznam střelců'!C41<>\"\", 0, 'Seznam střelců'!R41)","v":""},"",{"$f":"IF($A41<>\"\", SUMPRODUCT(--($C$7:$C$107=$C41), --('Seznam střelců'!$O41 < 'Seznam střelců'!$O$7:$O$107)),\"\")","v":""},{"$f":"IF($A41<>\"\", SUMPRODUCT(--($C$7:$C$107=$C41), --($D$7:$D$107=$D41), --('Seznam střelců'!$N41 <'Seznam střelců'!$N$7:$N$107)),\"\")","v":""},{"$f":"IF($A41<>\"\", SUMPRODUCT(--($C$7:$C$107=$C41), --($D$7:$D$107=$D41), --($E$7:$E$107=$E41), --('Seznam střelců'!$M41 <'Seznam střelců'!$M$7:$M$107)),\"\")","v":""},{"$f":"IF($A41<>\"\", SUMPRODUCT(--($C$7:$C$107=$C41), --($D$7:$D$107=$D41), --($E$7:$E$107=$E41), --($F$7:$F$107=$F41), --('Seznam střelců'!$L41 <'Seznam střelců'!$L$7:$L$107)),\"\")","v":""},{"$f":"IF($A41<>\"\", SUMPRODUCT(--($C$7:$C$107=$C41), --($D$7:$D$107=$D41), --($E$7:$E$107=$E41), --($F$7:$F$107=$F41), --($G$7:$G$107=$G41), --('Seznam střelců'!$K41 <'Seznam střelců'!$K$7:$K$107)),\"\")","v":""},{"$f":"IF($A41<>\"\", SUMPRODUCT(--($C$7:$C$107=$C41), --($D$7:$D$107=$D41), --($E$7:$E$107=$E41), --($F$7:$F$107=$F41), --($G$7:$G$107=$G41), --($H$7:$H$107=$H41), --('Seznam střelců'!$J41 <'Seznam střelců'!$J$7:$J$107)),\"\")","v":""},{"$f":"IF($A41<>\"\", SUMPRODUCT(--($C$7:$C$107=$C41), --($D$7:$D$107=$D41), --($E$7:$E$107=$E41), --($F$7:$F$107=$F41), --($G$7:$G$107=$G41), --($H$7:$H$107=$H41), --($I$7:$I$107=$I41), --('Seznam střelců'!$I41 <'Seznam střelců'!$I$7:$I$107)),\"\")","v":""},{"$f":"IF($A41<>\"\", SUMPRODUCT(--($C$7:$C$107=$C41), --($D$7:$D$107=$D41), --($E$7:$E$107=$E41), --($F$7:$F$107=$F41), --($G$7:$G$107=$G41), --($H$7:$H$107=$H41), --($I$7:$I$107=$I41), --($J$7:$J$107=$J41), --('Seznam střelců'!$H41 <'Seznam střelců'!$H$7:$H$107)),\"\")","v":""},{"$f":"IF($A41<>\"\", SUMPRODUCT(--($C$7:$C$107=$C41), --($D$7:$D$107=$D41), --($E$7:$E$107=$E41), --($F$7:$F$107=$F41), --($G$7:$G$107=$G41), --($H$7:$H$107=$H41), --($I$7:$I$107=$I41), --($J$7:$J$107=$J41), --($K$7:$K$107=$K41), --('Seznam střelců'!$G41 <'Seznam střelců'!$G$7:$G$107)),\"\")","v":""},{"$f":"IF($A41<>\"\", SUMPRODUCT(--($C$7:$C$107=$C41), --($D$7:$D$107=$D41), --($E$7:$E$107=$E41), --($F$7:$F$107=$F41), --($G$7:$G$107=$G41), --($H$7:$H$107=$H41), --($I$7:$I$107=$I41), --($J$7:$J$107=$J41), --($K$7:$K$107=$K41), --($L$7:$L$107=$L41), --('Seznam střelců'!$F41 <'Seznam střelců'!$F$7:$F$107)),\"\")","v":""},{"$f":"IF($A41<>\"\", SUMPRODUCT(--($C$7:$C$107=$C41), --($D$7:$D$107=$D41), --($E$7:$E$107=$E41), --($F$7:$F$107=$F41), --($G$7:$G$107=$G41), --($H$7:$H$107=$H41), --($I$7:$I$107=$I41),  --($J$7:$J$107=$J41), --($K$7:$K$107=$K41), --($L$7:$L$107=$L41),--($M$7:$M$107=$M41), --('Seznam střelců'!$Q41 <'Seznam střelců'!$Q$7:$Q$107)),\"\")","v":""},{"$f":"IF($A41<>\"\",\n      IF(ISBLANK('Seznam střelců'!$P41),\n         SUM($C41:$N41),\n         $C41+SUMPRODUCT(--($C$7:$C$107=$C41), --('Seznam střelců'!$Q41 <'Seznam střelců'!$Q$7:$Q$107))\n      ),\n      \"\")","v":""},{"$f":"IF(A41<>\"\",COUNTIF($O$7:$O41,$O41)-1,\"\")","v":""},""]
[{"$f":"'Seznam střelců'!A42","v":""},{"$f":"IF('Seznam střelců'!C42<>\"\", 0, 'Seznam střelců'!R42)","v":""},"",{"$f":"IF($A42<>\"\", SUMPRODUCT(--($C$7:$C$107=$C42), --('Seznam střelců'!$O42 < 'Seznam střelců'!$O$7:$O$107)),\"\")","v":""},{"$f":"IF($A42<>\"\", SUMPRODUCT(--($C$7:$C$107=$C42), --($D$7:$D$107=$D42), --('Seznam střelců'!$N42 <'Seznam střelců'!$N$7:$N$107)),\"\")","v":""},{"$f":"IF($A42<>\"\", SUMPRODUCT(--($C$7:$C$107=$C42), --($D$7:$D$107=$D42), --($E$7:$E$107=$E42), --('Seznam střelců'!$M42 <'Seznam střelců'!$M$7:$M$107)),\"\")","v":""},{"$f":"IF($A42<>\"\", SUMPRODUCT(--($C$7:$C$107=$C42), --($D$7:$D$107=$D42), --($E$7:$E$107=$E42), --($F$7:$F$107=$F42), --('Seznam střelců'!$L42 <'Seznam střelců'!$L$7:$L$107)),\"\")","v":""},{"$f":"IF($A42<>\"\", SUMPRODUCT(--($C$7:$C$107=$C42), --($D$7:$D$107=$D42), --($E$7:$E$107=$E42), --($F$7:$F$107=$F42), --($G$7:$G$107=$G42), --('Seznam střelců'!$K42 <'Seznam střelců'!$K$7:$K$107)),\"\")","v":""},{"$f":"IF($A42<>\"\", SUMPRODUCT(--($C$7:$C$107=$C42), --($D$7:$D$107=$D42), --($E$7:$E$107=$E42), --($F$7:$F$107=$F42), --($G$7:$G$107=$G42), --($H$7:$H$107=$H42), --('Seznam střelců'!$J42 <'Seznam střelců'!$J$7:$J$107)),\"\")","v":""},{"$f":"IF($A42<>\"\", SUMPRODUCT(--($C$7:$C$107=$C42), --($D$7:$D$107=$D42), --($E$7:$E$107=$E42), --($F$7:$F$107=$F42), --($G$7:$G$107=$G42), --($H$7:$H$107=$H42), --($I$7:$I$107=$I42), --('Seznam střelců'!$I42 <'Seznam střelců'!$I$7:$I$107)),\"\")","v":""},{"$f":"IF($A42<>\"\", SUMPRODUCT(--($C$7:$C$107=$C42), --($D$7:$D$107=$D42), --($E$7:$E$107=$E42), --($F$7:$F$107=$F42), --($G$7:$G$107=$G42), --($H$7:$H$107=$H42), --($I$7:$I$107=$I42), --($J$7:$J$107=$J42), --('Seznam střelců'!$H42 <'Seznam střelců'!$H$7:$H$107)),\"\")","v":""},{"$f":"IF($A42<>\"\", SUMPRODUCT(--($C$7:$C$107=$C42), --($D$7:$D$107=$D42), --($E$7:$E$107=$E42), --($F$7:$F$107=$F42), --($G$7:$G$107=$G42), --($H$7:$H$107=$H42), --($I$7:$I$107=$I42), --($J$7:$J$107=$J42), --($K$7:$K$107=$K42), --('Seznam střelců'!$G42 <'Seznam střelců'!$G$7:$G$107)),\"\")","v":""},{"$f":"IF($A42<>\"\", SUMPRODUCT(--($C$7:$C$107=$C42), --($D$7:$D$107=$D42), --($E$7:$E$107=$E42), --($F$7:$F$107=$F42), --($G$7:$G$107=$G42), --($H$7:$H$107=$H42), --($I$7:$I$107=$I42), --($J$7:$J$107=$J42), --($K$7:$K$107=$K42), --($L$7:$L$107=$L42), --('Seznam střelců'!$F42 <'Seznam střelců'!$F$7:$F$107)),\"\")","v":""},{"$f":"IF($A42<>\"\", SUMPRODUCT(--($C$7:$C$107=$C42), --($D$7:$D$107=$D42), --($E$7:$E$107=$E42), --($F$7:$F$107=$F42), --($G$7:$G$107=$G42), --($H$7:$H$107=$H42), --($I$7:$I$107=$I42),  --($J$7:$J$107=$J42), --($K$7:$K$107=$K42), --($L$7:$L$107=$L42),--($M$7:$M$107=$M42), --('Seznam střelců'!$Q42 <'Seznam střelců'!$Q$7:$Q$107)),\"\")","v":""},{"$f":"IF($A42<>\"\",\n      IF(ISBLANK('Seznam střelců'!$P42),\n         SUM($C42:$N42),\n         $C42+SUMPRODUCT(--($C$7:$C$107=$C42), --('Seznam střelců'!$Q42 <'Seznam střelců'!$Q$7:$Q$107))\n      ),\n      \"\")","v":""},{"$f":"IF(A42<>\"\",COUNTIF($O$7:$O42,$O42)-1,\"\")","v":""},""]
[{"$f":"'Seznam střelců'!A43","v":""},{"$f":"IF('Seznam střelců'!C43<>\"\", 0, 'Seznam střelců'!R43)","v":""},"",{"$f":"IF($A43<>\"\", SUMPRODUCT(--($C$7:$C$107=$C43), --('Seznam střelců'!$O43 < 'Seznam střelců'!$O$7:$O$107)),\"\")","v":""},{"$f":"IF($A43<>\"\", SUMPRODUCT(--($C$7:$C$107=$C43), --($D$7:$D$107=$D43), --('Seznam střelců'!$N43 <'Seznam střelců'!$N$7:$N$107)),\"\")","v":""},{"$f":"IF($A43<>\"\", SUMPRODUCT(--($C$7:$C$107=$C43), --($D$7:$D$107=$D43), --($E$7:$E$107=$E43), --('Seznam střelců'!$M43 <'Seznam střelců'!$M$7:$M$107)),\"\")","v":""},{"$f":"IF($A43<>\"\", SUMPRODUCT(--($C$7:$C$107=$C43), --($D$7:$D$107=$D43), --($E$7:$E$107=$E43), --($F$7:$F$107=$F43), --('Seznam střelců'!$L43 <'Seznam střelců'!$L$7:$L$107)),\"\")","v":""},{"$f":"IF($A43<>\"\", SUMPRODUCT(--($C$7:$C$107=$C43), --($D$7:$D$107=$D43), --($E$7:$E$107=$E43), --($F$7:$F$107=$F43), --($G$7:$G$107=$G43), --('Seznam střelců'!$K43 <'Seznam střelců'!$K$7:$K$107)),\"\")","v":""},{"$f":"IF($A43<>\"\", SUMPRODUCT(--($C$7:$C$107=$C43), --($D$7:$D$107=$D43), --($E$7:$E$107=$E43), --($F$7:$F$107=$F43), --($G$7:$G$107=$G43), --($H$7:$H$107=$H43), --('Seznam střelců'!$J43 <'Seznam střelců'!$J$7:$J$107)),\"\")","v":""},{"$f":"IF($A43<>\"\", SUMPRODUCT(--($C$7:$C$107=$C43), --($D$7:$D$107=$D43), --($E$7:$E$107=$E43), --($F$7:$F$107=$F43), --($G$7:$G$107=$G43), --($H$7:$H$107=$H43), --($I$7:$I$107=$I43), --('Seznam střelců'!$I43 <'Seznam střelců'!$I$7:$I$107)),\"\")","v":""},{"$f":"IF($A43<>\"\", SUMPRODUCT(--($C$7:$C$107=$C43), --($D$7:$D$107=$D43), --($E$7:$E$107=$E43), --($F$7:$F$107=$F43), --($G$7:$G$107=$G43), --($H$7:$H$107=$H43), --($I$7:$I$107=$I43), --($J$7:$J$107=$J43), --('Seznam střelců'!$H43 <'Seznam střelců'!$H$7:$H$107)),\"\")","v":""},{"$f":"IF($A43<>\"\", SUMPRODUCT(--($C$7:$C$107=$C43), --($D$7:$D$107=$D43), --($E$7:$E$107=$E43), --($F$7:$F$107=$F43), --($G$7:$G$107=$G43), --($H$7:$H$107=$H43), --($I$7:$I$107=$I43), --($J$7:$J$107=$J43), --($K$7:$K$107=$K43), --('Seznam střelců'!$G43 <'Seznam střelců'!$G$7:$G$107)),\"\")","v":""},{"$f":"IF($A43<>\"\", SUMPRODUCT(--($C$7:$C$107=$C43), --($D$7:$D$107=$D43), --($E$7:$E$107=$E43), --($F$7:$F$107=$F43), --($G$7:$G$107=$G43), --($H$7:$H$107=$H43), --($I$7:$I$107=$I43), --($J$7:$J$107=$J43), --($K$7:$K$107=$K43), --($L$7:$L$107=$L43), --('Seznam střelců'!$F43 <'Seznam střelců'!$F$7:$F$107)),\"\")","v":""},{"$f":"IF($A43<>\"\", SUMPRODUCT(--($C$7:$C$107=$C43), --($D$7:$D$107=$D43), --($E$7:$E$107=$E43), --($F$7:$F$107=$F43), --($G$7:$G$107=$G43), --($H$7:$H$107=$H43), --($I$7:$I$107=$I43),  --($J$7:$J$107=$J43), --($K$7:$K$107=$K43), --($L$7:$L$107=$L43),--($M$7:$M$107=$M43), --('Seznam střelců'!$Q43 <'Seznam střelců'!$Q$7:$Q$107)),\"\")","v":""},{"$f":"IF($A43<>\"\",\n      IF(ISBLANK('Seznam střelců'!$P43),\n         SUM($C43:$N43),\n         $C43+SUMPRODUCT(--($C$7:$C$107=$C43), --('Seznam střelců'!$Q43 <'Seznam střelců'!$Q$7:$Q$107))\n      ),\n      \"\")","v":""},{"$f":"IF(A43<>\"\",COUNTIF($O$7:$O43,$O43)-1,\"\")","v":""},""]
[{"$f":"'Seznam střelců'!A44","v":""},{"$f":"IF('Seznam střelců'!C44<>\"\", 0, 'Seznam střelců'!R44)","v":""},"",{"$f":"IF($A44<>\"\", SUMPRODUCT(--($C$7:$C$107=$C44), --('Seznam střelců'!$O44 < 'Seznam střelců'!$O$7:$O$107)),\"\")","v":""},{"$f":"IF($A44<>\"\", SUMPRODUCT(--($C$7:$C$107=$C44), --($D$7:$D$107=$D44), --('Seznam střelců'!$N44 <'Seznam střelců'!$N$7:$N$107)),\"\")","v":""},{"$f":"IF($A44<>\"\", SUMPRODUCT(--($C$7:$C$107=$C44), --($D$7:$D$107=$D44), --($E$7:$E$107=$E44), --('Seznam střelců'!$M44 <'Seznam střelců'!$M$7:$M$107)),\"\")","v":""},{"$f":"IF($A44<>\"\", SUMPRODUCT(--($C$7:$C$107=$C44), --($D$7:$D$107=$D44), --($E$7:$E$107=$E44), --($F$7:$F$107=$F44), --('Seznam střelců'!$L44 <'Seznam střelců'!$L$7:$L$107)),\"\")","v":""},{"$f":"IF($A44<>\"\", SUMPRODUCT(--($C$7:$C$107=$C44), --($D$7:$D$107=$D44), --($E$7:$E$107=$E44), --($F$7:$F$107=$F44), --($G$7:$G$107=$G44), --('Seznam střelců'!$K44 <'Seznam střelců'!$K$7:$K$107)),\"\")","v":""},{"$f":"IF($A44<>\"\", SUMPRODUCT(--($C$7:$C$107=$C44), --($D$7:$D$107=$D44), --($E$7:$E$107=$E44), --($F$7:$F$107=$F44), --($G$7:$G$107=$G44), --($H$7:$H$107=$H44), --('Seznam střelců'!$J44 <'Seznam střelců'!$J$7:$J$107)),\"\")","v":""},{"$f":"IF($A44<>\"\", SUMPRODUCT(--($C$7:$C$107=$C44), --($D$7:$D$107=$D44), --($E$7:$E$107=$E44), --($F$7:$F$107=$F44), --($G$7:$G$107=$G44), --($H$7:$H$107=$H44), --($I$7:$I$107=$I44), --('Seznam střelců'!$I44 <'Seznam střelců'!$I$7:$I$107)),\"\")","v":""},{"$f":"IF($A44<>\"\", SUMPRODUCT(--($C$7:$C$107=$C44), --($D$7:$D$107=$D44), --($E$7:$E$107=$E44), --($F$7:$F$107=$F44), --($G$7:$G$107=$G44), --($H$7:$H$107=$H44), --($I$7:$I$107=$I44), --($J$7:$J$107=$J44), --('Seznam střelců'!$H44 <'Seznam střelců'!$H$7:$H$107)),\"\")","v":""},{"$f":"IF($A44<>\"\", SUMPRODUCT(--($C$7:$C$107=$C44), --($D$7:$D$107=$D44), --($E$7:$E$107=$E44), --($F$7:$F$107=$F44), --($G$7:$G$107=$G44), --($H$7:$H$107=$H44), --($I$7:$I$107=$I44), --($J$7:$J$107=$J44), --($K$7:$K$107=$K44), --('Seznam střelců'!$G44 <'Seznam střelců'!$G$7:$G$107)),\"\")","v":""},{"$f":"IF($A44<>\"\", SUMPRODUCT(--($C$7:$C$107=$C44), --($D$7:$D$107=$D44), --($E$7:$E$107=$E44), --($F$7:$F$107=$F44), --($G$7:$G$107=$G44), --($H$7:$H$107=$H44), --($I$7:$I$107=$I44), --($J$7:$J$107=$J44), --($K$7:$K$107=$K44), --($L$7:$L$107=$L44), --('Seznam střelců'!$F44 <'Seznam střelců'!$F$7:$F$107)),\"\")","v":""},{"$f":"IF($A44<>\"\", SUMPRODUCT(--($C$7:$C$107=$C44), --($D$7:$D$107=$D44), --($E$7:$E$107=$E44), --($F$7:$F$107=$F44), --($G$7:$G$107=$G44), --($H$7:$H$107=$H44), --($I$7:$I$107=$I44),  --($J$7:$J$107=$J44), --($K$7:$K$107=$K44), --($L$7:$L$107=$L44),--($M$7:$M$107=$M44), --('Seznam střelců'!$Q44 <'Seznam střelců'!$Q$7:$Q$107)),\"\")","v":""},{"$f":"IF($A44<>\"\",\n      IF(ISBLANK('Seznam střelců'!$P44),\n         SUM($C44:$N44),\n         $C44+SUMPRODUCT(--($C$7:$C$107=$C44), --('Seznam střelců'!$Q44 <'Seznam střelců'!$Q$7:$Q$107))\n      ),\n      \"\")","v":""},{"$f":"IF(A44<>\"\",COUNTIF($O$7:$O44,$O44)-1,\"\")","v":""},""]
[{"$f":"'Seznam střelců'!A45","v":""},{"$f":"IF('Seznam střelců'!C45<>\"\", 0, 'Seznam střelců'!R45)","v":""},"",{"$f":"IF($A45<>\"\", SUMPRODUCT(--($C$7:$C$107=$C45), --('Seznam střelců'!$O45 < 'Seznam střelců'!$O$7:$O$107)),\"\")","v":""},{"$f":"IF($A45<>\"\", SUMPRODUCT(--($C$7:$C$107=$C45), --($D$7:$D$107=$D45), --('Seznam střelců'!$N45 <'Seznam střelců'!$N$7:$N$107)),\"\")","v":""},{"$f":"IF($A45<>\"\", SUMPRODUCT(--($C$7:$C$107=$C45), --($D$7:$D$107=$D45), --($E$7:$E$107=$E45), --('Seznam střelců'!$M45 <'Seznam střelců'!$M$7:$M$107)),\"\")","v":""},{"$f":"IF($A45<>\"\", SUMPRODUCT(--($C$7:$C$107=$C45), --($D$7:$D$107=$D45), --($E$7:$E$107=$E45), --($F$7:$F$107=$F45), --('Seznam střelců'!$L45 <'Seznam střelců'!$L$7:$L$107)),\"\")","v":""},{"$f":"IF($A45<>\"\", SUMPRODUCT(--($C$7:$C$107=$C45), --($D$7:$D$107=$D45), --($E$7:$E$107=$E45), --($F$7:$F$107=$F45), --($G$7:$G$107=$G45), --('Seznam střelců'!$K45 <'Seznam střelců'!$K$7:$K$107)),\"\")","v":""},{"$f":"IF($A45<>\"\", SUMPRODUCT(--($C$7:$C$107=$C45), --($D$7:$D$107=$D45), --($E$7:$E$107=$E45), --($F$7:$F$107=$F45), --($G$7:$G$107=$G45), --($H$7:$H$107=$H45), --('Seznam střelců'!$J45 <'Seznam střelců'!$J$7:$J$107)),\"\")","v":""},{"$f":"IF($A45<>\"\", SUMPRODUCT(--($C$7:$C$107=$C45), --($D$7:$D$107=$D45), --($E$7:$E$107=$E45), --($F$7:$F$107=$F45), --($G$7:$G$107=$G45), --($H$7:$H$107=$H45), --($I$7:$I$107=$I45), --('Seznam střelců'!$I45 <'Seznam střelců'!$I$7:$I$107)),\"\")","v":""},{"$f":"IF($A45<>\"\", SUMPRODUCT(--($C$7:$C$107=$C45), --($D$7:$D$107=$D45), --($E$7:$E$107=$E45), --($F$7:$F$107=$F45), --($G$7:$G$107=$G45), --($H$7:$H$107=$H45), --($I$7:$I$107=$I45), --($J$7:$J$107=$J45), --('Seznam střelců'!$H45 <'Seznam střelců'!$H$7:$H$107)),\"\")","v":""},{"$f":"IF($A45<>\"\", SUMPRODUCT(--($C$7:$C$107=$C45), --($D$7:$D$107=$D45), --($E$7:$E$107=$E45), --($F$7:$F$107=$F45), --($G$7:$G$107=$G45), --($H$7:$H$107=$H45), --($I$7:$I$107=$I45), --($J$7:$J$107=$J45), --($K$7:$K$107=$K45), --('Seznam střelců'!$G45 <'Seznam střelců'!$G$7:$G$107)),\"\")","v":""},{"$f":"IF($A45<>\"\", SUMPRODUCT(--($C$7:$C$107=$C45), --($D$7:$D$107=$D45), --($E$7:$E$107=$E45), --($F$7:$F$107=$F45), --($G$7:$G$107=$G45), --($H$7:$H$107=$H45), --($I$7:$I$107=$I45), --($J$7:$J$107=$J45), --($K$7:$K$107=$K45), --($L$7:$L$107=$L45), --('Seznam střelců'!$F45 <'Seznam střelců'!$F$7:$F$107)),\"\")","v":""},{"$f":"IF($A45<>\"\", SUMPRODUCT(--($C$7:$C$107=$C45), --($D$7:$D$107=$D45), --($E$7:$E$107=$E45), --($F$7:$F$107=$F45), --($G$7:$G$107=$G45), --($H$7:$H$107=$H45), --($I$7:$I$107=$I45),  --($J$7:$J$107=$J45), --($K$7:$K$107=$K45), --($L$7:$L$107=$L45),--($M$7:$M$107=$M45), --('Seznam střelců'!$Q45 <'Seznam střelců'!$Q$7:$Q$107)),\"\")","v":""},{"$f":"IF($A45<>\"\",\n      IF(ISBLANK('Seznam střelců'!$P45),\n         SUM($C45:$N45),\n         $C45+SUMPRODUCT(--($C$7:$C$107=$C45), --('Seznam střelců'!$Q45 <'Seznam střelců'!$Q$7:$Q$107))\n      ),\n      \"\")","v":""},{"$f":"IF(A45<>\"\",COUNTIF($O$7:$O45,$O45)-1,\"\")","v":""},""]
[{"$f":"'Seznam střelců'!A46","v":""},{"$f":"IF('Seznam střelců'!C46<>\"\", 0, 'Seznam střelců'!R46)","v":""},"",{"$f":"IF($A46<>\"\", SUMPRODUCT(--($C$7:$C$107=$C46), --('Seznam střelců'!$O46 < 'Seznam střelců'!$O$7:$O$107)),\"\")","v":""},{"$f":"IF($A46<>\"\", SUMPRODUCT(--($C$7:$C$107=$C46), --($D$7:$D$107=$D46), --('Seznam střelců'!$N46 <'Seznam střelců'!$N$7:$N$107)),\"\")","v":""},{"$f":"IF($A46<>\"\", SUMPRODUCT(--($C$7:$C$107=$C46), --($D$7:$D$107=$D46), --($E$7:$E$107=$E46), --('Seznam střelců'!$M46 <'Seznam střelců'!$M$7:$M$107)),\"\")","v":""},{"$f":"IF($A46<>\"\", SUMPRODUCT(--($C$7:$C$107=$C46), --($D$7:$D$107=$D46), --($E$7:$E$107=$E46), --($F$7:$F$107=$F46), --('Seznam střelců'!$L46 <'Seznam střelců'!$L$7:$L$107)),\"\")","v":""},{"$f":"IF($A46<>\"\", SUMPRODUCT(--($C$7:$C$107=$C46), --($D$7:$D$107=$D46), --($E$7:$E$107=$E46), --($F$7:$F$107=$F46), --($G$7:$G$107=$G46), --('Seznam střelců'!$K46 <'Seznam střelců'!$K$7:$K$107)),\"\")","v":""},{"$f":"IF($A46<>\"\", SUMPRODUCT(--($C$7:$C$107=$C46), --($D$7:$D$107=$D46), --($E$7:$E$107=$E46), --($F$7:$F$107=$F46), --($G$7:$G$107=$G46), --($H$7:$H$107=$H46), --('Seznam střelců'!$J46 <'Seznam střelců'!$J$7:$J$107)),\"\")","v":""},{"$f":"IF($A46<>\"\", SUMPRODUCT(--($C$7:$C$107=$C46), --($D$7:$D$107=$D46), --($E$7:$E$107=$E46), --($F$7:$F$107=$F46), --($G$7:$G$107=$G46), --($H$7:$H$107=$H46), --($I$7:$I$107=$I46), --('Seznam střelců'!$I46 <'Seznam střelců'!$I$7:$I$107)),\"\")","v":""},{"$f":"IF($A46<>\"\", SUMPRODUCT(--($C$7:$C$107=$C46), --($D$7:$D$107=$D46), --($E$7:$E$107=$E46), --($F$7:$F$107=$F46), --($G$7:$G$107=$G46), --($H$7:$H$107=$H46), --($I$7:$I$107=$I46), --($J$7:$J$107=$J46), --('Seznam střelců'!$H46 <'Seznam střelců'!$H$7:$H$107)),\"\")","v":""},{"$f":"IF($A46<>\"\", SUMPRODUCT(--($C$7:$C$107=$C46), --($D$7:$D$107=$D46), --($E$7:$E$107=$E46), --($F$7:$F$107=$F46), --($G$7:$G$107=$G46), --($H$7:$H$107=$H46), --($I$7:$I$107=$I46), --($J$7:$J$107=$J46), --($K$7:$K$107=$K46), --('Seznam střelců'!$G46 <'Seznam střelců'!$G$7:$G$107)),\"\")","v":""},{"$f":"IF($A46<>\"\", SUMPRODUCT(--($C$7:$C$107=$C46), --($D$7:$D$107=$D46), --($E$7:$E$107=$E46), --($F$7:$F$107=$F46), --($G$7:$G$107=$G46), --($H$7:$H$107=$H46), --($I$7:$I$107=$I46), --($J$7:$J$107=$J46), --($K$7:$K$107=$K46), --($L$7:$L$107=$L46), --('Seznam střelců'!$F46 <'Seznam střelců'!$F$7:$F$107)),\"\")","v":""},{"$f":"IF($A46<>\"\", SUMPRODUCT(--($C$7:$C$107=$C46), --($D$7:$D$107=$D46), --($E$7:$E$107=$E46), --($F$7:$F$107=$F46), --($G$7:$G$107=$G46), --($H$7:$H$107=$H46), --($I$7:$I$107=$I46),  --($J$7:$J$107=$J46), --($K$7:$K$107=$K46), --($L$7:$L$107=$L46),--($M$7:$M$107=$M46), --('Seznam střelců'!$Q46 <'Seznam střelců'!$Q$7:$Q$107)),\"\")","v":""},{"$f":"IF($A46<>\"\",\n      IF(ISBLANK('Seznam střelců'!$P46),\n         SUM($C46:$N46),\n         $C46+SUMPRODUCT(--($C$7:$C$107=$C46), --('Seznam střelců'!$Q46 <'Seznam střelců'!$Q$7:$Q$107))\n      ),\n      \"\")","v":""},{"$f":"IF(A46<>\"\",COUNTIF($O$7:$O46,$O46)-1,\"\")","v":""},""]
[{"$f":"'Seznam střelců'!A47","v":""},{"$f":"IF('Seznam střelců'!C47<>\"\", 0, 'Seznam střelců'!R47)","v":""},"",{"$f":"IF($A47<>\"\", SUMPRODUCT(--($C$7:$C$107=$C47), --('Seznam střelců'!$O47 < 'Seznam střelců'!$O$7:$O$107)),\"\")","v":""},{"$f":"IF($A47<>\"\", SUMPRODUCT(--($C$7:$C$107=$C47), --($D$7:$D$107=$D47), --('Seznam střelců'!$N47 <'Seznam střelců'!$N$7:$N$107)),\"\")","v":""},{"$f":"IF($A47<>\"\", SUMPRODUCT(--($C$7:$C$107=$C47), --($D$7:$D$107=$D47), --($E$7:$E$107=$E47), --('Seznam střelců'!$M47 <'Seznam střelců'!$M$7:$M$107)),\"\")","v":""},{"$f":"IF($A47<>\"\", SUMPRODUCT(--($C$7:$C$107=$C47), --($D$7:$D$107=$D47), --($E$7:$E$107=$E47), --($F$7:$F$107=$F47), --('Seznam střelců'!$L47 <'Seznam střelců'!$L$7:$L$107)),\"\")","v":""},{"$f":"IF($A47<>\"\", SUMPRODUCT(--($C$7:$C$107=$C47), --($D$7:$D$107=$D47), --($E$7:$E$107=$E47), --($F$7:$F$107=$F47), --($G$7:$G$107=$G47), --('Seznam střelců'!$K47 <'Seznam střelců'!$K$7:$K$107)),\"\")","v":""},{"$f":"IF($A47<>\"\", SUMPRODUCT(--($C$7:$C$107=$C47), --($D$7:$D$107=$D47), --($E$7:$E$107=$E47), --($F$7:$F$107=$F47), --($G$7:$G$107=$G47), --($H$7:$H$107=$H47), --('Seznam střelců'!$J47 <'Seznam střelců'!$J$7:$J$107)),\"\")","v":""},{"$f":"IF($A47<>\"\", SUMPRODUCT(--($C$7:$C$107=$C47), --($D$7:$D$107=$D47), --($E$7:$E$107=$E47), --($F$7:$F$107=$F47), --($G$7:$G$107=$G47), --($H$7:$H$107=$H47), --($I$7:$I$107=$I47), --('Seznam střelců'!$I47 <'Seznam střelců'!$I$7:$I$107)),\"\")","v":""},{"$f":"IF($A47<>\"\", SUMPRODUCT(--($C$7:$C$107=$C47), --($D$7:$D$107=$D47), --($E$7:$E$107=$E47), --($F$7:$F$107=$F47), --($G$7:$G$107=$G47), --($H$7:$H$107=$H47), --($I$7:$I$107=$I47), --($J$7:$J$107=$J47), --('Seznam střelců'!$H47 <'Seznam střelců'!$H$7:$H$107)),\"\")","v":""},{"$f":"IF($A47<>\"\", SUMPRODUCT(--($C$7:$C$107=$C47), --($D$7:$D$107=$D47), --($E$7:$E$107=$E47), --($F$7:$F$107=$F47), --($G$7:$G$107=$G47), --($H$7:$H$107=$H47), --($I$7:$I$107=$I47), --($J$7:$J$107=$J47), --($K$7:$K$107=$K47), --('Seznam střelců'!$G47 <'Seznam střelců'!$G$7:$G$107)),\"\")","v":""},{"$f":"IF($A47<>\"\", SUMPRODUCT(--($C$7:$C$107=$C47), --($D$7:$D$107=$D47), --($E$7:$E$107=$E47), --($F$7:$F$107=$F47), --($G$7:$G$107=$G47), --($H$7:$H$107=$H47), --($I$7:$I$107=$I47), --($J$7:$J$107=$J47), --($K$7:$K$107=$K47), --($L$7:$L$107=$L47), --('Seznam střelců'!$F47 <'Seznam střelců'!$F$7:$F$107)),\"\")","v":""},{"$f":"IF($A47<>\"\", SUMPRODUCT(--($C$7:$C$107=$C47), --($D$7:$D$107=$D47), --($E$7:$E$107=$E47), --($F$7:$F$107=$F47), --($G$7:$G$107=$G47), --($H$7:$H$107=$H47), --($I$7:$I$107=$I47),  --($J$7:$J$107=$J47), --($K$7:$K$107=$K47), --($L$7:$L$107=$L47),--($M$7:$M$107=$M47), --('Seznam střelců'!$Q47 <'Seznam střelců'!$Q$7:$Q$107)),\"\")","v":""},{"$f":"IF($A47<>\"\",\n      IF(ISBLANK('Seznam střelců'!$P47),\n         SUM($C47:$N47),\n         $C47+SUMPRODUCT(--($C$7:$C$107=$C47), --('Seznam střelců'!$Q47 <'Seznam střelců'!$Q$7:$Q$107))\n      ),\n      \"\")","v":""},{"$f":"IF(A47<>\"\",COUNTIF($O$7:$O47,$O47)-1,\"\")","v":""},""]
[{"$f":"'Seznam střelců'!A48","v":""},{"$f":"IF('Seznam střelců'!C48<>\"\", 0, 'Seznam střelců'!R48)","v":""},"",{"$f":"IF($A48<>\"\", SUMPRODUCT(--($C$7:$C$107=$C48), --('Seznam střelců'!$O48 < 'Seznam střelců'!$O$7:$O$107)),\"\")","v":""},{"$f":"IF($A48<>\"\", SUMPRODUCT(--($C$7:$C$107=$C48), --($D$7:$D$107=$D48), --('Seznam střelců'!$N48 <'Seznam střelců'!$N$7:$N$107)),\"\")","v":""},{"$f":"IF($A48<>\"\", SUMPRODUCT(--($C$7:$C$107=$C48), --($D$7:$D$107=$D48), --($E$7:$E$107=$E48), --('Seznam střelců'!$M48 <'Seznam střelců'!$M$7:$M$107)),\"\")","v":""},{"$f":"IF($A48<>\"\", SUMPRODUCT(--($C$7:$C$107=$C48), --($D$7:$D$107=$D48), --($E$7:$E$107=$E48), --($F$7:$F$107=$F48), --('Seznam střelců'!$L48 <'Seznam střelců'!$L$7:$L$107)),\"\")","v":""},{"$f":"IF($A48<>\"\", SUMPRODUCT(--($C$7:$C$107=$C48), --($D$7:$D$107=$D48), --($E$7:$E$107=$E48), --($F$7:$F$107=$F48), --($G$7:$G$107=$G48), --('Seznam střelců'!$K48 <'Seznam střelců'!$K$7:$K$107)),\"\")","v":""},{"$f":"IF($A48<>\"\", SUMPRODUCT(--($C$7:$C$107=$C48), --($D$7:$D$107=$D48), --($E$7:$E$107=$E48), --($F$7:$F$107=$F48), --($G$7:$G$107=$G48), --($H$7:$H$107=$H48), --('Seznam střelců'!$J48 <'Seznam střelců'!$J$7:$J$107)),\"\")","v":""},{"$f":"IF($A48<>\"\", SUMPRODUCT(--($C$7:$C$107=$C48), --($D$7:$D$107=$D48), --($E$7:$E$107=$E48), --($F$7:$F$107=$F48), --($G$7:$G$107=$G48), --($H$7:$H$107=$H48), --($I$7:$I$107=$I48), --('Seznam střelců'!$I48 <'Seznam střelců'!$I$7:$I$107)),\"\")","v":""},{"$f":"IF($A48<>\"\", SUMPRODUCT(--($C$7:$C$107=$C48), --($D$7:$D$107=$D48), --($E$7:$E$107=$E48), --($F$7:$F$107=$F48), --($G$7:$G$107=$G48), --($H$7:$H$107=$H48), --($I$7:$I$107=$I48), --($J$7:$J$107=$J48), --('Seznam střelců'!$H48 <'Seznam střelců'!$H$7:$H$107)),\"\")","v":""},{"$f":"IF($A48<>\"\", SUMPRODUCT(--($C$7:$C$107=$C48), --($D$7:$D$107=$D48), --($E$7:$E$107=$E48), --($F$7:$F$107=$F48), --($G$7:$G$107=$G48), --($H$7:$H$107=$H48), --($I$7:$I$107=$I48), --($J$7:$J$107=$J48), --($K$7:$K$107=$K48), --('Seznam střelců'!$G48 <'Seznam střelců'!$G$7:$G$107)),\"\")","v":""},{"$f":"IF($A48<>\"\", SUMPRODUCT(--($C$7:$C$107=$C48), --($D$7:$D$107=$D48), --($E$7:$E$107=$E48), --($F$7:$F$107=$F48), --($G$7:$G$107=$G48), --($H$7:$H$107=$H48), --($I$7:$I$107=$I48), --($J$7:$J$107=$J48), --($K$7:$K$107=$K48), --($L$7:$L$107=$L48), --('Seznam střelců'!$F48 <'Seznam střelců'!$F$7:$F$107)),\"\")","v":""},{"$f":"IF($A48<>\"\", SUMPRODUCT(--($C$7:$C$107=$C48), --($D$7:$D$107=$D48), --($E$7:$E$107=$E48), --($F$7:$F$107=$F48), --($G$7:$G$107=$G48), --($H$7:$H$107=$H48), --($I$7:$I$107=$I48),  --($J$7:$J$107=$J48), --($K$7:$K$107=$K48), --($L$7:$L$107=$L48),--($M$7:$M$107=$M48), --('Seznam střelců'!$Q48 <'Seznam střelců'!$Q$7:$Q$107)),\"\")","v":""},{"$f":"IF($A48<>\"\",\n      IF(ISBLANK('Seznam střelců'!$P48),\n         SUM($C48:$N48),\n         $C48+SUMPRODUCT(--($C$7:$C$107=$C48), --('Seznam střelců'!$Q48 <'Seznam střelců'!$Q$7:$Q$107))\n      ),\n      \"\")","v":""},{"$f":"IF(A48<>\"\",COUNTIF($O$7:$O48,$O48)-1,\"\")","v":""},""]
[{"$f":"'Seznam střelců'!A49","v":""},{"$f":"IF('Seznam střelců'!C49<>\"\", 0, 'Seznam střelců'!R49)","v":""},"",{"$f":"IF($A49<>\"\", SUMPRODUCT(--($C$7:$C$107=$C49), --('Seznam střelců'!$O49 < 'Seznam střelců'!$O$7:$O$107)),\"\")","v":""},{"$f":"IF($A49<>\"\", SUMPRODUCT(--($C$7:$C$107=$C49), --($D$7:$D$107=$D49), --('Seznam střelců'!$N49 <'Seznam střelců'!$N$7:$N$107)),\"\")","v":""},{"$f":"IF($A49<>\"\", SUMPRODUCT(--($C$7:$C$107=$C49), --($D$7:$D$107=$D49), --($E$7:$E$107=$E49), --('Seznam střelců'!$M49 <'Seznam střelců'!$M$7:$M$107)),\"\")","v":""},{"$f":"IF($A49<>\"\", SUMPRODUCT(--($C$7:$C$107=$C49), --($D$7:$D$107=$D49), --($E$7:$E$107=$E49), --($F$7:$F$107=$F49), --('Seznam střelců'!$L49 <'Seznam střelců'!$L$7:$L$107)),\"\")","v":""},{"$f":"IF($A49<>\"\", SUMPRODUCT(--($C$7:$C$107=$C49), --($D$7:$D$107=$D49), --($E$7:$E$107=$E49), --($F$7:$F$107=$F49), --($G$7:$G$107=$G49), --('Seznam střelců'!$K49 <'Seznam střelců'!$K$7:$K$107)),\"\")","v":""},{"$f":"IF($A49<>\"\", SUMPRODUCT(--($C$7:$C$107=$C49), --($D$7:$D$107=$D49), --($E$7:$E$107=$E49), --($F$7:$F$107=$F49), --($G$7:$G$107=$G49), --($H$7:$H$107=$H49), --('Seznam střelců'!$J49 <'Seznam střelců'!$J$7:$J$107)),\"\")","v":""},{"$f":"IF($A49<>\"\", SUMPRODUCT(--($C$7:$C$107=$C49), --($D$7:$D$107=$D49), --($E$7:$E$107=$E49), --($F$7:$F$107=$F49), --($G$7:$G$107=$G49), --($H$7:$H$107=$H49), --($I$7:$I$107=$I49), --('Seznam střelců'!$I49 <'Seznam střelců'!$I$7:$I$107)),\"\")","v":""},{"$f":"IF($A49<>\"\", SUMPRODUCT(--($C$7:$C$107=$C49), --($D$7:$D$107=$D49), --($E$7:$E$107=$E49), --($F$7:$F$107=$F49), --($G$7:$G$107=$G49), --($H$7:$H$107=$H49), --($I$7:$I$107=$I49), --($J$7:$J$107=$J49), --('Seznam střelců'!$H49 <'Seznam střelců'!$H$7:$H$107)),\"\")","v":""},{"$f":"IF($A49<>\"\", SUMPRODUCT(--($C$7:$C$107=$C49), --($D$7:$D$107=$D49), --($E$7:$E$107=$E49), --($F$7:$F$107=$F49), --($G$7:$G$107=$G49), --($H$7:$H$107=$H49), --($I$7:$I$107=$I49), --($J$7:$J$107=$J49), --($K$7:$K$107=$K49), --('Seznam střelců'!$G49 <'Seznam střelců'!$G$7:$G$107)),\"\")","v":""},{"$f":"IF($A49<>\"\", SUMPRODUCT(--($C$7:$C$107=$C49), --($D$7:$D$107=$D49), --($E$7:$E$107=$E49), --($F$7:$F$107=$F49), --($G$7:$G$107=$G49), --($H$7:$H$107=$H49), --($I$7:$I$107=$I49), --($J$7:$J$107=$J49), --($K$7:$K$107=$K49), --($L$7:$L$107=$L49), --('Seznam střelců'!$F49 <'Seznam střelců'!$F$7:$F$107)),\"\")","v":""},{"$f":"IF($A49<>\"\", SUMPRODUCT(--($C$7:$C$107=$C49), --($D$7:$D$107=$D49), --($E$7:$E$107=$E49), --($F$7:$F$107=$F49), --($G$7:$G$107=$G49), --($H$7:$H$107=$H49), --($I$7:$I$107=$I49),  --($J$7:$J$107=$J49), --($K$7:$K$107=$K49), --($L$7:$L$107=$L49),--($M$7:$M$107=$M49), --('Seznam střelců'!$Q49 <'Seznam střelců'!$Q$7:$Q$107)),\"\")","v":""},{"$f":"IF($A49<>\"\",\n      IF(ISBLANK('Seznam střelců'!$P49),\n         SUM($C49:$N49),\n         $C49+SUMPRODUCT(--($C$7:$C$107=$C49), --('Seznam střelců'!$Q49 <'Seznam střelců'!$Q$7:$Q$107))\n      ),\n      \"\")","v":""},{"$f":"IF(A49<>\"\",COUNTIF($O$7:$O49,$O49)-1,\"\")","v":""},""]
[{"$f":"'Seznam střelců'!A50","v":""},{"$f":"IF('Seznam střelců'!C50<>\"\", 0, 'Seznam střelců'!R50)","v":""},"",{"$f":"IF($A50<>\"\", SUMPRODUCT(--($C$7:$C$107=$C50), --('Seznam střelců'!$O50 < 'Seznam střelců'!$O$7:$O$107)),\"\")","v":""},{"$f":"IF($A50<>\"\", SUMPRODUCT(--($C$7:$C$107=$C50), --($D$7:$D$107=$D50), --('Seznam střelců'!$N50 <'Seznam střelců'!$N$7:$N$107)),\"\")","v":""},{"$f":"IF($A50<>\"\", SUMPRODUCT(--($C$7:$C$107=$C50), --($D$7:$D$107=$D50), --($E$7:$E$107=$E50), --('Seznam střelců'!$M50 <'Seznam střelců'!$M$7:$M$107)),\"\")","v":""},{"$f":"IF($A50<>\"\", SUMPRODUCT(--($C$7:$C$107=$C50), --($D$7:$D$107=$D50), --($E$7:$E$107=$E50), --($F$7:$F$107=$F50), --('Seznam střelců'!$L50 <'Seznam střelců'!$L$7:$L$107)),\"\")","v":""},{"$f":"IF($A50<>\"\", SUMPRODUCT(--($C$7:$C$107=$C50), --($D$7:$D$107=$D50), --($E$7:$E$107=$E50), --($F$7:$F$107=$F50), --($G$7:$G$107=$G50), --('Seznam střelců'!$K50 <'Seznam střelců'!$K$7:$K$107)),\"\")","v":""},{"$f":"IF($A50<>\"\", SUMPRODUCT(--($C$7:$C$107=$C50), --($D$7:$D$107=$D50), --($E$7:$E$107=$E50), --($F$7:$F$107=$F50), --($G$7:$G$107=$G50), --($H$7:$H$107=$H50), --('Seznam střelců'!$J50 <'Seznam střelců'!$J$7:$J$107)),\"\")","v":""},{"$f":"IF($A50<>\"\", SUMPRODUCT(--($C$7:$C$107=$C50), --($D$7:$D$107=$D50), --($E$7:$E$107=$E50), --($F$7:$F$107=$F50), --($G$7:$G$107=$G50), --($H$7:$H$107=$H50), --($I$7:$I$107=$I50), --('Seznam střelců'!$I50 <'Seznam střelců'!$I$7:$I$107)),\"\")","v":""},{"$f":"IF($A50<>\"\", SUMPRODUCT(--($C$7:$C$107=$C50), --($D$7:$D$107=$D50), --($E$7:$E$107=$E50), --($F$7:$F$107=$F50), --($G$7:$G$107=$G50), --($H$7:$H$107=$H50), --($I$7:$I$107=$I50), --($J$7:$J$107=$J50), --('Seznam střelců'!$H50 <'Seznam střelců'!$H$7:$H$107)),\"\")","v":""},{"$f":"IF($A50<>\"\", SUMPRODUCT(--($C$7:$C$107=$C50), --($D$7:$D$107=$D50), --($E$7:$E$107=$E50), --($F$7:$F$107=$F50), --($G$7:$G$107=$G50), --($H$7:$H$107=$H50), --($I$7:$I$107=$I50), --($J$7:$J$107=$J50), --($K$7:$K$107=$K50), --('Seznam střelců'!$G50 <'Seznam střelců'!$G$7:$G$107)),\"\")","v":""},{"$f":"IF($A50<>\"\", SUMPRODUCT(--($C$7:$C$107=$C50), --($D$7:$D$107=$D50), --($E$7:$E$107=$E50), --($F$7:$F$107=$F50), --($G$7:$G$107=$G50), --($H$7:$H$107=$H50), --($I$7:$I$107=$I50), --($J$7:$J$107=$J50), --($K$7:$K$107=$K50), --($L$7:$L$107=$L50), --('Seznam střelců'!$F50 <'Seznam střelců'!$F$7:$F$107)),\"\")","v":""},{"$f":"IF($A50<>\"\", SUMPRODUCT(--($C$7:$C$107=$C50), --($D$7:$D$107=$D50), --($E$7:$E$107=$E50), --($F$7:$F$107=$F50), --($G$7:$G$107=$G50), --($H$7:$H$107=$H50), --($I$7:$I$107=$I50),  --($J$7:$J$107=$J50), --($K$7:$K$107=$K50), --($L$7:$L$107=$L50),--($M$7:$M$107=$M50), --('Seznam střelců'!$Q50 <'Seznam střelců'!$Q$7:$Q$107)),\"\")","v":""},{"$f":"IF($A50<>\"\",\n      IF(ISBLANK('Seznam střelců'!$P50),\n         SUM($C50:$N50),\n         $C50+SUMPRODUCT(--($C$7:$C$107=$C50), --('Seznam střelců'!$Q50 <'Seznam střelců'!$Q$7:$Q$107))\n      ),\n      \"\")","v":""},{"$f":"IF(A50<>\"\",COUNTIF($O$7:$O50,$O50)-1,\"\")","v":""},""]
[{"$f":"'Seznam střelců'!A51","v":""},{"$f":"IF('Seznam střelců'!C51<>\"\", 0, 'Seznam střelců'!R51)","v":""},"",{"$f":"IF($A51<>\"\", SUMPRODUCT(--($C$7:$C$107=$C51), --('Seznam střelců'!$O51 < 'Seznam střelců'!$O$7:$O$107)),\"\")","v":""},{"$f":"IF($A51<>\"\", SUMPRODUCT(--($C$7:$C$107=$C51), --($D$7:$D$107=$D51), --('Seznam střelců'!$N51 <'Seznam střelců'!$N$7:$N$107)),\"\")","v":""},{"$f":"IF($A51<>\"\", SUMPRODUCT(--($C$7:$C$107=$C51), --($D$7:$D$107=$D51), --($E$7:$E$107=$E51), --('Seznam střelců'!$M51 <'Seznam střelců'!$M$7:$M$107)),\"\")","v":""},{"$f":"IF($A51<>\"\", SUMPRODUCT(--($C$7:$C$107=$C51), --($D$7:$D$107=$D51), --($E$7:$E$107=$E51), --($F$7:$F$107=$F51), --('Seznam střelců'!$L51 <'Seznam střelců'!$L$7:$L$107)),\"\")","v":""},{"$f":"IF($A51<>\"\", SUMPRODUCT(--($C$7:$C$107=$C51), --($D$7:$D$107=$D51), --($E$7:$E$107=$E51), --($F$7:$F$107=$F51), --($G$7:$G$107=$G51), --('Seznam střelců'!$K51 <'Seznam střelců'!$K$7:$K$107)),\"\")","v":""},{"$f":"IF($A51<>\"\", SUMPRODUCT(--($C$7:$C$107=$C51), --($D$7:$D$107=$D51), --($E$7:$E$107=$E51), --($F$7:$F$107=$F51), --($G$7:$G$107=$G51), --($H$7:$H$107=$H51), --('Seznam střelců'!$J51 <'Seznam střelců'!$J$7:$J$107)),\"\")","v":""},{"$f":"IF($A51<>\"\", SUMPRODUCT(--($C$7:$C$107=$C51), --($D$7:$D$107=$D51), --($E$7:$E$107=$E51), --($F$7:$F$107=$F51), --($G$7:$G$107=$G51), --($H$7:$H$107=$H51), --($I$7:$I$107=$I51), --('Seznam střelců'!$I51 <'Seznam střelců'!$I$7:$I$107)),\"\")","v":""},{"$f":"IF($A51<>\"\", SUMPRODUCT(--($C$7:$C$107=$C51), --($D$7:$D$107=$D51), --($E$7:$E$107=$E51), --($F$7:$F$107=$F51), --($G$7:$G$107=$G51), --($H$7:$H$107=$H51), --($I$7:$I$107=$I51), --($J$7:$J$107=$J51), --('Seznam střelců'!$H51 <'Seznam střelců'!$H$7:$H$107)),\"\")","v":""},{"$f":"IF($A51<>\"\", SUMPRODUCT(--($C$7:$C$107=$C51), --($D$7:$D$107=$D51), --($E$7:$E$107=$E51), --($F$7:$F$107=$F51), --($G$7:$G$107=$G51), --($H$7:$H$107=$H51), --($I$7:$I$107=$I51), --($J$7:$J$107=$J51), --($K$7:$K$107=$K51), --('Seznam střelců'!$G51 <'Seznam střelců'!$G$7:$G$107)),\"\")","v":""},{"$f":"IF($A51<>\"\", SUMPRODUCT(--($C$7:$C$107=$C51), --($D$7:$D$107=$D51), --($E$7:$E$107=$E51), --($F$7:$F$107=$F51), --($G$7:$G$107=$G51), --($H$7:$H$107=$H51), --($I$7:$I$107=$I51), --($J$7:$J$107=$J51), --($K$7:$K$107=$K51), --($L$7:$L$107=$L51), --('Seznam střelců'!$F51 <'Seznam střelců'!$F$7:$F$107)),\"\")","v":""},{"$f":"IF($A51<>\"\", SUMPRODUCT(--($C$7:$C$107=$C51), --($D$7:$D$107=$D51), --($E$7:$E$107=$E51), --($F$7:$F$107=$F51), --($G$7:$G$107=$G51), --($H$7:$H$107=$H51), --($I$7:$I$107=$I51),  --($J$7:$J$107=$J51), --($K$7:$K$107=$K51), --($L$7:$L$107=$L51),--($M$7:$M$107=$M51), --('Seznam střelců'!$Q51 <'Seznam střelců'!$Q$7:$Q$107)),\"\")","v":""},{"$f":"IF($A51<>\"\",\n      IF(ISBLANK('Seznam střelců'!$P51),\n         SUM($C51:$N51),\n         $C51+SUMPRODUCT(--($C$7:$C$107=$C51), --('Seznam střelců'!$Q51 <'Seznam střelců'!$Q$7:$Q$107))\n      ),\n      \"\")","v":""},{"$f":"IF(A51<>\"\",COUNTIF($O$7:$O51,$O51)-1,\"\")","v":""},""]
[{"$f":"'Seznam střelců'!A52","v":""},{"$f":"IF('Seznam střelců'!C52<>\"\", 0, 'Seznam střelců'!R52)","v":""},"",{"$f":"IF($A52<>\"\", SUMPRODUCT(--($C$7:$C$107=$C52), --('Seznam střelců'!$O52 < 'Seznam střelců'!$O$7:$O$107)),\"\")","v":""},{"$f":"IF($A52<>\"\", SUMPRODUCT(--($C$7:$C$107=$C52), --($D$7:$D$107=$D52), --('Seznam střelců'!$N52 <'Seznam střelců'!$N$7:$N$107)),\"\")","v":""},{"$f":"IF($A52<>\"\", SUMPRODUCT(--($C$7:$C$107=$C52), --($D$7:$D$107=$D52), --($E$7:$E$107=$E52), --('Seznam střelců'!$M52 <'Seznam střelců'!$M$7:$M$107)),\"\")","v":""},{"$f":"IF($A52<>\"\", SUMPRODUCT(--($C$7:$C$107=$C52), --($D$7:$D$107=$D52), --($E$7:$E$107=$E52), --($F$7:$F$107=$F52), --('Seznam střelců'!$L52 <'Seznam střelců'!$L$7:$L$107)),\"\")","v":""},{"$f":"IF($A52<>\"\", SUMPRODUCT(--($C$7:$C$107=$C52), --($D$7:$D$107=$D52), --($E$7:$E$107=$E52), --($F$7:$F$107=$F52), --($G$7:$G$107=$G52), --('Seznam střelců'!$K52 <'Seznam střelců'!$K$7:$K$107)),\"\")","v":""},{"$f":"IF($A52<>\"\", SUMPRODUCT(--($C$7:$C$107=$C52), --($D$7:$D$107=$D52), --($E$7:$E$107=$E52), --($F$7:$F$107=$F52), --($G$7:$G$107=$G52), --($H$7:$H$107=$H52), --('Seznam střelců'!$J52 <'Seznam střelců'!$J$7:$J$107)),\"\")","v":""},{"$f":"IF($A52<>\"\", SUMPRODUCT(--($C$7:$C$107=$C52), --($D$7:$D$107=$D52), --($E$7:$E$107=$E52), --($F$7:$F$107=$F52), --($G$7:$G$107=$G52), --($H$7:$H$107=$H52), --($I$7:$I$107=$I52), --('Seznam střelců'!$I52 <'Seznam střelců'!$I$7:$I$107)),\"\")","v":""},{"$f":"IF($A52<>\"\", SUMPRODUCT(--($C$7:$C$107=$C52), --($D$7:$D$107=$D52), --($E$7:$E$107=$E52), --($F$7:$F$107=$F52), --($G$7:$G$107=$G52), --($H$7:$H$107=$H52), --($I$7:$I$107=$I52), --($J$7:$J$107=$J52), --('Seznam střelců'!$H52 <'Seznam střelců'!$H$7:$H$107)),\"\")","v":""},{"$f":"IF($A52<>\"\", SUMPRODUCT(--($C$7:$C$107=$C52), --($D$7:$D$107=$D52), --($E$7:$E$107=$E52), --($F$7:$F$107=$F52), --($G$7:$G$107=$G52), --($H$7:$H$107=$H52), --($I$7:$I$107=$I52), --($J$7:$J$107=$J52), --($K$7:$K$107=$K52), --('Seznam střelců'!$G52 <'Seznam střelců'!$G$7:$G$107)),\"\")","v":""},{"$f":"IF($A52<>\"\", SUMPRODUCT(--($C$7:$C$107=$C52), --($D$7:$D$107=$D52), --($E$7:$E$107=$E52), --($F$7:$F$107=$F52), --($G$7:$G$107=$G52), --($H$7:$H$107=$H52), --($I$7:$I$107=$I52), --($J$7:$J$107=$J52), --($K$7:$K$107=$K52), --($L$7:$L$107=$L52), --('Seznam střelců'!$F52 <'Seznam střelců'!$F$7:$F$107)),\"\")","v":""},{"$f":"IF($A52<>\"\", SUMPRODUCT(--($C$7:$C$107=$C52), --($D$7:$D$107=$D52), --($E$7:$E$107=$E52), --($F$7:$F$107=$F52), --($G$7:$G$107=$G52), --($H$7:$H$107=$H52), --($I$7:$I$107=$I52),  --($J$7:$J$107=$J52), --($K$7:$K$107=$K52), --($L$7:$L$107=$L52),--($M$7:$M$107=$M52), --('Seznam střelců'!$Q52 <'Seznam střelců'!$Q$7:$Q$107)),\"\")","v":""},{"$f":"IF($A52<>\"\",\n      IF(ISBLANK('Seznam střelců'!$P52),\n         SUM($C52:$N52),\n         $C52+SUMPRODUCT(--($C$7:$C$107=$C52), --('Seznam střelců'!$Q52 <'Seznam střelců'!$Q$7:$Q$107))\n      ),\n      \"\")","v":""},{"$f":"IF(A52<>\"\",COUNTIF($O$7:$O52,$O52)-1,\"\")","v":""},""]
[{"$f":"'Seznam střelců'!A53","v":""},{"$f":"IF('Seznam střelců'!C53<>\"\", 0, 'Seznam střelců'!R53)","v":""},"",{"$f":"IF($A53<>\"\", SUMPRODUCT(--($C$7:$C$107=$C53), --('Seznam střelců'!$O53 < 'Seznam střelců'!$O$7:$O$107)),\"\")","v":""},{"$f":"IF($A53<>\"\", SUMPRODUCT(--($C$7:$C$107=$C53), --($D$7:$D$107=$D53), --('Seznam střelců'!$N53 <'Seznam střelců'!$N$7:$N$107)),\"\")","v":""},{"$f":"IF($A53<>\"\", SUMPRODUCT(--($C$7:$C$107=$C53), --($D$7:$D$107=$D53), --($E$7:$E$107=$E53), --('Seznam střelců'!$M53 <'Seznam střelců'!$M$7:$M$107)),\"\")","v":""},{"$f":"IF($A53<>\"\", SUMPRODUCT(--($C$7:$C$107=$C53), --($D$7:$D$107=$D53), --($E$7:$E$107=$E53), --($F$7:$F$107=$F53), --('Seznam střelců'!$L53 <'Seznam střelců'!$L$7:$L$107)),\"\")","v":""},{"$f":"IF($A53<>\"\", SUMPRODUCT(--($C$7:$C$107=$C53), --($D$7:$D$107=$D53), --($E$7:$E$107=$E53), --($F$7:$F$107=$F53), --($G$7:$G$107=$G53), --('Seznam střelců'!$K53 <'Seznam střelců'!$K$7:$K$107)),\"\")","v":""},{"$f":"IF($A53<>\"\", SUMPRODUCT(--($C$7:$C$107=$C53), --($D$7:$D$107=$D53), --($E$7:$E$107=$E53), --($F$7:$F$107=$F53), --($G$7:$G$107=$G53), --($H$7:$H$107=$H53), --('Seznam střelců'!$J53 <'Seznam střelců'!$J$7:$J$107)),\"\")","v":""},{"$f":"IF($A53<>\"\", SUMPRODUCT(--($C$7:$C$107=$C53), --($D$7:$D$107=$D53), --($E$7:$E$107=$E53), --($F$7:$F$107=$F53), --($G$7:$G$107=$G53), --($H$7:$H$107=$H53), --($I$7:$I$107=$I53), --('Seznam střelců'!$I53 <'Seznam střelců'!$I$7:$I$107)),\"\")","v":""},{"$f":"IF($A53<>\"\", SUMPRODUCT(--($C$7:$C$107=$C53), --($D$7:$D$107=$D53), --($E$7:$E$107=$E53), --($F$7:$F$107=$F53), --($G$7:$G$107=$G53), --($H$7:$H$107=$H53), --($I$7:$I$107=$I53), --($J$7:$J$107=$J53), --('Seznam střelců'!$H53 <'Seznam střelců'!$H$7:$H$107)),\"\")","v":""},{"$f":"IF($A53<>\"\", SUMPRODUCT(--($C$7:$C$107=$C53), --($D$7:$D$107=$D53), --($E$7:$E$107=$E53), --($F$7:$F$107=$F53), --($G$7:$G$107=$G53), --($H$7:$H$107=$H53), --($I$7:$I$107=$I53), --($J$7:$J$107=$J53), --($K$7:$K$107=$K53), --('Seznam střelců'!$G53 <'Seznam střelců'!$G$7:$G$107)),\"\")","v":""},{"$f":"IF($A53<>\"\", SUMPRODUCT(--($C$7:$C$107=$C53), --($D$7:$D$107=$D53), --($E$7:$E$107=$E53), --($F$7:$F$107=$F53), --($G$7:$G$107=$G53), --($H$7:$H$107=$H53), --($I$7:$I$107=$I53), --($J$7:$J$107=$J53), --($K$7:$K$107=$K53), --($L$7:$L$107=$L53), --('Seznam střelců'!$F53 <'Seznam střelců'!$F$7:$F$107)),\"\")","v":""},{"$f":"IF($A53<>\"\", SUMPRODUCT(--($C$7:$C$107=$C53), --($D$7:$D$107=$D53), --($E$7:$E$107=$E53), --($F$7:$F$107=$F53), --($G$7:$G$107=$G53), --($H$7:$H$107=$H53), --($I$7:$I$107=$I53),  --($J$7:$J$107=$J53), --($K$7:$K$107=$K53), --($L$7:$L$107=$L53),--($M$7:$M$107=$M53), --('Seznam střelců'!$Q53 <'Seznam střelců'!$Q$7:$Q$107)),\"\")","v":""},{"$f":"IF($A53<>\"\",\n      IF(ISBLANK('Seznam střelců'!$P53),\n         SUM($C53:$N53),\n         $C53+SUMPRODUCT(--($C$7:$C$107=$C53), --('Seznam střelců'!$Q53 <'Seznam střelců'!$Q$7:$Q$107))\n      ),\n      \"\")","v":""},{"$f":"IF(A53<>\"\",COUNTIF($O$7:$O53,$O53)-1,\"\")","v":""},""]
[{"$f":"'Seznam střelců'!A54","v":""},{"$f":"IF('Seznam střelců'!C54<>\"\", 0, 'Seznam střelců'!R54)","v":""},"",{"$f":"IF($A54<>\"\", SUMPRODUCT(--($C$7:$C$107=$C54), --('Seznam střelců'!$O54 < 'Seznam střelců'!$O$7:$O$107)),\"\")","v":""},{"$f":"IF($A54<>\"\", SUMPRODUCT(--($C$7:$C$107=$C54), --($D$7:$D$107=$D54), --('Seznam střelců'!$N54 <'Seznam střelců'!$N$7:$N$107)),\"\")","v":""},{"$f":"IF($A54<>\"\", SUMPRODUCT(--($C$7:$C$107=$C54), --($D$7:$D$107=$D54), --($E$7:$E$107=$E54), --('Seznam střelců'!$M54 <'Seznam střelců'!$M$7:$M$107)),\"\")","v":""},{"$f":"IF($A54<>\"\", SUMPRODUCT(--($C$7:$C$107=$C54), --($D$7:$D$107=$D54), --($E$7:$E$107=$E54), --($F$7:$F$107=$F54), --('Seznam střelců'!$L54 <'Seznam střelců'!$L$7:$L$107)),\"\")","v":""},{"$f":"IF($A54<>\"\", SUMPRODUCT(--($C$7:$C$107=$C54), --($D$7:$D$107=$D54), --($E$7:$E$107=$E54), --($F$7:$F$107=$F54), --($G$7:$G$107=$G54), --('Seznam střelců'!$K54 <'Seznam střelců'!$K$7:$K$107)),\"\")","v":""},{"$f":"IF($A54<>\"\", SUMPRODUCT(--($C$7:$C$107=$C54), --($D$7:$D$107=$D54), --($E$7:$E$107=$E54), --($F$7:$F$107=$F54), --($G$7:$G$107=$G54), --($H$7:$H$107=$H54), --('Seznam střelců'!$J54 <'Seznam střelců'!$J$7:$J$107)),\"\")","v":""},{"$f":"IF($A54<>\"\", SUMPRODUCT(--($C$7:$C$107=$C54), --($D$7:$D$107=$D54), --($E$7:$E$107=$E54), --($F$7:$F$107=$F54), --($G$7:$G$107=$G54), --($H$7:$H$107=$H54), --($I$7:$I$107=$I54), --('Seznam střelců'!$I54 <'Seznam střelců'!$I$7:$I$107)),\"\")","v":""},{"$f":"IF($A54<>\"\", SUMPRODUCT(--($C$7:$C$107=$C54), --($D$7:$D$107=$D54), --($E$7:$E$107=$E54), --($F$7:$F$107=$F54), --($G$7:$G$107=$G54), --($H$7:$H$107=$H54), --($I$7:$I$107=$I54), --($J$7:$J$107=$J54), --('Seznam střelců'!$H54 <'Seznam střelců'!$H$7:$H$107)),\"\")","v":""},{"$f":"IF($A54<>\"\", SUMPRODUCT(--($C$7:$C$107=$C54), --($D$7:$D$107=$D54), --($E$7:$E$107=$E54), --($F$7:$F$107=$F54), --($G$7:$G$107=$G54), --($H$7:$H$107=$H54), --($I$7:$I$107=$I54), --($J$7:$J$107=$J54), --($K$7:$K$107=$K54), --('Seznam střelců'!$G54 <'Seznam střelců'!$G$7:$G$107)),\"\")","v":""},{"$f":"IF($A54<>\"\", SUMPRODUCT(--($C$7:$C$107=$C54), --($D$7:$D$107=$D54), --($E$7:$E$107=$E54), --($F$7:$F$107=$F54), --($G$7:$G$107=$G54), --($H$7:$H$107=$H54), --($I$7:$I$107=$I54), --($J$7:$J$107=$J54), --($K$7:$K$107=$K54), --($L$7:$L$107=$L54), --('Seznam střelců'!$F54 <'Seznam střelců'!$F$7:$F$107)),\"\")","v":""},{"$f":"IF($A54<>\"\", SUMPRODUCT(--($C$7:$C$107=$C54), --($D$7:$D$107=$D54), --($E$7:$E$107=$E54), --($F$7:$F$107=$F54), --($G$7:$G$107=$G54), --($H$7:$H$107=$H54), --($I$7:$I$107=$I54),  --($J$7:$J$107=$J54), --($K$7:$K$107=$K54), --($L$7:$L$107=$L54),--($M$7:$M$107=$M54), --('Seznam střelců'!$Q54 <'Seznam střelců'!$Q$7:$Q$107)),\"\")","v":""},{"$f":"IF($A54<>\"\",\n      IF(ISBLANK('Seznam střelců'!$P54),\n         SUM($C54:$N54),\n         $C54+SUMPRODUCT(--($C$7:$C$107=$C54), --('Seznam střelců'!$Q54 <'Seznam střelců'!$Q$7:$Q$107))\n      ),\n      \"\")","v":""},{"$f":"IF(A54<>\"\",COUNTIF($O$7:$O54,$O54)-1,\"\")","v":""},""]
[{"$f":"'Seznam střelců'!A55","v":""},{"$f":"IF('Seznam střelců'!C55<>\"\", 0, 'Seznam střelců'!R55)","v":""},"",{"$f":"IF($A55<>\"\", SUMPRODUCT(--($C$7:$C$107=$C55), --('Seznam střelců'!$O55 < 'Seznam střelců'!$O$7:$O$107)),\"\")","v":""},{"$f":"IF($A55<>\"\", SUMPRODUCT(--($C$7:$C$107=$C55), --($D$7:$D$107=$D55), --('Seznam střelců'!$N55 <'Seznam střelců'!$N$7:$N$107)),\"\")","v":""},{"$f":"IF($A55<>\"\", SUMPRODUCT(--($C$7:$C$107=$C55), --($D$7:$D$107=$D55), --($E$7:$E$107=$E55), --('Seznam střelců'!$M55 <'Seznam střelců'!$M$7:$M$107)),\"\")","v":""},{"$f":"IF($A55<>\"\", SUMPRODUCT(--($C$7:$C$107=$C55), --($D$7:$D$107=$D55), --($E$7:$E$107=$E55), --($F$7:$F$107=$F55), --('Seznam střelců'!$L55 <'Seznam střelců'!$L$7:$L$107)),\"\")","v":""},{"$f":"IF($A55<>\"\", SUMPRODUCT(--($C$7:$C$107=$C55), --($D$7:$D$107=$D55), --($E$7:$E$107=$E55), --($F$7:$F$107=$F55), --($G$7:$G$107=$G55), --('Seznam střelců'!$K55 <'Seznam střelců'!$K$7:$K$107)),\"\")","v":""},{"$f":"IF($A55<>\"\", SUMPRODUCT(--($C$7:$C$107=$C55), --($D$7:$D$107=$D55), --($E$7:$E$107=$E55), --($F$7:$F$107=$F55), --($G$7:$G$107=$G55), --($H$7:$H$107=$H55), --('Seznam střelců'!$J55 <'Seznam střelců'!$J$7:$J$107)),\"\")","v":""},{"$f":"IF($A55<>\"\", SUMPRODUCT(--($C$7:$C$107=$C55), --($D$7:$D$107=$D55), --($E$7:$E$107=$E55), --($F$7:$F$107=$F55), --($G$7:$G$107=$G55), --($H$7:$H$107=$H55), --($I$7:$I$107=$I55), --('Seznam střelců'!$I55 <'Seznam střelců'!$I$7:$I$107)),\"\")","v":""},{"$f":"IF($A55<>\"\", SUMPRODUCT(--($C$7:$C$107=$C55), --($D$7:$D$107=$D55), --($E$7:$E$107=$E55), --($F$7:$F$107=$F55), --($G$7:$G$107=$G55), --($H$7:$H$107=$H55), --($I$7:$I$107=$I55), --($J$7:$J$107=$J55), --('Seznam střelců'!$H55 <'Seznam střelců'!$H$7:$H$107)),\"\")","v":""},{"$f":"IF($A55<>\"\", SUMPRODUCT(--($C$7:$C$107=$C55), --($D$7:$D$107=$D55), --($E$7:$E$107=$E55), --($F$7:$F$107=$F55), --($G$7:$G$107=$G55), --($H$7:$H$107=$H55), --($I$7:$I$107=$I55), --($J$7:$J$107=$J55), --($K$7:$K$107=$K55), --('Seznam střelců'!$G55 <'Seznam střelců'!$G$7:$G$107)),\"\")","v":""},{"$f":"IF($A55<>\"\", SUMPRODUCT(--($C$7:$C$107=$C55), --($D$7:$D$107=$D55), --($E$7:$E$107=$E55), --($F$7:$F$107=$F55), --($G$7:$G$107=$G55), --($H$7:$H$107=$H55), --($I$7:$I$107=$I55), --($J$7:$J$107=$J55), --($K$7:$K$107=$K55), --($L$7:$L$107=$L55), --('Seznam střelců'!$F55 <'Seznam střelců'!$F$7:$F$107)),\"\")","v":""},{"$f":"IF($A55<>\"\", SUMPRODUCT(--($C$7:$C$107=$C55), --($D$7:$D$107=$D55), --($E$7:$E$107=$E55), --($F$7:$F$107=$F55), --($G$7:$G$107=$G55), --($H$7:$H$107=$H55), --($I$7:$I$107=$I55),  --($J$7:$J$107=$J55), --($K$7:$K$107=$K55), --($L$7:$L$107=$L55),--($M$7:$M$107=$M55), --('Seznam střelců'!$Q55 <'Seznam střelců'!$Q$7:$Q$107)),\"\")","v":""},{"$f":"IF($A55<>\"\",\n      IF(ISBLANK('Seznam střelců'!$P55),\n         SUM($C55:$N55),\n         $C55+SUMPRODUCT(--($C$7:$C$107=$C55), --('Seznam střelců'!$Q55 <'Seznam střelců'!$Q$7:$Q$107))\n      ),\n      \"\")","v":""},{"$f":"IF(A55<>\"\",COUNTIF($O$7:$O55,$O55)-1,\"\")","v":""},""]
[{"$f":"'Seznam střelců'!A56","v":""},{"$f":"IF('Seznam střelců'!C56<>\"\", 0, 'Seznam střelců'!R56)","v":""},"",{"$f":"IF($A56<>\"\", SUMPRODUCT(--($C$7:$C$107=$C56), --('Seznam střelců'!$O56 < 'Seznam střelců'!$O$7:$O$107)),\"\")","v":""},{"$f":"IF($A56<>\"\", SUMPRODUCT(--($C$7:$C$107=$C56), --($D$7:$D$107=$D56), --('Seznam střelců'!$N56 <'Seznam střelců'!$N$7:$N$107)),\"\")","v":""},{"$f":"IF($A56<>\"\", SUMPRODUCT(--($C$7:$C$107=$C56), --($D$7:$D$107=$D56), --($E$7:$E$107=$E56), --('Seznam střelců'!$M56 <'Seznam střelců'!$M$7:$M$107)),\"\")","v":""},{"$f":"IF($A56<>\"\", SUMPRODUCT(--($C$7:$C$107=$C56), --($D$7:$D$107=$D56), --($E$7:$E$107=$E56), --($F$7:$F$107=$F56), --('Seznam střelců'!$L56 <'Seznam střelců'!$L$7:$L$107)),\"\")","v":""},{"$f":"IF($A56<>\"\", SUMPRODUCT(--($C$7:$C$107=$C56), --($D$7:$D$107=$D56), --($E$7:$E$107=$E56), --($F$7:$F$107=$F56), --($G$7:$G$107=$G56), --('Seznam střelců'!$K56 <'Seznam střelců'!$K$7:$K$107)),\"\")","v":""},{"$f":"IF($A56<>\"\", SUMPRODUCT(--($C$7:$C$107=$C56), --($D$7:$D$107=$D56), --($E$7:$E$107=$E56), --($F$7:$F$107=$F56), --($G$7:$G$107=$G56), --($H$7:$H$107=$H56), --('Seznam střelců'!$J56 <'Seznam střelců'!$J$7:$J$107)),\"\")","v":""},{"$f":"IF($A56<>\"\", SUMPRODUCT(--($C$7:$C$107=$C56), --($D$7:$D$107=$D56), --($E$7:$E$107=$E56), --($F$7:$F$107=$F56), --($G$7:$G$107=$G56), --($H$7:$H$107=$H56), --($I$7:$I$107=$I56), --('Seznam střelců'!$I56 <'Seznam střelců'!$I$7:$I$107)),\"\")","v":""},{"$f":"IF($A56<>\"\", SUMPRODUCT(--($C$7:$C$107=$C56), --($D$7:$D$107=$D56), --($E$7:$E$107=$E56), --($F$7:$F$107=$F56), --($G$7:$G$107=$G56), --($H$7:$H$107=$H56), --($I$7:$I$107=$I56), --($J$7:$J$107=$J56), --('Seznam střelců'!$H56 <'Seznam střelců'!$H$7:$H$107)),\"\")","v":""},{"$f":"IF($A56<>\"\", SUMPRODUCT(--($C$7:$C$107=$C56), --($D$7:$D$107=$D56), --($E$7:$E$107=$E56), --($F$7:$F$107=$F56), --($G$7:$G$107=$G56), --($H$7:$H$107=$H56), --($I$7:$I$107=$I56), --($J$7:$J$107=$J56), --($K$7:$K$107=$K56), --('Seznam střelců'!$G56 <'Seznam střelců'!$G$7:$G$107)),\"\")","v":""},{"$f":"IF($A56<>\"\", SUMPRODUCT(--($C$7:$C$107=$C56), --($D$7:$D$107=$D56), --($E$7:$E$107=$E56), --($F$7:$F$107=$F56), --($G$7:$G$107=$G56), --($H$7:$H$107=$H56), --($I$7:$I$107=$I56), --($J$7:$J$107=$J56), --($K$7:$K$107=$K56), --($L$7:$L$107=$L56), --('Seznam střelců'!$F56 <'Seznam střelců'!$F$7:$F$107)),\"\")","v":""},{"$f":"IF($A56<>\"\", SUMPRODUCT(--($C$7:$C$107=$C56), --($D$7:$D$107=$D56), --($E$7:$E$107=$E56), --($F$7:$F$107=$F56), --($G$7:$G$107=$G56), --($H$7:$H$107=$H56), --($I$7:$I$107=$I56),  --($J$7:$J$107=$J56), --($K$7:$K$107=$K56), --($L$7:$L$107=$L56),--($M$7:$M$107=$M56), --('Seznam střelců'!$Q56 <'Seznam střelců'!$Q$7:$Q$107)),\"\")","v":""},{"$f":"IF($A56<>\"\",\n      IF(ISBLANK('Seznam střelců'!$P56),\n         SUM($C56:$N56),\n         $C56+SUMPRODUCT(--($C$7:$C$107=$C56), --('Seznam střelců'!$Q56 <'Seznam střelců'!$Q$7:$Q$107))\n      ),\n      \"\")","v":""},{"$f":"IF(A56<>\"\",COUNTIF($O$7:$O56,$O56)-1,\"\")","v":""},""]
[{"$f":"'Seznam střelců'!A57","v":""},{"$f":"IF('Seznam střelců'!C57<>\"\", 0, 'Seznam střelců'!R57)","v":""},"",{"$f":"IF($A57<>\"\", SUMPRODUCT(--($C$7:$C$107=$C57), --('Seznam střelců'!$O57 < 'Seznam střelců'!$O$7:$O$107)),\"\")","v":""},{"$f":"IF($A57<>\"\", SUMPRODUCT(--($C$7:$C$107=$C57), --($D$7:$D$107=$D57), --('Seznam střelců'!$N57 <'Seznam střelců'!$N$7:$N$107)),\"\")","v":""},{"$f":"IF($A57<>\"\", SUMPRODUCT(--($C$7:$C$107=$C57), --($D$7:$D$107=$D57), --($E$7:$E$107=$E57), --('Seznam střelců'!$M57 <'Seznam střelců'!$M$7:$M$107)),\"\")","v":""},{"$f":"IF($A57<>\"\", SUMPRODUCT(--($C$7:$C$107=$C57), --($D$7:$D$107=$D57), --($E$7:$E$107=$E57), --($F$7:$F$107=$F57), --('Seznam střelců'!$L57 <'Seznam střelců'!$L$7:$L$107)),\"\")","v":""},{"$f":"IF($A57<>\"\", SUMPRODUCT(--($C$7:$C$107=$C57), --($D$7:$D$107=$D57), --($E$7:$E$107=$E57), --($F$7:$F$107=$F57), --($G$7:$G$107=$G57), --('Seznam střelců'!$K57 <'Seznam střelců'!$K$7:$K$107)),\"\")","v":""},{"$f":"IF($A57<>\"\", SUMPRODUCT(--($C$7:$C$107=$C57), --($D$7:$D$107=$D57), --($E$7:$E$107=$E57), --($F$7:$F$107=$F57), --($G$7:$G$107=$G57), --($H$7:$H$107=$H57), --('Seznam střelců'!$J57 <'Seznam střelců'!$J$7:$J$107)),\"\")","v":""},{"$f":"IF($A57<>\"\", SUMPRODUCT(--($C$7:$C$107=$C57), --($D$7:$D$107=$D57), --($E$7:$E$107=$E57), --($F$7:$F$107=$F57), --($G$7:$G$107=$G57), --($H$7:$H$107=$H57), --($I$7:$I$107=$I57), --('Seznam střelců'!$I57 <'Seznam střelců'!$I$7:$I$107)),\"\")","v":""},{"$f":"IF($A57<>\"\", SUMPRODUCT(--($C$7:$C$107=$C57), --($D$7:$D$107=$D57), --($E$7:$E$107=$E57), --($F$7:$F$107=$F57), --($G$7:$G$107=$G57), --($H$7:$H$107=$H57), --($I$7:$I$107=$I57), --($J$7:$J$107=$J57), --('Seznam střelců'!$H57 <'Seznam střelců'!$H$7:$H$107)),\"\")","v":""},{"$f":"IF($A57<>\"\", SUMPRODUCT(--($C$7:$C$107=$C57), --($D$7:$D$107=$D57), --($E$7:$E$107=$E57), --($F$7:$F$107=$F57), --($G$7:$G$107=$G57), --($H$7:$H$107=$H57), --($I$7:$I$107=$I57), --($J$7:$J$107=$J57), --($K$7:$K$107=$K57), --('Seznam střelců'!$G57 <'Seznam střelců'!$G$7:$G$107)),\"\")","v":""},{"$f":"IF($A57<>\"\", SUMPRODUCT(--($C$7:$C$107=$C57), --($D$7:$D$107=$D57), --($E$7:$E$107=$E57), --($F$7:$F$107=$F57), --($G$7:$G$107=$G57), --($H$7:$H$107=$H57), --($I$7:$I$107=$I57), --($J$7:$J$107=$J57), --($K$7:$K$107=$K57), --($L$7:$L$107=$L57), --('Seznam střelců'!$F57 <'Seznam střelců'!$F$7:$F$107)),\"\")","v":""},{"$f":"IF($A57<>\"\", SUMPRODUCT(--($C$7:$C$107=$C57), --($D$7:$D$107=$D57), --($E$7:$E$107=$E57), --($F$7:$F$107=$F57), --($G$7:$G$107=$G57), --($H$7:$H$107=$H57), --($I$7:$I$107=$I57),  --($J$7:$J$107=$J57), --($K$7:$K$107=$K57), --($L$7:$L$107=$L57),--($M$7:$M$107=$M57), --('Seznam střelců'!$Q57 <'Seznam střelců'!$Q$7:$Q$107)),\"\")","v":""},{"$f":"IF($A57<>\"\",\n      IF(ISBLANK('Seznam střelců'!$P57),\n         SUM($C57:$N57),\n         $C57+SUMPRODUCT(--($C$7:$C$107=$C57), --('Seznam střelců'!$Q57 <'Seznam střelců'!$Q$7:$Q$107))\n      ),\n      \"\")","v":""},{"$f":"IF(A57<>\"\",COUNTIF($O$7:$O57,$O57)-1,\"\")","v":""},""]
[{"$f":"'Seznam střelců'!A58","v":""},{"$f":"IF('Seznam střelců'!C58<>\"\", 0, 'Seznam střelců'!R58)","v":""},"",{"$f":"IF($A58<>\"\", SUMPRODUCT(--($C$7:$C$107=$C58), --('Seznam střelců'!$O58 < 'Seznam střelců'!$O$7:$O$107)),\"\")","v":""},{"$f":"IF($A58<>\"\", SUMPRODUCT(--($C$7:$C$107=$C58), --($D$7:$D$107=$D58), --('Seznam střelců'!$N58 <'Seznam střelců'!$N$7:$N$107)),\"\")","v":""},{"$f":"IF($A58<>\"\", SUMPRODUCT(--($C$7:$C$107=$C58), --($D$7:$D$107=$D58), --($E$7:$E$107=$E58), --('Seznam střelců'!$M58 <'Seznam střelců'!$M$7:$M$107)),\"\")","v":""},{"$f":"IF($A58<>\"\", SUMPRODUCT(--($C$7:$C$107=$C58), --($D$7:$D$107=$D58), --($E$7:$E$107=$E58), --($F$7:$F$107=$F58), --('Seznam střelců'!$L58 <'Seznam střelců'!$L$7:$L$107)),\"\")","v":""},{"$f":"IF($A58<>\"\", SUMPRODUCT(--($C$7:$C$107=$C58), --($D$7:$D$107=$D58), --($E$7:$E$107=$E58), --($F$7:$F$107=$F58), --($G$7:$G$107=$G58), --('Seznam střelců'!$K58 <'Seznam střelců'!$K$7:$K$107)),\"\")","v":""},{"$f":"IF($A58<>\"\", SUMPRODUCT(--($C$7:$C$107=$C58), --($D$7:$D$107=$D58), --($E$7:$E$107=$E58), --($F$7:$F$107=$F58), --($G$7:$G$107=$G58), --($H$7:$H$107=$H58), --('Seznam střelců'!$J58 <'Seznam střelců'!$J$7:$J$107)),\"\")","v":""},{"$f":"IF($A58<>\"\", SUMPRODUCT(--($C$7:$C$107=$C58), --($D$7:$D$107=$D58), --($E$7:$E$107=$E58), --($F$7:$F$107=$F58), --($G$7:$G$107=$G58), --($H$7:$H$107=$H58), --($I$7:$I$107=$I58), --('Seznam střelců'!$I58 <'Seznam střelců'!$I$7:$I$107)),\"\")","v":""},{"$f":"IF($A58<>\"\", SUMPRODUCT(--($C$7:$C$107=$C58), --($D$7:$D$107=$D58), --($E$7:$E$107=$E58), --($F$7:$F$107=$F58), --($G$7:$G$107=$G58), --($H$7:$H$107=$H58), --($I$7:$I$107=$I58), --($J$7:$J$107=$J58), --('Seznam střelců'!$H58 <'Seznam střelců'!$H$7:$H$107)),\"\")","v":""},{"$f":"IF($A58<>\"\", SUMPRODUCT(--($C$7:$C$107=$C58), --($D$7:$D$107=$D58), --($E$7:$E$107=$E58), --($F$7:$F$107=$F58), --($G$7:$G$107=$G58), --($H$7:$H$107=$H58), --($I$7:$I$107=$I58), --($J$7:$J$107=$J58), --($K$7:$K$107=$K58), --('Seznam střelců'!$G58 <'Seznam střelců'!$G$7:$G$107)),\"\")","v":""},{"$f":"IF($A58<>\"\", SUMPRODUCT(--($C$7:$C$107=$C58), --($D$7:$D$107=$D58), --($E$7:$E$107=$E58), --($F$7:$F$107=$F58), --($G$7:$G$107=$G58), --($H$7:$H$107=$H58), --($I$7:$I$107=$I58), --($J$7:$J$107=$J58), --($K$7:$K$107=$K58), --($L$7:$L$107=$L58), --('Seznam střelců'!$F58 <'Seznam střelců'!$F$7:$F$107)),\"\")","v":""},{"$f":"IF($A58<>\"\", SUMPRODUCT(--($C$7:$C$107=$C58), --($D$7:$D$107=$D58), --($E$7:$E$107=$E58), --($F$7:$F$107=$F58), --($G$7:$G$107=$G58), --($H$7:$H$107=$H58), --($I$7:$I$107=$I58),  --($J$7:$J$107=$J58), --($K$7:$K$107=$K58), --($L$7:$L$107=$L58),--($M$7:$M$107=$M58), --('Seznam střelců'!$Q58 <'Seznam střelců'!$Q$7:$Q$107)),\"\")","v":""},{"$f":"IF($A58<>\"\",\n      IF(ISBLANK('Seznam střelců'!$P58),\n         SUM($C58:$N58),\n         $C58+SUMPRODUCT(--($C$7:$C$107=$C58), --('Seznam střelců'!$Q58 <'Seznam střelců'!$Q$7:$Q$107))\n      ),\n      \"\")","v":""},{"$f":"IF(A58<>\"\",COUNTIF($O$7:$O58,$O58)-1,\"\")","v":""},""]
[{"$f":"'Seznam střelců'!A59","v":""},{"$f":"IF('Seznam střelců'!C59<>\"\", 0, 'Seznam střelců'!R59)","v":""},"",{"$f":"IF($A59<>\"\", SUMPRODUCT(--($C$7:$C$107=$C59), --('Seznam střelců'!$O59 < 'Seznam střelců'!$O$7:$O$107)),\"\")","v":""},{"$f":"IF($A59<>\"\", SUMPRODUCT(--($C$7:$C$107=$C59), --($D$7:$D$107=$D59), --('Seznam střelců'!$N59 <'Seznam střelců'!$N$7:$N$107)),\"\")","v":""},{"$f":"IF($A59<>\"\", SUMPRODUCT(--($C$7:$C$107=$C59), --($D$7:$D$107=$D59), --($E$7:$E$107=$E59), --('Seznam střelců'!$M59 <'Seznam střelců'!$M$7:$M$107)),\"\")","v":""},{"$f":"IF($A59<>\"\", SUMPRODUCT(--($C$7:$C$107=$C59), --($D$7:$D$107=$D59), --($E$7:$E$107=$E59), --($F$7:$F$107=$F59), --('Seznam střelců'!$L59 <'Seznam střelců'!$L$7:$L$107)),\"\")","v":""},{"$f":"IF($A59<>\"\", SUMPRODUCT(--($C$7:$C$107=$C59), --($D$7:$D$107=$D59), --($E$7:$E$107=$E59), --($F$7:$F$107=$F59), --($G$7:$G$107=$G59), --('Seznam střelců'!$K59 <'Seznam střelců'!$K$7:$K$107)),\"\")","v":""},{"$f":"IF($A59<>\"\", SUMPRODUCT(--($C$7:$C$107=$C59), --($D$7:$D$107=$D59), --($E$7:$E$107=$E59), --($F$7:$F$107=$F59), --($G$7:$G$107=$G59), --($H$7:$H$107=$H59), --('Seznam střelců'!$J59 <'Seznam střelců'!$J$7:$J$107)),\"\")","v":""},{"$f":"IF($A59<>\"\", SUMPRODUCT(--($C$7:$C$107=$C59), --($D$7:$D$107=$D59), --($E$7:$E$107=$E59), --($F$7:$F$107=$F59), --($G$7:$G$107=$G59), --($H$7:$H$107=$H59), --($I$7:$I$107=$I59), --('Seznam střelců'!$I59 <'Seznam střelců'!$I$7:$I$107)),\"\")","v":""},{"$f":"IF($A59<>\"\", SUMPRODUCT(--($C$7:$C$107=$C59), --($D$7:$D$107=$D59), --($E$7:$E$107=$E59), --($F$7:$F$107=$F59), --($G$7:$G$107=$G59), --($H$7:$H$107=$H59), --($I$7:$I$107=$I59), --($J$7:$J$107=$J59), --('Seznam střelců'!$H59 <'Seznam střelců'!$H$7:$H$107)),\"\")","v":""},{"$f":"IF($A59<>\"\", SUMPRODUCT(--($C$7:$C$107=$C59), --($D$7:$D$107=$D59), --($E$7:$E$107=$E59), --($F$7:$F$107=$F59), --($G$7:$G$107=$G59), --($H$7:$H$107=$H59), --($I$7:$I$107=$I59), --($J$7:$J$107=$J59), --($K$7:$K$107=$K59), --('Seznam střelců'!$G59 <'Seznam střelců'!$G$7:$G$107)),\"\")","v":""},{"$f":"IF($A59<>\"\", SUMPRODUCT(--($C$7:$C$107=$C59), --($D$7:$D$107=$D59), --($E$7:$E$107=$E59), --($F$7:$F$107=$F59), --($G$7:$G$107=$G59), --($H$7:$H$107=$H59), --($I$7:$I$107=$I59), --($J$7:$J$107=$J59), --($K$7:$K$107=$K59), --($L$7:$L$107=$L59), --('Seznam střelců'!$F59 <'Seznam střelců'!$F$7:$F$107)),\"\")","v":""},{"$f":"IF($A59<>\"\", SUMPRODUCT(--($C$7:$C$107=$C59), --($D$7:$D$107=$D59), --($E$7:$E$107=$E59), --($F$7:$F$107=$F59), --($G$7:$G$107=$G59), --($H$7:$H$107=$H59), --($I$7:$I$107=$I59),  --($J$7:$J$107=$J59), --($K$7:$K$107=$K59), --($L$7:$L$107=$L59),--($M$7:$M$107=$M59), --('Seznam střelců'!$Q59 <'Seznam střelců'!$Q$7:$Q$107)),\"\")","v":""},{"$f":"IF($A59<>\"\",\n      IF(ISBLANK('Seznam střelců'!$P59),\n         SUM($C59:$N59),\n         $C59+SUMPRODUCT(--($C$7:$C$107=$C59), --('Seznam střelců'!$Q59 <'Seznam střelců'!$Q$7:$Q$107))\n      ),\n      \"\")","v":""},{"$f":"IF(A59<>\"\",COUNTIF($O$7:$O59,$O59)-1,\"\")","v":""},""]
[{"$f":"'Seznam střelců'!A60","v":""},{"$f":"IF('Seznam střelců'!C60<>\"\", 0, 'Seznam střelců'!R60)","v":""},"",{"$f":"IF($A60<>\"\", SUMPRODUCT(--($C$7:$C$107=$C60), --('Seznam střelců'!$O60 < 'Seznam střelců'!$O$7:$O$107)),\"\")","v":""},{"$f":"IF($A60<>\"\", SUMPRODUCT(--($C$7:$C$107=$C60), --($D$7:$D$107=$D60), --('Seznam střelců'!$N60 <'Seznam střelců'!$N$7:$N$107)),\"\")","v":""},{"$f":"IF($A60<>\"\", SUMPRODUCT(--($C$7:$C$107=$C60), --($D$7:$D$107=$D60), --($E$7:$E$107=$E60), --('Seznam střelců'!$M60 <'Seznam střelců'!$M$7:$M$107)),\"\")","v":""},{"$f":"IF($A60<>\"\", SUMPRODUCT(--($C$7:$C$107=$C60), --($D$7:$D$107=$D60), --($E$7:$E$107=$E60), --($F$7:$F$107=$F60), --('Seznam střelců'!$L60 <'Seznam střelců'!$L$7:$L$107)),\"\")","v":""},{"$f":"IF($A60<>\"\", SUMPRODUCT(--($C$7:$C$107=$C60), --($D$7:$D$107=$D60), --($E$7:$E$107=$E60), --($F$7:$F$107=$F60), --($G$7:$G$107=$G60), --('Seznam střelců'!$K60 <'Seznam střelců'!$K$7:$K$107)),\"\")","v":""},{"$f":"IF($A60<>\"\", SUMPRODUCT(--($C$7:$C$107=$C60), --($D$7:$D$107=$D60), --($E$7:$E$107=$E60), --($F$7:$F$107=$F60), --($G$7:$G$107=$G60), --($H$7:$H$107=$H60), --('Seznam střelců'!$J60 <'Seznam střelců'!$J$7:$J$107)),\"\")","v":""},{"$f":"IF($A60<>\"\", SUMPRODUCT(--($C$7:$C$107=$C60), --($D$7:$D$107=$D60), --($E$7:$E$107=$E60), --($F$7:$F$107=$F60), --($G$7:$G$107=$G60), --($H$7:$H$107=$H60), --($I$7:$I$107=$I60), --('Seznam střelců'!$I60 <'Seznam střelců'!$I$7:$I$107)),\"\")","v":""},{"$f":"IF($A60<>\"\", SUMPRODUCT(--($C$7:$C$107=$C60), --($D$7:$D$107=$D60), --($E$7:$E$107=$E60), --($F$7:$F$107=$F60), --($G$7:$G$107=$G60), --($H$7:$H$107=$H60), --($I$7:$I$107=$I60), --($J$7:$J$107=$J60), --('Seznam střelců'!$H60 <'Seznam střelců'!$H$7:$H$107)),\"\")","v":""},{"$f":"IF($A60<>\"\", SUMPRODUCT(--($C$7:$C$107=$C60), --($D$7:$D$107=$D60), --($E$7:$E$107=$E60), --($F$7:$F$107=$F60), --($G$7:$G$107=$G60), --($H$7:$H$107=$H60), --($I$7:$I$107=$I60), --($J$7:$J$107=$J60), --($K$7:$K$107=$K60), --('Seznam střelců'!$G60 <'Seznam střelců'!$G$7:$G$107)),\"\")","v":""},{"$f":"IF($A60<>\"\", SUMPRODUCT(--($C$7:$C$107=$C60), --($D$7:$D$107=$D60), --($E$7:$E$107=$E60), --($F$7:$F$107=$F60), --($G$7:$G$107=$G60), --($H$7:$H$107=$H60), --($I$7:$I$107=$I60), --($J$7:$J$107=$J60), --($K$7:$K$107=$K60), --($L$7:$L$107=$L60), --('Seznam střelců'!$F60 <'Seznam střelců'!$F$7:$F$107)),\"\")","v":""},{"$f":"IF($A60<>\"\", SUMPRODUCT(--($C$7:$C$107=$C60), --($D$7:$D$107=$D60), --($E$7:$E$107=$E60), --($F$7:$F$107=$F60), --($G$7:$G$107=$G60), --($H$7:$H$107=$H60), --($I$7:$I$107=$I60),  --($J$7:$J$107=$J60), --($K$7:$K$107=$K60), --($L$7:$L$107=$L60),--($M$7:$M$107=$M60), --('Seznam střelců'!$Q60 <'Seznam střelců'!$Q$7:$Q$107)),\"\")","v":""},{"$f":"IF($A60<>\"\",\n      IF(ISBLANK('Seznam střelců'!$P60),\n         SUM($C60:$N60),\n         $C60+SUMPRODUCT(--($C$7:$C$107=$C60), --('Seznam střelců'!$Q60 <'Seznam střelců'!$Q$7:$Q$107))\n      ),\n      \"\")","v":""},{"$f":"IF(A60<>\"\",COUNTIF($O$7:$O60,$O60)-1,\"\")","v":""},""]
[{"$f":"'Seznam střelců'!A61","v":""},{"$f":"IF('Seznam střelců'!C61<>\"\", 0, 'Seznam střelců'!R61)","v":""},"",{"$f":"IF($A61<>\"\", SUMPRODUCT(--($C$7:$C$107=$C61), --('Seznam střelců'!$O61 < 'Seznam střelců'!$O$7:$O$107)),\"\")","v":""},{"$f":"IF($A61<>\"\", SUMPRODUCT(--($C$7:$C$107=$C61), --($D$7:$D$107=$D61), --('Seznam střelců'!$N61 <'Seznam střelců'!$N$7:$N$107)),\"\")","v":""},{"$f":"IF($A61<>\"\", SUMPRODUCT(--($C$7:$C$107=$C61), --($D$7:$D$107=$D61), --($E$7:$E$107=$E61), --('Seznam střelců'!$M61 <'Seznam střelců'!$M$7:$M$107)),\"\")","v":""},{"$f":"IF($A61<>\"\", SUMPRODUCT(--($C$7:$C$107=$C61), --($D$7:$D$107=$D61), --($E$7:$E$107=$E61), --($F$7:$F$107=$F61), --('Seznam střelců'!$L61 <'Seznam střelců'!$L$7:$L$107)),\"\")","v":""},{"$f":"IF($A61<>\"\", SUMPRODUCT(--($C$7:$C$107=$C61), --($D$7:$D$107=$D61), --($E$7:$E$107=$E61), --($F$7:$F$107=$F61), --($G$7:$G$107=$G61), --('Seznam střelců'!$K61 <'Seznam střelců'!$K$7:$K$107)),\"\")","v":""},{"$f":"IF($A61<>\"\", SUMPRODUCT(--($C$7:$C$107=$C61), --($D$7:$D$107=$D61), --($E$7:$E$107=$E61), --($F$7:$F$107=$F61), --($G$7:$G$107=$G61), --($H$7:$H$107=$H61), --('Seznam střelců'!$J61 <'Seznam střelců'!$J$7:$J$107)),\"\")","v":""},{"$f":"IF($A61<>\"\", SUMPRODUCT(--($C$7:$C$107=$C61), --($D$7:$D$107=$D61), --($E$7:$E$107=$E61), --($F$7:$F$107=$F61), --($G$7:$G$107=$G61), --($H$7:$H$107=$H61), --($I$7:$I$107=$I61), --('Seznam střelců'!$I61 <'Seznam střelců'!$I$7:$I$107)),\"\")","v":""},{"$f":"IF($A61<>\"\", SUMPRODUCT(--($C$7:$C$107=$C61), --($D$7:$D$107=$D61), --($E$7:$E$107=$E61), --($F$7:$F$107=$F61), --($G$7:$G$107=$G61), --($H$7:$H$107=$H61), --($I$7:$I$107=$I61), --($J$7:$J$107=$J61), --('Seznam střelců'!$H61 <'Seznam střelců'!$H$7:$H$107)),\"\")","v":""},{"$f":"IF($A61<>\"\", SUMPRODUCT(--($C$7:$C$107=$C61), --($D$7:$D$107=$D61), --($E$7:$E$107=$E61), --($F$7:$F$107=$F61), --($G$7:$G$107=$G61), --($H$7:$H$107=$H61), --($I$7:$I$107=$I61), --($J$7:$J$107=$J61), --($K$7:$K$107=$K61), --('Seznam střelců'!$G61 <'Seznam střelců'!$G$7:$G$107)),\"\")","v":""},{"$f":"IF($A61<>\"\", SUMPRODUCT(--($C$7:$C$107=$C61), --($D$7:$D$107=$D61), --($E$7:$E$107=$E61), --($F$7:$F$107=$F61), --($G$7:$G$107=$G61), --($H$7:$H$107=$H61), --($I$7:$I$107=$I61), --($J$7:$J$107=$J61), --($K$7:$K$107=$K61), --($L$7:$L$107=$L61), --('Seznam střelců'!$F61 <'Seznam střelců'!$F$7:$F$107)),\"\")","v":""},{"$f":"IF($A61<>\"\", SUMPRODUCT(--($C$7:$C$107=$C61), --($D$7:$D$107=$D61), --($E$7:$E$107=$E61), --($F$7:$F$107=$F61), --($G$7:$G$107=$G61), --($H$7:$H$107=$H61), --($I$7:$I$107=$I61),  --($J$7:$J$107=$J61), --($K$7:$K$107=$K61), --($L$7:$L$107=$L61),--($M$7:$M$107=$M61), --('Seznam střelců'!$Q61 <'Seznam střelců'!$Q$7:$Q$107)),\"\")","v":""},{"$f":"IF($A61<>\"\",\n      IF(ISBLANK('Seznam střelců'!$P61),\n         SUM($C61:$N61),\n         $C61+SUMPRODUCT(--($C$7:$C$107=$C61), --('Seznam střelců'!$Q61 <'Seznam střelců'!$Q$7:$Q$107))\n      ),\n      \"\")","v":""},{"$f":"IF(A61<>\"\",COUNTIF($O$7:$O61,$O61)-1,\"\")","v":""},""]
[{"$f":"'Seznam střelců'!A62","v":""},{"$f":"IF('Seznam střelců'!C62<>\"\", 0, 'Seznam střelců'!R62)","v":""},"",{"$f":"IF($A62<>\"\", SUMPRODUCT(--($C$7:$C$107=$C62), --('Seznam střelců'!$O62 < 'Seznam střelců'!$O$7:$O$107)),\"\")","v":""},{"$f":"IF($A62<>\"\", SUMPRODUCT(--($C$7:$C$107=$C62), --($D$7:$D$107=$D62), --('Seznam střelců'!$N62 <'Seznam střelců'!$N$7:$N$107)),\"\")","v":""},{"$f":"IF($A62<>\"\", SUMPRODUCT(--($C$7:$C$107=$C62), --($D$7:$D$107=$D62), --($E$7:$E$107=$E62), --('Seznam střelců'!$M62 <'Seznam střelců'!$M$7:$M$107)),\"\")","v":""},{"$f":"IF($A62<>\"\", SUMPRODUCT(--($C$7:$C$107=$C62), --($D$7:$D$107=$D62), --($E$7:$E$107=$E62), --($F$7:$F$107=$F62), --('Seznam střelců'!$L62 <'Seznam střelců'!$L$7:$L$107)),\"\")","v":""},{"$f":"IF($A62<>\"\", SUMPRODUCT(--($C$7:$C$107=$C62), --($D$7:$D$107=$D62), --($E$7:$E$107=$E62), --($F$7:$F$107=$F62), --($G$7:$G$107=$G62), --('Seznam střelců'!$K62 <'Seznam střelců'!$K$7:$K$107)),\"\")","v":""},{"$f":"IF($A62<>\"\", SUMPRODUCT(--($C$7:$C$107=$C62), --($D$7:$D$107=$D62), --($E$7:$E$107=$E62), --($F$7:$F$107=$F62), --($G$7:$G$107=$G62), --($H$7:$H$107=$H62), --('Seznam střelců'!$J62 <'Seznam střelců'!$J$7:$J$107)),\"\")","v":""},{"$f":"IF($A62<>\"\", SUMPRODUCT(--($C$7:$C$107=$C62), --($D$7:$D$107=$D62), --($E$7:$E$107=$E62), --($F$7:$F$107=$F62), --($G$7:$G$107=$G62), --($H$7:$H$107=$H62), --($I$7:$I$107=$I62), --('Seznam střelců'!$I62 <'Seznam střelců'!$I$7:$I$107)),\"\")","v":""},{"$f":"IF($A62<>\"\", SUMPRODUCT(--($C$7:$C$107=$C62), --($D$7:$D$107=$D62), --($E$7:$E$107=$E62), --($F$7:$F$107=$F62), --($G$7:$G$107=$G62), --($H$7:$H$107=$H62), --($I$7:$I$107=$I62), --($J$7:$J$107=$J62), --('Seznam střelců'!$H62 <'Seznam střelců'!$H$7:$H$107)),\"\")","v":""},{"$f":"IF($A62<>\"\", SUMPRODUCT(--($C$7:$C$107=$C62), --($D$7:$D$107=$D62), --($E$7:$E$107=$E62), --($F$7:$F$107=$F62), --($G$7:$G$107=$G62), --($H$7:$H$107=$H62), --($I$7:$I$107=$I62), --($J$7:$J$107=$J62), --($K$7:$K$107=$K62), --('Seznam střelců'!$G62 <'Seznam střelců'!$G$7:$G$107)),\"\")","v":""},{"$f":"IF($A62<>\"\", SUMPRODUCT(--($C$7:$C$107=$C62), --($D$7:$D$107=$D62), --($E$7:$E$107=$E62), --($F$7:$F$107=$F62), --($G$7:$G$107=$G62), --($H$7:$H$107=$H62), --($I$7:$I$107=$I62), --($J$7:$J$107=$J62), --($K$7:$K$107=$K62), --($L$7:$L$107=$L62), --('Seznam střelců'!$F62 <'Seznam střelců'!$F$7:$F$107)),\"\")","v":""},{"$f":"IF($A62<>\"\", SUMPRODUCT(--($C$7:$C$107=$C62), --($D$7:$D$107=$D62), --($E$7:$E$107=$E62), --($F$7:$F$107=$F62), --($G$7:$G$107=$G62), --($H$7:$H$107=$H62), --($I$7:$I$107=$I62),  --($J$7:$J$107=$J62), --($K$7:$K$107=$K62), --($L$7:$L$107=$L62),--($M$7:$M$107=$M62), --('Seznam střelců'!$Q62 <'Seznam střelců'!$Q$7:$Q$107)),\"\")","v":""},{"$f":"IF($A62<>\"\",\n      IF(ISBLANK('Seznam střelců'!$P62),\n         SUM($C62:$N62),\n         $C62+SUMPRODUCT(--($C$7:$C$107=$C62), --('Seznam střelců'!$Q62 <'Seznam střelců'!$Q$7:$Q$107))\n      ),\n      \"\")","v":""},{"$f":"IF(A62<>\"\",COUNTIF($O$7:$O62,$O62)-1,\"\")","v":""},""]
[{"$f":"'Seznam střelců'!A63","v":""},{"$f":"IF('Seznam střelců'!C63<>\"\", 0, 'Seznam střelců'!R63)","v":""},"",{"$f":"IF($A63<>\"\", SUMPRODUCT(--($C$7:$C$107=$C63), --('Seznam střelců'!$O63 < 'Seznam střelců'!$O$7:$O$107)),\"\")","v":""},{"$f":"IF($A63<>\"\", SUMPRODUCT(--($C$7:$C$107=$C63), --($D$7:$D$107=$D63), --('Seznam střelců'!$N63 <'Seznam střelců'!$N$7:$N$107)),\"\")","v":""},{"$f":"IF($A63<>\"\", SUMPRODUCT(--($C$7:$C$107=$C63), --($D$7:$D$107=$D63), --($E$7:$E$107=$E63), --('Seznam střelců'!$M63 <'Seznam střelců'!$M$7:$M$107)),\"\")","v":""},{"$f":"IF($A63<>\"\", SUMPRODUCT(--($C$7:$C$107=$C63), --($D$7:$D$107=$D63), --($E$7:$E$107=$E63), --($F$7:$F$107=$F63), --('Seznam střelců'!$L63 <'Seznam střelců'!$L$7:$L$107)),\"\")","v":""},{"$f":"IF($A63<>\"\", SUMPRODUCT(--($C$7:$C$107=$C63), --($D$7:$D$107=$D63), --($E$7:$E$107=$E63), --($F$7:$F$107=$F63), --($G$7:$G$107=$G63), --('Seznam střelců'!$K63 <'Seznam střelců'!$K$7:$K$107)),\"\")","v":""},{"$f":"IF($A63<>\"\", SUMPRODUCT(--($C$7:$C$107=$C63), --($D$7:$D$107=$D63), --($E$7:$E$107=$E63), --($F$7:$F$107=$F63), --($G$7:$G$107=$G63), --($H$7:$H$107=$H63), --('Seznam střelců'!$J63 <'Seznam střelců'!$J$7:$J$107)),\"\")","v":""},{"$f":"IF($A63<>\"\", SUMPRODUCT(--($C$7:$C$107=$C63), --($D$7:$D$107=$D63), --($E$7:$E$107=$E63), --($F$7:$F$107=$F63), --($G$7:$G$107=$G63), --($H$7:$H$107=$H63), --($I$7:$I$107=$I63), --('Seznam střelců'!$I63 <'Seznam střelců'!$I$7:$I$107)),\"\")","v":""},{"$f":"IF($A63<>\"\", SUMPRODUCT(--($C$7:$C$107=$C63), --($D$7:$D$107=$D63), --($E$7:$E$107=$E63), --($F$7:$F$107=$F63), --($G$7:$G$107=$G63), --($H$7:$H$107=$H63), --($I$7:$I$107=$I63), --($J$7:$J$107=$J63), --('Seznam střelců'!$H63 <'Seznam střelců'!$H$7:$H$107)),\"\")","v":""},{"$f":"IF($A63<>\"\", SUMPRODUCT(--($C$7:$C$107=$C63), --($D$7:$D$107=$D63), --($E$7:$E$107=$E63), --($F$7:$F$107=$F63), --($G$7:$G$107=$G63), --($H$7:$H$107=$H63), --($I$7:$I$107=$I63), --($J$7:$J$107=$J63), --($K$7:$K$107=$K63), --('Seznam střelců'!$G63 <'Seznam střelců'!$G$7:$G$107)),\"\")","v":""},{"$f":"IF($A63<>\"\", SUMPRODUCT(--($C$7:$C$107=$C63), --($D$7:$D$107=$D63), --($E$7:$E$107=$E63), --($F$7:$F$107=$F63), --($G$7:$G$107=$G63), --($H$7:$H$107=$H63), --($I$7:$I$107=$I63), --($J$7:$J$107=$J63), --($K$7:$K$107=$K63), --($L$7:$L$107=$L63), --('Seznam střelců'!$F63 <'Seznam střelců'!$F$7:$F$107)),\"\")","v":""},{"$f":"IF($A63<>\"\", SUMPRODUCT(--($C$7:$C$107=$C63), --($D$7:$D$107=$D63), --($E$7:$E$107=$E63), --($F$7:$F$107=$F63), --($G$7:$G$107=$G63), --($H$7:$H$107=$H63), --($I$7:$I$107=$I63),  --($J$7:$J$107=$J63), --($K$7:$K$107=$K63), --($L$7:$L$107=$L63),--($M$7:$M$107=$M63), --('Seznam střelců'!$Q63 <'Seznam střelců'!$Q$7:$Q$107)),\"\")","v":""},{"$f":"IF($A63<>\"\",\n      IF(ISBLANK('Seznam střelců'!$P63),\n         SUM($C63:$N63),\n         $C63+SUMPRODUCT(--($C$7:$C$107=$C63), --('Seznam střelců'!$Q63 <'Seznam střelců'!$Q$7:$Q$107))\n      ),\n      \"\")","v":""},{"$f":"IF(A63<>\"\",COUNTIF($O$7:$O63,$O63)-1,\"\")","v":""},""]
[{"$f":"'Seznam střelců'!A64","v":""},{"$f":"IF('Seznam střelců'!C64<>\"\", 0, 'Seznam střelců'!R64)","v":""},"",{"$f":"IF($A64<>\"\", SUMPRODUCT(--($C$7:$C$107=$C64), --('Seznam střelců'!$O64 < 'Seznam střelců'!$O$7:$O$107)),\"\")","v":""},{"$f":"IF($A64<>\"\", SUMPRODUCT(--($C$7:$C$107=$C64), --($D$7:$D$107=$D64), --('Seznam střelců'!$N64 <'Seznam střelců'!$N$7:$N$107)),\"\")","v":""},{"$f":"IF($A64<>\"\", SUMPRODUCT(--($C$7:$C$107=$C64), --($D$7:$D$107=$D64), --($E$7:$E$107=$E64), --('Seznam střelců'!$M64 <'Seznam střelců'!$M$7:$M$107)),\"\")","v":""},{"$f":"IF($A64<>\"\", SUMPRODUCT(--($C$7:$C$107=$C64), --($D$7:$D$107=$D64), --($E$7:$E$107=$E64), --($F$7:$F$107=$F64), --('Seznam střelců'!$L64 <'Seznam střelců'!$L$7:$L$107)),\"\")","v":""},{"$f":"IF($A64<>\"\", SUMPRODUCT(--($C$7:$C$107=$C64), --($D$7:$D$107=$D64), --($E$7:$E$107=$E64), --($F$7:$F$107=$F64), --($G$7:$G$107=$G64), --('Seznam střelců'!$K64 <'Seznam střelců'!$K$7:$K$107)),\"\")","v":""},{"$f":"IF($A64<>\"\", SUMPRODUCT(--($C$7:$C$107=$C64), --($D$7:$D$107=$D64), --($E$7:$E$107=$E64), --($F$7:$F$107=$F64), --($G$7:$G$107=$G64), --($H$7:$H$107=$H64), --('Seznam střelců'!$J64 <'Seznam střelců'!$J$7:$J$107)),\"\")","v":""},{"$f":"IF($A64<>\"\", SUMPRODUCT(--($C$7:$C$107=$C64), --($D$7:$D$107=$D64), --($E$7:$E$107=$E64), --($F$7:$F$107=$F64), --($G$7:$G$107=$G64), --($H$7:$H$107=$H64), --($I$7:$I$107=$I64), --('Seznam střelců'!$I64 <'Seznam střelců'!$I$7:$I$107)),\"\")","v":""},{"$f":"IF($A64<>\"\", SUMPRODUCT(--($C$7:$C$107=$C64), --($D$7:$D$107=$D64), --($E$7:$E$107=$E64), --($F$7:$F$107=$F64), --($G$7:$G$107=$G64), --($H$7:$H$107=$H64), --($I$7:$I$107=$I64), --($J$7:$J$107=$J64), --('Seznam střelců'!$H64 <'Seznam střelců'!$H$7:$H$107)),\"\")","v":""},{"$f":"IF($A64<>\"\", SUMPRODUCT(--($C$7:$C$107=$C64), --($D$7:$D$107=$D64), --($E$7:$E$107=$E64), --($F$7:$F$107=$F64), --($G$7:$G$107=$G64), --($H$7:$H$107=$H64), --($I$7:$I$107=$I64), --($J$7:$J$107=$J64), --($K$7:$K$107=$K64), --('Seznam střelců'!$G64 <'Seznam střelců'!$G$7:$G$107)),\"\")","v":""},{"$f":"IF($A64<>\"\", SUMPRODUCT(--($C$7:$C$107=$C64), --($D$7:$D$107=$D64), --($E$7:$E$107=$E64), --($F$7:$F$107=$F64), --($G$7:$G$107=$G64), --($H$7:$H$107=$H64), --($I$7:$I$107=$I64), --($J$7:$J$107=$J64), --($K$7:$K$107=$K64), --($L$7:$L$107=$L64), --('Seznam střelců'!$F64 <'Seznam střelců'!$F$7:$F$107)),\"\")","v":""},{"$f":"IF($A64<>\"\", SUMPRODUCT(--($C$7:$C$107=$C64), --($D$7:$D$107=$D64), --($E$7:$E$107=$E64), --($F$7:$F$107=$F64), --($G$7:$G$107=$G64), --($H$7:$H$107=$H64), --($I$7:$I$107=$I64),  --($J$7:$J$107=$J64), --($K$7:$K$107=$K64), --($L$7:$L$107=$L64),--($M$7:$M$107=$M64), --('Seznam střelců'!$Q64 <'Seznam střelců'!$Q$7:$Q$107)),\"\")","v":""},{"$f":"IF($A64<>\"\",\n      IF(ISBLANK('Seznam střelců'!$P64),\n         SUM($C64:$N64),\n         $C64+SUMPRODUCT(--($C$7:$C$107=$C64), --('Seznam střelců'!$Q64 <'Seznam střelců'!$Q$7:$Q$107))\n      ),\n      \"\")","v":""},{"$f":"IF(A64<>\"\",COUNTIF($O$7:$O64,$O64)-1,\"\")","v":""},""]
[{"$f":"'Seznam střelců'!A65","v":""},{"$f":"IF('Seznam střelců'!C65<>\"\", 0, 'Seznam střelců'!R65)","v":""},"",{"$f":"IF($A65<>\"\", SUMPRODUCT(--($C$7:$C$107=$C65), --('Seznam střelců'!$O65 < 'Seznam střelců'!$O$7:$O$107)),\"\")","v":""},{"$f":"IF($A65<>\"\", SUMPRODUCT(--($C$7:$C$107=$C65), --($D$7:$D$107=$D65), --('Seznam střelců'!$N65 <'Seznam střelců'!$N$7:$N$107)),\"\")","v":""},{"$f":"IF($A65<>\"\", SUMPRODUCT(--($C$7:$C$107=$C65), --($D$7:$D$107=$D65), --($E$7:$E$107=$E65), --('Seznam střelců'!$M65 <'Seznam střelců'!$M$7:$M$107)),\"\")","v":""},{"$f":"IF($A65<>\"\", SUMPRODUCT(--($C$7:$C$107=$C65), --($D$7:$D$107=$D65), --($E$7:$E$107=$E65), --($F$7:$F$107=$F65), --('Seznam střelců'!$L65 <'Seznam střelců'!$L$7:$L$107)),\"\")","v":""},{"$f":"IF($A65<>\"\", SUMPRODUCT(--($C$7:$C$107=$C65), --($D$7:$D$107=$D65), --($E$7:$E$107=$E65), --($F$7:$F$107=$F65), --($G$7:$G$107=$G65), --('Seznam střelců'!$K65 <'Seznam střelců'!$K$7:$K$107)),\"\")","v":""},{"$f":"IF($A65<>\"\", SUMPRODUCT(--($C$7:$C$107=$C65), --($D$7:$D$107=$D65), --($E$7:$E$107=$E65), --($F$7:$F$107=$F65), --($G$7:$G$107=$G65), --($H$7:$H$107=$H65), --('Seznam střelců'!$J65 <'Seznam střelců'!$J$7:$J$107)),\"\")","v":""},{"$f":"IF($A65<>\"\", SUMPRODUCT(--($C$7:$C$107=$C65), --($D$7:$D$107=$D65), --($E$7:$E$107=$E65), --($F$7:$F$107=$F65), --($G$7:$G$107=$G65), --($H$7:$H$107=$H65), --($I$7:$I$107=$I65), --('Seznam střelců'!$I65 <'Seznam střelců'!$I$7:$I$107)),\"\")","v":""},{"$f":"IF($A65<>\"\", SUMPRODUCT(--($C$7:$C$107=$C65), --($D$7:$D$107=$D65), --($E$7:$E$107=$E65), --($F$7:$F$107=$F65), --($G$7:$G$107=$G65), --($H$7:$H$107=$H65), --($I$7:$I$107=$I65), --($J$7:$J$107=$J65), --('Seznam střelců'!$H65 <'Seznam střelců'!$H$7:$H$107)),\"\")","v":""},{"$f":"IF($A65<>\"\", SUMPRODUCT(--($C$7:$C$107=$C65), --($D$7:$D$107=$D65), --($E$7:$E$107=$E65), --($F$7:$F$107=$F65), --($G$7:$G$107=$G65), --($H$7:$H$107=$H65), --($I$7:$I$107=$I65), --($J$7:$J$107=$J65), --($K$7:$K$107=$K65), --('Seznam střelců'!$G65 <'Seznam střelců'!$G$7:$G$107)),\"\")","v":""},{"$f":"IF($A65<>\"\", SUMPRODUCT(--($C$7:$C$107=$C65), --($D$7:$D$107=$D65), --($E$7:$E$107=$E65), --($F$7:$F$107=$F65), --($G$7:$G$107=$G65), --($H$7:$H$107=$H65), --($I$7:$I$107=$I65), --($J$7:$J$107=$J65), --($K$7:$K$107=$K65), --($L$7:$L$107=$L65), --('Seznam střelců'!$F65 <'Seznam střelců'!$F$7:$F$107)),\"\")","v":""},{"$f":"IF($A65<>\"\", SUMPRODUCT(--($C$7:$C$107=$C65), --($D$7:$D$107=$D65), --($E$7:$E$107=$E65), --($F$7:$F$107=$F65), --($G$7:$G$107=$G65), --($H$7:$H$107=$H65), --($I$7:$I$107=$I65),  --($J$7:$J$107=$J65), --($K$7:$K$107=$K65), --($L$7:$L$107=$L65),--($M$7:$M$107=$M65), --('Seznam střelců'!$Q65 <'Seznam střelců'!$Q$7:$Q$107)),\"\")","v":""},{"$f":"IF($A65<>\"\",\n      IF(ISBLANK('Seznam střelců'!$P65),\n         SUM($C65:$N65),\n         $C65+SUMPRODUCT(--($C$7:$C$107=$C65), --('Seznam střelců'!$Q65 <'Seznam střelců'!$Q$7:$Q$107))\n      ),\n      \"\")","v":""},{"$f":"IF(A65<>\"\",COUNTIF($O$7:$O65,$O65)-1,\"\")","v":""},""]
[{"$f":"'Seznam střelců'!A66","v":""},{"$f":"IF('Seznam střelců'!C66<>\"\", 0, 'Seznam střelců'!R66)","v":""},"",{"$f":"IF($A66<>\"\", SUMPRODUCT(--($C$7:$C$107=$C66), --('Seznam střelců'!$O66 < 'Seznam střelců'!$O$7:$O$107)),\"\")","v":""},{"$f":"IF($A66<>\"\", SUMPRODUCT(--($C$7:$C$107=$C66), --($D$7:$D$107=$D66), --('Seznam střelců'!$N66 <'Seznam střelců'!$N$7:$N$107)),\"\")","v":""},{"$f":"IF($A66<>\"\", SUMPRODUCT(--($C$7:$C$107=$C66), --($D$7:$D$107=$D66), --($E$7:$E$107=$E66), --('Seznam střelců'!$M66 <'Seznam střelců'!$M$7:$M$107)),\"\")","v":""},{"$f":"IF($A66<>\"\", SUMPRODUCT(--($C$7:$C$107=$C66), --($D$7:$D$107=$D66), --($E$7:$E$107=$E66), --($F$7:$F$107=$F66), --('Seznam střelců'!$L66 <'Seznam střelců'!$L$7:$L$107)),\"\")","v":""},{"$f":"IF($A66<>\"\", SUMPRODUCT(--($C$7:$C$107=$C66), --($D$7:$D$107=$D66), --($E$7:$E$107=$E66), --($F$7:$F$107=$F66), --($G$7:$G$107=$G66), --('Seznam střelců'!$K66 <'Seznam střelců'!$K$7:$K$107)),\"\")","v":""},{"$f":"IF($A66<>\"\", SUMPRODUCT(--($C$7:$C$107=$C66), --($D$7:$D$107=$D66), --($E$7:$E$107=$E66), --($F$7:$F$107=$F66), --($G$7:$G$107=$G66), --($H$7:$H$107=$H66), --('Seznam střelců'!$J66 <'Seznam střelců'!$J$7:$J$107)),\"\")","v":""},{"$f":"IF($A66<>\"\", SUMPRODUCT(--($C$7:$C$107=$C66), --($D$7:$D$107=$D66), --($E$7:$E$107=$E66), --($F$7:$F$107=$F66), --($G$7:$G$107=$G66), --($H$7:$H$107=$H66), --($I$7:$I$107=$I66), --('Seznam střelců'!$I66 <'Seznam střelců'!$I$7:$I$107)),\"\")","v":""},{"$f":"IF($A66<>\"\", SUMPRODUCT(--($C$7:$C$107=$C66), --($D$7:$D$107=$D66), --($E$7:$E$107=$E66), --($F$7:$F$107=$F66), --($G$7:$G$107=$G66), --($H$7:$H$107=$H66), --($I$7:$I$107=$I66), --($J$7:$J$107=$J66), --('Seznam střelců'!$H66 <'Seznam střelců'!$H$7:$H$107)),\"\")","v":""},{"$f":"IF($A66<>\"\", SUMPRODUCT(--($C$7:$C$107=$C66), --($D$7:$D$107=$D66), --($E$7:$E$107=$E66), --($F$7:$F$107=$F66), --($G$7:$G$107=$G66), --($H$7:$H$107=$H66), --($I$7:$I$107=$I66), --($J$7:$J$107=$J66), --($K$7:$K$107=$K66), --('Seznam střelců'!$G66 <'Seznam střelců'!$G$7:$G$107)),\"\")","v":""},{"$f":"IF($A66<>\"\", SUMPRODUCT(--($C$7:$C$107=$C66), --($D$7:$D$107=$D66), --($E$7:$E$107=$E66), --($F$7:$F$107=$F66), --($G$7:$G$107=$G66), --($H$7:$H$107=$H66), --($I$7:$I$107=$I66), --($J$7:$J$107=$J66), --($K$7:$K$107=$K66), --($L$7:$L$107=$L66), --('Seznam střelců'!$F66 <'Seznam střelců'!$F$7:$F$107)),\"\")","v":""},{"$f":"IF($A66<>\"\", SUMPRODUCT(--($C$7:$C$107=$C66), --($D$7:$D$107=$D66), --($E$7:$E$107=$E66), --($F$7:$F$107=$F66), --($G$7:$G$107=$G66), --($H$7:$H$107=$H66), --($I$7:$I$107=$I66),  --($J$7:$J$107=$J66), --($K$7:$K$107=$K66), --($L$7:$L$107=$L66),--($M$7:$M$107=$M66), --('Seznam střelců'!$Q66 <'Seznam střelců'!$Q$7:$Q$107)),\"\")","v":""},{"$f":"IF($A66<>\"\",\n      IF(ISBLANK('Seznam střelců'!$P66),\n         SUM($C66:$N66),\n         $C66+SUMPRODUCT(--($C$7:$C$107=$C66), --('Seznam střelců'!$Q66 <'Seznam střelců'!$Q$7:$Q$107))\n      ),\n      \"\")","v":""},{"$f":"IF(A66<>\"\",COUNTIF($O$7:$O66,$O66)-1,\"\")","v":""},""]
[{"$f":"'Seznam střelců'!A67","v":""},{"$f":"IF('Seznam střelců'!C67<>\"\", 0, 'Seznam střelců'!R67)","v":""},"",{"$f":"IF($A67<>\"\", SUMPRODUCT(--($C$7:$C$107=$C67), --('Seznam střelců'!$O67 < 'Seznam střelců'!$O$7:$O$107)),\"\")","v":""},{"$f":"IF($A67<>\"\", SUMPRODUCT(--($C$7:$C$107=$C67), --($D$7:$D$107=$D67), --('Seznam střelců'!$N67 <'Seznam střelců'!$N$7:$N$107)),\"\")","v":""},{"$f":"IF($A67<>\"\", SUMPRODUCT(--($C$7:$C$107=$C67), --($D$7:$D$107=$D67), --($E$7:$E$107=$E67), --('Seznam střelců'!$M67 <'Seznam střelců'!$M$7:$M$107)),\"\")","v":""},{"$f":"IF($A67<>\"\", SUMPRODUCT(--($C$7:$C$107=$C67), --($D$7:$D$107=$D67), --($E$7:$E$107=$E67), --($F$7:$F$107=$F67), --('Seznam střelců'!$L67 <'Seznam střelců'!$L$7:$L$107)),\"\")","v":""},{"$f":"IF($A67<>\"\", SUMPRODUCT(--($C$7:$C$107=$C67), --($D$7:$D$107=$D67), --($E$7:$E$107=$E67), --($F$7:$F$107=$F67), --($G$7:$G$107=$G67), --('Seznam střelců'!$K67 <'Seznam střelců'!$K$7:$K$107)),\"\")","v":""},{"$f":"IF($A67<>\"\", SUMPRODUCT(--($C$7:$C$107=$C67), --($D$7:$D$107=$D67), --($E$7:$E$107=$E67), --($F$7:$F$107=$F67), --($G$7:$G$107=$G67), --($H$7:$H$107=$H67), --('Seznam střelců'!$J67 <'Seznam střelců'!$J$7:$J$107)),\"\")","v":""},{"$f":"IF($A67<>\"\", SUMPRODUCT(--($C$7:$C$107=$C67), --($D$7:$D$107=$D67), --($E$7:$E$107=$E67), --($F$7:$F$107=$F67), --($G$7:$G$107=$G67), --($H$7:$H$107=$H67), --($I$7:$I$107=$I67), --('Seznam střelců'!$I67 <'Seznam střelců'!$I$7:$I$107)),\"\")","v":""},{"$f":"IF($A67<>\"\", SUMPRODUCT(--($C$7:$C$107=$C67), --($D$7:$D$107=$D67), --($E$7:$E$107=$E67), --($F$7:$F$107=$F67), --($G$7:$G$107=$G67), --($H$7:$H$107=$H67), --($I$7:$I$107=$I67), --($J$7:$J$107=$J67), --('Seznam střelců'!$H67 <'Seznam střelců'!$H$7:$H$107)),\"\")","v":""},{"$f":"IF($A67<>\"\", SUMPRODUCT(--($C$7:$C$107=$C67), --($D$7:$D$107=$D67), --($E$7:$E$107=$E67), --($F$7:$F$107=$F67), --($G$7:$G$107=$G67), --($H$7:$H$107=$H67), --($I$7:$I$107=$I67), --($J$7:$J$107=$J67), --($K$7:$K$107=$K67), --('Seznam střelců'!$G67 <'Seznam střelců'!$G$7:$G$107)),\"\")","v":""},{"$f":"IF($A67<>\"\", SUMPRODUCT(--($C$7:$C$107=$C67), --($D$7:$D$107=$D67), --($E$7:$E$107=$E67), --($F$7:$F$107=$F67), --($G$7:$G$107=$G67), --($H$7:$H$107=$H67), --($I$7:$I$107=$I67), --($J$7:$J$107=$J67), --($K$7:$K$107=$K67), --($L$7:$L$107=$L67), --('Seznam střelců'!$F67 <'Seznam střelců'!$F$7:$F$107)),\"\")","v":""},{"$f":"IF($A67<>\"\", SUMPRODUCT(--($C$7:$C$107=$C67), --($D$7:$D$107=$D67), --($E$7:$E$107=$E67), --($F$7:$F$107=$F67), --($G$7:$G$107=$G67), --($H$7:$H$107=$H67), --($I$7:$I$107=$I67),  --($J$7:$J$107=$J67), --($K$7:$K$107=$K67), --($L$7:$L$107=$L67),--($M$7:$M$107=$M67), --('Seznam střelců'!$Q67 <'Seznam střelců'!$Q$7:$Q$107)),\"\")","v":""},{"$f":"IF($A67<>\"\",\n      IF(ISBLANK('Seznam střelců'!$P67),\n         SUM($C67:$N67),\n         $C67+SUMPRODUCT(--($C$7:$C$107=$C67), --('Seznam střelců'!$Q67 <'Seznam střelců'!$Q$7:$Q$107))\n      ),\n      \"\")","v":""},{"$f":"IF(A67<>\"\",COUNTIF($O$7:$O67,$O67)-1,\"\")","v":""},""]
[{"$f":"'Seznam střelců'!A68","v":""},{"$f":"IF('Seznam střelců'!C68<>\"\", 0, 'Seznam střelců'!R68)","v":""},"",{"$f":"IF($A68<>\"\", SUMPRODUCT(--($C$7:$C$107=$C68), --('Seznam střelců'!$O68 < 'Seznam střelců'!$O$7:$O$107)),\"\")","v":""},{"$f":"IF($A68<>\"\", SUMPRODUCT(--($C$7:$C$107=$C68), --($D$7:$D$107=$D68), --('Seznam střelců'!$N68 <'Seznam střelců'!$N$7:$N$107)),\"\")","v":""},{"$f":"IF($A68<>\"\", SUMPRODUCT(--($C$7:$C$107=$C68), --($D$7:$D$107=$D68), --($E$7:$E$107=$E68), --('Seznam střelců'!$M68 <'Seznam střelců'!$M$7:$M$107)),\"\")","v":""},{"$f":"IF($A68<>\"\", SUMPRODUCT(--($C$7:$C$107=$C68), --($D$7:$D$107=$D68), --($E$7:$E$107=$E68), --($F$7:$F$107=$F68), --('Seznam střelců'!$L68 <'Seznam střelců'!$L$7:$L$107)),\"\")","v":""},{"$f":"IF($A68<>\"\", SUMPRODUCT(--($C$7:$C$107=$C68), --($D$7:$D$107=$D68), --($E$7:$E$107=$E68), --($F$7:$F$107=$F68), --($G$7:$G$107=$G68), --('Seznam střelců'!$K68 <'Seznam střelců'!$K$7:$K$107)),\"\")","v":""},{"$f":"IF($A68<>\"\", SUMPRODUCT(--($C$7:$C$107=$C68), --($D$7:$D$107=$D68), --($E$7:$E$107=$E68), --($F$7:$F$107=$F68), --($G$7:$G$107=$G68), --($H$7:$H$107=$H68), --('Seznam střelců'!$J68 <'Seznam střelců'!$J$7:$J$107)),\"\")","v":""},{"$f":"IF($A68<>\"\", SUMPRODUCT(--($C$7:$C$107=$C68), --($D$7:$D$107=$D68), --($E$7:$E$107=$E68), --($F$7:$F$107=$F68), --($G$7:$G$107=$G68), --($H$7:$H$107=$H68), --($I$7:$I$107=$I68), --('Seznam střelců'!$I68 <'Seznam střelců'!$I$7:$I$107)),\"\")","v":""},{"$f":"IF($A68<>\"\", SUMPRODUCT(--($C$7:$C$107=$C68), --($D$7:$D$107=$D68), --($E$7:$E$107=$E68), --($F$7:$F$107=$F68), --($G$7:$G$107=$G68), --($H$7:$H$107=$H68), --($I$7:$I$107=$I68), --($J$7:$J$107=$J68), --('Seznam střelců'!$H68 <'Seznam střelců'!$H$7:$H$107)),\"\")","v":""},{"$f":"IF($A68<>\"\", SUMPRODUCT(--($C$7:$C$107=$C68), --($D$7:$D$107=$D68), --($E$7:$E$107=$E68), --($F$7:$F$107=$F68), --($G$7:$G$107=$G68), --($H$7:$H$107=$H68), --($I$7:$I$107=$I68), --($J$7:$J$107=$J68), --($K$7:$K$107=$K68), --('Seznam střelců'!$G68 <'Seznam střelců'!$G$7:$G$107)),\"\")","v":""},{"$f":"IF($A68<>\"\", SUMPRODUCT(--($C$7:$C$107=$C68), --($D$7:$D$107=$D68), --($E$7:$E$107=$E68), --($F$7:$F$107=$F68), --($G$7:$G$107=$G68), --($H$7:$H$107=$H68), --($I$7:$I$107=$I68), --($J$7:$J$107=$J68), --($K$7:$K$107=$K68), --($L$7:$L$107=$L68), --('Seznam střelců'!$F68 <'Seznam střelců'!$F$7:$F$107)),\"\")","v":""},{"$f":"IF($A68<>\"\", SUMPRODUCT(--($C$7:$C$107=$C68), --($D$7:$D$107=$D68), --($E$7:$E$107=$E68), --($F$7:$F$107=$F68), --($G$7:$G$107=$G68), --($H$7:$H$107=$H68), --($I$7:$I$107=$I68),  --($J$7:$J$107=$J68), --($K$7:$K$107=$K68), --($L$7:$L$107=$L68),--($M$7:$M$107=$M68), --('Seznam střelců'!$Q68 <'Seznam střelců'!$Q$7:$Q$107)),\"\")","v":""},{"$f":"IF($A68<>\"\",\n      IF(ISBLANK('Seznam střelců'!$P68),\n         SUM($C68:$N68),\n         $C68+SUMPRODUCT(--($C$7:$C$107=$C68), --('Seznam střelců'!$Q68 <'Seznam střelců'!$Q$7:$Q$107))\n      ),\n      \"\")","v":""},{"$f":"IF(A68<>\"\",COUNTIF($O$7:$O68,$O68)-1,\"\")","v":""},""]
[{"$f":"'Seznam střelců'!A69","v":""},{"$f":"IF('Seznam střelců'!C69<>\"\", 0, 'Seznam střelců'!R69)","v":""},"",{"$f":"IF($A69<>\"\", SUMPRODUCT(--($C$7:$C$107=$C69), --('Seznam střelců'!$O69 < 'Seznam střelců'!$O$7:$O$107)),\"\")","v":""},{"$f":"IF($A69<>\"\", SUMPRODUCT(--($C$7:$C$107=$C69), --($D$7:$D$107=$D69), --('Seznam střelců'!$N69 <'Seznam střelců'!$N$7:$N$107)),\"\")","v":""},{"$f":"IF($A69<>\"\", SUMPRODUCT(--($C$7:$C$107=$C69), --($D$7:$D$107=$D69), --($E$7:$E$107=$E69), --('Seznam střelců'!$M69 <'Seznam střelců'!$M$7:$M$107)),\"\")","v":""},{"$f":"IF($A69<>\"\", SUMPRODUCT(--($C$7:$C$107=$C69), --($D$7:$D$107=$D69), --($E$7:$E$107=$E69), --($F$7:$F$107=$F69), --('Seznam střelců'!$L69 <'Seznam střelců'!$L$7:$L$107)),\"\")","v":""},{"$f":"IF($A69<>\"\", SUMPRODUCT(--($C$7:$C$107=$C69), --($D$7:$D$107=$D69), --($E$7:$E$107=$E69), --($F$7:$F$107=$F69), --($G$7:$G$107=$G69), --('Seznam střelců'!$K69 <'Seznam střelců'!$K$7:$K$107)),\"\")","v":""},{"$f":"IF($A69<>\"\", SUMPRODUCT(--($C$7:$C$107=$C69), --($D$7:$D$107=$D69), --($E$7:$E$107=$E69), --($F$7:$F$107=$F69), --($G$7:$G$107=$G69), --($H$7:$H$107=$H69), --('Seznam střelců'!$J69 <'Seznam střelců'!$J$7:$J$107)),\"\")","v":""},{"$f":"IF($A69<>\"\", SUMPRODUCT(--($C$7:$C$107=$C69), --($D$7:$D$107=$D69), --($E$7:$E$107=$E69), --($F$7:$F$107=$F69), --($G$7:$G$107=$G69), --($H$7:$H$107=$H69), --($I$7:$I$107=$I69), --('Seznam střelců'!$I69 <'Seznam střelců'!$I$7:$I$107)),\"\")","v":""},{"$f":"IF($A69<>\"\", SUMPRODUCT(--($C$7:$C$107=$C69), --($D$7:$D$107=$D69), --($E$7:$E$107=$E69), --($F$7:$F$107=$F69), --($G$7:$G$107=$G69), --($H$7:$H$107=$H69), --($I$7:$I$107=$I69), --($J$7:$J$107=$J69), --('Seznam střelců'!$H69 <'Seznam střelců'!$H$7:$H$107)),\"\")","v":""},{"$f":"IF($A69<>\"\", SUMPRODUCT(--($C$7:$C$107=$C69), --($D$7:$D$107=$D69), --($E$7:$E$107=$E69), --($F$7:$F$107=$F69), --($G$7:$G$107=$G69), --($H$7:$H$107=$H69), --($I$7:$I$107=$I69), --($J$7:$J$107=$J69), --($K$7:$K$107=$K69), --('Seznam střelců'!$G69 <'Seznam střelců'!$G$7:$G$107)),\"\")","v":""},{"$f":"IF($A69<>\"\", SUMPRODUCT(--($C$7:$C$107=$C69), --($D$7:$D$107=$D69), --($E$7:$E$107=$E69), --($F$7:$F$107=$F69), --($G$7:$G$107=$G69), --($H$7:$H$107=$H69), --($I$7:$I$107=$I69), --($J$7:$J$107=$J69), --($K$7:$K$107=$K69), --($L$7:$L$107=$L69), --('Seznam střelců'!$F69 <'Seznam střelců'!$F$7:$F$107)),\"\")","v":""},{"$f":"IF($A69<>\"\", SUMPRODUCT(--($C$7:$C$107=$C69), --($D$7:$D$107=$D69), --($E$7:$E$107=$E69), --($F$7:$F$107=$F69), --($G$7:$G$107=$G69), --($H$7:$H$107=$H69), --($I$7:$I$107=$I69),  --($J$7:$J$107=$J69), --($K$7:$K$107=$K69), --($L$7:$L$107=$L69),--($M$7:$M$107=$M69), --('Seznam střelců'!$Q69 <'Seznam střelců'!$Q$7:$Q$107)),\"\")","v":""},{"$f":"IF($A69<>\"\",\n      IF(ISBLANK('Seznam střelců'!$P69),\n         SUM($C69:$N69),\n         $C69+SUMPRODUCT(--($C$7:$C$107=$C69), --('Seznam střelců'!$Q69 <'Seznam střelců'!$Q$7:$Q$107))\n      ),\n      \"\")","v":""},{"$f":"IF(A69<>\"\",COUNTIF($O$7:$O69,$O69)-1,\"\")","v":""},""]
[{"$f":"'Seznam střelců'!A70","v":""},{"$f":"IF('Seznam střelců'!C70<>\"\", 0, 'Seznam střelců'!R70)","v":""},"",{"$f":"IF($A70<>\"\", SUMPRODUCT(--($C$7:$C$107=$C70), --('Seznam střelců'!$O70 < 'Seznam střelců'!$O$7:$O$107)),\"\")","v":""},{"$f":"IF($A70<>\"\", SUMPRODUCT(--($C$7:$C$107=$C70), --($D$7:$D$107=$D70), --('Seznam střelců'!$N70 <'Seznam střelců'!$N$7:$N$107)),\"\")","v":""},{"$f":"IF($A70<>\"\", SUMPRODUCT(--($C$7:$C$107=$C70), --($D$7:$D$107=$D70), --($E$7:$E$107=$E70), --('Seznam střelců'!$M70 <'Seznam střelců'!$M$7:$M$107)),\"\")","v":""},{"$f":"IF($A70<>\"\", SUMPRODUCT(--($C$7:$C$107=$C70), --($D$7:$D$107=$D70), --($E$7:$E$107=$E70), --($F$7:$F$107=$F70), --('Seznam střelců'!$L70 <'Seznam střelců'!$L$7:$L$107)),\"\")","v":""},{"$f":"IF($A70<>\"\", SUMPRODUCT(--($C$7:$C$107=$C70), --($D$7:$D$107=$D70), --($E$7:$E$107=$E70), --($F$7:$F$107=$F70), --($G$7:$G$107=$G70), --('Seznam střelců'!$K70 <'Seznam střelců'!$K$7:$K$107)),\"\")","v":""},{"$f":"IF($A70<>\"\", SUMPRODUCT(--($C$7:$C$107=$C70), --($D$7:$D$107=$D70), --($E$7:$E$107=$E70), --($F$7:$F$107=$F70), --($G$7:$G$107=$G70), --($H$7:$H$107=$H70), --('Seznam střelců'!$J70 <'Seznam střelců'!$J$7:$J$107)),\"\")","v":""},{"$f":"IF($A70<>\"\", SUMPRODUCT(--($C$7:$C$107=$C70), --($D$7:$D$107=$D70), --($E$7:$E$107=$E70), --($F$7:$F$107=$F70), --($G$7:$G$107=$G70), --($H$7:$H$107=$H70), --($I$7:$I$107=$I70), --('Seznam střelců'!$I70 <'Seznam střelců'!$I$7:$I$107)),\"\")","v":""},{"$f":"IF($A70<>\"\", SUMPRODUCT(--($C$7:$C$107=$C70), --($D$7:$D$107=$D70), --($E$7:$E$107=$E70), --($F$7:$F$107=$F70), --($G$7:$G$107=$G70), --($H$7:$H$107=$H70), --($I$7:$I$107=$I70), --($J$7:$J$107=$J70), --('Seznam střelců'!$H70 <'Seznam střelců'!$H$7:$H$107)),\"\")","v":""},{"$f":"IF($A70<>\"\", SUMPRODUCT(--($C$7:$C$107=$C70), --($D$7:$D$107=$D70), --($E$7:$E$107=$E70), --($F$7:$F$107=$F70), --($G$7:$G$107=$G70), --($H$7:$H$107=$H70), --($I$7:$I$107=$I70), --($J$7:$J$107=$J70), --($K$7:$K$107=$K70), --('Seznam střelců'!$G70 <'Seznam střelců'!$G$7:$G$107)),\"\")","v":""},{"$f":"IF($A70<>\"\", SUMPRODUCT(--($C$7:$C$107=$C70), --($D$7:$D$107=$D70), --($E$7:$E$107=$E70), --($F$7:$F$107=$F70), --($G$7:$G$107=$G70), --($H$7:$H$107=$H70), --($I$7:$I$107=$I70), --($J$7:$J$107=$J70), --($K$7:$K$107=$K70), --($L$7:$L$107=$L70), --('Seznam střelců'!$F70 <'Seznam střelců'!$F$7:$F$107)),\"\")","v":""},{"$f":"IF($A70<>\"\", SUMPRODUCT(--($C$7:$C$107=$C70), --($D$7:$D$107=$D70), --($E$7:$E$107=$E70), --($F$7:$F$107=$F70), --($G$7:$G$107=$G70), --($H$7:$H$107=$H70), --($I$7:$I$107=$I70),  --($J$7:$J$107=$J70), --($K$7:$K$107=$K70), --($L$7:$L$107=$L70),--($M$7:$M$107=$M70), --('Seznam střelců'!$Q70 <'Seznam střelců'!$Q$7:$Q$107)),\"\")","v":""},{"$f":"IF($A70<>\"\",\n      IF(ISBLANK('Seznam střelců'!$P70),\n         SUM($C70:$N70),\n         $C70+SUMPRODUCT(--($C$7:$C$107=$C70), --('Seznam střelců'!$Q70 <'Seznam střelců'!$Q$7:$Q$107))\n      ),\n      \"\")","v":""},{"$f":"IF(A70<>\"\",COUNTIF($O$7:$O70,$O70)-1,\"\")","v":""},""]
[{"$f":"'Seznam střelců'!A71","v":""},{"$f":"IF('Seznam střelců'!C71<>\"\", 0, 'Seznam střelců'!R71)","v":""},"",{"$f":"IF($A71<>\"\", SUMPRODUCT(--($C$7:$C$107=$C71), --('Seznam střelců'!$O71 < 'Seznam střelců'!$O$7:$O$107)),\"\")","v":""},{"$f":"IF($A71<>\"\", SUMPRODUCT(--($C$7:$C$107=$C71), --($D$7:$D$107=$D71), --('Seznam střelců'!$N71 <'Seznam střelců'!$N$7:$N$107)),\"\")","v":""},{"$f":"IF($A71<>\"\", SUMPRODUCT(--($C$7:$C$107=$C71), --($D$7:$D$107=$D71), --($E$7:$E$107=$E71), --('Seznam střelců'!$M71 <'Seznam střelců'!$M$7:$M$107)),\"\")","v":""},{"$f":"IF($A71<>\"\", SUMPRODUCT(--($C$7:$C$107=$C71), --($D$7:$D$107=$D71), --($E$7:$E$107=$E71), --($F$7:$F$107=$F71), --('Seznam střelců'!$L71 <'Seznam střelců'!$L$7:$L$107)),\"\")","v":""},{"$f":"IF($A71<>\"\", SUMPRODUCT(--($C$7:$C$107=$C71), --($D$7:$D$107=$D71), --($E$7:$E$107=$E71), --($F$7:$F$107=$F71), --($G$7:$G$107=$G71), --('Seznam střelců'!$K71 <'Seznam střelců'!$K$7:$K$107)),\"\")","v":""},{"$f":"IF($A71<>\"\", SUMPRODUCT(--($C$7:$C$107=$C71), --($D$7:$D$107=$D71), --($E$7:$E$107=$E71), --($F$7:$F$107=$F71), --($G$7:$G$107=$G71), --($H$7:$H$107=$H71), --('Seznam střelců'!$J71 <'Seznam střelců'!$J$7:$J$107)),\"\")","v":""},{"$f":"IF($A71<>\"\", SUMPRODUCT(--($C$7:$C$107=$C71), --($D$7:$D$107=$D71), --($E$7:$E$107=$E71), --($F$7:$F$107=$F71), --($G$7:$G$107=$G71), --($H$7:$H$107=$H71), --($I$7:$I$107=$I71), --('Seznam střelců'!$I71 <'Seznam střelců'!$I$7:$I$107)),\"\")","v":""},{"$f":"IF($A71<>\"\", SUMPRODUCT(--($C$7:$C$107=$C71), --($D$7:$D$107=$D71), --($E$7:$E$107=$E71), --($F$7:$F$107=$F71), --($G$7:$G$107=$G71), --($H$7:$H$107=$H71), --($I$7:$I$107=$I71), --($J$7:$J$107=$J71), --('Seznam střelců'!$H71 <'Seznam střelců'!$H$7:$H$107)),\"\")","v":""},{"$f":"IF($A71<>\"\", SUMPRODUCT(--($C$7:$C$107=$C71), --($D$7:$D$107=$D71), --($E$7:$E$107=$E71), --($F$7:$F$107=$F71), --($G$7:$G$107=$G71), --($H$7:$H$107=$H71), --($I$7:$I$107=$I71), --($J$7:$J$107=$J71), --($K$7:$K$107=$K71), --('Seznam střelců'!$G71 <'Seznam střelců'!$G$7:$G$107)),\"\")","v":""},{"$f":"IF($A71<>\"\", SUMPRODUCT(--($C$7:$C$107=$C71), --($D$7:$D$107=$D71), --($E$7:$E$107=$E71), --($F$7:$F$107=$F71), --($G$7:$G$107=$G71), --($H$7:$H$107=$H71), --($I$7:$I$107=$I71), --($J$7:$J$107=$J71), --($K$7:$K$107=$K71), --($L$7:$L$107=$L71), --('Seznam střelců'!$F71 <'Seznam střelců'!$F$7:$F$107)),\"\")","v":""},{"$f":"IF($A71<>\"\", SUMPRODUCT(--($C$7:$C$107=$C71), --($D$7:$D$107=$D71), --($E$7:$E$107=$E71), --($F$7:$F$107=$F71), --($G$7:$G$107=$G71), --($H$7:$H$107=$H71), --($I$7:$I$107=$I71),  --($J$7:$J$107=$J71), --($K$7:$K$107=$K71), --($L$7:$L$107=$L71),--($M$7:$M$107=$M71), --('Seznam střelců'!$Q71 <'Seznam střelců'!$Q$7:$Q$107)),\"\")","v":""},{"$f":"IF($A71<>\"\",\n      IF(ISBLANK('Seznam střelců'!$P71),\n         SUM($C71:$N71),\n         $C71+SUMPRODUCT(--($C$7:$C$107=$C71), --('Seznam střelců'!$Q71 <'Seznam střelců'!$Q$7:$Q$107))\n      ),\n      \"\")","v":""},{"$f":"IF(A71<>\"\",COUNTIF($O$7:$O71,$O71)-1,\"\")","v":""},{"$f":"IF(A71<>\"\",O71+P71,\"\")","v":""}]
[{"$f":"'Seznam střelců'!A72","v":""},{"$f":"IF('Seznam střelců'!C72<>\"\", 0, 'Seznam střelců'!R72)","v":""},{"$f":"IF(A72<>\"\", RANK(B72, $B$7:$B$107), \"\")","v":""},{"$f":"IF($A72<>\"\", SUMPRODUCT(--($C$7:$C$107=$C72), --('Seznam střelců'!$O72 < 'Seznam střelců'!$O$7:$O$107)),\"\")","v":""},{"$f":"IF($A72<>\"\", SUMPRODUCT(--($C$7:$C$107=$C72), --($D$7:$D$107=$D72), --('Seznam střelců'!$N72 <'Seznam střelců'!$N$7:$N$107)),\"\")","v":""},{"$f":"IF($A72<>\"\", SUMPRODUCT(--($C$7:$C$107=$C72), --($D$7:$D$107=$D72), --($E$7:$E$107=$E72), --('Seznam střelců'!$M72 <'Seznam střelců'!$M$7:$M$107)),\"\")","v":""},{"$f":"IF($A72<>\"\", SUMPRODUCT(--($C$7:$C$107=$C72), --($D$7:$D$107=$D72), --($E$7:$E$107=$E72), --($F$7:$F$107=$F72), --('Seznam střelců'!$L72 <'Seznam střelců'!$L$7:$L$107)),\"\")","v":""},{"$f":"IF($A72<>\"\", SUMPRODUCT(--($C$7:$C$107=$C72), --($D$7:$D$107=$D72), --($E$7:$E$107=$E72), --($F$7:$F$107=$F72), --($G$7:$G$107=$G72), --('Seznam střelců'!$K72 <'Seznam střelců'!$K$7:$K$107)),\"\")","v":""},{"$f":"IF($A72<>\"\", SUMPRODUCT(--($C$7:$C$107=$C72), --($D$7:$D$107=$D72), --($E$7:$E$107=$E72), --($F$7:$F$107=$F72), --($G$7:$G$107=$G72), --($H$7:$H$107=$H72), --('Seznam střelců'!$J72 <'Seznam střelců'!$J$7:$J$107)),\"\")","v":""},{"$f":"IF($A72<>\"\", SUMPRODUCT(--($C$7:$C$107=$C72), --($D$7:$D$107=$D72), --($E$7:$E$107=$E72), --($F$7:$F$107=$F72), --($G$7:$G$107=$G72), --($H$7:$H$107=$H72), --($I$7:$I$107=$I72), --('Seznam střelců'!$I72 <'Seznam střelců'!$I$7:$I$107)),\"\")","v":""},{"$f":"IF($A72<>\"\", SUMPRODUCT(--($C$7:$C$107=$C72), --($D$7:$D$107=$D72), --($E$7:$E$107=$E72), --($F$7:$F$107=$F72), --($G$7:$G$107=$G72), --($H$7:$H$107=$H72), --($I$7:$I$107=$I72), --($J$7:$J$107=$J72), --('Seznam střelců'!$H72 <'Seznam střelců'!$H$7:$H$107)),\"\")","v":""},{"$f":"IF($A72<>\"\", SUMPRODUCT(--($C$7:$C$107=$C72), --($D$7:$D$107=$D72), --($E$7:$E$107=$E72), --($F$7:$F$107=$F72), --($G$7:$G$107=$G72), --($H$7:$H$107=$H72), --($I$7:$I$107=$I72), --($J$7:$J$107=$J72), --($K$7:$K$107=$K72), --('Seznam střelců'!$G72 <'Seznam střelců'!$G$7:$G$107)),\"\")","v":""},{"$f":"IF($A72<>\"\", SUMPRODUCT(--($C$7:$C$107=$C72), --($D$7:$D$107=$D72), --($E$7:$E$107=$E72), --($F$7:$F$107=$F72), --($G$7:$G$107=$G72), --($H$7:$H$107=$H72), --($I$7:$I$107=$I72), --($J$7:$J$107=$J72), --($K$7:$K$107=$K72), --($L$7:$L$107=$L72), --('Seznam střelců'!$F72 <'Seznam střelců'!$F$7:$F$107)),\"\")","v":""},{"$f":"IF($A72<>\"\", SUMPRODUCT(--($C$7:$C$107=$C72), --($D$7:$D$107=$D72), --($E$7:$E$107=$E72), --($F$7:$F$107=$F72), --($G$7:$G$107=$G72), --($H$7:$H$107=$H72), --($I$7:$I$107=$I72),  --($J$7:$J$107=$J72), --($K$7:$K$107=$K72), --($L$7:$L$107=$L72),--($M$7:$M$107=$M72), --('Seznam střelců'!$Q72 <'Seznam střelců'!$Q$7:$Q$107)),\"\")","v":""},{"$f":"IF($A72<>\"\",\n      IF(ISBLANK('Seznam střelců'!$P72),\n         SUM($C72:$N72),\n         $C72+SUMPRODUCT(--($C$7:$C$107=$C72), --('Seznam střelců'!$Q72 <'Seznam střelců'!$Q$7:$Q$107))\n      ),\n      \"\")","v":""},{"$f":"IF(A72<>\"\",COUNTIF($O$7:$O72,$O72)-1,\"\")","v":""},""]
[{"$f":"'Seznam střelců'!A73","v":""},{"$f":"IF('Seznam střelců'!C73<>\"\", 0, 'Seznam střelců'!R73)","v":""},"",{"$f":"IF($A73<>\"\", SUMPRODUCT(--($C$7:$C$107=$C73), --('Seznam střelců'!$O73 < 'Seznam střelců'!$O$7:$O$107)),\"\")","v":""},{"$f":"IF($A73<>\"\", SUMPRODUCT(--($C$7:$C$107=$C73), --($D$7:$D$107=$D73), --('Seznam střelců'!$N73 <'Seznam střelců'!$N$7:$N$107)),\"\")","v":""},{"$f":"IF($A73<>\"\", SUMPRODUCT(--($C$7:$C$107=$C73), --($D$7:$D$107=$D73), --($E$7:$E$107=$E73), --('Seznam střelců'!$M73 <'Seznam střelců'!$M$7:$M$107)),\"\")","v":""},{"$f":"IF($A73<>\"\", SUMPRODUCT(--($C$7:$C$107=$C73), --($D$7:$D$107=$D73), --($E$7:$E$107=$E73), --($F$7:$F$107=$F73), --('Seznam střelců'!$L73 <'Seznam střelců'!$L$7:$L$107)),\"\")","v":""},{"$f":"IF($A73<>\"\", SUMPRODUCT(--($C$7:$C$107=$C73), --($D$7:$D$107=$D73), --($E$7:$E$107=$E73), --($F$7:$F$107=$F73), --($G$7:$G$107=$G73), --('Seznam střelců'!$K73 <'Seznam střelců'!$K$7:$K$107)),\"\")","v":""},{"$f":"IF($A73<>\"\", SUMPRODUCT(--($C$7:$C$107=$C73), --($D$7:$D$107=$D73), --($E$7:$E$107=$E73), --($F$7:$F$107=$F73), --($G$7:$G$107=$G73), --($H$7:$H$107=$H73), --('Seznam střelců'!$J73 <'Seznam střelců'!$J$7:$J$107)),\"\")","v":""},{"$f":"IF($A73<>\"\", SUMPRODUCT(--($C$7:$C$107=$C73), --($D$7:$D$107=$D73), --($E$7:$E$107=$E73), --($F$7:$F$107=$F73), --($G$7:$G$107=$G73), --($H$7:$H$107=$H73), --($I$7:$I$107=$I73), --('Seznam střelců'!$I73 <'Seznam střelců'!$I$7:$I$107)),\"\")","v":""},{"$f":"IF($A73<>\"\", SUMPRODUCT(--($C$7:$C$107=$C73), --($D$7:$D$107=$D73), --($E$7:$E$107=$E73), --($F$7:$F$107=$F73), --($G$7:$G$107=$G73), --($H$7:$H$107=$H73), --($I$7:$I$107=$I73), --($J$7:$J$107=$J73), --('Seznam střelců'!$H73 <'Seznam střelců'!$H$7:$H$107)),\"\")","v":""},{"$f":"IF($A73<>\"\", SUMPRODUCT(--($C$7:$C$107=$C73), --($D$7:$D$107=$D73), --($E$7:$E$107=$E73), --($F$7:$F$107=$F73), --($G$7:$G$107=$G73), --($H$7:$H$107=$H73), --($I$7:$I$107=$I73), --($J$7:$J$107=$J73), --($K$7:$K$107=$K73), --('Seznam střelců'!$G73 <'Seznam střelců'!$G$7:$G$107)),\"\")","v":""},{"$f":"IF($A73<>\"\", SUMPRODUCT(--($C$7:$C$107=$C73), --($D$7:$D$107=$D73), --($E$7:$E$107=$E73), --($F$7:$F$107=$F73), --($G$7:$G$107=$G73), --($H$7:$H$107=$H73), --($I$7:$I$107=$I73), --($J$7:$J$107=$J73), --($K$7:$K$107=$K73), --($L$7:$L$107=$L73), --('Seznam střelců'!$F73 <'Seznam střelců'!$F$7:$F$107)),\"\")","v":""},{"$f":"IF($A73<>\"\", SUMPRODUCT(--($C$7:$C$107=$C73), --($D$7:$D$107=$D73), --($E$7:$E$107=$E73), --($F$7:$F$107=$F73), --($G$7:$G$107=$G73), --($H$7:$H$107=$H73), --($I$7:$I$107=$I73),  --($J$7:$J$107=$J73), --($K$7:$K$107=$K73), --($L$7:$L$107=$L73),--($M$7:$M$107=$M73), --('Seznam střelců'!$Q73 <'Seznam střelců'!$Q$7:$Q$107)),\"\")","v":""},{"$f":"IF($A73<>\"\",\n      IF(ISBLANK('Seznam střelců'!$P73),\n         SUM($C73:$N73),\n         $C73+SUMPRODUCT(--($C$7:$C$107=$C73), --('Seznam střelců'!$Q73 <'Seznam střelců'!$Q$7:$Q$107))\n      ),\n      \"\")","v":""},{"$f":"IF(A73<>\"\",COUNTIF($O$7:$O73,$O73)-1,\"\")","v":""},""]
[{"$f":"'Seznam střelců'!A74","v":""},{"$f":"IF('Seznam střelců'!C74<>\"\", 0, 'Seznam střelců'!R74)","v":""},"",{"$f":"IF($A74<>\"\", SUMPRODUCT(--($C$7:$C$107=$C74), --('Seznam střelců'!$O74 < 'Seznam střelců'!$O$7:$O$107)),\"\")","v":""},{"$f":"IF($A74<>\"\", SUMPRODUCT(--($C$7:$C$107=$C74), --($D$7:$D$107=$D74), --('Seznam střelců'!$N74 <'Seznam střelců'!$N$7:$N$107)),\"\")","v":""},{"$f":"IF($A74<>\"\", SUMPRODUCT(--($C$7:$C$107=$C74), --($D$7:$D$107=$D74), --($E$7:$E$107=$E74), --('Seznam střelců'!$M74 <'Seznam střelců'!$M$7:$M$107)),\"\")","v":""},{"$f":"IF($A74<>\"\", SUMPRODUCT(--($C$7:$C$107=$C74), --($D$7:$D$107=$D74), --($E$7:$E$107=$E74), --($F$7:$F$107=$F74), --('Seznam střelců'!$L74 <'Seznam střelců'!$L$7:$L$107)),\"\")","v":""},{"$f":"IF($A74<>\"\", SUMPRODUCT(--($C$7:$C$107=$C74), --($D$7:$D$107=$D74), --($E$7:$E$107=$E74), --($F$7:$F$107=$F74), --($G$7:$G$107=$G74), --('Seznam střelců'!$K74 <'Seznam střelců'!$K$7:$K$107)),\"\")","v":""},{"$f":"IF($A74<>\"\", SUMPRODUCT(--($C$7:$C$107=$C74), --($D$7:$D$107=$D74), --($E$7:$E$107=$E74), --($F$7:$F$107=$F74), --($G$7:$G$107=$G74), --($H$7:$H$107=$H74), --('Seznam střelců'!$J74 <'Seznam střelců'!$J$7:$J$107)),\"\")","v":""},{"$f":"IF($A74<>\"\", SUMPRODUCT(--($C$7:$C$107=$C74), --($D$7:$D$107=$D74), --($E$7:$E$107=$E74), --($F$7:$F$107=$F74), --($G$7:$G$107=$G74), --($H$7:$H$107=$H74), --($I$7:$I$107=$I74), --('Seznam střelců'!$I74 <'Seznam střelců'!$I$7:$I$107)),\"\")","v":""},{"$f":"IF($A74<>\"\", SUMPRODUCT(--($C$7:$C$107=$C74), --($D$7:$D$107=$D74), --($E$7:$E$107=$E74), --($F$7:$F$107=$F74), --($G$7:$G$107=$G74), --($H$7:$H$107=$H74), --($I$7:$I$107=$I74), --($J$7:$J$107=$J74), --('Seznam střelců'!$H74 <'Seznam střelců'!$H$7:$H$107)),\"\")","v":""},{"$f":"IF($A74<>\"\", SUMPRODUCT(--($C$7:$C$107=$C74), --($D$7:$D$107=$D74), --($E$7:$E$107=$E74), --($F$7:$F$107=$F74), --($G$7:$G$107=$G74), --($H$7:$H$107=$H74), --($I$7:$I$107=$I74), --($J$7:$J$107=$J74), --($K$7:$K$107=$K74), --('Seznam střelců'!$G74 <'Seznam střelců'!$G$7:$G$107)),\"\")","v":""},{"$f":"IF($A74<>\"\", SUMPRODUCT(--($C$7:$C$107=$C74), --($D$7:$D$107=$D74), --($E$7:$E$107=$E74), --($F$7:$F$107=$F74), --($G$7:$G$107=$G74), --($H$7:$H$107=$H74), --($I$7:$I$107=$I74), --($J$7:$J$107=$J74), --($K$7:$K$107=$K74), --($L$7:$L$107=$L74), --('Seznam střelců'!$F74 <'Seznam střelců'!$F$7:$F$107)),\"\")","v":""},{"$f":"IF($A74<>\"\", SUMPRODUCT(--($C$7:$C$107=$C74), --($D$7:$D$107=$D74), --($E$7:$E$107=$E74), --($F$7:$F$107=$F74), --($G$7:$G$107=$G74), --($H$7:$H$107=$H74), --($I$7:$I$107=$I74),  --($J$7:$J$107=$J74), --($K$7:$K$107=$K74), --($L$7:$L$107=$L74),--($M$7:$M$107=$M74), --('Seznam střelců'!$Q74 <'Seznam střelců'!$Q$7:$Q$107)),\"\")","v":""},{"$f":"IF($A74<>\"\",\n      IF(ISBLANK('Seznam střelců'!$P74),\n         SUM($C74:$N74),\n         $C74+SUMPRODUCT(--($C$7:$C$107=$C74), --('Seznam střelců'!$Q74 <'Seznam střelců'!$Q$7:$Q$107))\n      ),\n      \"\")","v":""},{"$f":"IF(A74<>\"\",COUNTIF($O$7:$O74,$O74)-1,\"\")","v":""},""]
[{"$f":"'Seznam střelců'!A75","v":""},{"$f":"IF('Seznam střelců'!C75<>\"\", 0, 'Seznam střelců'!R75)","v":""},"",{"$f":"IF($A75<>\"\", SUMPRODUCT(--($C$7:$C$107=$C75), --('Seznam střelců'!$O75 < 'Seznam střelců'!$O$7:$O$107)),\"\")","v":""},{"$f":"IF($A75<>\"\", SUMPRODUCT(--($C$7:$C$107=$C75), --($D$7:$D$107=$D75), --('Seznam střelců'!$N75 <'Seznam střelců'!$N$7:$N$107)),\"\")","v":""},{"$f":"IF($A75<>\"\", SUMPRODUCT(--($C$7:$C$107=$C75), --($D$7:$D$107=$D75), --($E$7:$E$107=$E75), --('Seznam střelců'!$M75 <'Seznam střelců'!$M$7:$M$107)),\"\")","v":""},{"$f":"IF($A75<>\"\", SUMPRODUCT(--($C$7:$C$107=$C75), --($D$7:$D$107=$D75), --($E$7:$E$107=$E75), --($F$7:$F$107=$F75), --('Seznam střelců'!$L75 <'Seznam střelců'!$L$7:$L$107)),\"\")","v":""},{"$f":"IF($A75<>\"\", SUMPRODUCT(--($C$7:$C$107=$C75), --($D$7:$D$107=$D75), --($E$7:$E$107=$E75), --($F$7:$F$107=$F75), --($G$7:$G$107=$G75), --('Seznam střelců'!$K75 <'Seznam střelců'!$K$7:$K$107)),\"\")","v":""},{"$f":"IF($A75<>\"\", SUMPRODUCT(--($C$7:$C$107=$C75), --($D$7:$D$107=$D75), --($E$7:$E$107=$E75), --($F$7:$F$107=$F75), --($G$7:$G$107=$G75), --($H$7:$H$107=$H75), --('Seznam střelců'!$J75 <'Seznam střelců'!$J$7:$J$107)),\"\")","v":""},{"$f":"IF($A75<>\"\", SUMPRODUCT(--($C$7:$C$107=$C75), --($D$7:$D$107=$D75), --($E$7:$E$107=$E75), --($F$7:$F$107=$F75), --($G$7:$G$107=$G75), --($H$7:$H$107=$H75), --($I$7:$I$107=$I75), --('Seznam střelců'!$I75 <'Seznam střelců'!$I$7:$I$107)),\"\")","v":""},{"$f":"IF($A75<>\"\", SUMPRODUCT(--($C$7:$C$107=$C75), --($D$7:$D$107=$D75), --($E$7:$E$107=$E75), --($F$7:$F$107=$F75), --($G$7:$G$107=$G75), --($H$7:$H$107=$H75), --($I$7:$I$107=$I75), --($J$7:$J$107=$J75), --('Seznam střelců'!$H75 <'Seznam střelců'!$H$7:$H$107)),\"\")","v":""},{"$f":"IF($A75<>\"\", SUMPRODUCT(--($C$7:$C$107=$C75), --($D$7:$D$107=$D75), --($E$7:$E$107=$E75), --($F$7:$F$107=$F75), --($G$7:$G$107=$G75), --($H$7:$H$107=$H75), --($I$7:$I$107=$I75), --($J$7:$J$107=$J75), --($K$7:$K$107=$K75), --('Seznam střelců'!$G75 <'Seznam střelců'!$G$7:$G$107)),\"\")","v":""},{"$f":"IF($A75<>\"\", SUMPRODUCT(--($C$7:$C$107=$C75), --($D$7:$D$107=$D75), --($E$7:$E$107=$E75), --($F$7:$F$107=$F75), --($G$7:$G$107=$G75), --($H$7:$H$107=$H75), --($I$7:$I$107=$I75), --($J$7:$J$107=$J75), --($K$7:$K$107=$K75), --($L$7:$L$107=$L75), --('Seznam střelců'!$F75 <'Seznam střelců'!$F$7:$F$107)),\"\")","v":""},{"$f":"IF($A75<>\"\", SUMPRODUCT(--($C$7:$C$107=$C75), --($D$7:$D$107=$D75), --($E$7:$E$107=$E75), --($F$7:$F$107=$F75), --($G$7:$G$107=$G75), --($H$7:$H$107=$H75), --($I$7:$I$107=$I75),  --($J$7:$J$107=$J75), --($K$7:$K$107=$K75), --($L$7:$L$107=$L75),--($M$7:$M$107=$M75), --('Seznam střelců'!$Q75 <'Seznam střelců'!$Q$7:$Q$107)),\"\")","v":""},{"$f":"IF($A75<>\"\",\n      IF(ISBLANK('Seznam střelců'!$P75),\n         SUM($C75:$N75),\n         $C75+SUMPRODUCT(--($C$7:$C$107=$C75), --('Seznam střelců'!$Q75 <'Seznam střelců'!$Q$7:$Q$107))\n      ),\n      \"\")","v":""},{"$f":"IF(A75<>\"\",COUNTIF($O$7:$O75,$O75)-1,\"\")","v":""},""]
[{"$f":"'Seznam střelců'!A76","v":""},{"$f":"IF('Seznam střelců'!C76<>\"\", 0, 'Seznam střelců'!R76)","v":""},"",{"$f":"IF($A76<>\"\", SUMPRODUCT(--($C$7:$C$107=$C76), --('Seznam střelců'!$O76 < 'Seznam střelců'!$O$7:$O$107)),\"\")","v":""},{"$f":"IF($A76<>\"\", SUMPRODUCT(--($C$7:$C$107=$C76), --($D$7:$D$107=$D76), --('Seznam střelců'!$N76 <'Seznam střelců'!$N$7:$N$107)),\"\")","v":""},{"$f":"IF($A76<>\"\", SUMPRODUCT(--($C$7:$C$107=$C76), --($D$7:$D$107=$D76), --($E$7:$E$107=$E76), --('Seznam střelců'!$M76 <'Seznam střelců'!$M$7:$M$107)),\"\")","v":""},{"$f":"IF($A76<>\"\", SUMPRODUCT(--($C$7:$C$107=$C76), --($D$7:$D$107=$D76), --($E$7:$E$107=$E76), --($F$7:$F$107=$F76), --('Seznam střelců'!$L76 <'Seznam střelců'!$L$7:$L$107)),\"\")","v":""},{"$f":"IF($A76<>\"\", SUMPRODUCT(--($C$7:$C$107=$C76), --($D$7:$D$107=$D76), --($E$7:$E$107=$E76), --($F$7:$F$107=$F76), --($G$7:$G$107=$G76), --('Seznam střelců'!$K76 <'Seznam střelců'!$K$7:$K$107)),\"\")","v":""},{"$f":"IF($A76<>\"\", SUMPRODUCT(--($C$7:$C$107=$C76), --($D$7:$D$107=$D76), --($E$7:$E$107=$E76), --($F$7:$F$107=$F76), --($G$7:$G$107=$G76), --($H$7:$H$107=$H76), --('Seznam střelců'!$J76 <'Seznam střelců'!$J$7:$J$107)),\"\")","v":""},{"$f":"IF($A76<>\"\", SUMPRODUCT(--($C$7:$C$107=$C76), --($D$7:$D$107=$D76), --($E$7:$E$107=$E76), --($F$7:$F$107=$F76), --($G$7:$G$107=$G76), --($H$7:$H$107=$H76), --($I$7:$I$107=$I76), --('Seznam střelců'!$I76 <'Seznam střelců'!$I$7:$I$107)),\"\")","v":""},{"$f":"IF($A76<>\"\", SUMPRODUCT(--($C$7:$C$107=$C76), --($D$7:$D$107=$D76), --($E$7:$E$107=$E76), --($F$7:$F$107=$F76), --($G$7:$G$107=$G76), --($H$7:$H$107=$H76), --($I$7:$I$107=$I76), --($J$7:$J$107=$J76), --('Seznam střelců'!$H76 <'Seznam střelců'!$H$7:$H$107)),\"\")","v":""},{"$f":"IF($A76<>\"\", SUMPRODUCT(--($C$7:$C$107=$C76), --($D$7:$D$107=$D76), --($E$7:$E$107=$E76), --($F$7:$F$107=$F76), --($G$7:$G$107=$G76), --($H$7:$H$107=$H76), --($I$7:$I$107=$I76), --($J$7:$J$107=$J76), --($K$7:$K$107=$K76), --('Seznam střelců'!$G76 <'Seznam střelců'!$G$7:$G$107)),\"\")","v":""},{"$f":"IF($A76<>\"\", SUMPRODUCT(--($C$7:$C$107=$C76), --($D$7:$D$107=$D76), --($E$7:$E$107=$E76), --($F$7:$F$107=$F76), --($G$7:$G$107=$G76), --($H$7:$H$107=$H76), --($I$7:$I$107=$I76), --($J$7:$J$107=$J76), --($K$7:$K$107=$K76), --($L$7:$L$107=$L76), --('Seznam střelců'!$F76 <'Seznam střelců'!$F$7:$F$107)),\"\")","v":""},{"$f":"IF($A76<>\"\", SUMPRODUCT(--($C$7:$C$107=$C76), --($D$7:$D$107=$D76), --($E$7:$E$107=$E76), --($F$7:$F$107=$F76), --($G$7:$G$107=$G76), --($H$7:$H$107=$H76), --($I$7:$I$107=$I76),  --($J$7:$J$107=$J76), --($K$7:$K$107=$K76), --($L$7:$L$107=$L76),--($M$7:$M$107=$M76), --('Seznam střelců'!$Q76 <'Seznam střelců'!$Q$7:$Q$107)),\"\")","v":""},{"$f":"IF($A76<>\"\",\n      IF(ISBLANK('Seznam střelců'!$P76),\n         SUM($C76:$N76),\n         $C76+SUMPRODUCT(--($C$7:$C$107=$C76), --('Seznam střelců'!$Q76 <'Seznam střelců'!$Q$7:$Q$107))\n      ),\n      \"\")","v":""},{"$f":"IF(A76<>\"\",COUNTIF($O$7:$O76,$O76)-1,\"\")","v":""},""]
[{"$f":"'Seznam střelců'!A77","v":""},{"$f":"IF('Seznam střelců'!C77<>\"\", 0, 'Seznam střelců'!R77)","v":""},"",{"$f":"IF($A77<>\"\", SUMPRODUCT(--($C$7:$C$107=$C77), --('Seznam střelců'!$O77 < 'Seznam střelců'!$O$7:$O$107)),\"\")","v":""},{"$f":"IF($A77<>\"\", SUMPRODUCT(--($C$7:$C$107=$C77), --($D$7:$D$107=$D77), --('Seznam střelců'!$N77 <'Seznam střelců'!$N$7:$N$107)),\"\")","v":""},{"$f":"IF($A77<>\"\", SUMPRODUCT(--($C$7:$C$107=$C77), --($D$7:$D$107=$D77), --($E$7:$E$107=$E77), --('Seznam střelců'!$M77 <'Seznam střelců'!$M$7:$M$107)),\"\")","v":""},{"$f":"IF($A77<>\"\", SUMPRODUCT(--($C$7:$C$107=$C77), --($D$7:$D$107=$D77), --($E$7:$E$107=$E77), --($F$7:$F$107=$F77), --('Seznam střelců'!$L77 <'Seznam střelců'!$L$7:$L$107)),\"\")","v":""},{"$f":"IF($A77<>\"\", SUMPRODUCT(--($C$7:$C$107=$C77), --($D$7:$D$107=$D77), --($E$7:$E$107=$E77), --($F$7:$F$107=$F77), --($G$7:$G$107=$G77), --('Seznam střelců'!$K77 <'Seznam střelců'!$K$7:$K$107)),\"\")","v":""},{"$f":"IF($A77<>\"\", SUMPRODUCT(--($C$7:$C$107=$C77), --($D$7:$D$107=$D77), --($E$7:$E$107=$E77), --($F$7:$F$107=$F77), --($G$7:$G$107=$G77), --($H$7:$H$107=$H77), --('Seznam střelců'!$J77 <'Seznam střelců'!$J$7:$J$107)),\"\")","v":""},{"$f":"IF($A77<>\"\", SUMPRODUCT(--($C$7:$C$107=$C77), --($D$7:$D$107=$D77), --($E$7:$E$107=$E77), --($F$7:$F$107=$F77), --($G$7:$G$107=$G77), --($H$7:$H$107=$H77), --($I$7:$I$107=$I77), --('Seznam střelců'!$I77 <'Seznam střelců'!$I$7:$I$107)),\"\")","v":""},{"$f":"IF($A77<>\"\", SUMPRODUCT(--($C$7:$C$107=$C77), --($D$7:$D$107=$D77), --($E$7:$E$107=$E77), --($F$7:$F$107=$F77), --($G$7:$G$107=$G77), --($H$7:$H$107=$H77), --($I$7:$I$107=$I77), --($J$7:$J$107=$J77), --('Seznam střelců'!$H77 <'Seznam střelců'!$H$7:$H$107)),\"\")","v":""},{"$f":"IF($A77<>\"\", SUMPRODUCT(--($C$7:$C$107=$C77), --($D$7:$D$107=$D77), --($E$7:$E$107=$E77), --($F$7:$F$107=$F77), --($G$7:$G$107=$G77), --($H$7:$H$107=$H77), --($I$7:$I$107=$I77), --($J$7:$J$107=$J77), --($K$7:$K$107=$K77), --('Seznam střelců'!$G77 <'Seznam střelců'!$G$7:$G$107)),\"\")","v":""},{"$f":"IF($A77<>\"\", SUMPRODUCT(--($C$7:$C$107=$C77), --($D$7:$D$107=$D77), --($E$7:$E$107=$E77), --($F$7:$F$107=$F77), --($G$7:$G$107=$G77), --($H$7:$H$107=$H77), --($I$7:$I$107=$I77), --($J$7:$J$107=$J77), --($K$7:$K$107=$K77), --($L$7:$L$107=$L77), --('Seznam střelců'!$F77 <'Seznam střelců'!$F$7:$F$107)),\"\")","v":""},{"$f":"IF($A77<>\"\", SUMPRODUCT(--($C$7:$C$107=$C77), --($D$7:$D$107=$D77), --($E$7:$E$107=$E77), --($F$7:$F$107=$F77), --($G$7:$G$107=$G77), --($H$7:$H$107=$H77), --($I$7:$I$107=$I77),  --($J$7:$J$107=$J77), --($K$7:$K$107=$K77), --($L$7:$L$107=$L77),--($M$7:$M$107=$M77), --('Seznam střelců'!$Q77 <'Seznam střelců'!$Q$7:$Q$107)),\"\")","v":""},{"$f":"IF($A77<>\"\",\n      IF(ISBLANK('Seznam střelců'!$P77),\n         SUM($C77:$N77),\n         $C77+SUMPRODUCT(--($C$7:$C$107=$C77), --('Seznam střelců'!$Q77 <'Seznam střelců'!$Q$7:$Q$107))\n      ),\n      \"\")","v":""},{"$f":"IF(A77<>\"\",COUNTIF($O$7:$O77,$O77)-1,\"\")","v":""},""]
[{"$f":"'Seznam střelců'!A78","v":""},{"$f":"IF('Seznam střelců'!C78<>\"\", 0, 'Seznam střelců'!R78)","v":""},"",{"$f":"IF($A78<>\"\", SUMPRODUCT(--($C$7:$C$107=$C78), --('Seznam střelců'!$O78 < 'Seznam střelců'!$O$7:$O$107)),\"\")","v":""},{"$f":"IF($A78<>\"\", SUMPRODUCT(--($C$7:$C$107=$C78), --($D$7:$D$107=$D78), --('Seznam střelců'!$N78 <'Seznam střelců'!$N$7:$N$107)),\"\")","v":""},{"$f":"IF($A78<>\"\", SUMPRODUCT(--($C$7:$C$107=$C78), --($D$7:$D$107=$D78), --($E$7:$E$107=$E78), --('Seznam střelců'!$M78 <'Seznam střelců'!$M$7:$M$107)),\"\")","v":""},{"$f":"IF($A78<>\"\", SUMPRODUCT(--($C$7:$C$107=$C78), --($D$7:$D$107=$D78), --($E$7:$E$107=$E78), --($F$7:$F$107=$F78), --('Seznam střelců'!$L78 <'Seznam střelců'!$L$7:$L$107)),\"\")","v":""},{"$f":"IF($A78<>\"\", SUMPRODUCT(--($C$7:$C$107=$C78), --($D$7:$D$107=$D78), --($E$7:$E$107=$E78), --($F$7:$F$107=$F78), --($G$7:$G$107=$G78), --('Seznam střelců'!$K78 <'Seznam střelců'!$K$7:$K$107)),\"\")","v":""},{"$f":"IF($A78<>\"\", SUMPRODUCT(--($C$7:$C$107=$C78), --($D$7:$D$107=$D78), --($E$7:$E$107=$E78), --($F$7:$F$107=$F78), --($G$7:$G$107=$G78), --($H$7:$H$107=$H78), --('Seznam střelců'!$J78 <'Seznam střelců'!$J$7:$J$107)),\"\")","v":""},{"$f":"IF($A78<>\"\", SUMPRODUCT(--($C$7:$C$107=$C78), --($D$7:$D$107=$D78), --($E$7:$E$107=$E78), --($F$7:$F$107=$F78), --($G$7:$G$107=$G78), --($H$7:$H$107=$H78), --($I$7:$I$107=$I78), --('Seznam střelců'!$I78 <'Seznam střelců'!$I$7:$I$107)),\"\")","v":""},{"$f":"IF($A78<>\"\", SUMPRODUCT(--($C$7:$C$107=$C78), --($D$7:$D$107=$D78), --($E$7:$E$107=$E78), --($F$7:$F$107=$F78), --($G$7:$G$107=$G78), --($H$7:$H$107=$H78), --($I$7:$I$107=$I78), --($J$7:$J$107=$J78), --('Seznam střelců'!$H78 <'Seznam střelců'!$H$7:$H$107)),\"\")","v":""},{"$f":"IF($A78<>\"\", SUMPRODUCT(--($C$7:$C$107=$C78), --($D$7:$D$107=$D78), --($E$7:$E$107=$E78), --($F$7:$F$107=$F78), --($G$7:$G$107=$G78), --($H$7:$H$107=$H78), --($I$7:$I$107=$I78), --($J$7:$J$107=$J78), --($K$7:$K$107=$K78), --('Seznam střelců'!$G78 <'Seznam střelců'!$G$7:$G$107)),\"\")","v":""},{"$f":"IF($A78<>\"\", SUMPRODUCT(--($C$7:$C$107=$C78), --($D$7:$D$107=$D78), --($E$7:$E$107=$E78), --($F$7:$F$107=$F78), --($G$7:$G$107=$G78), --($H$7:$H$107=$H78), --($I$7:$I$107=$I78), --($J$7:$J$107=$J78), --($K$7:$K$107=$K78), --($L$7:$L$107=$L78), --('Seznam střelců'!$F78 <'Seznam střelců'!$F$7:$F$107)),\"\")","v":""},{"$f":"IF($A78<>\"\", SUMPRODUCT(--($C$7:$C$107=$C78), --($D$7:$D$107=$D78), --($E$7:$E$107=$E78), --($F$7:$F$107=$F78), --($G$7:$G$107=$G78), --($H$7:$H$107=$H78), --($I$7:$I$107=$I78),  --($J$7:$J$107=$J78), --($K$7:$K$107=$K78), --($L$7:$L$107=$L78),--($M$7:$M$107=$M78), --('Seznam střelců'!$Q78 <'Seznam střelců'!$Q$7:$Q$107)),\"\")","v":""},{"$f":"IF($A78<>\"\",\n      IF(ISBLANK('Seznam střelců'!$P78),\n         SUM($C78:$N78),\n         $C78+SUMPRODUCT(--($C$7:$C$107=$C78), --('Seznam střelců'!$Q78 <'Seznam střelců'!$Q$7:$Q$107))\n      ),\n      \"\")","v":""},{"$f":"IF(A78<>\"\",COUNTIF($O$7:$O78,$O78)-1,\"\")","v":""},""]
[{"$f":"'Seznam střelců'!A79","v":""},{"$f":"IF('Seznam střelců'!C79<>\"\", 0, 'Seznam střelců'!R79)","v":""},"",{"$f":"IF($A79<>\"\", SUMPRODUCT(--($C$7:$C$107=$C79), --('Seznam střelců'!$O79 < 'Seznam střelců'!$O$7:$O$107)),\"\")","v":""},{"$f":"IF($A79<>\"\", SUMPRODUCT(--($C$7:$C$107=$C79), --($D$7:$D$107=$D79), --('Seznam střelců'!$N79 <'Seznam střelců'!$N$7:$N$107)),\"\")","v":""},{"$f":"IF($A79<>\"\", SUMPRODUCT(--($C$7:$C$107=$C79), --($D$7:$D$107=$D79), --($E$7:$E$107=$E79), --('Seznam střelců'!$M79 <'Seznam střelců'!$M$7:$M$107)),\"\")","v":""},{"$f":"IF($A79<>\"\", SUMPRODUCT(--($C$7:$C$107=$C79), --($D$7:$D$107=$D79), --($E$7:$E$107=$E79), --($F$7:$F$107=$F79), --('Seznam střelců'!$L79 <'Seznam střelců'!$L$7:$L$107)),\"\")","v":""},{"$f":"IF($A79<>\"\", SUMPRODUCT(--($C$7:$C$107=$C79), --($D$7:$D$107=$D79), --($E$7:$E$107=$E79), --($F$7:$F$107=$F79), --($G$7:$G$107=$G79), --('Seznam střelců'!$K79 <'Seznam střelců'!$K$7:$K$107)),\"\")","v":""},{"$f":"IF($A79<>\"\", SUMPRODUCT(--($C$7:$C$107=$C79), --($D$7:$D$107=$D79), --($E$7:$E$107=$E79), --($F$7:$F$107=$F79), --($G$7:$G$107=$G79), --($H$7:$H$107=$H79), --('Seznam střelců'!$J79 <'Seznam střelců'!$J$7:$J$107)),\"\")","v":""},{"$f":"IF($A79<>\"\", SUMPRODUCT(--($C$7:$C$107=$C79), --($D$7:$D$107=$D79), --($E$7:$E$107=$E79), --($F$7:$F$107=$F79), --($G$7:$G$107=$G79), --($H$7:$H$107=$H79), --($I$7:$I$107=$I79), --('Seznam střelců'!$I79 <'Seznam střelců'!$I$7:$I$107)),\"\")","v":""},{"$f":"IF($A79<>\"\", SUMPRODUCT(--($C$7:$C$107=$C79), --($D$7:$D$107=$D79), --($E$7:$E$107=$E79), --($F$7:$F$107=$F79), --($G$7:$G$107=$G79), --($H$7:$H$107=$H79), --($I$7:$I$107=$I79), --($J$7:$J$107=$J79), --('Seznam střelců'!$H79 <'Seznam střelců'!$H$7:$H$107)),\"\")","v":""},{"$f":"IF($A79<>\"\", SUMPRODUCT(--($C$7:$C$107=$C79), --($D$7:$D$107=$D79), --($E$7:$E$107=$E79), --($F$7:$F$107=$F79), --($G$7:$G$107=$G79), --($H$7:$H$107=$H79), --($I$7:$I$107=$I79), --($J$7:$J$107=$J79), --($K$7:$K$107=$K79), --('Seznam střelců'!$G79 <'Seznam střelců'!$G$7:$G$107)),\"\")","v":""},{"$f":"IF($A79<>\"\", SUMPRODUCT(--($C$7:$C$107=$C79), --($D$7:$D$107=$D79), --($E$7:$E$107=$E79), --($F$7:$F$107=$F79), --($G$7:$G$107=$G79), --($H$7:$H$107=$H79), --($I$7:$I$107=$I79), --($J$7:$J$107=$J79), --($K$7:$K$107=$K79), --($L$7:$L$107=$L79), --('Seznam střelců'!$F79 <'Seznam střelců'!$F$7:$F$107)),\"\")","v":""},{"$f":"IF($A79<>\"\", SUMPRODUCT(--($C$7:$C$107=$C79), --($D$7:$D$107=$D79), --($E$7:$E$107=$E79), --($F$7:$F$107=$F79), --($G$7:$G$107=$G79), --($H$7:$H$107=$H79), --($I$7:$I$107=$I79),  --($J$7:$J$107=$J79), --($K$7:$K$107=$K79), --($L$7:$L$107=$L79),--($M$7:$M$107=$M79), --('Seznam střelců'!$Q79 <'Seznam střelců'!$Q$7:$Q$107)),\"\")","v":""},{"$f":"IF($A79<>\"\",\n      IF(ISBLANK('Seznam střelců'!$P79),\n         SUM($C79:$N79),\n         $C79+SUMPRODUCT(--($C$7:$C$107=$C79), --('Seznam střelců'!$Q79 <'Seznam střelců'!$Q$7:$Q$107))\n      ),\n      \"\")","v":""},{"$f":"IF(A79<>\"\",COUNTIF($O$7:$O79,$O79)-1,\"\")","v":""},""]
[{"$f":"'Seznam střelců'!A80","v":""},{"$f":"IF('Seznam střelců'!C80<>\"\", 0, 'Seznam střelců'!R80)","v":""},"",{"$f":"IF($A80<>\"\", SUMPRODUCT(--($C$7:$C$107=$C80), --('Seznam střelců'!$O80 < 'Seznam střelců'!$O$7:$O$107)),\"\")","v":""},{"$f":"IF($A80<>\"\", SUMPRODUCT(--($C$7:$C$107=$C80), --($D$7:$D$107=$D80), --('Seznam střelců'!$N80 <'Seznam střelců'!$N$7:$N$107)),\"\")","v":""},{"$f":"IF($A80<>\"\", SUMPRODUCT(--($C$7:$C$107=$C80), --($D$7:$D$107=$D80), --($E$7:$E$107=$E80), --('Seznam střelců'!$M80 <'Seznam střelců'!$M$7:$M$107)),\"\")","v":""},{"$f":"IF($A80<>\"\", SUMPRODUCT(--($C$7:$C$107=$C80), --($D$7:$D$107=$D80), --($E$7:$E$107=$E80), --($F$7:$F$107=$F80), --('Seznam střelců'!$L80 <'Seznam střelců'!$L$7:$L$107)),\"\")","v":""},{"$f":"IF($A80<>\"\", SUMPRODUCT(--($C$7:$C$107=$C80), --($D$7:$D$107=$D80), --($E$7:$E$107=$E80), --($F$7:$F$107=$F80), --($G$7:$G$107=$G80), --('Seznam střelců'!$K80 <'Seznam střelců'!$K$7:$K$107)),\"\")","v":""},{"$f":"IF($A80<>\"\", SUMPRODUCT(--($C$7:$C$107=$C80), --($D$7:$D$107=$D80), --($E$7:$E$107=$E80), --($F$7:$F$107=$F80), --($G$7:$G$107=$G80), --($H$7:$H$107=$H80), --('Seznam střelců'!$J80 <'Seznam střelců'!$J$7:$J$107)),\"\")","v":""},{"$f":"IF($A80<>\"\", SUMPRODUCT(--($C$7:$C$107=$C80), --($D$7:$D$107=$D80), --($E$7:$E$107=$E80), --($F$7:$F$107=$F80), --($G$7:$G$107=$G80), --($H$7:$H$107=$H80), --($I$7:$I$107=$I80), --('Seznam střelců'!$I80 <'Seznam střelců'!$I$7:$I$107)),\"\")","v":""},{"$f":"IF($A80<>\"\", SUMPRODUCT(--($C$7:$C$107=$C80), --($D$7:$D$107=$D80), --($E$7:$E$107=$E80), --($F$7:$F$107=$F80), --($G$7:$G$107=$G80), --($H$7:$H$107=$H80), --($I$7:$I$107=$I80), --($J$7:$J$107=$J80), --('Seznam střelců'!$H80 <'Seznam střelců'!$H$7:$H$107)),\"\")","v":""},{"$f":"IF($A80<>\"\", SUMPRODUCT(--($C$7:$C$107=$C80), --($D$7:$D$107=$D80), --($E$7:$E$107=$E80), --($F$7:$F$107=$F80), --($G$7:$G$107=$G80), --($H$7:$H$107=$H80), --($I$7:$I$107=$I80), --($J$7:$J$107=$J80), --($K$7:$K$107=$K80), --('Seznam střelců'!$G80 <'Seznam střelců'!$G$7:$G$107)),\"\")","v":""},{"$f":"IF($A80<>\"\", SUMPRODUCT(--($C$7:$C$107=$C80), --($D$7:$D$107=$D80), --($E$7:$E$107=$E80), --($F$7:$F$107=$F80), --($G$7:$G$107=$G80), --($H$7:$H$107=$H80), --($I$7:$I$107=$I80), --($J$7:$J$107=$J80), --($K$7:$K$107=$K80), --($L$7:$L$107=$L80), --('Seznam střelců'!$F80 <'Seznam střelců'!$F$7:$F$107)),\"\")","v":""},{"$f":"IF($A80<>\"\", SUMPRODUCT(--($C$7:$C$107=$C80), --($D$7:$D$107=$D80), --($E$7:$E$107=$E80), --($F$7:$F$107=$F80), --($G$7:$G$107=$G80), --($H$7:$H$107=$H80), --($I$7:$I$107=$I80),  --($J$7:$J$107=$J80), --($K$7:$K$107=$K80), --($L$7:$L$107=$L80),--($M$7:$M$107=$M80), --('Seznam střelců'!$Q80 <'Seznam střelců'!$Q$7:$Q$107)),\"\")","v":""},{"$f":"IF($A80<>\"\",\n      IF(ISBLANK('Seznam střelců'!$P80),\n         SUM($C80:$N80),\n         $C80+SUMPRODUCT(--($C$7:$C$107=$C80), --('Seznam střelců'!$Q80 <'Seznam střelců'!$Q$7:$Q$107))\n      ),\n      \"\")","v":""},{"$f":"IF(A80<>\"\",COUNTIF($O$7:$O80,$O80)-1,\"\")","v":""},""]
[{"$f":"'Seznam střelců'!A81","v":""},{"$f":"IF('Seznam střelců'!C81<>\"\", 0, 'Seznam střelců'!R81)","v":""},"",{"$f":"IF($A81<>\"\", SUMPRODUCT(--($C$7:$C$107=$C81), --('Seznam střelců'!$O81 < 'Seznam střelců'!$O$7:$O$107)),\"\")","v":""},{"$f":"IF($A81<>\"\", SUMPRODUCT(--($C$7:$C$107=$C81), --($D$7:$D$107=$D81), --('Seznam střelců'!$N81 <'Seznam střelců'!$N$7:$N$107)),\"\")","v":""},{"$f":"IF($A81<>\"\", SUMPRODUCT(--($C$7:$C$107=$C81), --($D$7:$D$107=$D81), --($E$7:$E$107=$E81), --('Seznam střelců'!$M81 <'Seznam střelců'!$M$7:$M$107)),\"\")","v":""},{"$f":"IF($A81<>\"\", SUMPRODUCT(--($C$7:$C$107=$C81), --($D$7:$D$107=$D81), --($E$7:$E$107=$E81), --($F$7:$F$107=$F81), --('Seznam střelců'!$L81 <'Seznam střelců'!$L$7:$L$107)),\"\")","v":""},{"$f":"IF($A81<>\"\", SUMPRODUCT(--($C$7:$C$107=$C81), --($D$7:$D$107=$D81), --($E$7:$E$107=$E81), --($F$7:$F$107=$F81), --($G$7:$G$107=$G81), --('Seznam střelců'!$K81 <'Seznam střelců'!$K$7:$K$107)),\"\")","v":""},{"$f":"IF($A81<>\"\", SUMPRODUCT(--($C$7:$C$107=$C81), --($D$7:$D$107=$D81), --($E$7:$E$107=$E81), --($F$7:$F$107=$F81), --($G$7:$G$107=$G81), --($H$7:$H$107=$H81), --('Seznam střelců'!$J81 <'Seznam střelců'!$J$7:$J$107)),\"\")","v":""},{"$f":"IF($A81<>\"\", SUMPRODUCT(--($C$7:$C$107=$C81), --($D$7:$D$107=$D81), --($E$7:$E$107=$E81), --($F$7:$F$107=$F81), --($G$7:$G$107=$G81), --($H$7:$H$107=$H81), --($I$7:$I$107=$I81), --('Seznam střelců'!$I81 <'Seznam střelců'!$I$7:$I$107)),\"\")","v":""},{"$f":"IF($A81<>\"\", SUMPRODUCT(--($C$7:$C$107=$C81), --($D$7:$D$107=$D81), --($E$7:$E$107=$E81), --($F$7:$F$107=$F81), --($G$7:$G$107=$G81), --($H$7:$H$107=$H81), --($I$7:$I$107=$I81), --($J$7:$J$107=$J81), --('Seznam střelců'!$H81 <'Seznam střelců'!$H$7:$H$107)),\"\")","v":""},{"$f":"IF($A81<>\"\", SUMPRODUCT(--($C$7:$C$107=$C81), --($D$7:$D$107=$D81), --($E$7:$E$107=$E81), --($F$7:$F$107=$F81), --($G$7:$G$107=$G81), --($H$7:$H$107=$H81), --($I$7:$I$107=$I81), --($J$7:$J$107=$J81), --($K$7:$K$107=$K81), --('Seznam střelců'!$G81 <'Seznam střelců'!$G$7:$G$107)),\"\")","v":""},{"$f":"IF($A81<>\"\", SUMPRODUCT(--($C$7:$C$107=$C81), --($D$7:$D$107=$D81), --($E$7:$E$107=$E81), --($F$7:$F$107=$F81), --($G$7:$G$107=$G81), --($H$7:$H$107=$H81), --($I$7:$I$107=$I81), --($J$7:$J$107=$J81), --($K$7:$K$107=$K81), --($L$7:$L$107=$L81), --('Seznam střelců'!$F81 <'Seznam střelců'!$F$7:$F$107)),\"\")","v":""},{"$f":"IF($A81<>\"\", SUMPRODUCT(--($C$7:$C$107=$C81), --($D$7:$D$107=$D81), --($E$7:$E$107=$E81), --($F$7:$F$107=$F81), --($G$7:$G$107=$G81), --($H$7:$H$107=$H81), --($I$7:$I$107=$I81),  --($J$7:$J$107=$J81), --($K$7:$K$107=$K81), --($L$7:$L$107=$L81),--($M$7:$M$107=$M81), --('Seznam střelců'!$Q81 <'Seznam střelců'!$Q$7:$Q$107)),\"\")","v":""},{"$f":"IF($A81<>\"\",\n      IF(ISBLANK('Seznam střelců'!$P81),\n         SUM($C81:$N81),\n         $C81+SUMPRODUCT(--($C$7:$C$107=$C81), --('Seznam střelců'!$Q81 <'Seznam střelců'!$Q$7:$Q$107))\n      ),\n      \"\")","v":""},{"$f":"IF(A81<>\"\",COUNTIF($O$7:$O81,$O81)-1,\"\")","v":""},""]
[{"$f":"'Seznam střelců'!A82","v":""},{"$f":"IF('Seznam střelců'!C82<>\"\", 0, 'Seznam střelců'!R82)","v":""},"",{"$f":"IF($A82<>\"\", SUMPRODUCT(--($C$7:$C$107=$C82), --('Seznam střelců'!$O82 < 'Seznam střelců'!$O$7:$O$107)),\"\")","v":""},{"$f":"IF($A82<>\"\", SUMPRODUCT(--($C$7:$C$107=$C82), --($D$7:$D$107=$D82), --('Seznam střelců'!$N82 <'Seznam střelců'!$N$7:$N$107)),\"\")","v":""},{"$f":"IF($A82<>\"\", SUMPRODUCT(--($C$7:$C$107=$C82), --($D$7:$D$107=$D82), --($E$7:$E$107=$E82), --('Seznam střelců'!$M82 <'Seznam střelců'!$M$7:$M$107)),\"\")","v":""},{"$f":"IF($A82<>\"\", SUMPRODUCT(--($C$7:$C$107=$C82), --($D$7:$D$107=$D82), --($E$7:$E$107=$E82), --($F$7:$F$107=$F82), --('Seznam střelců'!$L82 <'Seznam střelců'!$L$7:$L$107)),\"\")","v":""},{"$f":"IF($A82<>\"\", SUMPRODUCT(--($C$7:$C$107=$C82), --($D$7:$D$107=$D82), --($E$7:$E$107=$E82), --($F$7:$F$107=$F82), --($G$7:$G$107=$G82), --('Seznam střelců'!$K82 <'Seznam střelců'!$K$7:$K$107)),\"\")","v":""},{"$f":"IF($A82<>\"\", SUMPRODUCT(--($C$7:$C$107=$C82), --($D$7:$D$107=$D82), --($E$7:$E$107=$E82), --($F$7:$F$107=$F82), --($G$7:$G$107=$G82), --($H$7:$H$107=$H82), --('Seznam střelců'!$J82 <'Seznam střelců'!$J$7:$J$107)),\"\")","v":""},{"$f":"IF($A82<>\"\", SUMPRODUCT(--($C$7:$C$107=$C82), --($D$7:$D$107=$D82), --($E$7:$E$107=$E82), --($F$7:$F$107=$F82), --($G$7:$G$107=$G82), --($H$7:$H$107=$H82), --($I$7:$I$107=$I82), --('Seznam střelců'!$I82 <'Seznam střelců'!$I$7:$I$107)),\"\")","v":""},{"$f":"IF($A82<>\"\", SUMPRODUCT(--($C$7:$C$107=$C82), --($D$7:$D$107=$D82), --($E$7:$E$107=$E82), --($F$7:$F$107=$F82), --($G$7:$G$107=$G82), --($H$7:$H$107=$H82), --($I$7:$I$107=$I82), --($J$7:$J$107=$J82), --('Seznam střelců'!$H82 <'Seznam střelců'!$H$7:$H$107)),\"\")","v":""},{"$f":"IF($A82<>\"\", SUMPRODUCT(--($C$7:$C$107=$C82), --($D$7:$D$107=$D82), --($E$7:$E$107=$E82), --($F$7:$F$107=$F82), --($G$7:$G$107=$G82), --($H$7:$H$107=$H82), --($I$7:$I$107=$I82), --($J$7:$J$107=$J82), --($K$7:$K$107=$K82), --('Seznam střelců'!$G82 <'Seznam střelců'!$G$7:$G$107)),\"\")","v":""},{"$f":"IF($A82<>\"\", SUMPRODUCT(--($C$7:$C$107=$C82), --($D$7:$D$107=$D82), --($E$7:$E$107=$E82), --($F$7:$F$107=$F82), --($G$7:$G$107=$G82), --($H$7:$H$107=$H82), --($I$7:$I$107=$I82), --($J$7:$J$107=$J82), --($K$7:$K$107=$K82), --($L$7:$L$107=$L82), --('Seznam střelců'!$F82 <'Seznam střelců'!$F$7:$F$107)),\"\")","v":""},{"$f":"IF($A82<>\"\", SUMPRODUCT(--($C$7:$C$107=$C82), --($D$7:$D$107=$D82), --($E$7:$E$107=$E82), --($F$7:$F$107=$F82), --($G$7:$G$107=$G82), --($H$7:$H$107=$H82), --($I$7:$I$107=$I82),  --($J$7:$J$107=$J82), --($K$7:$K$107=$K82), --($L$7:$L$107=$L82),--($M$7:$M$107=$M82), --('Seznam střelců'!$Q82 <'Seznam střelců'!$Q$7:$Q$107)),\"\")","v":""},{"$f":"IF($A82<>\"\",\n      IF(ISBLANK('Seznam střelců'!$P82),\n         SUM($C82:$N82),\n         $C82+SUMPRODUCT(--($C$7:$C$107=$C82), --('Seznam střelců'!$Q82 <'Seznam střelců'!$Q$7:$Q$107))\n      ),\n      \"\")","v":""},{"$f":"IF(A82<>\"\",COUNTIF($O$7:$O82,$O82)-1,\"\")","v":""},""]
[{"$f":"'Seznam střelců'!A83","v":""},{"$f":"IF('Seznam střelců'!C83<>\"\", 0, 'Seznam střelců'!R83)","v":""},"",{"$f":"IF($A83<>\"\", SUMPRODUCT(--($C$7:$C$107=$C83), --('Seznam střelců'!$O83 < 'Seznam střelců'!$O$7:$O$107)),\"\")","v":""},{"$f":"IF($A83<>\"\", SUMPRODUCT(--($C$7:$C$107=$C83), --($D$7:$D$107=$D83), --('Seznam střelců'!$N83 <'Seznam střelců'!$N$7:$N$107)),\"\")","v":""},{"$f":"IF($A83<>\"\", SUMPRODUCT(--($C$7:$C$107=$C83), --($D$7:$D$107=$D83), --($E$7:$E$107=$E83), --('Seznam střelců'!$M83 <'Seznam střelců'!$M$7:$M$107)),\"\")","v":""},{"$f":"IF($A83<>\"\", SUMPRODUCT(--($C$7:$C$107=$C83), --($D$7:$D$107=$D83), --($E$7:$E$107=$E83), --($F$7:$F$107=$F83), --('Seznam střelců'!$L83 <'Seznam střelců'!$L$7:$L$107)),\"\")","v":""},{"$f":"IF($A83<>\"\", SUMPRODUCT(--($C$7:$C$107=$C83), --($D$7:$D$107=$D83), --($E$7:$E$107=$E83), --($F$7:$F$107=$F83), --($G$7:$G$107=$G83), --('Seznam střelců'!$K83 <'Seznam střelců'!$K$7:$K$107)),\"\")","v":""},{"$f":"IF($A83<>\"\", SUMPRODUCT(--($C$7:$C$107=$C83), --($D$7:$D$107=$D83), --($E$7:$E$107=$E83), --($F$7:$F$107=$F83), --($G$7:$G$107=$G83), --($H$7:$H$107=$H83), --('Seznam střelců'!$J83 <'Seznam střelců'!$J$7:$J$107)),\"\")","v":""},{"$f":"IF($A83<>\"\", SUMPRODUCT(--($C$7:$C$107=$C83), --($D$7:$D$107=$D83), --($E$7:$E$107=$E83), --($F$7:$F$107=$F83), --($G$7:$G$107=$G83), --($H$7:$H$107=$H83), --($I$7:$I$107=$I83), --('Seznam střelců'!$I83 <'Seznam střelců'!$I$7:$I$107)),\"\")","v":""},{"$f":"IF($A83<>\"\", SUMPRODUCT(--($C$7:$C$107=$C83), --($D$7:$D$107=$D83), --($E$7:$E$107=$E83), --($F$7:$F$107=$F83), --($G$7:$G$107=$G83), --($H$7:$H$107=$H83), --($I$7:$I$107=$I83), --($J$7:$J$107=$J83), --('Seznam střelců'!$H83 <'Seznam střelců'!$H$7:$H$107)),\"\")","v":""},{"$f":"IF($A83<>\"\", SUMPRODUCT(--($C$7:$C$107=$C83), --($D$7:$D$107=$D83), --($E$7:$E$107=$E83), --($F$7:$F$107=$F83), --($G$7:$G$107=$G83), --($H$7:$H$107=$H83), --($I$7:$I$107=$I83), --($J$7:$J$107=$J83), --($K$7:$K$107=$K83), --('Seznam střelců'!$G83 <'Seznam střelců'!$G$7:$G$107)),\"\")","v":""},{"$f":"IF($A83<>\"\", SUMPRODUCT(--($C$7:$C$107=$C83), --($D$7:$D$107=$D83), --($E$7:$E$107=$E83), --($F$7:$F$107=$F83), --($G$7:$G$107=$G83), --($H$7:$H$107=$H83), --($I$7:$I$107=$I83), --($J$7:$J$107=$J83), --($K$7:$K$107=$K83), --($L$7:$L$107=$L83), --('Seznam střelců'!$F83 <'Seznam střelců'!$F$7:$F$107)),\"\")","v":""},{"$f":"IF($A83<>\"\", SUMPRODUCT(--($C$7:$C$107=$C83), --($D$7:$D$107=$D83), --($E$7:$E$107=$E83), --($F$7:$F$107=$F83), --($G$7:$G$107=$G83), --($H$7:$H$107=$H83), --($I$7:$I$107=$I83),  --($J$7:$J$107=$J83), --($K$7:$K$107=$K83), --($L$7:$L$107=$L83),--($M$7:$M$107=$M83), --('Seznam střelců'!$Q83 <'Seznam střelců'!$Q$7:$Q$107)),\"\")","v":""},{"$f":"IF($A83<>\"\",\n      IF(ISBLANK('Seznam střelců'!$P83),\n         SUM($C83:$N83),\n         $C83+SUMPRODUCT(--($C$7:$C$107=$C83), --('Seznam střelců'!$Q83 <'Seznam střelců'!$Q$7:$Q$107))\n      ),\n      \"\")","v":""},{"$f":"IF(A83<>\"\",COUNTIF($O$7:$O83,$O83)-1,\"\")","v":""},""]
[{"$f":"'Seznam střelců'!A84","v":""},{"$f":"IF('Seznam střelců'!C84<>\"\", 0, 'Seznam střelců'!R84)","v":""},"",{"$f":"IF($A84<>\"\", SUMPRODUCT(--($C$7:$C$107=$C84), --('Seznam střelců'!$O84 < 'Seznam střelců'!$O$7:$O$107)),\"\")","v":""},{"$f":"IF($A84<>\"\", SUMPRODUCT(--($C$7:$C$107=$C84), --($D$7:$D$107=$D84), --('Seznam střelců'!$N84 <'Seznam střelců'!$N$7:$N$107)),\"\")","v":""},{"$f":"IF($A84<>\"\", SUMPRODUCT(--($C$7:$C$107=$C84), --($D$7:$D$107=$D84), --($E$7:$E$107=$E84), --('Seznam střelců'!$M84 <'Seznam střelců'!$M$7:$M$107)),\"\")","v":""},{"$f":"IF($A84<>\"\", SUMPRODUCT(--($C$7:$C$107=$C84), --($D$7:$D$107=$D84), --($E$7:$E$107=$E84), --($F$7:$F$107=$F84), --('Seznam střelců'!$L84 <'Seznam střelců'!$L$7:$L$107)),\"\")","v":""},{"$f":"IF($A84<>\"\", SUMPRODUCT(--($C$7:$C$107=$C84), --($D$7:$D$107=$D84), --($E$7:$E$107=$E84), --($F$7:$F$107=$F84), --($G$7:$G$107=$G84), --('Seznam střelců'!$K84 <'Seznam střelců'!$K$7:$K$107)),\"\")","v":""},{"$f":"IF($A84<>\"\", SUMPRODUCT(--($C$7:$C$107=$C84), --($D$7:$D$107=$D84), --($E$7:$E$107=$E84), --($F$7:$F$107=$F84), --($G$7:$G$107=$G84), --($H$7:$H$107=$H84), --('Seznam střelců'!$J84 <'Seznam střelců'!$J$7:$J$107)),\"\")","v":""},{"$f":"IF($A84<>\"\", SUMPRODUCT(--($C$7:$C$107=$C84), --($D$7:$D$107=$D84), --($E$7:$E$107=$E84), --($F$7:$F$107=$F84), --($G$7:$G$107=$G84), --($H$7:$H$107=$H84), --($I$7:$I$107=$I84), --('Seznam střelců'!$I84 <'Seznam střelců'!$I$7:$I$107)),\"\")","v":""},{"$f":"IF($A84<>\"\", SUMPRODUCT(--($C$7:$C$107=$C84), --($D$7:$D$107=$D84), --($E$7:$E$107=$E84), --($F$7:$F$107=$F84), --($G$7:$G$107=$G84), --($H$7:$H$107=$H84), --($I$7:$I$107=$I84), --($J$7:$J$107=$J84), --('Seznam střelců'!$H84 <'Seznam střelců'!$H$7:$H$107)),\"\")","v":""},{"$f":"IF($A84<>\"\", SUMPRODUCT(--($C$7:$C$107=$C84), --($D$7:$D$107=$D84), --($E$7:$E$107=$E84), --($F$7:$F$107=$F84), --($G$7:$G$107=$G84), --($H$7:$H$107=$H84), --($I$7:$I$107=$I84), --($J$7:$J$107=$J84), --($K$7:$K$107=$K84), --('Seznam střelců'!$G84 <'Seznam střelců'!$G$7:$G$107)),\"\")","v":""},{"$f":"IF($A84<>\"\", SUMPRODUCT(--($C$7:$C$107=$C84), --($D$7:$D$107=$D84), --($E$7:$E$107=$E84), --($F$7:$F$107=$F84), --($G$7:$G$107=$G84), --($H$7:$H$107=$H84), --($I$7:$I$107=$I84), --($J$7:$J$107=$J84), --($K$7:$K$107=$K84), --($L$7:$L$107=$L84), --('Seznam střelců'!$F84 <'Seznam střelců'!$F$7:$F$107)),\"\")","v":""},{"$f":"IF($A84<>\"\", SUMPRODUCT(--($C$7:$C$107=$C84), --($D$7:$D$107=$D84), --($E$7:$E$107=$E84), --($F$7:$F$107=$F84), --($G$7:$G$107=$G84), --($H$7:$H$107=$H84), --($I$7:$I$107=$I84),  --($J$7:$J$107=$J84), --($K$7:$K$107=$K84), --($L$7:$L$107=$L84),--($M$7:$M$107=$M84), --('Seznam střelců'!$Q84 <'Seznam střelců'!$Q$7:$Q$107)),\"\")","v":""},{"$f":"IF($A84<>\"\",\n      IF(ISBLANK('Seznam střelců'!$P84),\n         SUM($C84:$N84),\n         $C84+SUMPRODUCT(--($C$7:$C$107=$C84), --('Seznam střelců'!$Q84 <'Seznam střelců'!$Q$7:$Q$107))\n      ),\n      \"\")","v":""},{"$f":"IF(A84<>\"\",COUNTIF($O$7:$O84,$O84)-1,\"\")","v":""},""]
[{"$f":"'Seznam střelců'!A85","v":""},{"$f":"IF('Seznam střelců'!C85<>\"\", 0, 'Seznam střelců'!R85)","v":""},"",{"$f":"IF($A85<>\"\", SUMPRODUCT(--($C$7:$C$107=$C85), --('Seznam střelců'!$O85 < 'Seznam střelců'!$O$7:$O$107)),\"\")","v":""},{"$f":"IF($A85<>\"\", SUMPRODUCT(--($C$7:$C$107=$C85), --($D$7:$D$107=$D85), --('Seznam střelců'!$N85 <'Seznam střelců'!$N$7:$N$107)),\"\")","v":""},{"$f":"IF($A85<>\"\", SUMPRODUCT(--($C$7:$C$107=$C85), --($D$7:$D$107=$D85), --($E$7:$E$107=$E85), --('Seznam střelců'!$M85 <'Seznam střelců'!$M$7:$M$107)),\"\")","v":""},{"$f":"IF($A85<>\"\", SUMPRODUCT(--($C$7:$C$107=$C85), --($D$7:$D$107=$D85), --($E$7:$E$107=$E85), --($F$7:$F$107=$F85), --('Seznam střelců'!$L85 <'Seznam střelců'!$L$7:$L$107)),\"\")","v":""},{"$f":"IF($A85<>\"\", SUMPRODUCT(--($C$7:$C$107=$C85), --($D$7:$D$107=$D85), --($E$7:$E$107=$E85), --($F$7:$F$107=$F85), --($G$7:$G$107=$G85), --('Seznam střelců'!$K85 <'Seznam střelců'!$K$7:$K$107)),\"\")","v":""},{"$f":"IF($A85<>\"\", SUMPRODUCT(--($C$7:$C$107=$C85), --($D$7:$D$107=$D85), --($E$7:$E$107=$E85), --($F$7:$F$107=$F85), --($G$7:$G$107=$G85), --($H$7:$H$107=$H85), --('Seznam střelců'!$J85 <'Seznam střelců'!$J$7:$J$107)),\"\")","v":""},{"$f":"IF($A85<>\"\", SUMPRODUCT(--($C$7:$C$107=$C85), --($D$7:$D$107=$D85), --($E$7:$E$107=$E85), --($F$7:$F$107=$F85), --($G$7:$G$107=$G85), --($H$7:$H$107=$H85), --($I$7:$I$107=$I85), --('Seznam střelců'!$I85 <'Seznam střelců'!$I$7:$I$107)),\"\")","v":""},{"$f":"IF($A85<>\"\", SUMPRODUCT(--($C$7:$C$107=$C85), --($D$7:$D$107=$D85), --($E$7:$E$107=$E85), --($F$7:$F$107=$F85), --($G$7:$G$107=$G85), --($H$7:$H$107=$H85), --($I$7:$I$107=$I85), --($J$7:$J$107=$J85), --('Seznam střelců'!$H85 <'Seznam střelců'!$H$7:$H$107)),\"\")","v":""},{"$f":"IF($A85<>\"\", SUMPRODUCT(--($C$7:$C$107=$C85), --($D$7:$D$107=$D85), --($E$7:$E$107=$E85), --($F$7:$F$107=$F85), --($G$7:$G$107=$G85), --($H$7:$H$107=$H85), --($I$7:$I$107=$I85), --($J$7:$J$107=$J85), --($K$7:$K$107=$K85), --('Seznam střelců'!$G85 <'Seznam střelců'!$G$7:$G$107)),\"\")","v":""},{"$f":"IF($A85<>\"\", SUMPRODUCT(--($C$7:$C$107=$C85), --($D$7:$D$107=$D85), --($E$7:$E$107=$E85), --($F$7:$F$107=$F85), --($G$7:$G$107=$G85), --($H$7:$H$107=$H85), --($I$7:$I$107=$I85), --($J$7:$J$107=$J85), --($K$7:$K$107=$K85), --($L$7:$L$107=$L85), --('Seznam střelců'!$F85 <'Seznam střelců'!$F$7:$F$107)),\"\")","v":""},{"$f":"IF($A85<>\"\", SUMPRODUCT(--($C$7:$C$107=$C85), --($D$7:$D$107=$D85), --($E$7:$E$107=$E85), --($F$7:$F$107=$F85), --($G$7:$G$107=$G85), --($H$7:$H$107=$H85), --($I$7:$I$107=$I85),  --($J$7:$J$107=$J85), --($K$7:$K$107=$K85), --($L$7:$L$107=$L85),--($M$7:$M$107=$M85), --('Seznam střelců'!$Q85 <'Seznam střelců'!$Q$7:$Q$107)),\"\")","v":""},{"$f":"IF($A85<>\"\",\n      IF(ISBLANK('Seznam střelců'!$P85),\n         SUM($C85:$N85),\n         $C85+SUMPRODUCT(--($C$7:$C$107=$C85), --('Seznam střelců'!$Q85 <'Seznam střelců'!$Q$7:$Q$107))\n      ),\n      \"\")","v":""},{"$f":"IF(A85<>\"\",COUNTIF($O$7:$O85,$O85)-1,\"\")","v":""},""]
[{"$f":"'Seznam střelců'!A86","v":""},{"$f":"IF('Seznam střelců'!C86<>\"\", 0, 'Seznam střelců'!R86)","v":""},"",{"$f":"IF($A86<>\"\", SUMPRODUCT(--($C$7:$C$107=$C86), --('Seznam střelců'!$O86 < 'Seznam střelců'!$O$7:$O$107)),\"\")","v":""},{"$f":"IF($A86<>\"\", SUMPRODUCT(--($C$7:$C$107=$C86), --($D$7:$D$107=$D86), --('Seznam střelců'!$N86 <'Seznam střelců'!$N$7:$N$107)),\"\")","v":""},{"$f":"IF($A86<>\"\", SUMPRODUCT(--($C$7:$C$107=$C86), --($D$7:$D$107=$D86), --($E$7:$E$107=$E86), --('Seznam střelců'!$M86 <'Seznam střelců'!$M$7:$M$107)),\"\")","v":""},{"$f":"IF($A86<>\"\", SUMPRODUCT(--($C$7:$C$107=$C86), --($D$7:$D$107=$D86), --($E$7:$E$107=$E86), --($F$7:$F$107=$F86), --('Seznam střelců'!$L86 <'Seznam střelců'!$L$7:$L$107)),\"\")","v":""},{"$f":"IF($A86<>\"\", SUMPRODUCT(--($C$7:$C$107=$C86), --($D$7:$D$107=$D86), --($E$7:$E$107=$E86), --($F$7:$F$107=$F86), --($G$7:$G$107=$G86), --('Seznam střelců'!$K86 <'Seznam střelců'!$K$7:$K$107)),\"\")","v":""},{"$f":"IF($A86<>\"\", SUMPRODUCT(--($C$7:$C$107=$C86), --($D$7:$D$107=$D86), --($E$7:$E$107=$E86), --($F$7:$F$107=$F86), --($G$7:$G$107=$G86), --($H$7:$H$107=$H86), --('Seznam střelců'!$J86 <'Seznam střelců'!$J$7:$J$107)),\"\")","v":""},{"$f":"IF($A86<>\"\", SUMPRODUCT(--($C$7:$C$107=$C86), --($D$7:$D$107=$D86), --($E$7:$E$107=$E86), --($F$7:$F$107=$F86), --($G$7:$G$107=$G86), --($H$7:$H$107=$H86), --($I$7:$I$107=$I86), --('Seznam střelců'!$I86 <'Seznam střelců'!$I$7:$I$107)),\"\")","v":""},{"$f":"IF($A86<>\"\", SUMPRODUCT(--($C$7:$C$107=$C86), --($D$7:$D$107=$D86), --($E$7:$E$107=$E86), --($F$7:$F$107=$F86), --($G$7:$G$107=$G86), --($H$7:$H$107=$H86), --($I$7:$I$107=$I86), --($J$7:$J$107=$J86), --('Seznam střelců'!$H86 <'Seznam střelců'!$H$7:$H$107)),\"\")","v":""},{"$f":"IF($A86<>\"\", SUMPRODUCT(--($C$7:$C$107=$C86), --($D$7:$D$107=$D86), --($E$7:$E$107=$E86), --($F$7:$F$107=$F86), --($G$7:$G$107=$G86), --($H$7:$H$107=$H86), --($I$7:$I$107=$I86), --($J$7:$J$107=$J86), --($K$7:$K$107=$K86), --('Seznam střelců'!$G86 <'Seznam střelců'!$G$7:$G$107)),\"\")","v":""},{"$f":"IF($A86<>\"\", SUMPRODUCT(--($C$7:$C$107=$C86), --($D$7:$D$107=$D86), --($E$7:$E$107=$E86), --($F$7:$F$107=$F86), --($G$7:$G$107=$G86), --($H$7:$H$107=$H86), --($I$7:$I$107=$I86), --($J$7:$J$107=$J86), --($K$7:$K$107=$K86), --($L$7:$L$107=$L86), --('Seznam střelců'!$F86 <'Seznam střelců'!$F$7:$F$107)),\"\")","v":""},{"$f":"IF($A86<>\"\", SUMPRODUCT(--($C$7:$C$107=$C86), --($D$7:$D$107=$D86), --($E$7:$E$107=$E86), --($F$7:$F$107=$F86), --($G$7:$G$107=$G86), --($H$7:$H$107=$H86), --($I$7:$I$107=$I86),  --($J$7:$J$107=$J86), --($K$7:$K$107=$K86), --($L$7:$L$107=$L86),--($M$7:$M$107=$M86), --('Seznam střelců'!$Q86 <'Seznam střelců'!$Q$7:$Q$107)),\"\")","v":""},{"$f":"IF($A86<>\"\",\n      IF(ISBLANK('Seznam střelců'!$P86),\n         SUM($C86:$N86),\n         $C86+SUMPRODUCT(--($C$7:$C$107=$C86), --('Seznam střelců'!$Q86 <'Seznam střelců'!$Q$7:$Q$107))\n      ),\n      \"\")","v":""},{"$f":"IF(A86<>\"\",COUNTIF($O$7:$O86,$O86)-1,\"\")","v":""},""]
[{"$f":"'Seznam střelců'!A87","v":""},{"$f":"IF('Seznam střelců'!C87<>\"\", 0, 'Seznam střelců'!R87)","v":""},"",{"$f":"IF($A87<>\"\", SUMPRODUCT(--($C$7:$C$107=$C87), --('Seznam střelců'!$O87 < 'Seznam střelců'!$O$7:$O$107)),\"\")","v":""},{"$f":"IF($A87<>\"\", SUMPRODUCT(--($C$7:$C$107=$C87), --($D$7:$D$107=$D87), --('Seznam střelců'!$N87 <'Seznam střelců'!$N$7:$N$107)),\"\")","v":""},{"$f":"IF($A87<>\"\", SUMPRODUCT(--($C$7:$C$107=$C87), --($D$7:$D$107=$D87), --($E$7:$E$107=$E87), --('Seznam střelců'!$M87 <'Seznam střelců'!$M$7:$M$107)),\"\")","v":""},{"$f":"IF($A87<>\"\", SUMPRODUCT(--($C$7:$C$107=$C87), --($D$7:$D$107=$D87), --($E$7:$E$107=$E87), --($F$7:$F$107=$F87), --('Seznam střelců'!$L87 <'Seznam střelců'!$L$7:$L$107)),\"\")","v":""},{"$f":"IF($A87<>\"\", SUMPRODUCT(--($C$7:$C$107=$C87), --($D$7:$D$107=$D87), --($E$7:$E$107=$E87), --($F$7:$F$107=$F87), --($G$7:$G$107=$G87), --('Seznam střelců'!$K87 <'Seznam střelců'!$K$7:$K$107)),\"\")","v":""},{"$f":"IF($A87<>\"\", SUMPRODUCT(--($C$7:$C$107=$C87), --($D$7:$D$107=$D87), --($E$7:$E$107=$E87), --($F$7:$F$107=$F87), --($G$7:$G$107=$G87), --($H$7:$H$107=$H87), --('Seznam střelců'!$J87 <'Seznam střelců'!$J$7:$J$107)),\"\")","v":""},{"$f":"IF($A87<>\"\", SUMPRODUCT(--($C$7:$C$107=$C87), --($D$7:$D$107=$D87), --($E$7:$E$107=$E87), --($F$7:$F$107=$F87), --($G$7:$G$107=$G87), --($H$7:$H$107=$H87), --($I$7:$I$107=$I87), --('Seznam střelců'!$I87 <'Seznam střelců'!$I$7:$I$107)),\"\")","v":""},{"$f":"IF($A87<>\"\", SUMPRODUCT(--($C$7:$C$107=$C87), --($D$7:$D$107=$D87), --($E$7:$E$107=$E87), --($F$7:$F$107=$F87), --($G$7:$G$107=$G87), --($H$7:$H$107=$H87), --($I$7:$I$107=$I87), --($J$7:$J$107=$J87), --('Seznam střelců'!$H87 <'Seznam střelců'!$H$7:$H$107)),\"\")","v":""},{"$f":"IF($A87<>\"\", SUMPRODUCT(--($C$7:$C$107=$C87), --($D$7:$D$107=$D87), --($E$7:$E$107=$E87), --($F$7:$F$107=$F87), --($G$7:$G$107=$G87), --($H$7:$H$107=$H87), --($I$7:$I$107=$I87), --($J$7:$J$107=$J87), --($K$7:$K$107=$K87), --('Seznam střelců'!$G87 <'Seznam střelců'!$G$7:$G$107)),\"\")","v":""},{"$f":"IF($A87<>\"\", SUMPRODUCT(--($C$7:$C$107=$C87), --($D$7:$D$107=$D87), --($E$7:$E$107=$E87), --($F$7:$F$107=$F87), --($G$7:$G$107=$G87), --($H$7:$H$107=$H87), --($I$7:$I$107=$I87), --($J$7:$J$107=$J87), --($K$7:$K$107=$K87), --($L$7:$L$107=$L87), --('Seznam střelců'!$F87 <'Seznam střelců'!$F$7:$F$107)),\"\")","v":""},{"$f":"IF($A87<>\"\", SUMPRODUCT(--($C$7:$C$107=$C87), --($D$7:$D$107=$D87), --($E$7:$E$107=$E87), --($F$7:$F$107=$F87), --($G$7:$G$107=$G87), --($H$7:$H$107=$H87), --($I$7:$I$107=$I87),  --($J$7:$J$107=$J87), --($K$7:$K$107=$K87), --($L$7:$L$107=$L87),--($M$7:$M$107=$M87), --('Seznam střelců'!$Q87 <'Seznam střelců'!$Q$7:$Q$107)),\"\")","v":""},{"$f":"IF($A87<>\"\",\n      IF(ISBLANK('Seznam střelců'!$P87),\n         SUM($C87:$N87),\n         $C87+SUMPRODUCT(--($C$7:$C$107=$C87), --('Seznam střelců'!$Q87 <'Seznam střelců'!$Q$7:$Q$107))\n      ),\n      \"\")","v":""},{"$f":"IF(A87<>\"\",COUNTIF($O$7:$O87,$O87)-1,\"\")","v":""},""]
[{"$f":"'Seznam střelců'!A88","v":""},{"$f":"IF('Seznam střelců'!C88<>\"\", 0, 'Seznam střelců'!R88)","v":""},"",{"$f":"IF($A88<>\"\", SUMPRODUCT(--($C$7:$C$107=$C88), --('Seznam střelců'!$O88 < 'Seznam střelců'!$O$7:$O$107)),\"\")","v":""},{"$f":"IF($A88<>\"\", SUMPRODUCT(--($C$7:$C$107=$C88), --($D$7:$D$107=$D88), --('Seznam střelců'!$N88 <'Seznam střelců'!$N$7:$N$107)),\"\")","v":""},{"$f":"IF($A88<>\"\", SUMPRODUCT(--($C$7:$C$107=$C88), --($D$7:$D$107=$D88), --($E$7:$E$107=$E88), --('Seznam střelců'!$M88 <'Seznam střelců'!$M$7:$M$107)),\"\")","v":""},{"$f":"IF($A88<>\"\", SUMPRODUCT(--($C$7:$C$107=$C88), --($D$7:$D$107=$D88), --($E$7:$E$107=$E88), --($F$7:$F$107=$F88), --('Seznam střelců'!$L88 <'Seznam střelců'!$L$7:$L$107)),\"\")","v":""},{"$f":"IF($A88<>\"\", SUMPRODUCT(--($C$7:$C$107=$C88), --($D$7:$D$107=$D88), --($E$7:$E$107=$E88), --($F$7:$F$107=$F88), --($G$7:$G$107=$G88), --('Seznam střelců'!$K88 <'Seznam střelců'!$K$7:$K$107)),\"\")","v":""},{"$f":"IF($A88<>\"\", SUMPRODUCT(--($C$7:$C$107=$C88), --($D$7:$D$107=$D88), --($E$7:$E$107=$E88), --($F$7:$F$107=$F88), --($G$7:$G$107=$G88), --($H$7:$H$107=$H88), --('Seznam střelců'!$J88 <'Seznam střelců'!$J$7:$J$107)),\"\")","v":""},{"$f":"IF($A88<>\"\", SUMPRODUCT(--($C$7:$C$107=$C88), --($D$7:$D$107=$D88), --($E$7:$E$107=$E88), --($F$7:$F$107=$F88), --($G$7:$G$107=$G88), --($H$7:$H$107=$H88), --($I$7:$I$107=$I88), --('Seznam střelců'!$I88 <'Seznam střelců'!$I$7:$I$107)),\"\")","v":""},{"$f":"IF($A88<>\"\", SUMPRODUCT(--($C$7:$C$107=$C88), --($D$7:$D$107=$D88), --($E$7:$E$107=$E88), --($F$7:$F$107=$F88), --($G$7:$G$107=$G88), --($H$7:$H$107=$H88), --($I$7:$I$107=$I88), --($J$7:$J$107=$J88), --('Seznam střelců'!$H88 <'Seznam střelců'!$H$7:$H$107)),\"\")","v":""},{"$f":"IF($A88<>\"\", SUMPRODUCT(--($C$7:$C$107=$C88), --($D$7:$D$107=$D88), --($E$7:$E$107=$E88), --($F$7:$F$107=$F88), --($G$7:$G$107=$G88), --($H$7:$H$107=$H88), --($I$7:$I$107=$I88), --($J$7:$J$107=$J88), --($K$7:$K$107=$K88), --('Seznam střelců'!$G88 <'Seznam střelců'!$G$7:$G$107)),\"\")","v":""},{"$f":"IF($A88<>\"\", SUMPRODUCT(--($C$7:$C$107=$C88), --($D$7:$D$107=$D88), --($E$7:$E$107=$E88), --($F$7:$F$107=$F88), --($G$7:$G$107=$G88), --($H$7:$H$107=$H88), --($I$7:$I$107=$I88), --($J$7:$J$107=$J88), --($K$7:$K$107=$K88), --($L$7:$L$107=$L88), --('Seznam střelců'!$F88 <'Seznam střelců'!$F$7:$F$107)),\"\")","v":""},{"$f":"IF($A88<>\"\", SUMPRODUCT(--($C$7:$C$107=$C88), --($D$7:$D$107=$D88), --($E$7:$E$107=$E88), --($F$7:$F$107=$F88), --($G$7:$G$107=$G88), --($H$7:$H$107=$H88), --($I$7:$I$107=$I88),  --($J$7:$J$107=$J88), --($K$7:$K$107=$K88), --($L$7:$L$107=$L88),--($M$7:$M$107=$M88), --('Seznam střelců'!$Q88 <'Seznam střelců'!$Q$7:$Q$107)),\"\")","v":""},{"$f":"IF($A88<>\"\",\n      IF(ISBLANK('Seznam střelců'!$P88),\n         SUM($C88:$N88),\n         $C88+SUMPRODUCT(--($C$7:$C$107=$C88), --('Seznam střelců'!$Q88 <'Seznam střelců'!$Q$7:$Q$107))\n      ),\n      \"\")","v":""},{"$f":"IF(A88<>\"\",COUNTIF($O$7:$O88,$O88)-1,\"\")","v":""},""]
[{"$f":"'Seznam střelců'!A89","v":""},{"$f":"IF('Seznam střelců'!C89<>\"\", 0, 'Seznam střelců'!R89)","v":""},"",{"$f":"IF($A89<>\"\", SUMPRODUCT(--($C$7:$C$107=$C89), --('Seznam střelců'!$O89 < 'Seznam střelců'!$O$7:$O$107)),\"\")","v":""},{"$f":"IF($A89<>\"\", SUMPRODUCT(--($C$7:$C$107=$C89), --($D$7:$D$107=$D89), --('Seznam střelců'!$N89 <'Seznam střelců'!$N$7:$N$107)),\"\")","v":""},{"$f":"IF($A89<>\"\", SUMPRODUCT(--($C$7:$C$107=$C89), --($D$7:$D$107=$D89), --($E$7:$E$107=$E89), --('Seznam střelců'!$M89 <'Seznam střelců'!$M$7:$M$107)),\"\")","v":""},{"$f":"IF($A89<>\"\", SUMPRODUCT(--($C$7:$C$107=$C89), --($D$7:$D$107=$D89), --($E$7:$E$107=$E89), --($F$7:$F$107=$F89), --('Seznam střelců'!$L89 <'Seznam střelců'!$L$7:$L$107)),\"\")","v":""},{"$f":"IF($A89<>\"\", SUMPRODUCT(--($C$7:$C$107=$C89), --($D$7:$D$107=$D89), --($E$7:$E$107=$E89), --($F$7:$F$107=$F89), --($G$7:$G$107=$G89), --('Seznam střelců'!$K89 <'Seznam střelců'!$K$7:$K$107)),\"\")","v":""},{"$f":"IF($A89<>\"\", SUMPRODUCT(--($C$7:$C$107=$C89), --($D$7:$D$107=$D89), --($E$7:$E$107=$E89), --($F$7:$F$107=$F89), --($G$7:$G$107=$G89), --($H$7:$H$107=$H89), --('Seznam střelců'!$J89 <'Seznam střelců'!$J$7:$J$107)),\"\")","v":""},{"$f":"IF($A89<>\"\", SUMPRODUCT(--($C$7:$C$107=$C89), --($D$7:$D$107=$D89), --($E$7:$E$107=$E89), --($F$7:$F$107=$F89), --($G$7:$G$107=$G89), --($H$7:$H$107=$H89), --($I$7:$I$107=$I89), --('Seznam střelců'!$I89 <'Seznam střelců'!$I$7:$I$107)),\"\")","v":""},{"$f":"IF($A89<>\"\", SUMPRODUCT(--($C$7:$C$107=$C89), --($D$7:$D$107=$D89), --($E$7:$E$107=$E89), --($F$7:$F$107=$F89), --($G$7:$G$107=$G89), --($H$7:$H$107=$H89), --($I$7:$I$107=$I89), --($J$7:$J$107=$J89), --('Seznam střelců'!$H89 <'Seznam střelců'!$H$7:$H$107)),\"\")","v":""},{"$f":"IF($A89<>\"\", SUMPRODUCT(--($C$7:$C$107=$C89), --($D$7:$D$107=$D89), --($E$7:$E$107=$E89), --($F$7:$F$107=$F89), --($G$7:$G$107=$G89), --($H$7:$H$107=$H89), --($I$7:$I$107=$I89), --($J$7:$J$107=$J89), --($K$7:$K$107=$K89), --('Seznam střelců'!$G89 <'Seznam střelců'!$G$7:$G$107)),\"\")","v":""},{"$f":"IF($A89<>\"\", SUMPRODUCT(--($C$7:$C$107=$C89), --($D$7:$D$107=$D89), --($E$7:$E$107=$E89), --($F$7:$F$107=$F89), --($G$7:$G$107=$G89), --($H$7:$H$107=$H89), --($I$7:$I$107=$I89), --($J$7:$J$107=$J89), --($K$7:$K$107=$K89), --($L$7:$L$107=$L89), --('Seznam střelců'!$F89 <'Seznam střelců'!$F$7:$F$107)),\"\")","v":""},{"$f":"IF($A89<>\"\", SUMPRODUCT(--($C$7:$C$107=$C89), --($D$7:$D$107=$D89), --($E$7:$E$107=$E89), --($F$7:$F$107=$F89), --($G$7:$G$107=$G89), --($H$7:$H$107=$H89), --($I$7:$I$107=$I89),  --($J$7:$J$107=$J89), --($K$7:$K$107=$K89), --($L$7:$L$107=$L89),--($M$7:$M$107=$M89), --('Seznam střelců'!$Q89 <'Seznam střelců'!$Q$7:$Q$107)),\"\")","v":""},{"$f":"IF($A89<>\"\",\n      IF(ISBLANK('Seznam střelců'!$P89),\n         SUM($C89:$N89),\n         $C89+SUMPRODUCT(--($C$7:$C$107=$C89), --('Seznam střelců'!$Q89 <'Seznam střelců'!$Q$7:$Q$107))\n      ),\n      \"\")","v":""},{"$f":"IF(A89<>\"\",COUNTIF($O$7:$O89,$O89)-1,\"\")","v":""},""]
[{"$f":"'Seznam střelců'!A90","v":""},{"$f":"IF('Seznam střelců'!C90<>\"\", 0, 'Seznam střelců'!R90)","v":""},"",{"$f":"IF($A90<>\"\", SUMPRODUCT(--($C$7:$C$107=$C90), --('Seznam střelců'!$O90 < 'Seznam střelců'!$O$7:$O$107)),\"\")","v":""},{"$f":"IF($A90<>\"\", SUMPRODUCT(--($C$7:$C$107=$C90), --($D$7:$D$107=$D90), --('Seznam střelců'!$N90 <'Seznam střelců'!$N$7:$N$107)),\"\")","v":""},{"$f":"IF($A90<>\"\", SUMPRODUCT(--($C$7:$C$107=$C90), --($D$7:$D$107=$D90), --($E$7:$E$107=$E90), --('Seznam střelců'!$M90 <'Seznam střelců'!$M$7:$M$107)),\"\")","v":""},{"$f":"IF($A90<>\"\", SUMPRODUCT(--($C$7:$C$107=$C90), --($D$7:$D$107=$D90), --($E$7:$E$107=$E90), --($F$7:$F$107=$F90), --('Seznam střelců'!$L90 <'Seznam střelců'!$L$7:$L$107)),\"\")","v":""},{"$f":"IF($A90<>\"\", SUMPRODUCT(--($C$7:$C$107=$C90), --($D$7:$D$107=$D90), --($E$7:$E$107=$E90), --($F$7:$F$107=$F90), --($G$7:$G$107=$G90), --('Seznam střelců'!$K90 <'Seznam střelců'!$K$7:$K$107)),\"\")","v":""},{"$f":"IF($A90<>\"\", SUMPRODUCT(--($C$7:$C$107=$C90), --($D$7:$D$107=$D90), --($E$7:$E$107=$E90), --($F$7:$F$107=$F90), --($G$7:$G$107=$G90), --($H$7:$H$107=$H90), --('Seznam střelců'!$J90 <'Seznam střelců'!$J$7:$J$107)),\"\")","v":""},{"$f":"IF($A90<>\"\", SUMPRODUCT(--($C$7:$C$107=$C90), --($D$7:$D$107=$D90), --($E$7:$E$107=$E90), --($F$7:$F$107=$F90), --($G$7:$G$107=$G90), --($H$7:$H$107=$H90), --($I$7:$I$107=$I90), --('Seznam střelců'!$I90 <'Seznam střelců'!$I$7:$I$107)),\"\")","v":""},{"$f":"IF($A90<>\"\", SUMPRODUCT(--($C$7:$C$107=$C90), --($D$7:$D$107=$D90), --($E$7:$E$107=$E90), --($F$7:$F$107=$F90), --($G$7:$G$107=$G90), --($H$7:$H$107=$H90), --($I$7:$I$107=$I90), --($J$7:$J$107=$J90), --('Seznam střelců'!$H90 <'Seznam střelců'!$H$7:$H$107)),\"\")","v":""},{"$f":"IF($A90<>\"\", SUMPRODUCT(--($C$7:$C$107=$C90), --($D$7:$D$107=$D90), --($E$7:$E$107=$E90), --($F$7:$F$107=$F90), --($G$7:$G$107=$G90), --($H$7:$H$107=$H90), --($I$7:$I$107=$I90), --($J$7:$J$107=$J90), --($K$7:$K$107=$K90), --('Seznam střelců'!$G90 <'Seznam střelců'!$G$7:$G$107)),\"\")","v":""},{"$f":"IF($A90<>\"\", SUMPRODUCT(--($C$7:$C$107=$C90), --($D$7:$D$107=$D90), --($E$7:$E$107=$E90), --($F$7:$F$107=$F90), --($G$7:$G$107=$G90), --($H$7:$H$107=$H90), --($I$7:$I$107=$I90), --($J$7:$J$107=$J90), --($K$7:$K$107=$K90), --($L$7:$L$107=$L90), --('Seznam střelců'!$F90 <'Seznam střelců'!$F$7:$F$107)),\"\")","v":""},{"$f":"IF($A90<>\"\", SUMPRODUCT(--($C$7:$C$107=$C90), --($D$7:$D$107=$D90), --($E$7:$E$107=$E90), --($F$7:$F$107=$F90), --($G$7:$G$107=$G90), --($H$7:$H$107=$H90), --($I$7:$I$107=$I90),  --($J$7:$J$107=$J90), --($K$7:$K$107=$K90), --($L$7:$L$107=$L90),--($M$7:$M$107=$M90), --('Seznam střelců'!$Q90 <'Seznam střelců'!$Q$7:$Q$107)),\"\")","v":""},{"$f":"IF($A90<>\"\",\n      IF(ISBLANK('Seznam střelců'!$P90),\n         SUM($C90:$N90),\n         $C90+SUMPRODUCT(--($C$7:$C$107=$C90), --('Seznam střelců'!$Q90 <'Seznam střelců'!$Q$7:$Q$107))\n      ),\n      \"\")","v":""},{"$f":"IF(A90<>\"\",COUNTIF($O$7:$O90,$O90)-1,\"\")","v":""},""]
[{"$f":"'Seznam střelců'!A91","v":""},{"$f":"IF('Seznam střelců'!C91<>\"\", 0, 'Seznam střelců'!R91)","v":""},"",{"$f":"IF($A91<>\"\", SUMPRODUCT(--($C$7:$C$107=$C91), --('Seznam střelců'!$O91 < 'Seznam střelců'!$O$7:$O$107)),\"\")","v":""},{"$f":"IF($A91<>\"\", SUMPRODUCT(--($C$7:$C$107=$C91), --($D$7:$D$107=$D91), --('Seznam střelců'!$N91 <'Seznam střelců'!$N$7:$N$107)),\"\")","v":""},{"$f":"IF($A91<>\"\", SUMPRODUCT(--($C$7:$C$107=$C91), --($D$7:$D$107=$D91), --($E$7:$E$107=$E91), --('Seznam střelců'!$M91 <'Seznam střelců'!$M$7:$M$107)),\"\")","v":""},{"$f":"IF($A91<>\"\", SUMPRODUCT(--($C$7:$C$107=$C91), --($D$7:$D$107=$D91), --($E$7:$E$107=$E91), --($F$7:$F$107=$F91), --('Seznam střelců'!$L91 <'Seznam střelců'!$L$7:$L$107)),\"\")","v":""},{"$f":"IF($A91<>\"\", SUMPRODUCT(--($C$7:$C$107=$C91), --($D$7:$D$107=$D91), --($E$7:$E$107=$E91), --($F$7:$F$107=$F91), --($G$7:$G$107=$G91), --('Seznam střelců'!$K91 <'Seznam střelců'!$K$7:$K$107)),\"\")","v":""},{"$f":"IF($A91<>\"\", SUMPRODUCT(--($C$7:$C$107=$C91), --($D$7:$D$107=$D91), --($E$7:$E$107=$E91), --($F$7:$F$107=$F91), --($G$7:$G$107=$G91), --($H$7:$H$107=$H91), --('Seznam střelců'!$J91 <'Seznam střelců'!$J$7:$J$107)),\"\")","v":""},{"$f":"IF($A91<>\"\", SUMPRODUCT(--($C$7:$C$107=$C91), --($D$7:$D$107=$D91), --($E$7:$E$107=$E91), --($F$7:$F$107=$F91), --($G$7:$G$107=$G91), --($H$7:$H$107=$H91), --($I$7:$I$107=$I91), --('Seznam střelců'!$I91 <'Seznam střelců'!$I$7:$I$107)),\"\")","v":""},{"$f":"IF($A91<>\"\", SUMPRODUCT(--($C$7:$C$107=$C91), --($D$7:$D$107=$D91), --($E$7:$E$107=$E91), --($F$7:$F$107=$F91), --($G$7:$G$107=$G91), --($H$7:$H$107=$H91), --($I$7:$I$107=$I91), --($J$7:$J$107=$J91), --('Seznam střelců'!$H91 <'Seznam střelců'!$H$7:$H$107)),\"\")","v":""},{"$f":"IF($A91<>\"\", SUMPRODUCT(--($C$7:$C$107=$C91), --($D$7:$D$107=$D91), --($E$7:$E$107=$E91), --($F$7:$F$107=$F91), --($G$7:$G$107=$G91), --($H$7:$H$107=$H91), --($I$7:$I$107=$I91), --($J$7:$J$107=$J91), --($K$7:$K$107=$K91), --('Seznam střelců'!$G91 <'Seznam střelců'!$G$7:$G$107)),\"\")","v":""},{"$f":"IF($A91<>\"\", SUMPRODUCT(--($C$7:$C$107=$C91), --($D$7:$D$107=$D91), --($E$7:$E$107=$E91), --($F$7:$F$107=$F91), --($G$7:$G$107=$G91), --($H$7:$H$107=$H91), --($I$7:$I$107=$I91), --($J$7:$J$107=$J91), --($K$7:$K$107=$K91), --($L$7:$L$107=$L91), --('Seznam střelců'!$F91 <'Seznam střelců'!$F$7:$F$107)),\"\")","v":""},{"$f":"IF($A91<>\"\", SUMPRODUCT(--($C$7:$C$107=$C91), --($D$7:$D$107=$D91), --($E$7:$E$107=$E91), --($F$7:$F$107=$F91), --($G$7:$G$107=$G91), --($H$7:$H$107=$H91), --($I$7:$I$107=$I91),  --($J$7:$J$107=$J91), --($K$7:$K$107=$K91), --($L$7:$L$107=$L91),--($M$7:$M$107=$M91), --('Seznam střelců'!$Q91 <'Seznam střelců'!$Q$7:$Q$107)),\"\")","v":""},{"$f":"IF($A91<>\"\",\n      IF(ISBLANK('Seznam střelců'!$P91),\n         SUM($C91:$N91),\n         $C91+SUMPRODUCT(--($C$7:$C$107=$C91), --('Seznam střelců'!$Q91 <'Seznam střelců'!$Q$7:$Q$107))\n      ),\n      \"\")","v":""},{"$f":"IF(A91<>\"\",COUNTIF($O$7:$O91,$O91)-1,\"\")","v":""},""]
[{"$f":"'Seznam střelců'!A92","v":""},{"$f":"IF('Seznam střelců'!C92<>\"\", 0, 'Seznam střelců'!R92)","v":""},"",{"$f":"IF($A92<>\"\", SUMPRODUCT(--($C$7:$C$107=$C92), --('Seznam střelců'!$O92 < 'Seznam střelců'!$O$7:$O$107)),\"\")","v":""},{"$f":"IF($A92<>\"\", SUMPRODUCT(--($C$7:$C$107=$C92), --($D$7:$D$107=$D92), --('Seznam střelců'!$N92 <'Seznam střelců'!$N$7:$N$107)),\"\")","v":""},{"$f":"IF($A92<>\"\", SUMPRODUCT(--($C$7:$C$107=$C92), --($D$7:$D$107=$D92), --($E$7:$E$107=$E92), --('Seznam střelců'!$M92 <'Seznam střelců'!$M$7:$M$107)),\"\")","v":""},{"$f":"IF($A92<>\"\", SUMPRODUCT(--($C$7:$C$107=$C92), --($D$7:$D$107=$D92), --($E$7:$E$107=$E92), --($F$7:$F$107=$F92), --('Seznam střelců'!$L92 <'Seznam střelců'!$L$7:$L$107)),\"\")","v":""},{"$f":"IF($A92<>\"\", SUMPRODUCT(--($C$7:$C$107=$C92), --($D$7:$D$107=$D92), --($E$7:$E$107=$E92), --($F$7:$F$107=$F92), --($G$7:$G$107=$G92), --('Seznam střelců'!$K92 <'Seznam střelců'!$K$7:$K$107)),\"\")","v":""},{"$f":"IF($A92<>\"\", SUMPRODUCT(--($C$7:$C$107=$C92), --($D$7:$D$107=$D92), --($E$7:$E$107=$E92), --($F$7:$F$107=$F92), --($G$7:$G$107=$G92), --($H$7:$H$107=$H92), --('Seznam střelců'!$J92 <'Seznam střelců'!$J$7:$J$107)),\"\")","v":""},{"$f":"IF($A92<>\"\", SUMPRODUCT(--($C$7:$C$107=$C92), --($D$7:$D$107=$D92), --($E$7:$E$107=$E92), --($F$7:$F$107=$F92), --($G$7:$G$107=$G92), --($H$7:$H$107=$H92), --($I$7:$I$107=$I92), --('Seznam střelců'!$I92 <'Seznam střelců'!$I$7:$I$107)),\"\")","v":""},{"$f":"IF($A92<>\"\", SUMPRODUCT(--($C$7:$C$107=$C92), --($D$7:$D$107=$D92), --($E$7:$E$107=$E92), --($F$7:$F$107=$F92), --($G$7:$G$107=$G92), --($H$7:$H$107=$H92), --($I$7:$I$107=$I92), --($J$7:$J$107=$J92), --('Seznam střelců'!$H92 <'Seznam střelců'!$H$7:$H$107)),\"\")","v":""},{"$f":"IF($A92<>\"\", SUMPRODUCT(--($C$7:$C$107=$C92), --($D$7:$D$107=$D92), --($E$7:$E$107=$E92), --($F$7:$F$107=$F92), --($G$7:$G$107=$G92), --($H$7:$H$107=$H92), --($I$7:$I$107=$I92), --($J$7:$J$107=$J92), --($K$7:$K$107=$K92), --('Seznam střelců'!$G92 <'Seznam střelců'!$G$7:$G$107)),\"\")","v":""},{"$f":"IF($A92<>\"\", SUMPRODUCT(--($C$7:$C$107=$C92), --($D$7:$D$107=$D92), --($E$7:$E$107=$E92), --($F$7:$F$107=$F92), --($G$7:$G$107=$G92), --($H$7:$H$107=$H92), --($I$7:$I$107=$I92), --($J$7:$J$107=$J92), --($K$7:$K$107=$K92), --($L$7:$L$107=$L92), --('Seznam střelců'!$F92 <'Seznam střelců'!$F$7:$F$107)),\"\")","v":""},{"$f":"IF($A92<>\"\", SUMPRODUCT(--($C$7:$C$107=$C92), --($D$7:$D$107=$D92), --($E$7:$E$107=$E92), --($F$7:$F$107=$F92), --($G$7:$G$107=$G92), --($H$7:$H$107=$H92), --($I$7:$I$107=$I92),  --($J$7:$J$107=$J92), --($K$7:$K$107=$K92), --($L$7:$L$107=$L92),--($M$7:$M$107=$M92), --('Seznam střelců'!$Q92 <'Seznam střelců'!$Q$7:$Q$107)),\"\")","v":""},{"$f":"IF($A92<>\"\",\n      IF(ISBLANK('Seznam střelců'!$P92),\n         SUM($C92:$N92),\n         $C92+SUMPRODUCT(--($C$7:$C$107=$C92), --('Seznam střelců'!$Q92 <'Seznam střelců'!$Q$7:$Q$107))\n      ),\n      \"\")","v":""},{"$f":"IF(A92<>\"\",COUNTIF($O$7:$O92,$O92)-1,\"\")","v":""},""]
[{"$f":"'Seznam střelců'!A93","v":""},{"$f":"IF('Seznam střelců'!C93<>\"\", 0, 'Seznam střelců'!R93)","v":""},"",{"$f":"IF($A93<>\"\", SUMPRODUCT(--($C$7:$C$107=$C93), --('Seznam střelců'!$O93 < 'Seznam střelců'!$O$7:$O$107)),\"\")","v":""},{"$f":"IF($A93<>\"\", SUMPRODUCT(--($C$7:$C$107=$C93), --($D$7:$D$107=$D93), --('Seznam střelců'!$N93 <'Seznam střelců'!$N$7:$N$107)),\"\")","v":""},{"$f":"IF($A93<>\"\", SUMPRODUCT(--($C$7:$C$107=$C93), --($D$7:$D$107=$D93), --($E$7:$E$107=$E93), --('Seznam střelců'!$M93 <'Seznam střelců'!$M$7:$M$107)),\"\")","v":""},{"$f":"IF($A93<>\"\", SUMPRODUCT(--($C$7:$C$107=$C93), --($D$7:$D$107=$D93), --($E$7:$E$107=$E93), --($F$7:$F$107=$F93), --('Seznam střelců'!$L93 <'Seznam střelců'!$L$7:$L$107)),\"\")","v":""},{"$f":"IF($A93<>\"\", SUMPRODUCT(--($C$7:$C$107=$C93), --($D$7:$D$107=$D93), --($E$7:$E$107=$E93), --($F$7:$F$107=$F93), --($G$7:$G$107=$G93), --('Seznam střelců'!$K93 <'Seznam střelců'!$K$7:$K$107)),\"\")","v":""},{"$f":"IF($A93<>\"\", SUMPRODUCT(--($C$7:$C$107=$C93), --($D$7:$D$107=$D93), --($E$7:$E$107=$E93), --($F$7:$F$107=$F93), --($G$7:$G$107=$G93), --($H$7:$H$107=$H93), --('Seznam střelců'!$J93 <'Seznam střelců'!$J$7:$J$107)),\"\")","v":""},{"$f":"IF($A93<>\"\", SUMPRODUCT(--($C$7:$C$107=$C93), --($D$7:$D$107=$D93), --($E$7:$E$107=$E93), --($F$7:$F$107=$F93), --($G$7:$G$107=$G93), --($H$7:$H$107=$H93), --($I$7:$I$107=$I93), --('Seznam střelců'!$I93 <'Seznam střelců'!$I$7:$I$107)),\"\")","v":""},{"$f":"IF($A93<>\"\", SUMPRODUCT(--($C$7:$C$107=$C93), --($D$7:$D$107=$D93), --($E$7:$E$107=$E93), --($F$7:$F$107=$F93), --($G$7:$G$107=$G93), --($H$7:$H$107=$H93), --($I$7:$I$107=$I93), --($J$7:$J$107=$J93), --('Seznam střelců'!$H93 <'Seznam střelců'!$H$7:$H$107)),\"\")","v":""},{"$f":"IF($A93<>\"\", SUMPRODUCT(--($C$7:$C$107=$C93), --($D$7:$D$107=$D93), --($E$7:$E$107=$E93), --($F$7:$F$107=$F93), --($G$7:$G$107=$G93), --($H$7:$H$107=$H93), --($I$7:$I$107=$I93), --($J$7:$J$107=$J93), --($K$7:$K$107=$K93), --('Seznam střelců'!$G93 <'Seznam střelců'!$G$7:$G$107)),\"\")","v":""},{"$f":"IF($A93<>\"\", SUMPRODUCT(--($C$7:$C$107=$C93), --($D$7:$D$107=$D93), --($E$7:$E$107=$E93), --($F$7:$F$107=$F93), --($G$7:$G$107=$G93), --($H$7:$H$107=$H93), --($I$7:$I$107=$I93), --($J$7:$J$107=$J93), --($K$7:$K$107=$K93), --($L$7:$L$107=$L93), --('Seznam střelců'!$F93 <'Seznam střelců'!$F$7:$F$107)),\"\")","v":""},{"$f":"IF($A93<>\"\", SUMPRODUCT(--($C$7:$C$107=$C93), --($D$7:$D$107=$D93), --($E$7:$E$107=$E93), --($F$7:$F$107=$F93), --($G$7:$G$107=$G93), --($H$7:$H$107=$H93), --($I$7:$I$107=$I93),  --($J$7:$J$107=$J93), --($K$7:$K$107=$K93), --($L$7:$L$107=$L93),--($M$7:$M$107=$M93), --('Seznam střelců'!$Q93 <'Seznam střelců'!$Q$7:$Q$107)),\"\")","v":""},{"$f":"IF($A93<>\"\",\n      IF(ISBLANK('Seznam střelců'!$P93),\n         SUM($C93:$N93),\n         $C93+SUMPRODUCT(--($C$7:$C$107=$C93), --('Seznam střelců'!$Q93 <'Seznam střelců'!$Q$7:$Q$107))\n      ),\n      \"\")","v":""},{"$f":"IF(A93<>\"\",COUNTIF($O$7:$O93,$O93)-1,\"\")","v":""},""]
[{"$f":"'Seznam střelců'!A94","v":""},{"$f":"IF('Seznam střelců'!C94<>\"\", 0, 'Seznam střelců'!R94)","v":""},"",{"$f":"IF($A94<>\"\", SUMPRODUCT(--($C$7:$C$107=$C94), --('Seznam střelců'!$O94 < 'Seznam střelců'!$O$7:$O$107)),\"\")","v":""},{"$f":"IF($A94<>\"\", SUMPRODUCT(--($C$7:$C$107=$C94), --($D$7:$D$107=$D94), --('Seznam střelců'!$N94 <'Seznam střelců'!$N$7:$N$107)),\"\")","v":""},{"$f":"IF($A94<>\"\", SUMPRODUCT(--($C$7:$C$107=$C94), --($D$7:$D$107=$D94), --($E$7:$E$107=$E94), --('Seznam střelců'!$M94 <'Seznam střelců'!$M$7:$M$107)),\"\")","v":""},{"$f":"IF($A94<>\"\", SUMPRODUCT(--($C$7:$C$107=$C94), --($D$7:$D$107=$D94), --($E$7:$E$107=$E94), --($F$7:$F$107=$F94), --('Seznam střelců'!$L94 <'Seznam střelců'!$L$7:$L$107)),\"\")","v":""},{"$f":"IF($A94<>\"\", SUMPRODUCT(--($C$7:$C$107=$C94), --($D$7:$D$107=$D94), --($E$7:$E$107=$E94), --($F$7:$F$107=$F94), --($G$7:$G$107=$G94), --('Seznam střelců'!$K94 <'Seznam střelců'!$K$7:$K$107)),\"\")","v":""},{"$f":"IF($A94<>\"\", SUMPRODUCT(--($C$7:$C$107=$C94), --($D$7:$D$107=$D94), --($E$7:$E$107=$E94), --($F$7:$F$107=$F94), --($G$7:$G$107=$G94), --($H$7:$H$107=$H94), --('Seznam střelců'!$J94 <'Seznam střelců'!$J$7:$J$107)),\"\")","v":""},{"$f":"IF($A94<>\"\", SUMPRODUCT(--($C$7:$C$107=$C94), --($D$7:$D$107=$D94), --($E$7:$E$107=$E94), --($F$7:$F$107=$F94), --($G$7:$G$107=$G94), --($H$7:$H$107=$H94), --($I$7:$I$107=$I94), --('Seznam střelců'!$I94 <'Seznam střelců'!$I$7:$I$107)),\"\")","v":""},{"$f":"IF($A94<>\"\", SUMPRODUCT(--($C$7:$C$107=$C94), --($D$7:$D$107=$D94), --($E$7:$E$107=$E94), --($F$7:$F$107=$F94), --($G$7:$G$107=$G94), --($H$7:$H$107=$H94), --($I$7:$I$107=$I94), --($J$7:$J$107=$J94), --('Seznam střelců'!$H94 <'Seznam střelců'!$H$7:$H$107)),\"\")","v":""},{"$f":"IF($A94<>\"\", SUMPRODUCT(--($C$7:$C$107=$C94), --($D$7:$D$107=$D94), --($E$7:$E$107=$E94), --($F$7:$F$107=$F94), --($G$7:$G$107=$G94), --($H$7:$H$107=$H94), --($I$7:$I$107=$I94), --($J$7:$J$107=$J94), --($K$7:$K$107=$K94), --('Seznam střelců'!$G94 <'Seznam střelců'!$G$7:$G$107)),\"\")","v":""},{"$f":"IF($A94<>\"\", SUMPRODUCT(--($C$7:$C$107=$C94), --($D$7:$D$107=$D94), --($E$7:$E$107=$E94), --($F$7:$F$107=$F94), --($G$7:$G$107=$G94), --($H$7:$H$107=$H94), --($I$7:$I$107=$I94), --($J$7:$J$107=$J94), --($K$7:$K$107=$K94), --($L$7:$L$107=$L94), --('Seznam střelců'!$F94 <'Seznam střelců'!$F$7:$F$107)),\"\")","v":""},{"$f":"IF($A94<>\"\", SUMPRODUCT(--($C$7:$C$107=$C94), --($D$7:$D$107=$D94), --($E$7:$E$107=$E94), --($F$7:$F$107=$F94), --($G$7:$G$107=$G94), --($H$7:$H$107=$H94), --($I$7:$I$107=$I94),  --($J$7:$J$107=$J94), --($K$7:$K$107=$K94), --($L$7:$L$107=$L94),--($M$7:$M$107=$M94), --('Seznam střelců'!$Q94 <'Seznam střelců'!$Q$7:$Q$107)),\"\")","v":""},{"$f":"IF($A94<>\"\",\n      IF(ISBLANK('Seznam střelců'!$P94),\n         SUM($C94:$N94),\n         $C94+SUMPRODUCT(--($C$7:$C$107=$C94), --('Seznam střelců'!$Q94 <'Seznam střelců'!$Q$7:$Q$107))\n      ),\n      \"\")","v":""},{"$f":"IF(A94<>\"\",COUNTIF($O$7:$O94,$O94)-1,\"\")","v":""},""]
[{"$f":"'Seznam střelců'!A95","v":""},{"$f":"IF('Seznam střelců'!C95<>\"\", 0, 'Seznam střelců'!R95)","v":""},"",{"$f":"IF($A95<>\"\", SUMPRODUCT(--($C$7:$C$107=$C95), --('Seznam střelců'!$O95 < 'Seznam střelců'!$O$7:$O$107)),\"\")","v":""},{"$f":"IF($A95<>\"\", SUMPRODUCT(--($C$7:$C$107=$C95), --($D$7:$D$107=$D95), --('Seznam střelců'!$N95 <'Seznam střelců'!$N$7:$N$107)),\"\")","v":""},{"$f":"IF($A95<>\"\", SUMPRODUCT(--($C$7:$C$107=$C95), --($D$7:$D$107=$D95), --($E$7:$E$107=$E95), --('Seznam střelců'!$M95 <'Seznam střelců'!$M$7:$M$107)),\"\")","v":""},{"$f":"IF($A95<>\"\", SUMPRODUCT(--($C$7:$C$107=$C95), --($D$7:$D$107=$D95), --($E$7:$E$107=$E95), --($F$7:$F$107=$F95), --('Seznam střelců'!$L95 <'Seznam střelců'!$L$7:$L$107)),\"\")","v":""},{"$f":"IF($A95<>\"\", SUMPRODUCT(--($C$7:$C$107=$C95), --($D$7:$D$107=$D95), --($E$7:$E$107=$E95), --($F$7:$F$107=$F95), --($G$7:$G$107=$G95), --('Seznam střelců'!$K95 <'Seznam střelců'!$K$7:$K$107)),\"\")","v":""},{"$f":"IF($A95<>\"\", SUMPRODUCT(--($C$7:$C$107=$C95), --($D$7:$D$107=$D95), --($E$7:$E$107=$E95), --($F$7:$F$107=$F95), --($G$7:$G$107=$G95), --($H$7:$H$107=$H95), --('Seznam střelců'!$J95 <'Seznam střelců'!$J$7:$J$107)),\"\")","v":""},{"$f":"IF($A95<>\"\", SUMPRODUCT(--($C$7:$C$107=$C95), --($D$7:$D$107=$D95), --($E$7:$E$107=$E95), --($F$7:$F$107=$F95), --($G$7:$G$107=$G95), --($H$7:$H$107=$H95), --($I$7:$I$107=$I95), --('Seznam střelců'!$I95 <'Seznam střelců'!$I$7:$I$107)),\"\")","v":""},{"$f":"IF($A95<>\"\", SUMPRODUCT(--($C$7:$C$107=$C95), --($D$7:$D$107=$D95), --($E$7:$E$107=$E95), --($F$7:$F$107=$F95), --($G$7:$G$107=$G95), --($H$7:$H$107=$H95), --($I$7:$I$107=$I95), --($J$7:$J$107=$J95), --('Seznam střelců'!$H95 <'Seznam střelců'!$H$7:$H$107)),\"\")","v":""},{"$f":"IF($A95<>\"\", SUMPRODUCT(--($C$7:$C$107=$C95), --($D$7:$D$107=$D95), --($E$7:$E$107=$E95), --($F$7:$F$107=$F95), --($G$7:$G$107=$G95), --($H$7:$H$107=$H95), --($I$7:$I$107=$I95), --($J$7:$J$107=$J95), --($K$7:$K$107=$K95), --('Seznam střelců'!$G95 <'Seznam střelců'!$G$7:$G$107)),\"\")","v":""},{"$f":"IF($A95<>\"\", SUMPRODUCT(--($C$7:$C$107=$C95), --($D$7:$D$107=$D95), --($E$7:$E$107=$E95), --($F$7:$F$107=$F95), --($G$7:$G$107=$G95), --($H$7:$H$107=$H95), --($I$7:$I$107=$I95), --($J$7:$J$107=$J95), --($K$7:$K$107=$K95), --($L$7:$L$107=$L95), --('Seznam střelců'!$F95 <'Seznam střelců'!$F$7:$F$107)),\"\")","v":""},{"$f":"IF($A95<>\"\", SUMPRODUCT(--($C$7:$C$107=$C95), --($D$7:$D$107=$D95), --($E$7:$E$107=$E95), --($F$7:$F$107=$F95), --($G$7:$G$107=$G95), --($H$7:$H$107=$H95), --($I$7:$I$107=$I95),  --($J$7:$J$107=$J95), --($K$7:$K$107=$K95), --($L$7:$L$107=$L95),--($M$7:$M$107=$M95), --('Seznam střelců'!$Q95 <'Seznam střelců'!$Q$7:$Q$107)),\"\")","v":""},{"$f":"IF($A95<>\"\",\n      IF(ISBLANK('Seznam střelců'!$P95),\n         SUM($C95:$N95),\n         $C95+SUMPRODUCT(--($C$7:$C$107=$C95), --('Seznam střelců'!$Q95 <'Seznam střelců'!$Q$7:$Q$107))\n      ),\n      \"\")","v":""},{"$f":"IF(A95<>\"\",COUNTIF($O$7:$O95,$O95)-1,\"\")","v":""},""]
[{"$f":"'Seznam střelců'!A96","v":""},{"$f":"IF('Seznam střelců'!C96<>\"\", 0, 'Seznam střelců'!R96)","v":""},"",{"$f":"IF($A96<>\"\", SUMPRODUCT(--($C$7:$C$107=$C96), --('Seznam střelců'!$O96 < 'Seznam střelců'!$O$7:$O$107)),\"\")","v":""},{"$f":"IF($A96<>\"\", SUMPRODUCT(--($C$7:$C$107=$C96), --($D$7:$D$107=$D96), --('Seznam střelců'!$N96 <'Seznam střelců'!$N$7:$N$107)),\"\")","v":""},{"$f":"IF($A96<>\"\", SUMPRODUCT(--($C$7:$C$107=$C96), --($D$7:$D$107=$D96), --($E$7:$E$107=$E96), --('Seznam střelců'!$M96 <'Seznam střelců'!$M$7:$M$107)),\"\")","v":""},{"$f":"IF($A96<>\"\", SUMPRODUCT(--($C$7:$C$107=$C96), --($D$7:$D$107=$D96), --($E$7:$E$107=$E96), --($F$7:$F$107=$F96), --('Seznam střelců'!$L96 <'Seznam střelců'!$L$7:$L$107)),\"\")","v":""},{"$f":"IF($A96<>\"\", SUMPRODUCT(--($C$7:$C$107=$C96), --($D$7:$D$107=$D96), --($E$7:$E$107=$E96), --($F$7:$F$107=$F96), --($G$7:$G$107=$G96), --('Seznam střelců'!$K96 <'Seznam střelců'!$K$7:$K$107)),\"\")","v":""},{"$f":"IF($A96<>\"\", SUMPRODUCT(--($C$7:$C$107=$C96), --($D$7:$D$107=$D96), --($E$7:$E$107=$E96), --($F$7:$F$107=$F96), --($G$7:$G$107=$G96), --($H$7:$H$107=$H96), --('Seznam střelců'!$J96 <'Seznam střelců'!$J$7:$J$107)),\"\")","v":""},{"$f":"IF($A96<>\"\", SUMPRODUCT(--($C$7:$C$107=$C96), --($D$7:$D$107=$D96), --($E$7:$E$107=$E96), --($F$7:$F$107=$F96), --($G$7:$G$107=$G96), --($H$7:$H$107=$H96), --($I$7:$I$107=$I96), --('Seznam střelců'!$I96 <'Seznam střelců'!$I$7:$I$107)),\"\")","v":""},{"$f":"IF($A96<>\"\", SUMPRODUCT(--($C$7:$C$107=$C96), --($D$7:$D$107=$D96), --($E$7:$E$107=$E96), --($F$7:$F$107=$F96), --($G$7:$G$107=$G96), --($H$7:$H$107=$H96), --($I$7:$I$107=$I96), --($J$7:$J$107=$J96), --('Seznam střelců'!$H96 <'Seznam střelců'!$H$7:$H$107)),\"\")","v":""},{"$f":"IF($A96<>\"\", SUMPRODUCT(--($C$7:$C$107=$C96), --($D$7:$D$107=$D96), --($E$7:$E$107=$E96), --($F$7:$F$107=$F96), --($G$7:$G$107=$G96), --($H$7:$H$107=$H96), --($I$7:$I$107=$I96), --($J$7:$J$107=$J96), --($K$7:$K$107=$K96), --('Seznam střelců'!$G96 <'Seznam střelců'!$G$7:$G$107)),\"\")","v":""},{"$f":"IF($A96<>\"\", SUMPRODUCT(--($C$7:$C$107=$C96), --($D$7:$D$107=$D96), --($E$7:$E$107=$E96), --($F$7:$F$107=$F96), --($G$7:$G$107=$G96), --($H$7:$H$107=$H96), --($I$7:$I$107=$I96), --($J$7:$J$107=$J96), --($K$7:$K$107=$K96), --($L$7:$L$107=$L96), --('Seznam střelců'!$F96 <'Seznam střelců'!$F$7:$F$107)),\"\")","v":""},{"$f":"IF($A96<>\"\", SUMPRODUCT(--($C$7:$C$107=$C96), --($D$7:$D$107=$D96), --($E$7:$E$107=$E96), --($F$7:$F$107=$F96), --($G$7:$G$107=$G96), --($H$7:$H$107=$H96), --($I$7:$I$107=$I96),  --($J$7:$J$107=$J96), --($K$7:$K$107=$K96), --($L$7:$L$107=$L96),--($M$7:$M$107=$M96), --('Seznam střelců'!$Q96 <'Seznam střelců'!$Q$7:$Q$107)),\"\")","v":""},{"$f":"IF($A96<>\"\",\n      IF(ISBLANK('Seznam střelců'!$P96),\n         SUM($C96:$N96),\n         $C96+SUMPRODUCT(--($C$7:$C$107=$C96), --('Seznam střelců'!$Q96 <'Seznam střelců'!$Q$7:$Q$107))\n      ),\n      \"\")","v":""},{"$f":"IF(A96<>\"\",COUNTIF($O$7:$O96,$O96)-1,\"\")","v":""},""]
[{"$f":"'Seznam střelců'!A97","v":""},{"$f":"IF('Seznam střelců'!C97<>\"\", 0, 'Seznam střelců'!R97)","v":""},"",{"$f":"IF($A97<>\"\", SUMPRODUCT(--($C$7:$C$107=$C97), --('Seznam střelců'!$O97 < 'Seznam střelců'!$O$7:$O$107)),\"\")","v":""},{"$f":"IF($A97<>\"\", SUMPRODUCT(--($C$7:$C$107=$C97), --($D$7:$D$107=$D97), --('Seznam střelců'!$N97 <'Seznam střelců'!$N$7:$N$107)),\"\")","v":""},{"$f":"IF($A97<>\"\", SUMPRODUCT(--($C$7:$C$107=$C97), --($D$7:$D$107=$D97), --($E$7:$E$107=$E97), --('Seznam střelců'!$M97 <'Seznam střelců'!$M$7:$M$107)),\"\")","v":""},{"$f":"IF($A97<>\"\", SUMPRODUCT(--($C$7:$C$107=$C97), --($D$7:$D$107=$D97), --($E$7:$E$107=$E97), --($F$7:$F$107=$F97), --('Seznam střelců'!$L97 <'Seznam střelců'!$L$7:$L$107)),\"\")","v":""},{"$f":"IF($A97<>\"\", SUMPRODUCT(--($C$7:$C$107=$C97), --($D$7:$D$107=$D97), --($E$7:$E$107=$E97), --($F$7:$F$107=$F97), --($G$7:$G$107=$G97), --('Seznam střelců'!$K97 <'Seznam střelců'!$K$7:$K$107)),\"\")","v":""},{"$f":"IF($A97<>\"\", SUMPRODUCT(--($C$7:$C$107=$C97), --($D$7:$D$107=$D97), --($E$7:$E$107=$E97), --($F$7:$F$107=$F97), --($G$7:$G$107=$G97), --($H$7:$H$107=$H97), --('Seznam střelců'!$J97 <'Seznam střelců'!$J$7:$J$107)),\"\")","v":""},{"$f":"IF($A97<>\"\", SUMPRODUCT(--($C$7:$C$107=$C97), --($D$7:$D$107=$D97), --($E$7:$E$107=$E97), --($F$7:$F$107=$F97), --($G$7:$G$107=$G97), --($H$7:$H$107=$H97), --($I$7:$I$107=$I97), --('Seznam střelců'!$I97 <'Seznam střelců'!$I$7:$I$107)),\"\")","v":""},{"$f":"IF($A97<>\"\", SUMPRODUCT(--($C$7:$C$107=$C97), --($D$7:$D$107=$D97), --($E$7:$E$107=$E97), --($F$7:$F$107=$F97), --($G$7:$G$107=$G97), --($H$7:$H$107=$H97), --($I$7:$I$107=$I97), --($J$7:$J$107=$J97), --('Seznam střelců'!$H97 <'Seznam střelců'!$H$7:$H$107)),\"\")","v":""},{"$f":"IF($A97<>\"\", SUMPRODUCT(--($C$7:$C$107=$C97), --($D$7:$D$107=$D97), --($E$7:$E$107=$E97), --($F$7:$F$107=$F97), --($G$7:$G$107=$G97), --($H$7:$H$107=$H97), --($I$7:$I$107=$I97), --($J$7:$J$107=$J97), --($K$7:$K$107=$K97), --('Seznam střelců'!$G97 <'Seznam střelců'!$G$7:$G$107)),\"\")","v":""},{"$f":"IF($A97<>\"\", SUMPRODUCT(--($C$7:$C$107=$C97), --($D$7:$D$107=$D97), --($E$7:$E$107=$E97), --($F$7:$F$107=$F97), --($G$7:$G$107=$G97), --($H$7:$H$107=$H97), --($I$7:$I$107=$I97), --($J$7:$J$107=$J97), --($K$7:$K$107=$K97), --($L$7:$L$107=$L97), --('Seznam střelců'!$F97 <'Seznam střelců'!$F$7:$F$107)),\"\")","v":""},{"$f":"IF($A97<>\"\", SUMPRODUCT(--($C$7:$C$107=$C97), --($D$7:$D$107=$D97), --($E$7:$E$107=$E97), --($F$7:$F$107=$F97), --($G$7:$G$107=$G97), --($H$7:$H$107=$H97), --($I$7:$I$107=$I97),  --($J$7:$J$107=$J97), --($K$7:$K$107=$K97), --($L$7:$L$107=$L97),--($M$7:$M$107=$M97), --('Seznam střelců'!$Q97 <'Seznam střelců'!$Q$7:$Q$107)),\"\")","v":""},{"$f":"IF($A97<>\"\",\n      IF(ISBLANK('Seznam střelců'!$P97),\n         SUM($C97:$N97),\n         $C97+SUMPRODUCT(--($C$7:$C$107=$C97), --('Seznam střelců'!$Q97 <'Seznam střelců'!$Q$7:$Q$107))\n      ),\n      \"\")","v":""},{"$f":"IF(A97<>\"\",COUNTIF($O$7:$O97,$O97)-1,\"\")","v":""},""]
[{"$f":"'Seznam střelců'!A98","v":""},{"$f":"IF('Seznam střelců'!C98<>\"\", 0, 'Seznam střelců'!R98)","v":""},"",{"$f":"IF($A98<>\"\", SUMPRODUCT(--($C$7:$C$107=$C98), --('Seznam střelců'!$O98 < 'Seznam střelců'!$O$7:$O$107)),\"\")","v":""},{"$f":"IF($A98<>\"\", SUMPRODUCT(--($C$7:$C$107=$C98), --($D$7:$D$107=$D98), --('Seznam střelců'!$N98 <'Seznam střelců'!$N$7:$N$107)),\"\")","v":""},{"$f":"IF($A98<>\"\", SUMPRODUCT(--($C$7:$C$107=$C98), --($D$7:$D$107=$D98), --($E$7:$E$107=$E98), --('Seznam střelců'!$M98 <'Seznam střelců'!$M$7:$M$107)),\"\")","v":""},{"$f":"IF($A98<>\"\", SUMPRODUCT(--($C$7:$C$107=$C98), --($D$7:$D$107=$D98), --($E$7:$E$107=$E98), --($F$7:$F$107=$F98), --('Seznam střelců'!$L98 <'Seznam střelců'!$L$7:$L$107)),\"\")","v":""},{"$f":"IF($A98<>\"\", SUMPRODUCT(--($C$7:$C$107=$C98), --($D$7:$D$107=$D98), --($E$7:$E$107=$E98), --($F$7:$F$107=$F98), --($G$7:$G$107=$G98), --('Seznam střelců'!$K98 <'Seznam střelců'!$K$7:$K$107)),\"\")","v":""},{"$f":"IF($A98<>\"\", SUMPRODUCT(--($C$7:$C$107=$C98), --($D$7:$D$107=$D98), --($E$7:$E$107=$E98), --($F$7:$F$107=$F98), --($G$7:$G$107=$G98), --($H$7:$H$107=$H98), --('Seznam střelců'!$J98 <'Seznam střelců'!$J$7:$J$107)),\"\")","v":""},{"$f":"IF($A98<>\"\", SUMPRODUCT(--($C$7:$C$107=$C98), --($D$7:$D$107=$D98), --($E$7:$E$107=$E98), --($F$7:$F$107=$F98), --($G$7:$G$107=$G98), --($H$7:$H$107=$H98), --($I$7:$I$107=$I98), --('Seznam střelců'!$I98 <'Seznam střelců'!$I$7:$I$107)),\"\")","v":""},{"$f":"IF($A98<>\"\", SUMPRODUCT(--($C$7:$C$107=$C98), --($D$7:$D$107=$D98), --($E$7:$E$107=$E98), --($F$7:$F$107=$F98), --($G$7:$G$107=$G98), --($H$7:$H$107=$H98), --($I$7:$I$107=$I98), --($J$7:$J$107=$J98), --('Seznam střelců'!$H98 <'Seznam střelců'!$H$7:$H$107)),\"\")","v":""},{"$f":"IF($A98<>\"\", SUMPRODUCT(--($C$7:$C$107=$C98), --($D$7:$D$107=$D98), --($E$7:$E$107=$E98), --($F$7:$F$107=$F98), --($G$7:$G$107=$G98), --($H$7:$H$107=$H98), --($I$7:$I$107=$I98), --($J$7:$J$107=$J98), --($K$7:$K$107=$K98), --('Seznam střelců'!$G98 <'Seznam střelců'!$G$7:$G$107)),\"\")","v":""},{"$f":"IF($A98<>\"\", SUMPRODUCT(--($C$7:$C$107=$C98), --($D$7:$D$107=$D98), --($E$7:$E$107=$E98), --($F$7:$F$107=$F98), --($G$7:$G$107=$G98), --($H$7:$H$107=$H98), --($I$7:$I$107=$I98), --($J$7:$J$107=$J98), --($K$7:$K$107=$K98), --($L$7:$L$107=$L98), --('Seznam střelců'!$F98 <'Seznam střelců'!$F$7:$F$107)),\"\")","v":""},{"$f":"IF($A98<>\"\", SUMPRODUCT(--($C$7:$C$107=$C98), --($D$7:$D$107=$D98), --($E$7:$E$107=$E98), --($F$7:$F$107=$F98), --($G$7:$G$107=$G98), --($H$7:$H$107=$H98), --($I$7:$I$107=$I98),  --($J$7:$J$107=$J98), --($K$7:$K$107=$K98), --($L$7:$L$107=$L98),--($M$7:$M$107=$M98), --('Seznam střelců'!$Q98 <'Seznam střelců'!$Q$7:$Q$107)),\"\")","v":""},{"$f":"IF($A98<>\"\",\n      IF(ISBLANK('Seznam střelců'!$P98),\n         SUM($C98:$N98),\n         $C98+SUMPRODUCT(--($C$7:$C$107=$C98), --('Seznam střelců'!$Q98 <'Seznam střelců'!$Q$7:$Q$107))\n      ),\n      \"\")","v":""},{"$f":"IF(A98<>\"\",COUNTIF($O$7:$O98,$O98)-1,\"\")","v":""},""]
[{"$f":"'Seznam střelců'!A99","v":""},{"$f":"IF('Seznam střelců'!C99<>\"\", 0, 'Seznam střelců'!R99)","v":""},"",{"$f":"IF($A99<>\"\", SUMPRODUCT(--($C$7:$C$107=$C99), --('Seznam střelců'!$O99 < 'Seznam střelců'!$O$7:$O$107)),\"\")","v":""},{"$f":"IF($A99<>\"\", SUMPRODUCT(--($C$7:$C$107=$C99), --($D$7:$D$107=$D99), --('Seznam střelců'!$N99 <'Seznam střelců'!$N$7:$N$107)),\"\")","v":""},{"$f":"IF($A99<>\"\", SUMPRODUCT(--($C$7:$C$107=$C99), --($D$7:$D$107=$D99), --($E$7:$E$107=$E99), --('Seznam střelců'!$M99 <'Seznam střelců'!$M$7:$M$107)),\"\")","v":""},{"$f":"IF($A99<>\"\", SUMPRODUCT(--($C$7:$C$107=$C99), --($D$7:$D$107=$D99), --($E$7:$E$107=$E99), --($F$7:$F$107=$F99), --('Seznam střelců'!$L99 <'Seznam střelců'!$L$7:$L$107)),\"\")","v":""},{"$f":"IF($A99<>\"\", SUMPRODUCT(--($C$7:$C$107=$C99), --($D$7:$D$107=$D99), --($E$7:$E$107=$E99), --($F$7:$F$107=$F99), --($G$7:$G$107=$G99), --('Seznam střelců'!$K99 <'Seznam střelců'!$K$7:$K$107)),\"\")","v":""},{"$f":"IF($A99<>\"\", SUMPRODUCT(--($C$7:$C$107=$C99), --($D$7:$D$107=$D99), --($E$7:$E$107=$E99), --($F$7:$F$107=$F99), --($G$7:$G$107=$G99), --($H$7:$H$107=$H99), --('Seznam střelců'!$J99 <'Seznam střelců'!$J$7:$J$107)),\"\")","v":""},{"$f":"IF($A99<>\"\", SUMPRODUCT(--($C$7:$C$107=$C99), --($D$7:$D$107=$D99), --($E$7:$E$107=$E99), --($F$7:$F$107=$F99), --($G$7:$G$107=$G99), --($H$7:$H$107=$H99), --($I$7:$I$107=$I99), --('Seznam střelců'!$I99 <'Seznam střelců'!$I$7:$I$107)),\"\")","v":""},{"$f":"IF($A99<>\"\", SUMPRODUCT(--($C$7:$C$107=$C99), --($D$7:$D$107=$D99), --($E$7:$E$107=$E99), --($F$7:$F$107=$F99), --($G$7:$G$107=$G99), --($H$7:$H$107=$H99), --($I$7:$I$107=$I99), --($J$7:$J$107=$J99), --('Seznam střelců'!$H99 <'Seznam střelců'!$H$7:$H$107)),\"\")","v":""},{"$f":"IF($A99<>\"\", SUMPRODUCT(--($C$7:$C$107=$C99), --($D$7:$D$107=$D99), --($E$7:$E$107=$E99), --($F$7:$F$107=$F99), --($G$7:$G$107=$G99), --($H$7:$H$107=$H99), --($I$7:$I$107=$I99), --($J$7:$J$107=$J99), --($K$7:$K$107=$K99), --('Seznam střelců'!$G99 <'Seznam střelců'!$G$7:$G$107)),\"\")","v":""},{"$f":"IF($A99<>\"\", SUMPRODUCT(--($C$7:$C$107=$C99), --($D$7:$D$107=$D99), --($E$7:$E$107=$E99), --($F$7:$F$107=$F99), --($G$7:$G$107=$G99), --($H$7:$H$107=$H99), --($I$7:$I$107=$I99), --($J$7:$J$107=$J99), --($K$7:$K$107=$K99), --($L$7:$L$107=$L99), --('Seznam střelců'!$F99 <'Seznam střelců'!$F$7:$F$107)),\"\")","v":""},{"$f":"IF($A99<>\"\", SUMPRODUCT(--($C$7:$C$107=$C99), --($D$7:$D$107=$D99), --($E$7:$E$107=$E99), --($F$7:$F$107=$F99), --($G$7:$G$107=$G99), --($H$7:$H$107=$H99), --($I$7:$I$107=$I99),  --($J$7:$J$107=$J99), --($K$7:$K$107=$K99), --($L$7:$L$107=$L99),--($M$7:$M$107=$M99), --('Seznam střelců'!$Q99 <'Seznam střelců'!$Q$7:$Q$107)),\"\")","v":""},{"$f":"IF($A99<>\"\",\n      IF(ISBLANK('Seznam střelců'!$P99),\n         SUM($C99:$N99),\n         $C99+SUMPRODUCT(--($C$7:$C$107=$C99), --('Seznam střelců'!$Q99 <'Seznam střelců'!$Q$7:$Q$107))\n      ),\n      \"\")","v":""},{"$f":"IF(A99<>\"\",COUNTIF($O$7:$O99,$O99)-1,\"\")","v":""},""]
[{"$f":"'Seznam střelců'!A100","v":""},{"$f":"IF('Seznam střelců'!C100<>\"\", 0, 'Seznam střelců'!R100)","v":""},"",{"$f":"IF($A100<>\"\", SUMPRODUCT(--($C$7:$C$107=$C100), --('Seznam střelců'!$O100 < 'Seznam střelců'!$O$7:$O$107)),\"\")","v":""},{"$f":"IF($A100<>\"\", SUMPRODUCT(--($C$7:$C$107=$C100), --($D$7:$D$107=$D100), --('Seznam střelců'!$N100 <'Seznam střelců'!$N$7:$N$107)),\"\")","v":""},{"$f":"IF($A100<>\"\", SUMPRODUCT(--($C$7:$C$107=$C100), --($D$7:$D$107=$D100), --($E$7:$E$107=$E100), --('Seznam střelců'!$M100 <'Seznam střelců'!$M$7:$M$107)),\"\")","v":""},{"$f":"IF($A100<>\"\", SUMPRODUCT(--($C$7:$C$107=$C100), --($D$7:$D$107=$D100), --($E$7:$E$107=$E100), --($F$7:$F$107=$F100), --('Seznam střelců'!$L100 <'Seznam střelců'!$L$7:$L$107)),\"\")","v":""},{"$f":"IF($A100<>\"\", SUMPRODUCT(--($C$7:$C$107=$C100), --($D$7:$D$107=$D100), --($E$7:$E$107=$E100), --($F$7:$F$107=$F100), --($G$7:$G$107=$G100), --('Seznam střelců'!$K100 <'Seznam střelců'!$K$7:$K$107)),\"\")","v":""},{"$f":"IF($A100<>\"\", SUMPRODUCT(--($C$7:$C$107=$C100), --($D$7:$D$107=$D100), --($E$7:$E$107=$E100), --($F$7:$F$107=$F100), --($G$7:$G$107=$G100), --($H$7:$H$107=$H100), --('Seznam střelců'!$J100 <'Seznam střelců'!$J$7:$J$107)),\"\")","v":""},{"$f":"IF($A100<>\"\", SUMPRODUCT(--($C$7:$C$107=$C100), --($D$7:$D$107=$D100), --($E$7:$E$107=$E100), --($F$7:$F$107=$F100), --($G$7:$G$107=$G100), --($H$7:$H$107=$H100), --($I$7:$I$107=$I100), --('Seznam střelců'!$I100 <'Seznam střelců'!$I$7:$I$107)),\"\")","v":""},{"$f":"IF($A100<>\"\", SUMPRODUCT(--($C$7:$C$107=$C100), --($D$7:$D$107=$D100), --($E$7:$E$107=$E100), --($F$7:$F$107=$F100), --($G$7:$G$107=$G100), --($H$7:$H$107=$H100), --($I$7:$I$107=$I100), --($J$7:$J$107=$J100), --('Seznam střelců'!$H100 <'Seznam střelců'!$H$7:$H$107)),\"\")","v":""},{"$f":"IF($A100<>\"\", SUMPRODUCT(--($C$7:$C$107=$C100), --($D$7:$D$107=$D100), --($E$7:$E$107=$E100), --($F$7:$F$107=$F100), --($G$7:$G$107=$G100), --($H$7:$H$107=$H100), --($I$7:$I$107=$I100), --($J$7:$J$107=$J100), --($K$7:$K$107=$K100), --('Seznam střelců'!$G100 <'Seznam střelců'!$G$7:$G$107)),\"\")","v":""},{"$f":"IF($A100<>\"\", SUMPRODUCT(--($C$7:$C$107=$C100), --($D$7:$D$107=$D100), --($E$7:$E$107=$E100), --($F$7:$F$107=$F100), --($G$7:$G$107=$G100), --($H$7:$H$107=$H100), --($I$7:$I$107=$I100), --($J$7:$J$107=$J100), --($K$7:$K$107=$K100), --($L$7:$L$107=$L100), --('Seznam střelců'!$F100 <'Seznam střelců'!$F$7:$F$107)),\"\")","v":""},{"$f":"IF($A100<>\"\", SUMPRODUCT(--($C$7:$C$107=$C100), --($D$7:$D$107=$D100), --($E$7:$E$107=$E100), --($F$7:$F$107=$F100), --($G$7:$G$107=$G100), --($H$7:$H$107=$H100), --($I$7:$I$107=$I100),  --($J$7:$J$107=$J100), --($K$7:$K$107=$K100), --($L$7:$L$107=$L100),--($M$7:$M$107=$M100), --('Seznam střelců'!$Q100 <'Seznam střelců'!$Q$7:$Q$107)),\"\")","v":""},{"$f":"IF($A100<>\"\",\n      IF(ISBLANK('Seznam střelců'!$P100),\n         SUM($C100:$N100),\n         $C100+SUMPRODUCT(--($C$7:$C$107=$C100), --('Seznam střelců'!$Q100 <'Seznam střelců'!$Q$7:$Q$107))\n      ),\n      \"\")","v":""},{"$f":"IF(A100<>\"\",COUNTIF($O$7:$O100,$O100)-1,\"\")","v":""},""]
[{"$f":"'Seznam střelců'!A101","v":""},{"$f":"IF('Seznam střelců'!C101<>\"\", 0, 'Seznam střelců'!R101)","v":""},"",{"$f":"IF($A101<>\"\", SUMPRODUCT(--($C$7:$C$107=$C101), --('Seznam střelců'!$O101 < 'Seznam střelců'!$O$7:$O$107)),\"\")","v":""},{"$f":"IF($A101<>\"\", SUMPRODUCT(--($C$7:$C$107=$C101), --($D$7:$D$107=$D101), --('Seznam střelců'!$N101 <'Seznam střelců'!$N$7:$N$107)),\"\")","v":""},{"$f":"IF($A101<>\"\", SUMPRODUCT(--($C$7:$C$107=$C101), --($D$7:$D$107=$D101), --($E$7:$E$107=$E101), --('Seznam střelců'!$M101 <'Seznam střelců'!$M$7:$M$107)),\"\")","v":""},{"$f":"IF($A101<>\"\", SUMPRODUCT(--($C$7:$C$107=$C101), --($D$7:$D$107=$D101), --($E$7:$E$107=$E101), --($F$7:$F$107=$F101), --('Seznam střelců'!$L101 <'Seznam střelců'!$L$7:$L$107)),\"\")","v":""},{"$f":"IF($A101<>\"\", SUMPRODUCT(--($C$7:$C$107=$C101), --($D$7:$D$107=$D101), --($E$7:$E$107=$E101), --($F$7:$F$107=$F101), --($G$7:$G$107=$G101), --('Seznam střelců'!$K101 <'Seznam střelců'!$K$7:$K$107)),\"\")","v":""},{"$f":"IF($A101<>\"\", SUMPRODUCT(--($C$7:$C$107=$C101), --($D$7:$D$107=$D101), --($E$7:$E$107=$E101), --($F$7:$F$107=$F101), --($G$7:$G$107=$G101), --($H$7:$H$107=$H101), --('Seznam střelců'!$J101 <'Seznam střelců'!$J$7:$J$107)),\"\")","v":""},{"$f":"IF($A101<>\"\", SUMPRODUCT(--($C$7:$C$107=$C101), --($D$7:$D$107=$D101), --($E$7:$E$107=$E101), --($F$7:$F$107=$F101), --($G$7:$G$107=$G101), --($H$7:$H$107=$H101), --($I$7:$I$107=$I101), --('Seznam střelců'!$I101 <'Seznam střelců'!$I$7:$I$107)),\"\")","v":""},{"$f":"IF($A101<>\"\", SUMPRODUCT(--($C$7:$C$107=$C101), --($D$7:$D$107=$D101), --($E$7:$E$107=$E101), --($F$7:$F$107=$F101), --($G$7:$G$107=$G101), --($H$7:$H$107=$H101), --($I$7:$I$107=$I101), --($J$7:$J$107=$J101), --('Seznam střelců'!$H101 <'Seznam střelců'!$H$7:$H$107)),\"\")","v":""},{"$f":"IF($A101<>\"\", SUMPRODUCT(--($C$7:$C$107=$C101), --($D$7:$D$107=$D101), --($E$7:$E$107=$E101), --($F$7:$F$107=$F101), --($G$7:$G$107=$G101), --($H$7:$H$107=$H101), --($I$7:$I$107=$I101), --($J$7:$J$107=$J101), --($K$7:$K$107=$K101), --('Seznam střelců'!$G101 <'Seznam střelců'!$G$7:$G$107)),\"\")","v":""},{"$f":"IF($A101<>\"\", SUMPRODUCT(--($C$7:$C$107=$C101), --($D$7:$D$107=$D101), --($E$7:$E$107=$E101), --($F$7:$F$107=$F101), --($G$7:$G$107=$G101), --($H$7:$H$107=$H101), --($I$7:$I$107=$I101), --($J$7:$J$107=$J101), --($K$7:$K$107=$K101), --($L$7:$L$107=$L101), --('Seznam střelců'!$F101 <'Seznam střelců'!$F$7:$F$107)),\"\")","v":""},{"$f":"IF($A101<>\"\", SUMPRODUCT(--($C$7:$C$107=$C101), --($D$7:$D$107=$D101), --($E$7:$E$107=$E101), --($F$7:$F$107=$F101), --($G$7:$G$107=$G101), --($H$7:$H$107=$H101), --($I$7:$I$107=$I101),  --($J$7:$J$107=$J101), --($K$7:$K$107=$K101), --($L$7:$L$107=$L101),--($M$7:$M$107=$M101), --('Seznam střelců'!$Q101 <'Seznam střelců'!$Q$7:$Q$107)),\"\")","v":""},{"$f":"IF($A101<>\"\",\n      IF(ISBLANK('Seznam střelců'!$P101),\n         SUM($C101:$N101),\n         $C101+SUMPRODUCT(--($C$7:$C$107=$C101), --('Seznam střelců'!$Q101 <'Seznam střelců'!$Q$7:$Q$107))\n      ),\n      \"\")","v":""},{"$f":"IF(A101<>\"\",COUNTIF($O$7:$O101,$O101)-1,\"\")","v":""},""]
[{"$f":"'Seznam střelců'!A102","v":""},{"$f":"IF('Seznam střelců'!C102<>\"\", 0, 'Seznam střelců'!R102)","v":""},"",{"$f":"IF($A102<>\"\", SUMPRODUCT(--($C$7:$C$107=$C102), --('Seznam střelců'!$O102 < 'Seznam střelců'!$O$7:$O$107)),\"\")","v":""},{"$f":"IF($A102<>\"\", SUMPRODUCT(--($C$7:$C$107=$C102), --($D$7:$D$107=$D102), --('Seznam střelců'!$N102 <'Seznam střelců'!$N$7:$N$107)),\"\")","v":""},{"$f":"IF($A102<>\"\", SUMPRODUCT(--($C$7:$C$107=$C102), --($D$7:$D$107=$D102), --($E$7:$E$107=$E102), --('Seznam střelců'!$M102 <'Seznam střelců'!$M$7:$M$107)),\"\")","v":""},{"$f":"IF($A102<>\"\", SUMPRODUCT(--($C$7:$C$107=$C102), --($D$7:$D$107=$D102), --($E$7:$E$107=$E102), --($F$7:$F$107=$F102), --('Seznam střelců'!$L102 <'Seznam střelců'!$L$7:$L$107)),\"\")","v":""},{"$f":"IF($A102<>\"\", SUMPRODUCT(--($C$7:$C$107=$C102), --($D$7:$D$107=$D102), --($E$7:$E$107=$E102), --($F$7:$F$107=$F102), --($G$7:$G$107=$G102), --('Seznam střelců'!$K102 <'Seznam střelců'!$K$7:$K$107)),\"\")","v":""},{"$f":"IF($A102<>\"\", SUMPRODUCT(--($C$7:$C$107=$C102), --($D$7:$D$107=$D102), --($E$7:$E$107=$E102), --($F$7:$F$107=$F102), --($G$7:$G$107=$G102), --($H$7:$H$107=$H102), --('Seznam střelců'!$J102 <'Seznam střelců'!$J$7:$J$107)),\"\")","v":""},{"$f":"IF($A102<>\"\", SUMPRODUCT(--($C$7:$C$107=$C102), --($D$7:$D$107=$D102), --($E$7:$E$107=$E102), --($F$7:$F$107=$F102), --($G$7:$G$107=$G102), --($H$7:$H$107=$H102), --($I$7:$I$107=$I102), --('Seznam střelců'!$I102 <'Seznam střelců'!$I$7:$I$107)),\"\")","v":""},{"$f":"IF($A102<>\"\", SUMPRODUCT(--($C$7:$C$107=$C102), --($D$7:$D$107=$D102), --($E$7:$E$107=$E102), --($F$7:$F$107=$F102), --($G$7:$G$107=$G102), --($H$7:$H$107=$H102), --($I$7:$I$107=$I102), --($J$7:$J$107=$J102), --('Seznam střelců'!$H102 <'Seznam střelců'!$H$7:$H$107)),\"\")","v":""},{"$f":"IF($A102<>\"\", SUMPRODUCT(--($C$7:$C$107=$C102), --($D$7:$D$107=$D102), --($E$7:$E$107=$E102), --($F$7:$F$107=$F102), --($G$7:$G$107=$G102), --($H$7:$H$107=$H102), --($I$7:$I$107=$I102), --($J$7:$J$107=$J102), --($K$7:$K$107=$K102), --('Seznam střelců'!$G102 <'Seznam střelců'!$G$7:$G$107)),\"\")","v":""},{"$f":"IF($A102<>\"\", SUMPRODUCT(--($C$7:$C$107=$C102), --($D$7:$D$107=$D102), --($E$7:$E$107=$E102), --($F$7:$F$107=$F102), --($G$7:$G$107=$G102), --($H$7:$H$107=$H102), --($I$7:$I$107=$I102), --($J$7:$J$107=$J102), --($K$7:$K$107=$K102), --($L$7:$L$107=$L102), --('Seznam střelců'!$F102 <'Seznam střelců'!$F$7:$F$107)),\"\")","v":""},{"$f":"IF($A102<>\"\", SUMPRODUCT(--($C$7:$C$107=$C102), --($D$7:$D$107=$D102), --($E$7:$E$107=$E102), --($F$7:$F$107=$F102), --($G$7:$G$107=$G102), --($H$7:$H$107=$H102), --($I$7:$I$107=$I102),  --($J$7:$J$107=$J102), --($K$7:$K$107=$K102), --($L$7:$L$107=$L102),--($M$7:$M$107=$M102), --('Seznam střelců'!$Q102 <'Seznam střelců'!$Q$7:$Q$107)),\"\")","v":""},{"$f":"IF($A102<>\"\",\n      IF(ISBLANK('Seznam střelců'!$P102),\n         SUM($C102:$N102),\n         $C102+SUMPRODUCT(--($C$7:$C$107=$C102), --('Seznam střelců'!$Q102 <'Seznam střelců'!$Q$7:$Q$107))\n      ),\n      \"\")","v":""},{"$f":"IF(A102<>\"\",COUNTIF($O$7:$O102,$O102)-1,\"\")","v":""},""]
[{"$f":"'Seznam střelců'!A103","v":""},{"$f":"IF('Seznam střelců'!C103<>\"\", 0, 'Seznam střelců'!R103)","v":""},"",{"$f":"IF($A103<>\"\", SUMPRODUCT(--($C$7:$C$107=$C103), --('Seznam střelců'!$O103 < 'Seznam střelců'!$O$7:$O$107)),\"\")","v":""},{"$f":"IF($A103<>\"\", SUMPRODUCT(--($C$7:$C$107=$C103), --($D$7:$D$107=$D103), --('Seznam střelců'!$N103 <'Seznam střelců'!$N$7:$N$107)),\"\")","v":""},{"$f":"IF($A103<>\"\", SUMPRODUCT(--($C$7:$C$107=$C103), --($D$7:$D$107=$D103), --($E$7:$E$107=$E103), --('Seznam střelců'!$M103 <'Seznam střelců'!$M$7:$M$107)),\"\")","v":""},{"$f":"IF($A103<>\"\", SUMPRODUCT(--($C$7:$C$107=$C103), --($D$7:$D$107=$D103), --($E$7:$E$107=$E103), --($F$7:$F$107=$F103), --('Seznam střelců'!$L103 <'Seznam střelců'!$L$7:$L$107)),\"\")","v":""},{"$f":"IF($A103<>\"\", SUMPRODUCT(--($C$7:$C$107=$C103), --($D$7:$D$107=$D103), --($E$7:$E$107=$E103), --($F$7:$F$107=$F103), --($G$7:$G$107=$G103), --('Seznam střelců'!$K103 <'Seznam střelců'!$K$7:$K$107)),\"\")","v":""},{"$f":"IF($A103<>\"\", SUMPRODUCT(--($C$7:$C$107=$C103), --($D$7:$D$107=$D103), --($E$7:$E$107=$E103), --($F$7:$F$107=$F103), --($G$7:$G$107=$G103), --($H$7:$H$107=$H103), --('Seznam střelců'!$J103 <'Seznam střelců'!$J$7:$J$107)),\"\")","v":""},{"$f":"IF($A103<>\"\", SUMPRODUCT(--($C$7:$C$107=$C103), --($D$7:$D$107=$D103), --($E$7:$E$107=$E103), --($F$7:$F$107=$F103), --($G$7:$G$107=$G103), --($H$7:$H$107=$H103), --($I$7:$I$107=$I103), --('Seznam střelců'!$I103 <'Seznam střelců'!$I$7:$I$107)),\"\")","v":""},{"$f":"IF($A103<>\"\", SUMPRODUCT(--($C$7:$C$107=$C103), --($D$7:$D$107=$D103), --($E$7:$E$107=$E103), --($F$7:$F$107=$F103), --($G$7:$G$107=$G103), --($H$7:$H$107=$H103), --($I$7:$I$107=$I103), --($J$7:$J$107=$J103), --('Seznam střelců'!$H103 <'Seznam střelců'!$H$7:$H$107)),\"\")","v":""},{"$f":"IF($A103<>\"\", SUMPRODUCT(--($C$7:$C$107=$C103), --($D$7:$D$107=$D103), --($E$7:$E$107=$E103), --($F$7:$F$107=$F103), --($G$7:$G$107=$G103), --($H$7:$H$107=$H103), --($I$7:$I$107=$I103), --($J$7:$J$107=$J103), --($K$7:$K$107=$K103), --('Seznam střelců'!$G103 <'Seznam střelců'!$G$7:$G$107)),\"\")","v":""},{"$f":"IF($A103<>\"\", SUMPRODUCT(--($C$7:$C$107=$C103), --($D$7:$D$107=$D103), --($E$7:$E$107=$E103), --($F$7:$F$107=$F103), --($G$7:$G$107=$G103), --($H$7:$H$107=$H103), --($I$7:$I$107=$I103), --($J$7:$J$107=$J103), --($K$7:$K$107=$K103), --($L$7:$L$107=$L103), --('Seznam střelců'!$F103 <'Seznam střelců'!$F$7:$F$107)),\"\")","v":""},{"$f":"IF($A103<>\"\", SUMPRODUCT(--($C$7:$C$107=$C103), --($D$7:$D$107=$D103), --($E$7:$E$107=$E103), --($F$7:$F$107=$F103), --($G$7:$G$107=$G103), --($H$7:$H$107=$H103), --($I$7:$I$107=$I103),  --($J$7:$J$107=$J103), --($K$7:$K$107=$K103), --($L$7:$L$107=$L103),--($M$7:$M$107=$M103), --('Seznam střelců'!$Q103 <'Seznam střelců'!$Q$7:$Q$107)),\"\")","v":""},{"$f":"IF($A103<>\"\",\n      IF(ISBLANK('Seznam střelců'!$P103),\n         SUM($C103:$N103),\n         $C103+SUMPRODUCT(--($C$7:$C$107=$C103), --('Seznam střelců'!$Q103 <'Seznam střelců'!$Q$7:$Q$107))\n      ),\n      \"\")","v":""},{"$f":"IF(A103<>\"\",COUNTIF($O$7:$O103,$O103)-1,\"\")","v":""},{"$f":"IF(A103<>\"\",O103+P103,\"\")","v":""}]
[{"$f":"'Seznam střelců'!A104","v":""},{"$f":"IF('Seznam střelců'!C104<>\"\", 0, 'Seznam střelců'!R104)","v":""},"",{"$f":"IF($A104<>\"\", SUMPRODUCT(--($C$7:$C$107=$C104), --('Seznam střelců'!$O104 < 'Seznam střelců'!$O$7:$O$107)),\"\")","v":""},{"$f":"IF($A104<>\"\", SUMPRODUCT(--($C$7:$C$107=$C104), --($D$7:$D$107=$D104), --('Seznam střelců'!$N104 <'Seznam střelců'!$N$7:$N$107)),\"\")","v":""},{"$f":"IF($A104<>\"\", SUMPRODUCT(--($C$7:$C$107=$C104), --($D$7:$D$107=$D104), --($E$7:$E$107=$E104), --('Seznam střelců'!$M104 <'Seznam střelců'!$M$7:$M$107)),\"\")","v":""},{"$f":"IF($A104<>\"\", SUMPRODUCT(--($C$7:$C$107=$C104), --($D$7:$D$107=$D104), --($E$7:$E$107=$E104), --($F$7:$F$107=$F104), --('Seznam střelců'!$L104 <'Seznam střelců'!$L$7:$L$107)),\"\")","v":""},{"$f":"IF($A104<>\"\", SUMPRODUCT(--($C$7:$C$107=$C104), --($D$7:$D$107=$D104), --($E$7:$E$107=$E104), --($F$7:$F$107=$F104), --($G$7:$G$107=$G104), --('Seznam střelců'!$K104 <'Seznam střelců'!$K$7:$K$107)),\"\")","v":""},{"$f":"IF($A104<>\"\", SUMPRODUCT(--($C$7:$C$107=$C104), --($D$7:$D$107=$D104), --($E$7:$E$107=$E104), --($F$7:$F$107=$F104), --($G$7:$G$107=$G104), --($H$7:$H$107=$H104), --('Seznam střelců'!$J104 <'Seznam střelců'!$J$7:$J$107)),\"\")","v":""},{"$f":"IF($A104<>\"\", SUMPRODUCT(--($C$7:$C$107=$C104), --($D$7:$D$107=$D104), --($E$7:$E$107=$E104), --($F$7:$F$107=$F104), --($G$7:$G$107=$G104), --($H$7:$H$107=$H104), --($I$7:$I$107=$I104), --('Seznam střelců'!$I104 <'Seznam střelců'!$I$7:$I$107)),\"\")","v":""},{"$f":"IF($A104<>\"\", SUMPRODUCT(--($C$7:$C$107=$C104), --($D$7:$D$107=$D104), --($E$7:$E$107=$E104), --($F$7:$F$107=$F104), --($G$7:$G$107=$G104), --($H$7:$H$107=$H104), --($I$7:$I$107=$I104), --($J$7:$J$107=$J104), --('Seznam střelců'!$H104 <'Seznam střelců'!$H$7:$H$107)),\"\")","v":""},{"$f":"IF($A104<>\"\", SUMPRODUCT(--($C$7:$C$107=$C104), --($D$7:$D$107=$D104), --($E$7:$E$107=$E104), --($F$7:$F$107=$F104), --($G$7:$G$107=$G104), --($H$7:$H$107=$H104), --($I$7:$I$107=$I104), --($J$7:$J$107=$J104), --($K$7:$K$107=$K104), --('Seznam střelců'!$G104 <'Seznam střelců'!$G$7:$G$107)),\"\")","v":""},{"$f":"IF($A104<>\"\", SUMPRODUCT(--($C$7:$C$107=$C104), --($D$7:$D$107=$D104), --($E$7:$E$107=$E104), --($F$7:$F$107=$F104), --($G$7:$G$107=$G104), --($H$7:$H$107=$H104), --($I$7:$I$107=$I104), --($J$7:$J$107=$J104), --($K$7:$K$107=$K104), --($L$7:$L$107=$L104), --('Seznam střelců'!$F104 <'Seznam střelců'!$F$7:$F$107)),\"\")","v":""},{"$f":"IF($A104<>\"\", SUMPRODUCT(--($C$7:$C$107=$C104), --($D$7:$D$107=$D104), --($E$7:$E$107=$E104), --($F$7:$F$107=$F104), --($G$7:$G$107=$G104), --($H$7:$H$107=$H104), --($I$7:$I$107=$I104),  --($J$7:$J$107=$J104), --($K$7:$K$107=$K104), --($L$7:$L$107=$L104),--($M$7:$M$107=$M104), --('Seznam střelců'!$Q104 <'Seznam střelců'!$Q$7:$Q$107)),\"\")","v":""},{"$f":"IF($A104<>\"\",\n      IF(ISBLANK('Seznam střelců'!$P104),\n         SUM($C104:$N104),\n         $C104+SUMPRODUCT(--($C$7:$C$107=$C104), --('Seznam střelců'!$Q104 <'Seznam střelců'!$Q$7:$Q$107))\n      ),\n      \"\")","v":""},{"$f":"IF(A104<>\"\",COUNTIF($O$7:$O104,$O104)-1,\"\")","v":""},{"$f":"IF(A104<>\"\",O104+P104,\"\")","v":""}]
[{"$f":"'Seznam střelců'!A105","v":""},{"$f":"IF('Seznam střelců'!C105<>\"\", 0, 'Seznam střelců'!R105)","v":""},"",{"$f":"IF($A105<>\"\", SUMPRODUCT(--($C$7:$C$107=$C105), --('Seznam střelců'!$O105 < 'Seznam střelců'!$O$7:$O$107)),\"\")","v":""},{"$f":"IF($A105<>\"\", SUMPRODUCT(--($C$7:$C$107=$C105), --($D$7:$D$107=$D105), --('Seznam střelců'!$N105 <'Seznam střelců'!$N$7:$N$107)),\"\")","v":""},{"$f":"IF($A105<>\"\", SUMPRODUCT(--($C$7:$C$107=$C105), --($D$7:$D$107=$D105), --($E$7:$E$107=$E105), --('Seznam střelců'!$M105 <'Seznam střelců'!$M$7:$M$107)),\"\")","v":""},{"$f":"IF($A105<>\"\", SUMPRODUCT(--($C$7:$C$107=$C105), --($D$7:$D$107=$D105), --($E$7:$E$107=$E105), --($F$7:$F$107=$F105), --('Seznam střelců'!$L105 <'Seznam střelců'!$L$7:$L$107)),\"\")","v":""},{"$f":"IF($A105<>\"\", SUMPRODUCT(--($C$7:$C$107=$C105), --($D$7:$D$107=$D105), --($E$7:$E$107=$E105), --($F$7:$F$107=$F105), --($G$7:$G$107=$G105), --('Seznam střelců'!$K105 <'Seznam střelců'!$K$7:$K$107)),\"\")","v":""},{"$f":"IF($A105<>\"\", SUMPRODUCT(--($C$7:$C$107=$C105), --($D$7:$D$107=$D105), --($E$7:$E$107=$E105), --($F$7:$F$107=$F105), --($G$7:$G$107=$G105), --($H$7:$H$107=$H105), --('Seznam střelců'!$J105 <'Seznam střelců'!$J$7:$J$107)),\"\")","v":""},{"$f":"IF($A105<>\"\", SUMPRODUCT(--($C$7:$C$107=$C105), --($D$7:$D$107=$D105), --($E$7:$E$107=$E105), --($F$7:$F$107=$F105), --($G$7:$G$107=$G105), --($H$7:$H$107=$H105), --($I$7:$I$107=$I105), --('Seznam střelců'!$I105 <'Seznam střelců'!$I$7:$I$107)),\"\")","v":""},{"$f":"IF($A105<>\"\", SUMPRODUCT(--($C$7:$C$107=$C105), --($D$7:$D$107=$D105), --($E$7:$E$107=$E105), --($F$7:$F$107=$F105), --($G$7:$G$107=$G105), --($H$7:$H$107=$H105), --($I$7:$I$107=$I105), --($J$7:$J$107=$J105), --('Seznam střelců'!$H105 <'Seznam střelců'!$H$7:$H$107)),\"\")","v":""},{"$f":"IF($A105<>\"\", SUMPRODUCT(--($C$7:$C$107=$C105), --($D$7:$D$107=$D105), --($E$7:$E$107=$E105), --($F$7:$F$107=$F105), --($G$7:$G$107=$G105), --($H$7:$H$107=$H105), --($I$7:$I$107=$I105), --($J$7:$J$107=$J105), --($K$7:$K$107=$K105), --('Seznam střelců'!$G105 <'Seznam střelců'!$G$7:$G$107)),\"\")","v":""},{"$f":"IF($A105<>\"\", SUMPRODUCT(--($C$7:$C$107=$C105), --($D$7:$D$107=$D105), --($E$7:$E$107=$E105), --($F$7:$F$107=$F105), --($G$7:$G$107=$G105), --($H$7:$H$107=$H105), --($I$7:$I$107=$I105), --($J$7:$J$107=$J105), --($K$7:$K$107=$K105), --($L$7:$L$107=$L105), --('Seznam střelců'!$F105 <'Seznam střelců'!$F$7:$F$107)),\"\")","v":""},{"$f":"IF($A105<>\"\", SUMPRODUCT(--($C$7:$C$107=$C105), --($D$7:$D$107=$D105), --($E$7:$E$107=$E105), --($F$7:$F$107=$F105), --($G$7:$G$107=$G105), --($H$7:$H$107=$H105), --($I$7:$I$107=$I105),  --($J$7:$J$107=$J105), --($K$7:$K$107=$K105), --($L$7:$L$107=$L105),--($M$7:$M$107=$M105), --('Seznam střelců'!$Q105 <'Seznam střelců'!$Q$7:$Q$107)),\"\")","v":""},{"$f":"IF($A105<>\"\",\n      IF(ISBLANK('Seznam střelců'!$P105),\n         SUM($C105:$N105),\n         $C105+SUMPRODUCT(--($C$7:$C$107=$C105), --('Seznam střelců'!$Q105 <'Seznam střelců'!$Q$7:$Q$107))\n      ),\n      \"\")","v":""},{"$f":"IF(A105<>\"\",COUNTIF($O$7:$O105,$O105)-1,\"\")","v":""},{"$f":"IF(A105<>\"\",O105+P105,\"\")","v":""}]
[{"$f":"'Seznam střelců'!A106","v":""},{"$f":"IF('Seznam střelců'!C106<>\"\", 0, 'Seznam střelců'!R106)","v":""},"",{"$f":"IF($A106<>\"\", SUMPRODUCT(--($C$7:$C$107=$C106), --('Seznam střelců'!$O106 < 'Seznam střelců'!$O$7:$O$107)),\"\")","v":""},{"$f":"IF($A106<>\"\", SUMPRODUCT(--($C$7:$C$107=$C106), --($D$7:$D$107=$D106), --('Seznam střelců'!$N106 <'Seznam střelců'!$N$7:$N$107)),\"\")","v":""},{"$f":"IF($A106<>\"\", SUMPRODUCT(--($C$7:$C$107=$C106), --($D$7:$D$107=$D106), --($E$7:$E$107=$E106), --('Seznam střelců'!$M106 <'Seznam střelců'!$M$7:$M$107)),\"\")","v":""},{"$f":"IF($A106<>\"\", SUMPRODUCT(--($C$7:$C$107=$C106), --($D$7:$D$107=$D106), --($E$7:$E$107=$E106), --($F$7:$F$107=$F106), --('Seznam střelců'!$L106 <'Seznam střelců'!$L$7:$L$107)),\"\")","v":""},{"$f":"IF($A106<>\"\", SUMPRODUCT(--($C$7:$C$107=$C106), --($D$7:$D$107=$D106), --($E$7:$E$107=$E106), --($F$7:$F$107=$F106), --($G$7:$G$107=$G106), --('Seznam střelců'!$K106 <'Seznam střelců'!$K$7:$K$107)),\"\")","v":""},{"$f":"IF($A106<>\"\", SUMPRODUCT(--($C$7:$C$107=$C106), --($D$7:$D$107=$D106), --($E$7:$E$107=$E106), --($F$7:$F$107=$F106), --($G$7:$G$107=$G106), --($H$7:$H$107=$H106), --('Seznam střelců'!$J106 <'Seznam střelců'!$J$7:$J$107)),\"\")","v":""},{"$f":"IF($A106<>\"\", SUMPRODUCT(--($C$7:$C$107=$C106), --($D$7:$D$107=$D106), --($E$7:$E$107=$E106), --($F$7:$F$107=$F106), --($G$7:$G$107=$G106), --($H$7:$H$107=$H106), --($I$7:$I$107=$I106), --('Seznam střelců'!$I106 <'Seznam střelců'!$I$7:$I$107)),\"\")","v":""},{"$f":"IF($A106<>\"\", SUMPRODUCT(--($C$7:$C$107=$C106), --($D$7:$D$107=$D106), --($E$7:$E$107=$E106), --($F$7:$F$107=$F106), --($G$7:$G$107=$G106), --($H$7:$H$107=$H106), --($I$7:$I$107=$I106), --($J$7:$J$107=$J106), --('Seznam střelců'!$H106 <'Seznam střelců'!$H$7:$H$107)),\"\")","v":""},{"$f":"IF($A106<>\"\", SUMPRODUCT(--($C$7:$C$107=$C106), --($D$7:$D$107=$D106), --($E$7:$E$107=$E106), --($F$7:$F$107=$F106), --($G$7:$G$107=$G106), --($H$7:$H$107=$H106), --($I$7:$I$107=$I106), --($J$7:$J$107=$J106), --($K$7:$K$107=$K106), --('Seznam střelců'!$G106 <'Seznam střelců'!$G$7:$G$107)),\"\")","v":""},{"$f":"IF($A106<>\"\", SUMPRODUCT(--($C$7:$C$107=$C106), --($D$7:$D$107=$D106), --($E$7:$E$107=$E106), --($F$7:$F$107=$F106), --($G$7:$G$107=$G106), --($H$7:$H$107=$H106), --($I$7:$I$107=$I106), --($J$7:$J$107=$J106), --($K$7:$K$107=$K106), --($L$7:$L$107=$L106), --('Seznam střelců'!$F106 <'Seznam střelců'!$F$7:$F$107)),\"\")","v":""},{"$f":"IF($A106<>\"\", SUMPRODUCT(--($C$7:$C$107=$C106), --($D$7:$D$107=$D106), --($E$7:$E$107=$E106), --($F$7:$F$107=$F106), --($G$7:$G$107=$G106), --($H$7:$H$107=$H106), --($I$7:$I$107=$I106),  --($J$7:$J$107=$J106), --($K$7:$K$107=$K106), --($L$7:$L$107=$L106),--($M$7:$M$107=$M106), --('Seznam střelců'!$Q106 <'Seznam střelců'!$Q$7:$Q$107)),\"\")","v":""},{"$f":"IF($A106<>\"\",\n      IF(ISBLANK('Seznam střelců'!$P106),\n         SUM($C106:$N106),\n         $C106+SUMPRODUCT(--($C$7:$C$107=$C106), --('Seznam střelců'!$Q106 <'Seznam střelců'!$Q$7:$Q$107))\n      ),\n      \"\")","v":""},{"$f":"IF(A106<>\"\",COUNTIF($O$7:$O106,$O106)-1,\"\")","v":""},{"$f":"IF(A106<>\"\",O106+P106,\"\")","v":""}]
[{"$f":"'Seznam střelců'!A107","v":""},{"$f":"IF('Seznam střelců'!C107<>\"\", 0, 'Seznam střelců'!R107)","v":""},"",{"$f":"IF($A107<>\"\", SUMPRODUCT(--($C$7:$C$107=$C107), --('Seznam střelců'!$O107 < 'Seznam střelců'!$O$7:$O$107)),\"\")","v":""},{"$f":"IF($A107<>\"\", SUMPRODUCT(--($C$7:$C$107=$C107), --($D$7:$D$107=$D107), --('Seznam střelců'!$N107 <'Seznam střelců'!$N$7:$N$107)),\"\")","v":""},{"$f":"IF($A107<>\"\", SUMPRODUCT(--($C$7:$C$107=$C107), --($D$7:$D$107=$D107), --($E$7:$E$107=$E107), --('Seznam střelců'!$M107 <'Seznam střelců'!$M$7:$M$107)),\"\")","v":""},{"$f":"IF($A107<>\"\", SUMPRODUCT(--($C$7:$C$107=$C107), --($D$7:$D$107=$D107), --($E$7:$E$107=$E107), --($F$7:$F$107=$F107), --('Seznam střelců'!$L107 <'Seznam střelců'!$L$7:$L$107)),\"\")","v":""},{"$f":"IF($A107<>\"\", SUMPRODUCT(--($C$7:$C$107=$C107), --($D$7:$D$107=$D107), --($E$7:$E$107=$E107), --($F$7:$F$107=$F107), --($G$7:$G$107=$G107), --('Seznam střelců'!$K107 <'Seznam střelců'!$K$7:$K$107)),\"\")","v":""},{"$f":"IF($A107<>\"\", SUMPRODUCT(--($C$7:$C$107=$C107), --($D$7:$D$107=$D107), --($E$7:$E$107=$E107), --($F$7:$F$107=$F107), --($G$7:$G$107=$G107), --($H$7:$H$107=$H107), --('Seznam střelců'!$J107 <'Seznam střelců'!$J$7:$J$107)),\"\")","v":""},{"$f":"IF($A107<>\"\", SUMPRODUCT(--($C$7:$C$107=$C107), --($D$7:$D$107=$D107), --($E$7:$E$107=$E107), --($F$7:$F$107=$F107), --($G$7:$G$107=$G107), --($H$7:$H$107=$H107), --($I$7:$I$107=$I107), --('Seznam střelců'!$I107 <'Seznam střelců'!$I$7:$I$107)),\"\")","v":""},{"$f":"IF($A107<>\"\", SUMPRODUCT(--($C$7:$C$107=$C107), --($D$7:$D$107=$D107), --($E$7:$E$107=$E107), --($F$7:$F$107=$F107), --($G$7:$G$107=$G107), --($H$7:$H$107=$H107), --($I$7:$I$107=$I107), --($J$7:$J$107=$J107), --('Seznam střelců'!$H107 <'Seznam střelců'!$H$7:$H$107)),\"\")","v":""},{"$f":"IF($A107<>\"\", SUMPRODUCT(--($C$7:$C$107=$C107), --($D$7:$D$107=$D107), --($E$7:$E$107=$E107), --($F$7:$F$107=$F107), --($G$7:$G$107=$G107), --($H$7:$H$107=$H107), --($I$7:$I$107=$I107), --($J$7:$J$107=$J107), --($K$7:$K$107=$K107), --('Seznam střelců'!$G107 <'Seznam střelců'!$G$7:$G$107)),\"\")","v":""},{"$f":"IF($A107<>\"\", SUMPRODUCT(--($C$7:$C$107=$C107), --($D$7:$D$107=$D107), --($E$7:$E$107=$E107), --($F$7:$F$107=$F107), --($G$7:$G$107=$G107), --($H$7:$H$107=$H107), --($I$7:$I$107=$I107), --($J$7:$J$107=$J107), --($K$7:$K$107=$K107), --($L$7:$L$107=$L107), --('Seznam střelců'!$F107 <'Seznam střelců'!$F$7:$F$107)),\"\")","v":""},{"$f":"IF($A107<>\"\", SUMPRODUCT(--($C$7:$C$107=$C107), --($D$7:$D$107=$D107), --($E$7:$E$107=$E107), --($F$7:$F$107=$F107), --($G$7:$G$107=$G107), --($H$7:$H$107=$H107), --($I$7:$I$107=$I107),  --($J$7:$J$107=$J107), --($K$7:$K$107=$K107), --($L$7:$L$107=$L107),--($M$7:$M$107=$M107), --('Seznam střelců'!$Q107 <'Seznam střelců'!$Q$7:$Q$107)),\"\")","v":""},{"$f":"IF($A107<>\"\",\n      IF(ISBLANK('Seznam střelců'!$P107),\n         SUM($C107:$N107),\n         $C107+SUMPRODUCT(--($C$7:$C$107=$C107), --('Seznam střelců'!$Q107 <'Seznam střelců'!$Q$7:$Q$107))\n      ),\n      \"\")","v":""},{"$f":"IF(A107<>\"\",COUNTIF($O$7:$O107,$O107)-1,\"\")","v":""},{"$f":"IF(A107<>\"\",O107+P107,\"\")","v":""}]

{"sheet":"Pom. pořadí družstva","index":8,"n_rows":40,"n_cols":17,"rows_kept":40,"cut":false,"hidden":false,"merged":[]}
[]
["Pomocný výpočet multikriteriálního stanovení pořadí družstev."]
[]
[]
[]
[{"$f":"'Seznam družstev'!B6","v":"Číslo družstva"},{"$f":"'Seznam družstev'!C6","v":"Celkový součet"},"Hrubé pořadí",{"$f":"\"Mezivýsledek po \"&'Seznam družstev'!M$6","v":"Mezivýsledek po LK I"},{"$f":"\"Mezivýsledek po \"&'Seznam družstev'!L$6","v":"Mezivýsledek po LK II"},{"$f":"\"Mezivýsledek po \"&'Seznam družstev'!K$6","v":"Mezivýsledek po Zajíc"},{"$f":"\"Mezivýsledek po \"&'Seznam družstev'!J$6","v":"Mezivýsledek po Disc. 7"},{"$f":"\"Mezivýsledek po \"&'Seznam družstev'!I$6","v":"Mezivýsledek po Disc. 6"},{"$f":"\"Mezivýsledek po \"&'Seznam družstev'!H$6","v":"Mezivýsledek po Disc. 5"},{"$f":"\"Mezivýsledek po \"&'Seznam družstev'!G$6","v":"Mezivýsledek po Disc. 4"},{"$f":"\"Mezivýsledek po \"&'Seznam družstev'!F$6","v":"Mezivýsledek po Disc. 3"},{"$f":"\"Mezivýsledek po \"&'Seznam družstev'!E$6","v":"Mezivýsledek po Disc. 2"},{"$f":"\"Mezivýsledek po \"&'Seznam družstev'!D$6","v":"Mezivýsledek po Disc. 1"},{"$f":"\"Mezivýsledek po \"&'Seznam družstev'!N6","v":"Mezivýsledek po Rozstřel"},"Orientační průběžné pořadí","Opakovací index při shodě","Umělé pořadí bez duplicit"]
[{"$f":"'Seznam družstev'!B7","v":""},{"$f":"IF('Seznam družstev'!P7<>\"\", 0,'Seznam družstev'!C7)","v":""},{"$f":"IF(A7<>\"\",RANK(B7,$B$7:$B$40),\"\")","v":""},{"$f":"IF(A7<>\"\",SUMPRODUCT(--($C$7:$C$40=$C7),--('Seznam družstev'!$M7 <'Seznam družstev'!$M$7:$M$40)),\"\")","v":""},{"$f":"IF(B7<>\"\",SUMPRODUCT(--($C$7:$C$40=$C7),--($D$7:$D$40=$D7),--('Seznam družstev'!$L7 <'Seznam družstev'!$L$7:$L$40)),\"\")","v":""},{"$f":"IF(C7<>\"\",SUMPRODUCT(--($C$7:$C$40=$C7),--($D$7:$D$40=$D7),--($E$7:$E$40=$E7),--('Seznam družstev'!$K7 <'Seznam družstev'!$K$7:$K$40)),\"\")","v":""},{"$f":"IF(D7<>\"\",SUMPRODUCT(--($C$7:$C$40=$C7),--($D$7:$D$40=$D7),--($E$7:$E$40=$E7),--($F$7:$F$40=$F7),--('Seznam družstev'!$J7 <'Seznam družstev'!$J$7:$J$40)),\"\")","v":""},{"$f":"IF(E7<>\"\",SUMPRODUCT(--($C$7:$C$40=$C7),--($D$7:$D$40=$D7),--($E$7:$E$40=$E7),--($F$7:$F$40=$F7),--($G$7:$G$40=$G7),--('Seznam družstev'!$I7 <'Seznam družstev'!$I$7:$I$40)),\"\")","v":""},{"$f":"IF(E7<>\"\",SUMPRODUCT(--($C$7:$C$40=$C7),--($D$7:$D$40=$D7),--($E$7:$E$40=$E7),--($F$7:$F$40=$F7),--($G$7:$G$40=$G7),--($H$7:$H$40=$H7),--('Seznam družstev'!$H7 <'Seznam družstev'!$H$7:$H$40)),\"\")","v":""},{"$f":"IF(E7<>\"\",SUMPRODUCT(--($C$7:$C$40=$C7),--($D$7:$D$40=$D7),--($E$7:$E$40=$E7),--($F$7:$F$40=$F7),--($G$7:$G$40=$G7),--($H$7:$H$40=$H7),--($I$7:$I$40=$I7),--('Seznam družstev'!$G7 <'Seznam družstev'!$G$7:$G$40)),\"\")","v":""},{"$f":"IF(F7<>\"\",SUMPRODUCT(--($C$7:$C$40=$C7),--($D$7:$D$40=$D7),--($E$7:$E$40=$E7),--($F$7:$F$40=$F7),--($G$7:$G$40=$G7),--($H$7:$H$40=$H7),--($I$7:$I$40=$I7),--($J$7:$J$40=$J7), --('Seznam družstev'!$F7 <'Seznam družstev'!$F$7:$F$40)),\"\")","v":""},{"$f":"IF(F7<>\"\",SUMPRODUCT(--($C$7:$C$40=$C7),--($D$7:$D$40=$D7),--($E$7:$E$40=$E7),--($F$7:$F$40=$F7),--($G$7:$G$40=$G7),--($H$7:$H$40=$H7),--($I$7:$I$40=$I7),--($J$7:$J$40=$J7),--($K$7:$K$40=$K7), --('Seznam družstev'!$E7 <'Seznam družstev'!$E$7:$E$40)),\"\")","v":""},{"$f":"IF(F7<>\"\",SUMPRODUCT(--($C$7:$C$40=$C7),--($D$7:$D$40=$D7),--($E$7:$E$40=$E7),--($F$7:$F$40=$F7),--($G$7:$G$40=$G7),--($H$7:$H$40=$H7),--($I$7:$I$40=$I7),--($J$7:$J$40=$J7),--($K$7:$K$40=$K7),--($L$7:$L$40=$L7), --('Seznam družstev'!$D7 <'Seznam družstev'!$D$7:$D$40)),\"\")","v":""},{"$f":"IF(F7<>\"\",SUMPRODUCT(--($C$7:$C$40=$C7),--($D$7:$D$40=$D7),--($E$7:$E$40=$E7),--($F$7:$F$40=$F7),--($G$7:$G$40=$G7),--($H$7:$H$40=$H7),--($I$7:$I$40=$I7),--($J$7:$J$40=$J7),--($K$7:$K$40=$K7),--($L$7:$L$40=$L7), --($M$7:$M$40=$M7), --('Seznam družstev'!$N7 <'Seznam družstev'!$N$7:$N$40)),\"\")","v":""},{"$f":"IF(A7<>\"\",SUM(C7:N7),\"\")","v":""},{"$f":"IF(A7<>\"\",COUNTIF($O$7:$O7,$O7)-1,\"\")","v":""},{"$f":"IF(A7<>\"\",O7+P7,\"\")","v":""}]
[{"$f":"'Seznam družstev'!B8","v":""},{"$f":"IF('Seznam družstev'!P8<>\"\", 0,'Seznam družstev'!C8)","v":""},{"$f":"IF(A8<>\"\",RANK(B8,$B$7:$B$40),\"\")","v":""},{"$f":"IF(A8<>\"\",SUMPRODUCT(--($C$7:$C$40=$C8),--('Seznam družstev'!$M8 <'Seznam družstev'!$M$7:$M$40)),\"\")","v":""},{"$f":"IF(B8<>\"\",SUMPRODUCT(--($C$7:$C$40=$C8),--($D$7:$D$40=$D8),--('Seznam družstev'!$L8 <'Seznam družstev'!$L$7:$L$40)),\"\")","v":""},{"$f":"IF(C8<>\"\",SUMPRODUCT(--($C$7:$C$40=$C8),--($D$7:$D$40=$D8),--($E$7:$E$40=$E8),--('Seznam družstev'!$K8 <'Seznam družstev'!$K$7:$K$40)),\"\")","v":""},{"$f":"IF(D8<>\"\",SUMPRODUCT(--($C$7:$C$40=$C8),--($D$7:$D$40=$D8),--($E$7:$E$40=$E8),--($F$7:$F$40=$F8),--('Seznam družstev'!$J8 <'Seznam družstev'!$J$7:$J$40)),\"\")","v":""},{"$f":"IF(E8<>\"\",SUMPRODUCT(--($C$7:$C$40=$C8),--($D$7:$D$40=$D8),--($E$7:$E$40=$E8),--($F$7:$F$40=$F8),--($G$7:$G$40=$G8),--('Seznam družstev'!$I8 <'Seznam družstev'!$I$7:$I$40)),\"\")","v":""},{"$f":"IF(E8<>\"\",SUMPRODUCT(--($C$7:$C$40=$C8),--($D$7:$D$40=$D8),--($E$7:$E$40=$E8),--($F$7:$F$40=$F8),--($G$7:$G$40=$G8),--($H$7:$H$40=$H8),--('Seznam družstev'!$H8 <'Seznam družstev'!$H$7:$H$40)),\"\")","v":""},{"$f":"IF(E8<>\"\",SUMPRODUCT(--($C$7:$C$40=$C8),--($D$7:$D$40=$D8),--($E$7:$E$40=$E8),--($F$7:$F$40=$F8),--($G$7:$G$40=$G8),--($H$7:$H$40=$H8),--($I$7:$I$40=$I8),--('Seznam družstev'!$G8 <'Seznam družstev'!$G$7:$G$40)),\"\")","v":""},{"$f":"IF(F8<>\"\",SUMPRODUCT(--($C$7:$C$40=$C8),--($D$7:$D$40=$D8),--($E$7:$E$40=$E8),--($F$7:$F$40=$F8),--($G$7:$G$40=$G8),--($H$7:$H$40=$H8),--($I$7:$I$40=$I8),--($J$7:$J$40=$J8), --('Seznam družstev'!$F8 <'Seznam družstev'!$F$7:$F$40)),\"\")","v":""},{"$f":"IF(F8<>\"\",SUMPRODUCT(--($C$7:$C$40=$C8),--($D$7:$D$40=$D8),--($E$7:$E$40=$E8),--($F$7:$F$40=$F8),--($G$7:$G$40=$G8),--($H$7:$H$40=$H8),--($I$7:$I$40=$I8),--($J$7:$J$40=$J8),--($K$7:$K$40=$K8), --('Seznam družstev'!$E8 <'Seznam družstev'!$E$7:$E$40)),\"\")","v":""},{"$f":"IF(F8<>\"\",SUMPRODUCT(--($C$7:$C$40=$C8),--($D$7:$D$40=$D8),--($E$7:$E$40=$E8),--($F$7:$F$40=$F8),--($G$7:$G$40=$G8),--($H$7:$H$40=$H8),--($I$7:$I$40=$I8),--($J$7:$J$40=$J8),--($K$7:$K$40=$K8),--($L$7:$L$40=$L8), --('Seznam družstev'!$D8 <'Seznam družstev'!$D$7:$D$40)),\"\")","v":""},{"$f":"IF(F8<>\"\",SUMPRODUCT(--($C$7:$C$40=$C8),--($D$7:$D$40=$D8),--($E$7:$E$40=$E8),--($F$7:$F$40=$F8),--($G$7:$G$40=$G8),--($H$7:$H$40=$H8),--($I$7:$I$40=$I8),--($J$7:$J$40=$J8),--($K$7:$K$40=$K8),--($L$7:$L$40=$L8), --($M$7:$M$40=$M8), --('Seznam družstev'!$N8 <'Seznam družstev'!$N$7:$N$40)),\"\")","v":""},{"$f":"IF(A8<>\"\",SUM(C8:N8),\"\")","v":""},{"$f":"IF(A8<>\"\",COUNTIF($O$7:$O8,$O8)-1,\"\")","v":""},{"$f":"IF(A8<>\"\",O8+P8,\"\")","v":""}]
[{"$f":"'Seznam družstev'!B9","v":""},{"$f":"IF('Seznam družstev'!P9<>\"\", 0,'Seznam družstev'!C9)","v":""},"",{"$f":"IF(A9<>\"\",SUMPRODUCT(--($C$7:$C$40=$C9),--('Seznam družstev'!$M9 <'Seznam družstev'!$M$7:$M$40)),\"\")","v":""},{"$f":"IF(B9<>\"\",SUMPRODUCT(--($C$7:$C$40=$C9),--($D$7:$D$40=$D9),--('Seznam družstev'!$L9 <'Seznam družstev'!$L$7:$L$40)),\"\")","v":""},{"$f":"IF(C9<>\"\",SUMPRODUCT(--($C$7:$C$40=$C9),--($D$7:$D$40=$D9),--($E$7:$E$40=$E9),--('Seznam družstev'!$K9 <'Seznam družstev'!$K$7:$K$40)),\"\")","v":""},{"$f":"IF(D9<>\"\",SUMPRODUCT(--($C$7:$C$40=$C9),--($D$7:$D$40=$D9),--($E$7:$E$40=$E9),--($F$7:$F$40=$F9),--('Seznam družstev'!$J9 <'Seznam družstev'!$J$7:$J$40)),\"\")","v":""},{"$f":"IF(E9<>\"\",SUMPRODUCT(--($C$7:$C$40=$C9),--($D$7:$D$40=$D9),--($E$7:$E$40=$E9),--($F$7:$F$40=$F9),--($G$7:$G$40=$G9),--('Seznam družstev'!$I9 <'Seznam družstev'!$I$7:$I$40)),\"\")","v":""},{"$f":"IF(E9<>\"\",SUMPRODUCT(--($C$7:$C$40=$C9),--($D$7:$D$40=$D9),--($E$7:$E$40=$E9),--($F$7:$F$40=$F9),--($G$7:$G$40=$G9),--($H$7:$H$40=$H9),--('Seznam družstev'!$H9 <'Seznam družstev'!$H$7:$H$40)),\"\")","v":""},{"$f":"IF(E9<>\"\",SUMPRODUCT(--($C$7:$C$40=$C9),--($D$7:$D$40=$D9),--($E$7:$E$40=$E9),--($F$7:$F$40=$F9),--($G$7:$G$40=$G9),--($H$7:$H$40=$H9),--($I$7:$I$40=$I9),--('Seznam družstev'!$G9 <'Seznam družstev'!$G$7:$G$40)),\"\")","v":""},{"$f":"IF(F9<>\"\",SUMPRODUCT(--($C$7:$C$40=$C9),--($D$7:$D$40=$D9),--($E$7:$E$40=$E9),--($F$7:$F$40=$F9),--($G$7:$G$40=$G9),--($H$7:$H$40=$H9),--($I$7:$I$40=$I9),--($J$7:$J$40=$J9), --('Seznam družstev'!$F9 <'Seznam družstev'!$F$7:$F$40)),\"\")","v":""},{"$f":"IF(F9<>\"\",SUMPRODUCT(--($C$7:$C$40=$C9),--($D$7:$D$40=$D9),--($E$7:$E$40=$E9),--($F$7:$F$40=$F9),--($G$7:$G$40=$G9),--($H$7:$H$40=$H9),--($I$7:$I$40=$I9),--($J$7:$J$40=$J9),--($K$7:$K$40=$K9), --('Seznam družstev'!$E9 <'Seznam družstev'!$E$7:$E$40)),\"\")","v":""},{"$f":"IF(F9<>\"\",SUMPRODUCT(--($C$7:$C$40=$C9),--($D$7:$D$40=$D9),--($E$7:$E$40=$E9),--($F$7:$F$40=$F9),--($G$7:$G$40=$G9),--($H$7:$H$40=$H9),--($I$7:$I$40=$I9),--($J$7:$J$40=$J9),--($K$7:$K$40=$K9),--($L$7:$L$40=$L9), --('Seznam družstev'!$D9 <'Seznam družstev'!$D$7:$D$40)),\"\")","v":""},{"$f":"IF(F9<>\"\",SUMPRODUCT(--($C$7:$C$40=$C9),--($D$7:$D$40=$D9),--($E$7:$E$40=$E9),--($F$7:$F$40=$F9),--($G$7:$G$40=$G9),--($H$7:$H$40=$H9),--($I$7:$I$40=$I9),--($J$7:$J$40=$J9),--($K$7:$K$40=$K9),--($L$7:$L$40=$L9), --($M$7:$M$40=$M9), --('Seznam družstev'!$N9 <'Seznam družstev'!$N$7:$N$40)),\"\")","v":""},"",{"$f":"IF(A9<>\"\",COUNTIF($O$7:$O9,$O9)-1,\"\")","v":""},""]
[{"$f":"'Seznam družstev'!B10","v":""},{"$f":"IF('Seznam družstev'!P10<>\"\", 0,'Seznam družstev'!C10)","v":""},"",{"$f":"IF(A10<>\"\",SUMPRODUCT(--($C$7:$C$40=$C10),--('Seznam družstev'!$M10 <'Seznam družstev'!$M$7:$M$40)),\"\")","v":""},{"$f":"IF(B10<>\"\",SUMPRODUCT(--($C$7:$C$40=$C10),--($D$7:$D$40=$D10),--('Seznam družstev'!$L10 <'Seznam družstev'!$L$7:$L$40)),\"\")","v":""},{"$f":"IF(C10<>\"\",SUMPRODUCT(--($C$7:$C$40=$C10),--($D$7:$D$40=$D10),--($E$7:$E$40=$E10),--('Seznam družstev'!$K10 <'Seznam družstev'!$K$7:$K$40)),\"\")","v":""},{"$f":"IF(D10<>\"\",SUMPRODUCT(--($C$7:$C$40=$C10),--($D$7:$D$40=$D10),--($E$7:$E$40=$E10),--($F$7:$F$40=$F10),--('Seznam družstev'!$J10 <'Seznam družstev'!$J$7:$J$40)),\"\")","v":""},{"$f":"IF(E10<>\"\",SUMPRODUCT(--($C$7:$C$40=$C10),--($D$7:$D$40=$D10),--($E$7:$E$40=$E10),--($F$7:$F$40=$F10),--($G$7:$G$40=$G10),--('Seznam družstev'!$I10 <'Seznam družstev'!$I$7:$I$40)),\"\")","v":""},{"$f":"IF(E10<>\"\",SUMPRODUCT(--($C$7:$C$40=$C10),--($D$7:$D$40=$D10),--($E$7:$E$40=$E10),--($F$7:$F$40=$F10),--($G$7:$G$40=$G10),--($H$7:$H$40=$H10),--('Seznam družstev'!$H10 <'Seznam družstev'!$H$7:$H$40)),\"\")","v":""},{"$f":"IF(E10<>\"\",SUMPRODUCT(--($C$7:$C$40=$C10),--($D$7:$D$40=$D10),--($E$7:$E$40=$E10),--($F$7:$F$40=$F10),--($G$7:$G$40=$G10),--($H$7:$H$40=$H10),--($I$7:$I$40=$I10),--('Seznam družstev'!$G10 <'Seznam družstev'!$G$7:$G$40)),\"\")","v":""},{"$f":"IF(F10<>\"\",SUMPRODUCT(--($C$7:$C$40=$C10),--($D$7:$D$40=$D10),--($E$7:$E$40=$E10),--($F$7:$F$40=$F10),--($G$7:$G$40=$G10),--($H$7:$H$40=$H10),--($I$7:$I$40=$I10),--($J$7:$J$40=$J10), --('Seznam družstev'!$F10 <'Seznam družstev'!$F$7:$F$40)),\"\")","v":""},{"$f":"IF(F10<>\"\",SUMPRODUCT(--($C$7:$C$40=$C10),--($D$7:$D$40=$D10),--($E$7:$E$40=$E10),--($F$7:$F$40=$F10),--($G$7:$G$40=$G10),--($H$7:$H$40=$H10),--($I$7:$I$40=$I10),--($J$7:$J$40=$J10),--($K$7:$K$40=$K10), --('Seznam družstev'!$E10 <'Seznam družstev'!$E$7:$E$40)),\"\")","v":""},{"$f":"IF(F10<>\"\",SUMPRODUCT(--($C$7:$C$40=$C10),--($D$7:$D$40=$D10),--($E$7:$E$40=$E10),--($F$7:$F$40=$F10),--($G$7:$G$40=$G10),--($H$7:$H$40=$H10),--($I$7:$I$40=$I10),--($J$7:$J$40=$J10),--($K$7:$K$40=$K10),--($L$7:$L$40=$L10), --('Seznam družstev'!$D10 <'Seznam družstev'!$D$7:$D$40)),\"\")","v":""},{"$f":"IF(F10<>\"\",SUMPRODUCT(--($C$7:$C$40=$C10),--($D$7:$D$40=$D10),--($E$7:$E$40=$E10),--($F$7:$F$40=$F10),--($G$7:$G$40=$G10),--($H$7:$H$40=$H10),--($I$7:$I$40=$I10),--($J$7:$J$40=$J10),--($K$7:$K$40=$K10),--($L$7:$L$40=$L10), --($M$7:$M$40=$M10), --('Seznam družstev'!$N10 <'Seznam družstev'!$N$7:$N$40)),\"\")","v":""},"",{"$f":"IF(A10<>\"\",COUNTIF($O$7:$O10,$O10)-1,\"\")","v":""},""]
[{"$f":"'Seznam družstev'!B11","v":""},{"$f":"IF('Seznam družstev'!P11<>\"\", 0,'Seznam družstev'!C11)","v":""},"",{"$f":"IF(A11<>\"\",SUMPRODUCT(--($C$7:$C$40=$C11),--('Seznam družstev'!$M11 <'Seznam družstev'!$M$7:$M$40)),\"\")","v":""},{"$f":"IF(B11<>\"\",SUMPRODUCT(--($C$7:$C$40=$C11),--($D$7:$D$40=$D11),--('Seznam družstev'!$L11 <'Seznam družstev'!$L$7:$L$40)),\"\")","v":""},{"$f":"IF(C11<>\"\",SUMPRODUCT(--($C$7:$C$40=$C11),--($D$7:$D$40=$D11),--($E$7:$E$40=$E11),--('Seznam družstev'!$K11 <'Seznam družstev'!$K$7:$K$40)),\"\")","v":""},{"$f":"IF(D11<>\"\",SUMPRODUCT(--($C$7:$C$40=$C11),--($D$7:$D$40=$D11),--($E$7:$E$40=$E11),--($F$7:$F$40=$F11),--('Seznam družstev'!$J11 <'Seznam družstev'!$J$7:$J$40)),\"\")","v":""},{"$f":"IF(E11<>\"\",SUMPRODUCT(--($C$7:$C$40=$C11),--($D$7:$D$40=$D11),--($E$7:$E$40=$E11),--($F$7:$F$40=$F11),--($G$7:$G$40=$G11),--('Seznam družstev'!$I11 <'Seznam družstev'!$I$7:$I$40)),\"\")","v":""},{"$f":"IF(E11<>\"\",SUMPRODUCT(--($C$7:$C$40=$C11),--($D$7:$D$40=$D11),--($E$7:$E$40=$E11),--($F$7:$F$40=$F11),--($G$7:$G$40=$G11),--($H$7:$H$40=$H11),--('Seznam družstev'!$H11 <'Seznam družstev'!$H$7:$H$40)),\"\")","v":""},{"$f":"IF(E11<>\"\",SUMPRODUCT(--($C$7:$C$40=$C11),--($D$7:$D$40=$D11),--($E$7:$E$40=$E11),--($F$7:$F$40=$F11),--($G$7:$G$40=$G11),--($H$7:$H$40=$H11),--($I$7:$I$40=$I11),--('Seznam družstev'!$G11 <'Seznam družstev'!$G$7:$G$40)),\"\")","v":""},{"$f":"IF(F11<>\"\",SUMPRODUCT(--($C$7:$C$40=$C11),--($D$7:$D$40=$D11),--($E$7:$E$40=$E11),--($F$7:$F$40=$F11),--($G$7:$G$40=$G11),--($H$7:$H$40=$H11),--($I$7:$I$40=$I11),--($J$7:$J$40=$J11), --('Seznam družstev'!$F11 <'Seznam družstev'!$F$7:$F$40)),\"\")","v":""},{"$f":"IF(F11<>\"\",SUMPRODUCT(--($C$7:$C$40=$C11),--($D$7:$D$40=$D11),--($E$7:$E$40=$E11),--($F$7:$F$40=$F11),--($G$7:$G$40=$G11),--($H$7:$H$40=$H11),--($I$7:$I$40=$I11),--($J$7:$J$40=$J11),--($K$7:$K$40=$K11), --('Seznam družstev'!$E11 <'Seznam družstev'!$E$7:$E$40)),\"\")","v":""},{"$f":"IF(F11<>\"\",SUMPRODUCT(--($C$7:$C$40=$C11),--($D$7:$D$40=$D11),--($E$7:$E$40=$E11),--($F$7:$F$40=$F11),--($G$7:$G$40=$G11),--($H$7:$H$40=$H11),--($I$7:$I$40=$I11),--($J$7:$J$40=$J11),--($K$7:$K$40=$K11),--($L$7:$L$40=$L11), --('Seznam družstev'!$D11 <'Seznam družstev'!$D$7:$D$40)),\"\")","v":""},{"$f":"IF(F11<>\"\",SUMPRODUCT(--($C$7:$C$40=$C11),--($D$7:$D$40=$D11),--($E$7:$E$40=$E11),--($F$7:$F$40=$F11),--($G$7:$G$40=$G11),--($H$7:$H$40=$H11),--($I$7:$I$40=$I11),--($J$7:$J$40=$J11),--($K$7:$K$40=$K11),--($L$7:$L$40=$L11), --($M$7:$M$40=$M11), --('Seznam družstev'!$N11 <'Seznam družstev'!$N$7:$N$40)),\"\")","v":""},"",{"$f":"IF(A11<>\"\",COUNTIF($O$7:$O11,$O11)-1,\"\")","v":""},""]
[{"$f":"'Seznam družstev'!B12","v":""},{"$f":"IF('Seznam družstev'!P12<>\"\", 0,'Seznam družstev'!C12)","v":""},"",{"$f":"IF(A12<>\"\",SUMPRODUCT(--($C$7:$C$40=$C12),--('Seznam družstev'!$M12 <'Seznam družstev'!$M$7:$M$40)),\"\")","v":""},{"$f":"IF(B12<>\"\",SUMPRODUCT(--($C$7:$C$40=$C12),--($D$7:$D$40=$D12),--('Seznam družstev'!$L12 <'Seznam družstev'!$L$7:$L$40)),\"\")","v":""},{"$f":"IF(C12<>\"\",SUMPRODUCT(--($C$7:$C$40=$C12),--($D$7:$D$40=$D12),--($E$7:$E$40=$E12),--('Seznam družstev'!$K12 <'Seznam družstev'!$K$7:$K$40)),\"\")","v":""},{"$f":"IF(D12<>\"\",SUMPRODUCT(--($C$7:$C$40=$C12),--($D$7:$D$40=$D12),--($E$7:$E$40=$E12),--($F$7:$F$40=$F12),--('Seznam družstev'!$J12 <'Seznam družstev'!$J$7:$J$40)),\"\")","v":""},{"$f":"IF(E12<>\"\",SUMPRODUCT(--($C$7:$C$40=$C12),--($D$7:$D$40=$D12),--($E$7:$E$40=$E12),--($F$7:$F$40=$F12),--($G$7:$G$40=$G12),--('Seznam družstev'!$I12 <'Seznam družstev'!$I$7:$I$40)),\"\")","v":""},{"$f":"IF(E12<>\"\",SUMPRODUCT(--($C$7:$C$40=$C12),--($D$7:$D$40=$D12),--($E$7:$E$40=$E12),--($F$7:$F$40=$F12),--($G$7:$G$40=$G12),--($H$7:$H$40=$H12),--('Seznam družstev'!$H12 <'Seznam družstev'!$H$7:$H$40)),\"\")","v":""},{"$f":"IF(E12<>\"\",SUMPRODUCT(--($C$7:$C$40=$C12),--($D$7:$D$40=$D12),--($E$7:$E$40=$E12),--($F$7:$F$40=$F12),--($G$7:$G$40=$G12),--($H$7:$H$40=$H12),--($I$7:$I$40=$I12),--('Seznam družstev'!$G12 <'Seznam družstev'!$G$7:$G$40)),\"\")","v":""},{"$f":"IF(F12<>\"\",SUMPRODUCT(--($C$7:$C$40=$C12),--($D$7:$D$40=$D12),--($E$7:$E$40=$E12),--($F$7:$F$40=$F12),--($G$7:$G$40=$G12),--($H$7:$H$40=$H12),--($I$7:$I$40=$I12),--($J$7:$J$40=$J12), --('Seznam družstev'!$F12 <'Seznam družstev'!$F$7:$F$40)),\"\")","v":""},{"$f":"IF(F12<>\"\",SUMPRODUCT(--($C$7:$C$40=$C12),--($D$7:$D$40=$D12),--($E$7:$E$40=$E12),--($F$7:$F$40=$F12),--($G$7:$G$40=$G12),--($H$7:$H$40=$H12),--($I$7:$I$40=$I12),--($J$7:$J$40=$J12),--($K$7:$K$40=$K12), --('Seznam družstev'!$E12 <'Seznam družstev'!$E$7:$E$40)),\"\")","v":""},{"$f":"IF(F12<>\"\",SUMPRODUCT(--($C$7:$C$40=$C12),--($D$7:$D$40=$D12),--($E$7:$E$40=$E12),--($F$7:$F$40=$F12),--($G$7:$G$40=$G12),--($H$7:$H$40=$H12),--($I$7:$I$40=$I12),--($J$7:$J$40=$J12),--($K$7:$K$40=$K12),--($L$7:$L$40=$L12), --('Seznam družstev'!$D12 <'Seznam družstev'!$D$7:$D$40)),\"\")","v":""},{"$f":"IF(F12<>\"\",SUMPRODUCT(--($C$7:$C$40=$C12),--($D$7:$D$40=$D12),--($E$7:$E$40=$E12),--($F$7:$F$40=$F12),--($G$7:$G$40=$G12),--($H$7:$H$40=$H12),--($I$7:$I$40=$I12),--($J$7:$J$40=$J12),--($K$7:$K$40=$K12),--($L$7:$L$40=$L12), --($M$7:$M$40=$M12), --('Seznam družstev'!$N12 <'Seznam družstev'!$N$7:$N$40)),\"\")","v":""},"",{"$f":"IF(A12<>\"\",COUNTIF($O$7:$O12,$O12)-1,\"\")","v":""},""]
[{"$f":"'Seznam družstev'!B13","v":""},{"$f":"IF('Seznam družstev'!P13<>\"\", 0,'Seznam družstev'!C13)","v":""},"",{"$f":"IF(A13<>\"\",SUMPRODUCT(--($C$7:$C$40=$C13),--('Seznam družstev'!$M13 <'Seznam družstev'!$M$7:$M$40)),\"\")","v":""},{"$f":"IF(B13<>\"\",SUMPRODUCT(--($C$7:$C$40=$C13),--($D$7:$D$40=$D13),--('Seznam družstev'!$L13 <'Seznam družstev'!$L$7:$L$40)),\"\")","v":""},{"$f":"IF(C13<>\"\",SUMPRODUCT(--($C$7:$C$40=$C13),--($D$7:$D$40=$D13),--($E$7:$E$40=$E13),--('Seznam družstev'!$K13 <'Seznam družstev'!$K$7:$K$40)),\"\")","v":""},{"$f":"IF(D13<>\"\",SUMPRODUCT(--($C$7:$C$40=$C13),--($D$7:$D$40=$D13),--($E$7:$E$40=$E13),--($F$7:$F$40=$F13),--('Seznam družstev'!$J13 <'Seznam družstev'!$J$7:$J$40)),\"\")","v":""},{"$f":"IF(E13<>\"\",SUMPRODUCT(--($C$7:$C$40=$C13),--($D$7:$D$40=$D13),--($E$7:$E$40=$E13),--($F$7:$F$40=$F13),--($G$7:$G$40=$G13),--('Seznam družstev'!$I13 <'Seznam družstev'!$I$7:$I$40)),\"\")","v":""},{"$f":"IF(E13<>\"\",SUMPRODUCT(--($C$7:$C$40=$C13),--($D$7:$D$40=$D13),--($E$7:$E$40=$E13),--($F$7:$F$40=$F13),--($G$7:$G$40=$G13),--($H$7:$H$40=$H13),--('Seznam družstev'!$H13 <'Seznam družstev'!$H$7:$H$40)),\"\")","v":""},{"$f":"IF(E13<>\"\",SUMPRODUCT(--($C$7:$C$40=$C13),--($D$7:$D$40=$D13),--($E$7:$E$40=$E13),--($F$7:$F$40=$F13),--($G$7:$G$40=$G13),--($H$7:$H$40=$H13),--($I$7:$I$40=$I13),--('Seznam družstev'!$G13 <'Seznam družstev'!$G$7:$G$40)),\"\")","v":""},{"$f":"IF(F13<>\"\",SUMPRODUCT(--($C$7:$C$40=$C13),--($D$7:$D$40=$D13),--($E$7:$E$40=$E13),--($F$7:$F$40=$F13),--($G$7:$G$40=$G13),--($H$7:$H$40=$H13),--($I$7:$I$40=$I13),--($J$7:$J$40=$J13), --('Seznam družstev'!$F13 <'Seznam družstev'!$F$7:$F$40)),\"\")","v":""},{"$f":"IF(F13<>\"\",SUMPRODUCT(--($C$7:$C$40=$C13),--($D$7:$D$40=$D13),--($E$7:$E$40=$E13),--($F$7:$F$40=$F13),--($G$7:$G$40=$G13),--($H$7:$H$40=$H13),--($I$7:$I$40=$I13),--($J$7:$J$40=$J13),--($K$7:$K$40=$K13), --('Seznam družstev'!$E13 <'Seznam družstev'!$E$7:$E$40)),\"\")","v":""},{"$f":"IF(F13<>\"\",SUMPRODUCT(--($C$7:$C$40=$C13),--($D$7:$D$40=$D13),--($E$7:$E$40=$E13),--($F$7:$F$40=$F13),--($G$7:$G$40=$G13),--($H$7:$H$40=$H13),--($I$7:$I$40=$I13),--($J$7:$J$40=$J13),--($K$7:$K$40=$K13),--($L$7:$L$40=$L13), --('Seznam družstev'!$D13 <'Seznam družstev'!$D$7:$D$40)),\"\")","v":""},{"$f":"IF(F13<>\"\",SUMPRODUCT(--($C$7:$C$40=$C13),--($D$7:$D$40=$D13),--($E$7:$E$40=$E13),--($F$7:$F$40=$F13),--($G$7:$G$40=$G13),--($H$7:$H$40=$H13),--($I$7:$I$40=$I13),--($J$7:$J$40=$J13),--($K$7:$K$40=$K13),--($L$7:$L$40=$L13), --($M$7:$M$40=$M13), --('Seznam družstev'!$N13 <'Seznam družstev'!$N$7:$N$40)),\"\")","v":""},"",{"$f":"IF(A13<>\"\",COUNTIF($O$7:$O13,$O13)-1,\"\")","v":""},""]
[{"$f":"'Seznam družstev'!B14","v":""},{"$f":"IF('Seznam družstev'!P14<>\"\", 0,'Seznam družstev'!C14)","v":""},"",{"$f":"IF(A14<>\"\",SUMPRODUCT(--($C$7:$C$40=$C14),--('Seznam družstev'!$M14 <'Seznam družstev'!$M$7:$M$40)),\"\")","v":""},{"$f":"IF(B14<>\"\",SUMPRODUCT(--($C$7:$C$40=$C14),--($D$7:$D$40=$D14),--('Seznam družstev'!$L14 <'Seznam družstev'!$L$7:$L$40)),\"\")","v":""},{"$f":"IF(C14<>\"\",SUMPRODUCT(--($C$7:$C$40=$C14),--($D$7:$D$40=$D14),--($E$7:$E$40=$E14),--('Seznam družstev'!$K14 <'Seznam družstev'!$K$7:$K$40)),\"\")","v":""},{"$f":"IF(D14<>\"\",SUMPRODUCT(--($C$7:$C$40=$C14),--($D$7:$D$40=$D14),--($E$7:$E$40=$E14),--($F$7:$F$40=$F14),--('Seznam družstev'!$J14 <'Seznam družstev'!$J$7:$J$40)),\"\")","v":""},{"$f":"IF(E14<>\"\",SUMPRODUCT(--($C$7:$C$40=$C14),--($D$7:$D$40=$D14),--($E$7:$E$40=$E14),--($F$7:$F$40=$F14),--($G$7:$G$40=$G14),--('Seznam družstev'!$I14 <'Seznam družstev'!$I$7:$I$40)),\"\")","v":""},{"$f":"IF(E14<>\"\",SUMPRODUCT(--($C$7:$C$40=$C14),--($D$7:$D$40=$D14),--($E$7:$E$40=$E14),--($F$7:$F$40=$F14),--($G$7:$G$40=$G14),--($H$7:$H$40=$H14),--('Seznam družstev'!$H14 <'Seznam družstev'!$H$7:$H$40)),\"\")","v":""},{"$f":"IF(E14<>\"\",SUMPRODUCT(--($C$7:$C$40=$C14),--($D$7:$D$40=$D14),--($E$7:$E$40=$E14),--($F$7:$F$40=$F14),--($G$7:$G$40=$G14),--($H$7:$H$40=$H14),--($I$7:$I$40=$I14),--('Seznam družstev'!$G14 <'Seznam družstev'!$G$7:$G$40)),\"\")","v":""},{"$f":"IF(F14<>\"\",SUMPRODUCT(--($C$7:$C$40=$C14),--($D$7:$D$40=$D14),--($E$7:$E$40=$E14),--($F$7:$F$40=$F14),--($G$7:$G$40=$G14),--($H$7:$H$40=$H14),--($I$7:$I$40=$I14),--($J$7:$J$40=$J14), --('Seznam družstev'!$F14 <'Seznam družstev'!$F$7:$F$40)),\"\")","v":""},{"$f":"IF(F14<>\"\",SUMPRODUCT(--($C$7:$C$40=$C14),--($D$7:$D$40=$D14),--($E$7:$E$40=$E14),--($F$7:$F$40=$F14),--($G$7:$G$40=$G14),--($H$7:$H$40=$H14),--($I$7:$I$40=$I14),--($J$7:$J$40=$J14),--($K$7:$K$40=$K14), --('Seznam družstev'!$E14 <'Seznam družstev'!$E$7:$E$40)),\"\")","v":""},{"$f":"IF(F14<>\"\",SUMPRODUCT(--($C$7:$C$40=$C14),--($D$7:$D$40=$D14),--($E$7:$E$40=$E14),--($F$7:$F$40=$F14),--($G$7:$G$40=$G14),--($H$7:$H$40=$H14),--($I$7:$I$40=$I14),--($J$7:$J$40=$J14),--($K$7:$K$40=$K14),--($L$7:$L$40=$L14), --('Seznam družstev'!$D14 <'Seznam družstev'!$D$7:$D$40)),\"\")","v":""},{"$f":"IF(F14<>\"\",SUMPRODUCT(--($C$7:$C$40=$C14),--($D$7:$D$40=$D14),--($E$7:$E$40=$E14),--($F$7:$F$40=$F14),--($G$7:$G$40=$G14),--($H$7:$H$40=$H14),--($I$7:$I$40=$I14),--($J$7:$J$40=$J14),--($K$7:$K$40=$K14),--($L$7:$L$40=$L14), --($M$7:$M$40=$M14), --('Seznam družstev'!$N14 <'Seznam družstev'!$N$7:$N$40)),\"\")","v":""},"",{"$f":"IF(A14<>\"\",COUNTIF($O$7:$O14,$O14)-1,\"\")","v":""},""]
[{"$f":"'Seznam družstev'!B15","v":""},{"$f":"IF('Seznam družstev'!P15<>\"\", 0,'Seznam družstev'!C15)","v":""},"",{"$f":"IF(A15<>\"\",SUMPRODUCT(--($C$7:$C$40=$C15),--('Seznam družstev'!$M15 <'Seznam družstev'!$M$7:$M$40)),\"\")","v":""},{"$f":"IF(B15<>\"\",SUMPRODUCT(--($C$7:$C$40=$C15),--($D$7:$D$40=$D15),--('Seznam družstev'!$L15 <'Seznam družstev'!$L$7:$L$40)),\"\")","v":""},{"$f":"IF(C15<>\"\",SUMPRODUCT(--($C$7:$C$40=$C15),--($D$7:$D$40=$D15),--($E$7:$E$40=$E15),--('Seznam družstev'!$K15 <'Seznam družstev'!$K$7:$K$40)),\"\")","v":""},{"$f":"IF(D15<>\"\",SUMPRODUCT(--($C$7:$C$40=$C15),--($D$7:$D$40=$D15),--($E$7:$E$40=$E15),--($F$7:$F$40=$F15),--('Seznam družstev'!$J15 <'Seznam družstev'!$J$7:$J$40)),\"\")","v":""},{"$f":"IF(E15<>\"\",SUMPRODUCT(--($C$7:$C$40=$C15),--($D$7:$D$40=$D15),--($E$7:$E$40=$E15),--($F$7:$F$40=$F15),--($G$7:$G$40=$G15),--('Seznam družstev'!$I15 <'Seznam družstev'!$I$7:$I$40)),\"\")","v":""},{"$f":"IF(E15<>\"\",SUMPRODUCT(--($C$7:$C$40=$C15),--($D$7:$D$40=$D15),--($E$7:$E$40=$E15),--($F$7:$F$40=$F15),--($G$7:$G$40=$G15),--($H$7:$H$40=$H15),--('Seznam družstev'!$H15 <'Seznam družstev'!$H$7:$H$40)),\"\")","v":""},{"$f":"IF(E15<>\"\",SUMPRODUCT(--($C$7:$C$40=$C15),--($D$7:$D$40=$D15),--($E$7:$E$40=$E15),--($F$7:$F$40=$F15),--($G$7:$G$40=$G15),--($H$7:$H$40=$H15),--($I$7:$I$40=$I15),--('Seznam družstev'!$G15 <'Seznam družstev'!$G$7:$G$40)),\"\")","v":""},{"$f":"IF(F15<>\"\",SUMPRODUCT(--($C$7:$C$40=$C15),--($D$7:$D$40=$D15),--($E$7:$E$40=$E15),--($F$7:$F$40=$F15),--($G$7:$G$40=$G15),--($H$7:$H$40=$H15),--($I$7:$I$40=$I15),--($J$7:$J$40=$J15), --('Seznam družstev'!$F15 <'Seznam družstev'!$F$7:$F$40)),\"\")","v":""},{"$f":"IF(F15<>\"\",SUMPRODUCT(--($C$7:$C$40=$C15),--($D$7:$D$40=$D15),--($E$7:$E$40=$E15),--($F$7:$F$40=$F15),--($G$7:$G$40=$G15),--($H$7:$H$40=$H15),--($I$7:$I$40=$I15),--($J$7:$J$40=$J15),--($K$7:$K$40=$K15), --('Seznam družstev'!$E15 <'Seznam družstev'!$E$7:$E$40)),\"\")","v":""},{"$f":"IF(F15<>\"\",SUMPRODUCT(--($C$7:$C$40=$C15),--($D$7:$D$40=$D15),--($E$7:$E$40=$E15),--($F$7:$F$40=$F15),--($G$7:$G$40=$G15),--($H$7:$H$40=$H15),--($I$7:$I$40=$I15),--($J$7:$J$40=$J15),--($K$7:$K$40=$K15),--($L$7:$L$40=$L15), --('Seznam družstev'!$D15 <'Seznam družstev'!$D$7:$D$40)),\"\")","v":""},{"$f":"IF(F15<>\"\",SUMPRODUCT(--($C$7:$C$40=$C15),--($D$7:$D$40=$D15),--($E$7:$E$40=$E15),--($F$7:$F$40=$F15),--($G$7:$G$40=$G15),--($H$7:$H$40=$H15),--($I$7:$I$40=$I15),--($J$7:$J$40=$J15),--($K$7:$K$40=$K15),--($L$7:$L$40=$L15), --($M$7:$M$40=$M15), --('Seznam družstev'!$N15 <'Seznam družstev'!$N$7:$N$40)),\"\")","v":""},"",{"$f":"IF(A15<>\"\",COUNTIF($O$7:$O15,$O15)-1,\"\")","v":""},""]
[{"$f":"'Seznam družstev'!B16","v":""},{"$f":"IF('Seznam družstev'!P16<>\"\", 0,'Seznam družstev'!C16)","v":""},"",{"$f":"IF(A16<>\"\",SUMPRODUCT(--($C$7:$C$40=$C16),--('Seznam družstev'!$M16 <'Seznam družstev'!$M$7:$M$40)),\"\")","v":""},{"$f":"IF(B16<>\"\",SUMPRODUCT(--($C$7:$C$40=$C16),--($D$7:$D$40=$D16),--('Seznam družstev'!$L16 <'Seznam družstev'!$L$7:$L$40)),\"\")","v":""},{"$f":"IF(C16<>\"\",SUMPRODUCT(--($C$7:$C$40=$C16),--($D$7:$D$40=$D16),--($E$7:$E$40=$E16),--('Seznam družstev'!$K16 <'Seznam družstev'!$K$7:$K$40)),\"\")","v":""},{"$f":"IF(D16<>\"\",SUMPRODUCT(--($C$7:$C$40=$C16),--($D$7:$D$40=$D16),--($E$7:$E$40=$E16),--($F$7:$F$40=$F16),--('Seznam družstev'!$J16 <'Seznam družstev'!$J$7:$J$40)),\"\")","v":""},{"$f":"IF(E16<>\"\",SUMPRODUCT(--($C$7:$C$40=$C16),--($D$7:$D$40=$D16),--($E$7:$E$40=$E16),--($F$7:$F$40=$F16),--($G$7:$G$40=$G16),--('Seznam družstev'!$I16 <'Seznam družstev'!$I$7:$I$40)),\"\")","v":""},{"$f":"IF(E16<>\"\",SUMPRODUCT(--($C$7:$C$40=$C16),--($D$7:$D$40=$D16),--($E$7:$E$40=$E16),--($F$7:$F$40=$F16),--($G$7:$G$40=$G16),--($H$7:$H$40=$H16),--('Seznam družstev'!$H16 <'Seznam družstev'!$H$7:$H$40)),\"\")","v":""},{"$f":"IF(E16<>\"\",SUMPRODUCT(--($C$7:$C$40=$C16),--($D$7:$D$40=$D16),--($E$7:$E$40=$E16),--($F$7:$F$40=$F16),--($G$7:$G$40=$G16),--($H$7:$H$40=$H16),--($I$7:$I$40=$I16),--('Seznam družstev'!$G16 <'Seznam družstev'!$G$7:$G$40)),\"\")","v":""},{"$f":"IF(F16<>\"\",SUMPRODUCT(--($C$7:$C$40=$C16),--($D$7:$D$40=$D16),--($E$7:$E$40=$E16),--($F$7:$F$40=$F16),--($G$7:$G$40=$G16),--($H$7:$H$40=$H16),--($I$7:$I$40=$I16),--($J$7:$J$40=$J16), --('Seznam družstev'!$F16 <'Seznam družstev'!$F$7:$F$40)),\"\")","v":""},{"$f":"IF(F16<>\"\",SUMPRODUCT(--($C$7:$C$40=$C16),--($D$7:$D$40=$D16),--($E$7:$E$40=$E16),--($F$7:$F$40=$F16),--($G$7:$G$40=$G16),--($H$7:$H$40=$H16),--($I$7:$I$40=$I16),--($J$7:$J$40=$J16),--($K$7:$K$40=$K16), --('Seznam družstev'!$E16 <'Seznam družstev'!$E$7:$E$40)),\"\")","v":""},{"$f":"IF(F16<>\"\",SUMPRODUCT(--($C$7:$C$40=$C16),--($D$7:$D$40=$D16),--($E$7:$E$40=$E16),--($F$7:$F$40=$F16),--($G$7:$G$40=$G16),--($H$7:$H$40=$H16),--($I$7:$I$40=$I16),--($J$7:$J$40=$J16),--($K$7:$K$40=$K16),--($L$7:$L$40=$L16), --('Seznam družstev'!$D16 <'Seznam družstev'!$D$7:$D$40)),\"\")","v":""},{"$f":"IF(F16<>\"\",SUMPRODUCT(--($C$7:$C$40=$C16),--($D$7:$D$40=$D16),--($E$7:$E$40=$E16),--($F$7:$F$40=$F16),--($G$7:$G$40=$G16),--($H$7:$H$40=$H16),--($I$7:$I$40=$I16),--($J$7:$J$40=$J16),--($K$7:$K$40=$K16),--($L$7:$L$40=$L16), --($M$7:$M$40=$M16), --('Seznam družstev'!$N16 <'Seznam družstev'!$N$7:$N$40)),\"\")","v":""},"",{"$f":"IF(A16<>\"\",COUNTIF($O$7:$O16,$O16)-1,\"\")","v":""},""]
[{"$f":"'Seznam družstev'!B17","v":""},{"$f":"IF('Seznam družstev'!P17<>\"\", 0,'Seznam družstev'!C17)","v":""},"",{"$f":"IF(A17<>\"\",SUMPRODUCT(--($C$7:$C$40=$C17),--('Seznam družstev'!$M17 <'Seznam družstev'!$M$7:$M$40)),\"\")","v":""},{"$f":"IF(B17<>\"\",SUMPRODUCT(--($C$7:$C$40=$C17),--($D$7:$D$40=$D17),--('Seznam družstev'!$L17 <'Seznam družstev'!$L$7:$L$40)),\"\")","v":""},{"$f":"IF(C17<>\"\",SUMPRODUCT(--($C$7:$C$40=$C17),--($D$7:$D$40=$D17),--($E$7:$E$40=$E17),--('Seznam družstev'!$K17 <'Seznam družstev'!$K$7:$K$40)),\"\")","v":""},{"$f":"IF(D17<>\"\",SUMPRODUCT(--($C$7:$C$40=$C17),--($D$7:$D$40=$D17),--($E$7:$E$40=$E17),--($F$7:$F$40=$F17),--('Seznam družstev'!$J17 <'Seznam družstev'!$J$7:$J$40)),\"\")","v":""},{"$f":"IF(E17<>\"\",SUMPRODUCT(--($C$7:$C$40=$C17),--($D$7:$D$40=$D17),--($E$7:$E$40=$E17),--($F$7:$F$40=$F17),--($G$7:$G$40=$G17),--('Seznam družstev'!$I17 <'Seznam družstev'!$I$7:$I$40)),\"\")","v":""},{"$f":"IF(E17<>\"\",SUMPRODUCT(--($C$7:$C$40=$C17),--($D$7:$D$40=$D17),--($E$7:$E$40=$E17),--($F$7:$F$40=$F17),--($G$7:$G$40=$G17),--($H$7:$H$40=$H17),--('Seznam družstev'!$H17 <'Seznam družstev'!$H$7:$H$40)),\"\")","v":""},{"$f":"IF(E17<>\"\",SUMPRODUCT(--($C$7:$C$40=$C17),--($D$7:$D$40=$D17),--($E$7:$E$40=$E17),--($F$7:$F$40=$F17),--($G$7:$G$40=$G17),--($H$7:$H$40=$H17),--($I$7:$I$40=$I17),--('Seznam družstev'!$G17 <'Seznam družstev'!$G$7:$G$40)),\"\")","v":""},{"$f":"IF(F17<>\"\",SUMPRODUCT(--($C$7:$C$40=$C17),--($D$7:$D$40=$D17),--($E$7:$E$40=$E17),--($F$7:$F$40=$F17),--($G$7:$G$40=$G17),--($H$7:$H$40=$H17),--($I$7:$I$40=$I17),--($J$7:$J$40=$J17), --('Seznam družstev'!$F17 <'Seznam družstev'!$F$7:$F$40)),\"\")","v":""},{"$f":"IF(F17<>\"\",SUMPRODUCT(--($C$7:$C$40=$C17),--($D$7:$D$40=$D17),--($E$7:$E$40=$E17),--($F$7:$F$40=$F17),--($G$7:$G$40=$G17),--($H$7:$H$40=$H17),--($I$7:$I$40=$I17),--($J$7:$J$40=$J17),--($K$7:$K$40=$K17), --('Seznam družstev'!$E17 <'Seznam družstev'!$E$7:$E$40)),\"\")","v":""},{"$f":"IF(F17<>\"\",SUMPRODUCT(--($C$7:$C$40=$C17),--($D$7:$D$40=$D17),--($E$7:$E$40=$E17),--($F$7:$F$40=$F17),--($G$7:$G$40=$G17),--($H$7:$H$40=$H17),--($I$7:$I$40=$I17),--($J$7:$J$40=$J17),--($K$7:$K$40=$K17),--($L$7:$L$40=$L17), --('Seznam družstev'!$D17 <'Seznam družstev'!$D$7:$D$40)),\"\")","v":""},{"$f":"IF(F17<>\"\",SUMPRODUCT(--($C$7:$C$40=$C17),--($D$7:$D$40=$D17),--($E$7:$E$40=$E17),--($F$7:$F$40=$F17),--($G$7:$G$40=$G17),--($H$7:$H$40=$H17),--($I$7:$I$40=$I17),--($J$7:$J$40=$J17),--($K$7:$K$40=$K17),--($L$7:$L$40=$L17), --($M$7:$M$40=$M17), --('Seznam družstev'!$N17 <'Seznam družstev'!$N$7:$N$40)),\"\")","v":""},"",{"$f":"IF(A17<>\"\",COUNTIF($O$7:$O17,$O17)-1,\"\")","v":""},""]
[{"$f":"'Seznam družstev'!B18","v":""},{"$f":"IF('Seznam družstev'!P18<>\"\", 0,'Seznam družstev'!C18)","v":""},"",{"$f":"IF(A18<>\"\",SUMPRODUCT(--($C$7:$C$40=$C18),--('Seznam družstev'!$M18 <'Seznam družstev'!$M$7:$M$40)),\"\")","v":""},{"$f":"IF(B18<>\"\",SUMPRODUCT(--($C$7:$C$40=$C18),--($D$7:$D$40=$D18),--('Seznam družstev'!$L18 <'Seznam družstev'!$L$7:$L$40)),\"\")","v":""},{"$f":"IF(C18<>\"\",SUMPRODUCT(--($C$7:$C$40=$C18),--($D$7:$D$40=$D18),--($E$7:$E$40=$E18),--('Seznam družstev'!$K18 <'Seznam družstev'!$K$7:$K$40)),\"\")","v":""},{"$f":"IF(D18<>\"\",SUMPRODUCT(--($C$7:$C$40=$C18),--($D$7:$D$40=$D18),--($E$7:$E$40=$E18),--($F$7:$F$40=$F18),--('Seznam družstev'!$J18 <'Seznam družstev'!$J$7:$J$40)),\"\")","v":""},{"$f":"IF(E18<>\"\",SUMPRODUCT(--($C$7:$C$40=$C18),--($D$7:$D$40=$D18),--($E$7:$E$40=$E18),--($F$7:$F$40=$F18),--($G$7:$G$40=$G18),--('Seznam družstev'!$I18 <'Seznam družstev'!$I$7:$I$40)),\"\")","v":""},{"$f":"IF(E18<>\"\",SUMPRODUCT(--($C$7:$C$40=$C18),--($D$7:$D$40=$D18),--($E$7:$E$40=$E18),--($F$7:$F$40=$F18),--($G$7:$G$40=$G18),--($H$7:$H$40=$H18),--('Seznam družstev'!$H18 <'Seznam družstev'!$H$7:$H$40)),\"\")","v":""},{"$f":"IF(E18<>\"\",SUMPRODUCT(--($C$7:$C$40=$C18),--($D$7:$D$40=$D18),--($E$7:$E$40=$E18),--($F$7:$F$40=$F18),--($G$7:$G$40=$G18),--($H$7:$H$40=$H18),--($I$7:$I$40=$I18),--('Seznam družstev'!$G18 <'Seznam družstev'!$G$7:$G$40)),\"\")","v":""},{"$f":"IF(F18<>\"\",SUMPRODUCT(--($C$7:$C$40=$C18),--($D$7:$D$40=$D18),--($E$7:$E$40=$E18),--($F$7:$F$40=$F18),--($G$7:$G$40=$G18),--($H$7:$H$40=$H18),--($I$7:$I$40=$I18),--($J$7:$J$40=$J18), --('Seznam družstev'!$F18 <'Seznam družstev'!$F$7:$F$40)),\"\")","v":""},{"$f":"IF(F18<>\"\",SUMPRODUCT(--($C$7:$C$40=$C18),--($D$7:$D$40=$D18),--($E$7:$E$40=$E18),--($F$7:$F$40=$F18),--($G$7:$G$40=$G18),--($H$7:$H$40=$H18),--($I$7:$I$40=$I18),--($J$7:$J$40=$J18),--($K$7:$K$40=$K18), --('Seznam družstev'!$E18 <'Seznam družstev'!$E$7:$E$40)),\"\")","v":""},{"$f":"IF(F18<>\"\",SUMPRODUCT(--($C$7:$C$40=$C18),--($D$7:$D$40=$D18),--($E$7:$E$40=$E18),--($F$7:$F$40=$F18),--($G$7:$G$40=$G18),--($H$7:$H$40=$H18),--($I$7:$I$40=$I18),--($J$7:$J$40=$J18),--($K$7:$K$40=$K18),--($L$7:$L$40=$L18), --('Seznam družstev'!$D18 <'Seznam družstev'!$D$7:$D$40)),\"\")","v":""},{"$f":"IF(F18<>\"\",SUMPRODUCT(--($C$7:$C$40=$C18),--($D$7:$D$40=$D18),--($E$7:$E$40=$E18),--($F$7:$F$40=$F18),--($G$7:$G$40=$G18),--($H$7:$H$40=$H18),--($I$7:$I$40=$I18),--($J$7:$J$40=$J18),--($K$7:$K$40=$K18),--($L$7:$L$40=$L18), --($M$7:$M$40=$M18), --('Seznam družstev'!$N18 <'Seznam družstev'!$N$7:$N$40)),\"\")","v":""},"",{"$f":"IF(A18<>\"\",COUNTIF($O$7:$O18,$O18)-1,\"\")","v":""},""]
[{"$f":"'Seznam družstev'!B19","v":""},{"$f":"IF('Seznam družstev'!P19<>\"\", 0,'Seznam družstev'!C19)","v":""},"",{"$f":"IF(A19<>\"\",SUMPRODUCT(--($C$7:$C$40=$C19),--('Seznam družstev'!$M19 <'Seznam družstev'!$M$7:$M$40)),\"\")","v":""},{"$f":"IF(B19<>\"\",SUMPRODUCT(--($C$7:$C$40=$C19),--($D$7:$D$40=$D19),--('Seznam družstev'!$L19 <'Seznam družstev'!$L$7:$L$40)),\"\")","v":""},{"$f":"IF(C19<>\"\",SUMPRODUCT(--($C$7:$C$40=$C19),--($D$7:$D$40=$D19),--($E$7:$E$40=$E19),--('Seznam družstev'!$K19 <'Seznam družstev'!$K$7:$K$40)),\"\")","v":""},{"$f":"IF(D19<>\"\",SUMPRODUCT(--($C$7:$C$40=$C19),--($D$7:$D$40=$D19),--($E$7:$E$40=$E19),--($F$7:$F$40=$F19),--('Seznam družstev'!$J19 <'Seznam družstev'!$J$7:$J$40)),\"\")","v":""},{"$f":"IF(E19<>\"\",SUMPRODUCT(--($C$7:$C$40=$C19),--($D$7:$D$40=$D19),--($E$7:$E$40=$E19),--($F$7:$F$40=$F19),--($G$7:$G$40=$G19),--('Seznam družstev'!$I19 <'Seznam družstev'!$I$7:$I$40)),\"\")","v":""},{"$f":"IF(E19<>\"\",SUMPRODUCT(--($C$7:$C$40=$C19),--($D$7:$D$40=$D19),--($E$7:$E$40=$E19),--($F$7:$F$40=$F19),--($G$7:$G$40=$G19),--($H$7:$H$40=$H19),--('Seznam družstev'!$H19 <'Seznam družstev'!$H$7:$H$40)),\"\")","v":""},{"$f":"IF(E19<>\"\",SUMPRODUCT(--($C$7:$C$40=$C19),--($D$7:$D$40=$D19),--($E$7:$E$40=$E19),--($F$7:$F$40=$F19),--($G$7:$G$40=$G19),--($H$7:$H$40=$H19),--($I$7:$I$40=$I19),--('Seznam družstev'!$G19 <'Seznam družstev'!$G$7:$G$40)),\"\")","v":""},{"$f":"IF(F19<>\"\",SUMPRODUCT(--($C$7:$C$40=$C19),--($D$7:$D$40=$D19),--($E$7:$E$40=$E19),--($F$7:$F$40=$F19),--($G$7:$G$40=$G19),--($H$7:$H$40=$H19),--($I$7:$I$40=$I19),--($J$7:$J$40=$J19), --('Seznam družstev'!$F19 <'Seznam družstev'!$F$7:$F$40)),\"\")","v":""},{"$f":"IF(F19<>\"\",SUMPRODUCT(--($C$7:$C$40=$C19),--($D$7:$D$40=$D19),--($E$7:$E$40=$E19),--($F$7:$F$40=$F19),--($G$7:$G$40=$G19),--($H$7:$H$40=$H19),--($I$7:$I$40=$I19),--($J$7:$J$40=$J19),--($K$7:$K$40=$K19), --('Seznam družstev'!$E19 <'Seznam družstev'!$E$7:$E$40)),\"\")","v":""},{"$f":"IF(F19<>\"\",SUMPRODUCT(--($C$7:$C$40=$C19),--($D$7:$D$40=$D19),--($E$7:$E$40=$E19),--($F$7:$F$40=$F19),--($G$7:$G$40=$G19),--($H$7:$H$40=$H19),--($I$7:$I$40=$I19),--($J$7:$J$40=$J19),--($K$7:$K$40=$K19),--($L$7:$L$40=$L19), --('Seznam družstev'!$D19 <'Seznam družstev'!$D$7:$D$40)),\"\")","v":""},{"$f":"IF(F19<>\"\",SUMPRODUCT(--($C$7:$C$40=$C19),--($D$7:$D$40=$D19),--($E$7:$E$40=$E19),--($F$7:$F$40=$F19),--($G$7:$G$40=$G19),--($H$7:$H$40=$H19),--($I$7:$I$40=$I19),--($J$7:$J$40=$J19),--($K$7:$K$40=$K19),--($L$7:$L$40=$L19), --($M$7:$M$40=$M19), --('Seznam družstev'!$N19 <'Seznam družstev'!$N$7:$N$40)),\"\")","v":""},"",{"$f":"IF(A19<>\"\",COUNTIF($O$7:$O19,$O19)-1,\"\")","v":""},""]
[{"$f":"'Seznam družstev'!B20","v":""},{"$f":"IF('Seznam družstev'!P20<>\"\", 0,'Seznam družstev'!C20)","v":""},"",{"$f":"IF(A20<>\"\",SUMPRODUCT(--($C$7:$C$40=$C20),--('Seznam družstev'!$M20 <'Seznam družstev'!$M$7:$M$40)),\"\")","v":""},{"$f":"IF(B20<>\"\",SUMPRODUCT(--($C$7:$C$40=$C20),--($D$7:$D$40=$D20),--('Seznam družstev'!$L20 <'Seznam družstev'!$L$7:$L$40)),\"\")","v":""},{"$f":"IF(C20<>\"\",SUMPRODUCT(--($C$7:$C$40=$C20),--($D$7:$D$40=$D20),--($E$7:$E$40=$E20),--('Seznam družstev'!$K20 <'Seznam družstev'!$K$7:$K$40)),\"\")","v":""},{"$f":"IF(D20<>\"\",SUMPRODUCT(--($C$7:$C$40=$C20),--($D$7:$D$40=$D20),--($E$7:$E$40=$E20),--($F$7:$F$40=$F20),--('Seznam družstev'!$J20 <'Seznam družstev'!$J$7:$J$40)),\"\")","v":""},{"$f":"IF(E20<>\"\",SUMPRODUCT(--($C$7:$C$40=$C20),--($D$7:$D$40=$D20),--($E$7:$E$40=$E20),--($F$7:$F$40=$F20),--($G$7:$G$40=$G20),--('Seznam družstev'!$I20 <'Seznam družstev'!$I$7:$I$40)),\"\")","v":""},{"$f":"IF(E20<>\"\",SUMPRODUCT(--($C$7:$C$40=$C20),--($D$7:$D$40=$D20),--($E$7:$E$40=$E20),--($F$7:$F$40=$F20),--($G$7:$G$40=$G20),--($H$7:$H$40=$H20),--('Seznam družstev'!$H20 <'Seznam družstev'!$H$7:$H$40)),\"\")","v":""},{"$f":"IF(E20<>\"\",SUMPRODUCT(--($C$7:$C$40=$C20),--($D$7:$D$40=$D20),--($E$7:$E$40=$E20),--($F$7:$F$40=$F20),--($G$7:$G$40=$G20),--($H$7:$H$40=$H20),--($I$7:$I$40=$I20),--('Seznam družstev'!$G20 <'Seznam družstev'!$G$7:$G$40)),\"\")","v":""},{"$f":"IF(F20<>\"\",SUMPRODUCT(--($C$7:$C$40=$C20),--($D$7:$D$40=$D20),--($E$7:$E$40=$E20),--($F$7:$F$40=$F20),--($G$7:$G$40=$G20),--($H$7:$H$40=$H20),--($I$7:$I$40=$I20),--($J$7:$J$40=$J20), --('Seznam družstev'!$F20 <'Seznam družstev'!$F$7:$F$40)),\"\")","v":""},{"$f":"IF(F20<>\"\",SUMPRODUCT(--($C$7:$C$40=$C20),--($D$7:$D$40=$D20),--($E$7:$E$40=$E20),--($F$7:$F$40=$F20),--($G$7:$G$40=$G20),--($H$7:$H$40=$H20),--($I$7:$I$40=$I20),--($J$7:$J$40=$J20),--($K$7:$K$40=$K20), --('Seznam družstev'!$E20 <'Seznam družstev'!$E$7:$E$40)),\"\")","v":""},{"$f":"IF(F20<>\"\",SUMPRODUCT(--($C$7:$C$40=$C20),--($D$7:$D$40=$D20),--($E$7:$E$40=$E20),--($F$7:$F$40=$F20),--($G$7:$G$40=$G20),--($H$7:$H$40=$H20),--($I$7:$I$40=$I20),--($J$7:$J$40=$J20),--($K$7:$K$40=$K20),--($L$7:$L$40=$L20), --('Seznam družstev'!$D20 <'Seznam družstev'!$D$7:$D$40)),\"\")","v":""},{"$f":"IF(F20<>\"\",SUMPRODUCT(--($C$7:$C$40=$C20),--($D$7:$D$40=$D20),--($E$7:$E$40=$E20),--($F$7:$F$40=$F20),--($G$7:$G$40=$G20),--($H$7:$H$40=$H20),--($I$7:$I$40=$I20),--($J$7:$J$40=$J20),--($K$7:$K$40=$K20),--($L$7:$L$40=$L20), --($M$7:$M$40=$M20), --('Seznam družstev'!$N20 <'Seznam družstev'!$N$7:$N$40)),\"\")","v":""},"",{"$f":"IF(A20<>\"\",COUNTIF($O$7:$O20,$O20)-1,\"\")","v":""},""]
[{"$f":"'Seznam družstev'!B21","v":""},{"$f":"IF('Seznam družstev'!P21<>\"\", 0,'Seznam družstev'!C21)","v":""},"",{"$f":"IF(A21<>\"\",SUMPRODUCT(--($C$7:$C$40=$C21),--('Seznam družstev'!$M21 <'Seznam družstev'!$M$7:$M$40)),\"\")","v":""},{"$f":"IF(B21<>\"\",SUMPRODUCT(--($C$7:$C$40=$C21),--($D$7:$D$40=$D21),--('Seznam družstev'!$L21 <'Seznam družstev'!$L$7:$L$40)),\"\")","v":""},{"$f":"IF(C21<>\"\",SUMPRODUCT(--($C$7:$C$40=$C21),--($D$7:$D$40=$D21),--($E$7:$E$40=$E21),--('Seznam družstev'!$K21 <'Seznam družstev'!$K$7:$K$40)),\"\")","v":""},{"$f":"IF(D21<>\"\",SUMPRODUCT(--($C$7:$C$40=$C21),--($D$7:$D$40=$D21),--($E$7:$E$40=$E21),--($F$7:$F$40=$F21),--('Seznam družstev'!$J21 <'Seznam družstev'!$J$7:$J$40)),\"\")","v":""},{"$f":"IF(E21<>\"\",SUMPRODUCT(--($C$7:$C$40=$C21),--($D$7:$D$40=$D21),--($E$7:$E$40=$E21),--($F$7:$F$40=$F21),--($G$7:$G$40=$G21),--('Seznam družstev'!$I21 <'Seznam družstev'!$I$7:$I$40)),\"\")","v":""},{"$f":"IF(E21<>\"\",SUMPRODUCT(--($C$7:$C$40=$C21),--($D$7:$D$40=$D21),--($E$7:$E$40=$E21),--($F$7:$F$40=$F21),--($G$7:$G$40=$G21),--($H$7:$H$40=$H21),--('Seznam družstev'!$H21 <'Seznam družstev'!$H$7:$H$40)),\"\")","v":""},{"$f":"IF(E21<>\"\",SUMPRODUCT(--($C$7:$C$40=$C21),--($D$7:$D$40=$D21),--($E$7:$E$40=$E21),--($F$7:$F$40=$F21),--($G$7:$G$40=$G21),--($H$7:$H$40=$H21),--($I$7:$I$40=$I21),--('Seznam družstev'!$G21 <'Seznam družstev'!$G$7:$G$40)),\"\")","v":""},{"$f":"IF(F21<>\"\",SUMPRODUCT(--($C$7:$C$40=$C21),--($D$7:$D$40=$D21),--($E$7:$E$40=$E21),--($F$7:$F$40=$F21),--($G$7:$G$40=$G21),--($H$7:$H$40=$H21),--($I$7:$I$40=$I21),--($J$7:$J$40=$J21), --('Seznam družstev'!$F21 <'Seznam družstev'!$F$7:$F$40)),\"\")","v":""},{"$f":"IF(F21<>\"\",SUMPRODUCT(--($C$7:$C$40=$C21),--($D$7:$D$40=$D21),--($E$7:$E$40=$E21),--($F$7:$F$40=$F21),--($G$7:$G$40=$G21),--($H$7:$H$40=$H21),--($I$7:$I$40=$I21),--($J$7:$J$40=$J21),--($K$7:$K$40=$K21), --('Seznam družstev'!$E21 <'Seznam družstev'!$E$7:$E$40)),\"\")","v":""},{"$f":"IF(F21<>\"\",SUMPRODUCT(--($C$7:$C$40=$C21),--($D$7:$D$40=$D21),--($E$7:$E$40=$E21),--($F$7:$F$40=$F21),--($G$7:$G$40=$G21),--($H$7:$H$40=$H21),--($I$7:$I$40=$I21),--($J$7:$J$40=$J21),--($K$7:$K$40=$K21),--($L$7:$L$40=$L21), --('Seznam družstev'!$D21 <'Seznam družstev'!$D$7:$D$40)),\"\")","v":""},{"$f":"IF(F21<>\"\",SUMPRODUCT(--($C$7:$C$40=$C21),--($D$7:$D$40=$D21),--($E$7:$E$40=$E21),--($F$7:$F$40=$F21),--($G$7:$G$40=$G21),--($H$7:$H$40=$H21),--($I$7:$I$40=$I21),--($J$7:$J$40=$J21),--($K$7:$K$40=$K21),--($L$7:$L$40=$L21), --($M$7:$M$40=$M21), --('Seznam družstev'!$N21 <'Seznam družstev'!$N$7:$N$40)),\"\")","v":""},"",{"$f":"IF(A21<>\"\",COUNTIF($O$7:$O21,$O21)-1,\"\")","v":""},""]
[{"$f":"'Seznam družstev'!B22","v":""},{"$f":"IF('Seznam družstev'!P22<>\"\", 0,'Seznam družstev'!C22)","v":""},"",{"$f":"IF(A22<>\"\",SUMPRODUCT(--($C$7:$C$40=$C22),--('Seznam družstev'!$M22 <'Seznam družstev'!$M$7:$M$40)),\"\")","v":""},{"$f":"IF(B22<>\"\",SUMPRODUCT(--($C$7:$C$40=$C22),--($D$7:$D$40=$D22),--('Seznam družstev'!$L22 <'Seznam družstev'!$L$7:$L$40)),\"\")","v":""},{"$f":"IF(C22<>\"\",SUMPRODUCT(--($C$7:$C$40=$C22),--($D$7:$D$40=$D22),--($E$7:$E$40=$E22),--('Seznam družstev'!$K22 <'Seznam družstev'!$K$7:$K$40)),\"\")","v":""},{"$f":"IF(D22<>\"\",SUMPRODUCT(--($C$7:$C$40=$C22),--($D$7:$D$40=$D22),--($E$7:$E$40=$E22),--($F$7:$F$40=$F22),--('Seznam družstev'!$J22 <'Seznam družstev'!$J$7:$J$40)),\"\")","v":""},{"$f":"IF(E22<>\"\",SUMPRODUCT(--($C$7:$C$40=$C22),--($D$7:$D$40=$D22),--($E$7:$E$40=$E22),--($F$7:$F$40=$F22),--($G$7:$G$40=$G22),--('Seznam družstev'!$I22 <'Seznam družstev'!$I$7:$I$40)),\"\")","v":""},{"$f":"IF(E22<>\"\",SUMPRODUCT(--($C$7:$C$40=$C22),--($D$7:$D$40=$D22),--($E$7:$E$40=$E22),--($F$7:$F$40=$F22),--($G$7:$G$40=$G22),--($H$7:$H$40=$H22),--('Seznam družstev'!$H22 <'Seznam družstev'!$H$7:$H$40)),\"\")","v":""},{"$f":"IF(E22<>\"\",SUMPRODUCT(--($C$7:$C$40=$C22),--($D$7:$D$40=$D22),--($E$7:$E$40=$E22),--($F$7:$F$40=$F22),--($G$7:$G$40=$G22),--($H$7:$H$40=$H22),--($I$7:$I$40=$I22),--('Seznam družstev'!$G22 <'Seznam družstev'!$G$7:$G$40)),\"\")","v":""},{"$f":"IF(F22<>\"\",SUMPRODUCT(--($C$7:$C$40=$C22),--($D$7:$D$40=$D22),--($E$7:$E$40=$E22),--($F$7:$F$40=$F22),--($G$7:$G$40=$G22),--($H$7:$H$40=$H22),--($I$7:$I$40=$I22),--($J$7:$J$40=$J22), --('Seznam družstev'!$F22 <'Seznam družstev'!$F$7:$F$40)),\"\")","v":""},{"$f":"IF(F22<>\"\",SUMPRODUCT(--($C$7:$C$40=$C22),--($D$7:$D$40=$D22),--($E$7:$E$40=$E22),--($F$7:$F$40=$F22),--($G$7:$G$40=$G22),--($H$7:$H$40=$H22),--($I$7:$I$40=$I22),--($J$7:$J$40=$J22),--($K$7:$K$40=$K22), --('Seznam družstev'!$E22 <'Seznam družstev'!$E$7:$E$40)),\"\")","v":""},{"$f":"IF(F22<>\"\",SUMPRODUCT(--($C$7:$C$40=$C22),--($D$7:$D$40=$D22),--($E$7:$E$40=$E22),--($F$7:$F$40=$F22),--($G$7:$G$40=$G22),--($H$7:$H$40=$H22),--($I$7:$I$40=$I22),--($J$7:$J$40=$J22),--($K$7:$K$40=$K22),--($L$7:$L$40=$L22), --('Seznam družstev'!$D22 <'Seznam družstev'!$D$7:$D$40)),\"\")","v":""},{"$f":"IF(F22<>\"\",SUMPRODUCT(--($C$7:$C$40=$C22),--($D$7:$D$40=$D22),--($E$7:$E$40=$E22),--($F$7:$F$40=$F22),--($G$7:$G$40=$G22),--($H$7:$H$40=$H22),--($I$7:$I$40=$I22),--($J$7:$J$40=$J22),--($K$7:$K$40=$K22),--($L$7:$L$40=$L22), --($M$7:$M$40=$M22), --('Seznam družstev'!$N22 <'Seznam družstev'!$N$7:$N$40)),\"\")","v":""},"",{"$f":"IF(A22<>\"\",COUNTIF($O$7:$O22,$O22)-1,\"\")","v":""},""]
[{"$f":"'Seznam družstev'!B23","v":""},{"$f":"IF('Seznam družstev'!P23<>\"\", 0,'Seznam družstev'!C23)","v":""},"",{"$f":"IF(A23<>\"\",SUMPRODUCT(--($C$7:$C$40=$C23),--('Seznam družstev'!$M23 <'Seznam družstev'!$M$7:$M$40)),\"\")","v":""},{"$f":"IF(B23<>\"\",SUMPRODUCT(--($C$7:$C$40=$C23),--($D$7:$D$40=$D23),--('Seznam družstev'!$L23 <'Seznam družstev'!$L$7:$L$40)),\"\")","v":""},{"$f":"IF(C23<>\"\",SUMPRODUCT(--($C$7:$C$40=$C23),--($D$7:$D$40=$D23),--($E$7:$E$40=$E23),--('Seznam družstev'!$K23 <'Seznam družstev'!$K$7:$K$40)),\"\")","v":""},{"$f":"IF(D23<>\"\",SUMPRODUCT(--($C$7:$C$40=$C23),--($D$7:$D$40=$D23),--($E$7:$E$40=$E23),--($F$7:$F$40=$F23),--('Seznam družstev'!$J23 <'Seznam družstev'!$J$7:$J$40)),\"\")","v":""},{"$f":"IF(E23<>\"\",SUMPRODUCT(--($C$7:$C$40=$C23),--($D$7:$D$40=$D23),--($E$7:$E$40=$E23),--($F$7:$F$40=$F23),--($G$7:$G$40=$G23),--('Seznam družstev'!$I23 <'Seznam družstev'!$I$7:$I$40)),\"\")","v":""},{"$f":"IF(E23<>\"\",SUMPRODUCT(--($C$7:$C$40=$C23),--($D$7:$D$40=$D23),--($E$7:$E$40=$E23),--($F$7:$F$40=$F23),--($G$7:$G$40=$G23),--($H$7:$H$40=$H23),--('Seznam družstev'!$H23 <'Seznam družstev'!$H$7:$H$40)),\"\")","v":""},{"$f":"IF(E23<>\"\",SUMPRODUCT(--($C$7:$C$40=$C23),--($D$7:$D$40=$D23),--($E$7:$E$40=$E23),--($F$7:$F$40=$F23),--($G$7:$G$40=$G23),--($H$7:$H$40=$H23),--($I$7:$I$40=$I23),--('Seznam družstev'!$G23 <'Seznam družstev'!$G$7:$G$40)),\"\")","v":""},{"$f":"IF(F23<>\"\",SUMPRODUCT(--($C$7:$C$40=$C23),--($D$7:$D$40=$D23),--($E$7:$E$40=$E23),--($F$7:$F$40=$F23),--($G$7:$G$40=$G23),--($H$7:$H$40=$H23),--($I$7:$I$40=$I23),--($J$7:$J$40=$J23), --('Seznam družstev'!$F23 <'Seznam družstev'!$F$7:$F$40)),\"\")","v":""},{"$f":"IF(F23<>\"\",SUMPRODUCT(--($C$7:$C$40=$C23),--($D$7:$D$40=$D23),--($E$7:$E$40=$E23),--($F$7:$F$40=$F23),--($G$7:$G$40=$G23),--($H$7:$H$40=$H23),--($I$7:$I$40=$I23),--($J$7:$J$40=$J23),--($K$7:$K$40=$K23), --('Seznam družstev'!$E23 <'Seznam družstev'!$E$7:$E$40)),\"\")","v":""},{"$f":"IF(F23<>\"\",SUMPRODUCT(--($C$7:$C$40=$C23),--($D$7:$D$40=$D23),--($E$7:$E$40=$E23),--($F$7:$F$40=$F23),--($G$7:$G$40=$G23),--($H$7:$H$40=$H23),--($I$7:$I$40=$I23),--($J$7:$J$40=$J23),--($K$7:$K$40=$K23),--($L$7:$L$40=$L23), --('Seznam družstev'!$D23 <'Seznam družstev'!$D$7:$D$40)),\"\")","v":""},{"$f":"IF(F23<>\"\",SUMPRODUCT(--($C$7:$C$40=$C23),--($D$7:$D$40=$D23),--($E$7:$E$40=$E23),--($F$7:$F$40=$F23),--($G$7:$G$40=$G23),--($H$7:$H$40=$H23),--($I$7:$I$40=$I23),--($J$7:$J$40=$J23),--($K$7:$K$40=$K23),--($L$7:$L$40=$L23), --($M$7:$M$40=$M23), --('Seznam družstev'!$N23 <'Seznam družstev'!$N$7:$N$40)),\"\")","v":""},"",{"$f":"IF(A23<>\"\",COUNTIF($O$7:$O23,$O23)-1,\"\")","v":""},""]
[{"$f":"'Seznam družstev'!B24","v":""},{"$f":"IF('Seznam družstev'!P24<>\"\", 0,'Seznam družstev'!C24)","v":""},"",{"$f":"IF(A24<>\"\",SUMPRODUCT(--($C$7:$C$40=$C24),--('Seznam družstev'!$M24 <'Seznam družstev'!$M$7:$M$40)),\"\")","v":""},{"$f":"IF(B24<>\"\",SUMPRODUCT(--($C$7:$C$40=$C24),--($D$7:$D$40=$D24),--('Seznam družstev'!$L24 <'Seznam družstev'!$L$7:$L$40)),\"\")","v":""},{"$f":"IF(C24<>\"\",SUMPRODUCT(--($C$7:$C$40=$C24),--($D$7:$D$40=$D24),--($E$7:$E$40=$E24),--('Seznam družstev'!$K24 <'Seznam družstev'!$K$7:$K$40)),\"\")","v":""},{"$f":"IF(D24<>\"\",SUMPRODUCT(--($C$7:$C$40=$C24),--($D$7:$D$40=$D24),--($E$7:$E$40=$E24),--($F$7:$F$40=$F24),--('Seznam družstev'!$J24 <'Seznam družstev'!$J$7:$J$40)),\"\")","v":""},{"$f":"IF(E24<>\"\",SUMPRODUCT(--($C$7:$C$40=$C24),--($D$7:$D$40=$D24),--($E$7:$E$40=$E24),--($F$7:$F$40=$F24),--($G$7:$G$40=$G24),--('Seznam družstev'!$I24 <'Seznam družstev'!$I$7:$I$40)),\"\")","v":""},{"$f":"IF(E24<>\"\",SUMPRODUCT(--($C$7:$C$40=$C24),--($D$7:$D$40=$D24),--($E$7:$E$40=$E24),--($F$7:$F$40=$F24),--($G$7:$G$40=$G24),--($H$7:$H$40=$H24),--('Seznam družstev'!$H24 <'Seznam družstev'!$H$7:$H$40)),\"\")","v":""},{"$f":"IF(E24<>\"\",SUMPRODUCT(--($C$7:$C$40=$C24),--($D$7:$D$40=$D24),--($E$7:$E$40=$E24),--($F$7:$F$40=$F24),--($G$7:$G$40=$G24),--($H$7:$H$40=$H24),--($I$7:$I$40=$I24),--('Seznam družstev'!$G24 <'Seznam družstev'!$G$7:$G$40)),\"\")","v":""},{"$f":"IF(F24<>\"\",SUMPRODUCT(--($C$7:$C$40=$C24),--($D$7:$D$40=$D24),--($E$7:$E$40=$E24),--($F$7:$F$40=$F24),--($G$7:$G$40=$G24),--($H$7:$H$40=$H24),--($I$7:$I$40=$I24),--($J$7:$J$40=$J24), --('Seznam družstev'!$F24 <'Seznam družstev'!$F$7:$F$40)),\"\")","v":""},{"$f":"IF(F24<>\"\",SUMPRODUCT(--($C$7:$C$40=$C24),--($D$7:$D$40=$D24),--($E$7:$E$40=$E24),--($F$7:$F$40=$F24),--($G$7:$G$40=$G24),--($H$7:$H$40=$H24),--($I$7:$I$40=$I24),--($J$7:$J$40=$J24),--($K$7:$K$40=$K24), --('Seznam družstev'!$E24 <'Seznam družstev'!$E$7:$E$40)),\"\")","v":""},{"$f":"IF(F24<>\"\",SUMPRODUCT(--($C$7:$C$40=$C24),--($D$7:$D$40=$D24),--($E$7:$E$40=$E24),--($F$7:$F$40=$F24),--($G$7:$G$40=$G24),--($H$7:$H$40=$H24),--($I$7:$I$40=$I24),--($J$7:$J$40=$J24),--($K$7:$K$40=$K24),--($L$7:$L$40=$L24), --('Seznam družstev'!$D24 <'Seznam družstev'!$D$7:$D$40)),\"\")","v":""},{"$f":"IF(F24<>\"\",SUMPRODUCT(--($C$7:$C$40=$C24),--($D$7:$D$40=$D24),--($E$7:$E$40=$E24),--($F$7:$F$40=$F24),--($G$7:$G$40=$G24),--($H$7:$H$40=$H24),--($I$7:$I$40=$I24),--($J$7:$J$40=$J24),--($K$7:$K$40=$K24),--($L$7:$L$40=$L24), --($M$7:$M$40=$M24), --('Seznam družstev'!$N24 <'Seznam družstev'!$N$7:$N$40)),\"\")","v":""},"",{"$f":"IF(A24<>\"\",COUNTIF($O$7:$O24,$O24)-1,\"\")","v":""},""]
[{"$f":"'Seznam družstev'!B25","v":""},{"$f":"IF('Seznam družstev'!P25<>\"\", 0,'Seznam družstev'!C25)","v":""},"",{"$f":"IF(A25<>\"\",SUMPRODUCT(--($C$7:$C$40=$C25),--('Seznam družstev'!$M25 <'Seznam družstev'!$M$7:$M$40)),\"\")","v":""},{"$f":"IF(B25<>\"\",SUMPRODUCT(--($C$7:$C$40=$C25),--($D$7:$D$40=$D25),--('Seznam družstev'!$L25 <'Seznam družstev'!$L$7:$L$40)),\"\")","v":""},{"$f":"IF(C25<>\"\",SUMPRODUCT(--($C$7:$C$40=$C25),--($D$7:$D$40=$D25),--($E$7:$E$40=$E25),--('Seznam družstev'!$K25 <'Seznam družstev'!$K$7:$K$40)),\"\")","v":""},{"$f":"IF(D25<>\"\",SUMPRODUCT(--($C$7:$C$40=$C25),--($D$7:$D$40=$D25),--($E$7:$E$40=$E25),--($F$7:$F$40=$F25),--('Seznam družstev'!$J25 <'Seznam družstev'!$J$7:$J$40)),\"\")","v":""},{"$f":"IF(E25<>\"\",SUMPRODUCT(--($C$7:$C$40=$C25),--($D$7:$D$40=$D25),--($E$7:$E$40=$E25),--($F$7:$F$40=$F25),--($G$7:$G$40=$G25),--('Seznam družstev'!$I25 <'Seznam družstev'!$I$7:$I$40)),\"\")","v":""},{"$f":"IF(E25<>\"\",SUMPRODUCT(--($C$7:$C$40=$C25),--($D$7:$D$40=$D25),--($E$7:$E$40=$E25),--($F$7:$F$40=$F25),--($G$7:$G$40=$G25),--($H$7:$H$40=$H25),--('Seznam družstev'!$H25 <'Seznam družstev'!$H$7:$H$40)),\"\")","v":""},{"$f":"IF(E25<>\"\",SUMPRODUCT(--($C$7:$C$40=$C25),--($D$7:$D$40=$D25),--($E$7:$E$40=$E25),--($F$7:$F$40=$F25),--($G$7:$G$40=$G25),--($H$7:$H$40=$H25),--($I$7:$I$40=$I25),--('Seznam družstev'!$G25 <'Seznam družstev'!$G$7:$G$40)),\"\")","v":""},{"$f":"IF(F25<>\"\",SUMPRODUCT(--($C$7:$C$40=$C25),--($D$7:$D$40=$D25),--($E$7:$E$40=$E25),--($F$7:$F$40=$F25),--($G$7:$G$40=$G25),--($H$7:$H$40=$H25),--($I$7:$I$40=$I25),--($J$7:$J$40=$J25), --('Seznam družstev'!$F25 <'Seznam družstev'!$F$7:$F$40)),\"\")","v":""},{"$f":"IF(F25<>\"\",SUMPRODUCT(--($C$7:$C$40=$C25),--($D$7:$D$40=$D25),--($E$7:$E$40=$E25),--($F$7:$F$40=$F25),--($G$7:$G$40=$G25),--($H$7:$H$40=$H25),--($I$7:$I$40=$I25),--($J$7:$J$40=$J25),--($K$7:$K$40=$K25), --('Seznam družstev'!$E25 <'Seznam družstev'!$E$7:$E$40)),\"\")","v":""},{"$f":"IF(F25<>\"\",SUMPRODUCT(--($C$7:$C$40=$C25),--($D$7:$D$40=$D25),--($E$7:$E$40=$E25),--($F$7:$F$40=$F25),--($G$7:$G$40=$G25),--($H$7:$H$40=$H25),--($I$7:$I$40=$I25),--($J$7:$J$40=$J25),--($K$7:$K$40=$K25),--($L$7:$L$40=$L25), --('Seznam družstev'!$D25 <'Seznam družstev'!$D$7:$D$40)),\"\")","v":""},{"$f":"IF(F25<>\"\",SUMPRODUCT(--($C$7:$C$40=$C25),--($D$7:$D$40=$D25),--($E$7:$E$40=$E25),--($F$7:$F$40=$F25),--($G$7:$G$40=$G25),--($H$7:$H$40=$H25),--($I$7:$I$40=$I25),--($J$7:$J$40=$J25),--($K$7:$K$40=$K25),--($L$7:$L$40=$L25), --($M$7:$M$40=$M25), --('Seznam družstev'!$N25 <'Seznam družstev'!$N$7:$N$40)),\"\")","v":""},"",{"$f":"IF(A25<>\"\",COUNTIF($O$7:$O25,$O25)-1,\"\")","v":""},""]
[{"$f":"'Seznam družstev'!B26","v":""},{"$f":"IF('Seznam družstev'!P26<>\"\", 0,'Seznam družstev'!C26)","v":""},"",{"$f":"IF(A26<>\"\",SUMPRODUCT(--($C$7:$C$40=$C26),--('Seznam družstev'!$M26 <'Seznam družstev'!$M$7:$M$40)),\"\")","v":""},{"$f":"IF(B26<>\"\",SUMPRODUCT(--($C$7:$C$40=$C26),--($D$7:$D$40=$D26),--('Seznam družstev'!$L26 <'Seznam družstev'!$L$7:$L$40)),\"\")","v":""},{"$f":"IF(C26<>\"\",SUMPRODUCT(--($C$7:$C$40=$C26),--($D$7:$D$40=$D26),--($E$7:$E$40=$E26),--('Seznam družstev'!$K26 <'Seznam družstev'!$K$7:$K$40)),\"\")","v":""},{"$f":"IF(D26<>\"\",SUMPRODUCT(--($C$7:$C$40=$C26),--($D$7:$D$40=$D26),--($E$7:$E$40=$E26),--($F$7:$F$40=$F26),--('Seznam družstev'!$J26 <'Seznam družstev'!$J$7:$J$40)),\"\")","v":""},{"$f":"IF(E26<>\"\",SUMPRODUCT(--($C$7:$C$40=$C26),--($D$7:$D$40=$D26),--($E$7:$E$40=$E26),--($F$7:$F$40=$F26),--($G$7:$G$40=$G26),--('Seznam družstev'!$I26 <'Seznam družstev'!$I$7:$I$40)),\"\")","v":""},{"$f":"IF(E26<>\"\",SUMPRODUCT(--($C$7:$C$40=$C26),--($D$7:$D$40=$D26),--($E$7:$E$40=$E26),--($F$7:$F$40=$F26),--($G$7:$G$40=$G26),--($H$7:$H$40=$H26),--('Seznam družstev'!$H26 <'Seznam družstev'!$H$7:$H$40)),\"\")","v":""},{"$f":"IF(E26<>\"\",SUMPRODUCT(--($C$7:$C$40=$C26),--($D$7:$D$40=$D26),--($E$7:$E$40=$E26),--($F$7:$F$40=$F26),--($G$7:$G$40=$G26),--($H$7:$H$40=$H26),--($I$7:$I$40=$I26),--('Seznam družstev'!$G26 <'Seznam družstev'!$G$7:$G$40)),\"\")","v":""},{"$f":"IF(F26<>\"\",SUMPRODUCT(--($C$7:$C$40=$C26),--($D$7:$D$40=$D26),--($E$7:$E$40=$E26),--($F$7:$F$40=$F26),--($G$7:$G$40=$G26),--($H$7:$H$40=$H26),--($I$7:$I$40=$I26),--($J$7:$J$40=$J26), --('Seznam družstev'!$F26 <'Seznam družstev'!$F$7:$F$40)),\"\")","v":""},{"$f":"IF(F26<>\"\",SUMPRODUCT(--($C$7:$C$40=$C26),--($D$7:$D$40=$D26),--($E$7:$E$40=$E26),--($F$7:$F$40=$F26),--($G$7:$G$40=$G26),--($H$7:$H$40=$H26),--($I$7:$I$40=$I26),--($J$7:$J$40=$J26),--($K$7:$K$40=$K26), --('Seznam družstev'!$E26 <'Seznam družstev'!$E$7:$E$40)),\"\")","v":""},{"$f":"IF(F26<>\"\",SUMPRODUCT(--($C$7:$C$40=$C26),--($D$7:$D$40=$D26),--($E$7:$E$40=$E26),--($F$7:$F$40=$F26),--($G$7:$G$40=$G26),--($H$7:$H$40=$H26),--($I$7:$I$40=$I26),--($J$7:$J$40=$J26),--($K$7:$K$40=$K26),--($L$7:$L$40=$L26), --('Seznam družstev'!$D26 <'Seznam družstev'!$D$7:$D$40)),\"\")","v":""},{"$f":"IF(F26<>\"\",SUMPRODUCT(--($C$7:$C$40=$C26),--($D$7:$D$40=$D26),--($E$7:$E$40=$E26),--($F$7:$F$40=$F26),--($G$7:$G$40=$G26),--($H$7:$H$40=$H26),--($I$7:$I$40=$I26),--($J$7:$J$40=$J26),--($K$7:$K$40=$K26),--($L$7:$L$40=$L26), --($M$7:$M$40=$M26), --('Seznam družstev'!$N26 <'Seznam družstev'!$N$7:$N$40)),\"\")","v":""},"",{"$f":"IF(A26<>\"\",COUNTIF($O$7:$O26,$O26)-1,\"\")","v":""},""]
[{"$f":"'Seznam družstev'!B27","v":""},{"$f":"IF('Seznam družstev'!P27<>\"\", 0,'Seznam družstev'!C27)","v":""},"",{"$f":"IF(A27<>\"\",SUMPRODUCT(--($C$7:$C$40=$C27),--('Seznam družstev'!$M27 <'Seznam družstev'!$M$7:$M$40)),\"\")","v":""},{"$f":"IF(B27<>\"\",SUMPRODUCT(--($C$7:$C$40=$C27),--($D$7:$D$40=$D27),--('Seznam družstev'!$L27 <'Seznam družstev'!$L$7:$L$40)),\"\")","v":""},{"$f":"IF(C27<>\"\",SUMPRODUCT(--($C$7:$C$40=$C27),--($D$7:$D$40=$D27),--($E$7:$E$40=$E27),--('Seznam družstev'!$K27 <'Seznam družstev'!$K$7:$K$40)),\"\")","v":""},{"$f":"IF(D27<>\"\",SUMPRODUCT(--($C$7:$C$40=$C27),--($D$7:$D$40=$D27),--($E$7:$E$40=$E27),--($F$7:$F$40=$F27),--('Seznam družstev'!$J27 <'Seznam družstev'!$J$7:$J$40)),\"\")","v":""},{"$f":"IF(E27<>\"\",SUMPRODUCT(--($C$7:$C$40=$C27),--($D$7:$D$40=$D27),--($E$7:$E$40=$E27),--($F$7:$F$40=$F27),--($G$7:$G$40=$G27),--('Seznam družstev'!$I27 <'Seznam družstev'!$I$7:$I$40)),\"\")","v":""},{"$f":"IF(E27<>\"\",SUMPRODUCT(--($C$7:$C$40=$C27),--($D$7:$D$40=$D27),--($E$7:$E$40=$E27),--($F$7:$F$40=$F27),--($G$7:$G$40=$G27),--($H$7:$H$40=$H27),--('Seznam družstev'!$H27 <'Seznam družstev'!$H$7:$H$40)),\"\")","v":""},{"$f":"IF(E27<>\"\",SUMPRODUCT(--($C$7:$C$40=$C27),--($D$7:$D$40=$D27),--($E$7:$E$40=$E27),--($F$7:$F$40=$F27),--($G$7:$G$40=$G27),--($H$7:$H$40=$H27),--($I$7:$I$40=$I27),--('Seznam družstev'!$G27 <'Seznam družstev'!$G$7:$G$40)),\"\")","v":""},{"$f":"IF(F27<>\"\",SUMPRODUCT(--($C$7:$C$40=$C27),--($D$7:$D$40=$D27),--($E$7:$E$40=$E27),--($F$7:$F$40=$F27),--($G$7:$G$40=$G27),--($H$7:$H$40=$H27),--($I$7:$I$40=$I27),--($J$7:$J$40=$J27), --('Seznam družstev'!$F27 <'Seznam družstev'!$F$7:$F$40)),\"\")","v":""},{"$f":"IF(F27<>\"\",SUMPRODUCT(--($C$7:$C$40=$C27),--($D$7:$D$40=$D27),--($E$7:$E$40=$E27),--($F$7:$F$40=$F27),--($G$7:$G$40=$G27),--($H$7:$H$40=$H27),--($I$7:$I$40=$I27),--($J$7:$J$40=$J27),--($K$7:$K$40=$K27), --('Seznam družstev'!$E27 <'Seznam družstev'!$E$7:$E$40)),\"\")","v":""},{"$f":"IF(F27<>\"\",SUMPRODUCT(--($C$7:$C$40=$C27),--($D$7:$D$40=$D27),--($E$7:$E$40=$E27),--($F$7:$F$40=$F27),--($G$7:$G$40=$G27),--($H$7:$H$40=$H27),--($I$7:$I$40=$I27),--($J$7:$J$40=$J27),--($K$7:$K$40=$K27),--($L$7:$L$40=$L27), --('Seznam družstev'!$D27 <'Seznam družstev'!$D$7:$D$40)),\"\")","v":""},{"$f":"IF(F27<>\"\",SUMPRODUCT(--($C$7:$C$40=$C27),--($D$7:$D$40=$D27),--($E$7:$E$40=$E27),--($F$7:$F$40=$F27),--($G$7:$G$40=$G27),--($H$7:$H$40=$H27),--($I$7:$I$40=$I27),--($J$7:$J$40=$J27),--($K$7:$K$40=$K27),--($L$7:$L$40=$L27), --($M$7:$M$40=$M27), --('Seznam družstev'!$N27 <'Seznam družstev'!$N$7:$N$40)),\"\")","v":""},"",{"$f":"IF(A27<>\"\",COUNTIF($O$7:$O27,$O27)-1,\"\")","v":""},""]
[{"$f":"'Seznam družstev'!B28","v":""},{"$f":"IF('Seznam družstev'!P28<>\"\", 0,'Seznam družstev'!C28)","v":""},"",{"$f":"IF(A28<>\"\",SUMPRODUCT(--($C$7:$C$40=$C28),--('Seznam družstev'!$M28 <'Seznam družstev'!$M$7:$M$40)),\"\")","v":""},{"$f":"IF(B28<>\"\",SUMPRODUCT(--($C$7:$C$40=$C28),--($D$7:$D$40=$D28),--('Seznam družstev'!$L28 <'Seznam družstev'!$L$7:$L$40)),\"\")","v":""},{"$f":"IF(C28<>\"\",SUMPRODUCT(--($C$7:$C$40=$C28),--($D$7:$D$40=$D28),--($E$7:$E$40=$E28),--('Seznam družstev'!$K28 <'Seznam družstev'!$K$7:$K$40)),\"\")","v":""},{"$f":"IF(D28<>\"\",SUMPRODUCT(--($C$7:$C$40=$C28),--($D$7:$D$40=$D28),--($E$7:$E$40=$E28),--($F$7:$F$40=$F28),--('Seznam družstev'!$J28 <'Seznam družstev'!$J$7:$J$40)),\"\")","v":""},{"$f":"IF(E28<>\"\",SUMPRODUCT(--($C$7:$C$40=$C28),--($D$7:$D$40=$D28),--($E$7:$E$40=$E28),--($F$7:$F$40=$F28),--($G$7:$G$40=$G28),--('Seznam družstev'!$I28 <'Seznam družstev'!$I$7:$I$40)),\"\")","v":""},{"$f":"IF(E28<>\"\",SUMPRODUCT(--($C$7:$C$40=$C28),--($D$7:$D$40=$D28),--($E$7:$E$40=$E28),--($F$7:$F$40=$F28),--($G$7:$G$40=$G28),--($H$7:$H$40=$H28),--('Seznam družstev'!$H28 <'Seznam družstev'!$H$7:$H$40)),\"\")","v":""},{"$f":"IF(E28<>\"\",SUMPRODUCT(--($C$7:$C$40=$C28),--($D$7:$D$40=$D28),--($E$7:$E$40=$E28),--($F$7:$F$40=$F28),--($G$7:$G$40=$G28),--($H$7:$H$40=$H28),--($I$7:$I$40=$I28),--('Seznam družstev'!$G28 <'Seznam družstev'!$G$7:$G$40)),\"\")","v":""},{"$f":"IF(F28<>\"\",SUMPRODUCT(--($C$7:$C$40=$C28),--($D$7:$D$40=$D28),--($E$7:$E$40=$E28),--($F$7:$F$40=$F28),--($G$7:$G$40=$G28),--($H$7:$H$40=$H28),--($I$7:$I$40=$I28),--($J$7:$J$40=$J28), --('Seznam družstev'!$F28 <'Seznam družstev'!$F$7:$F$40)),\"\")","v":""},{"$f":"IF(F28<>\"\",SUMPRODUCT(--($C$7:$C$40=$C28),--($D$7:$D$40=$D28),--($E$7:$E$40=$E28),--($F$7:$F$40=$F28),--($G$7:$G$40=$G28),--($H$7:$H$40=$H28),--($I$7:$I$40=$I28),--($J$7:$J$40=$J28),--($K$7:$K$40=$K28), --('Seznam družstev'!$E28 <'Seznam družstev'!$E$7:$E$40)),\"\")","v":""},{"$f":"IF(F28<>\"\",SUMPRODUCT(--($C$7:$C$40=$C28),--($D$7:$D$40=$D28),--($E$7:$E$40=$E28),--($F$7:$F$40=$F28),--($G$7:$G$40=$G28),--($H$7:$H$40=$H28),--($I$7:$I$40=$I28),--($J$7:$J$40=$J28),--($K$7:$K$40=$K28),--($L$7:$L$40=$L28), --('Seznam družstev'!$D28 <'Seznam družstev'!$D$7:$D$40)),\"\")","v":""},{"$f":"IF(F28<>\"\",SUMPRODUCT(--($C$7:$C$40=$C28),--($D$7:$D$40=$D28),--($E$7:$E$40=$E28),--($F$7:$F$40=$F28),--($G$7:$G$40=$G28),--($H$7:$H$40=$H28),--($I$7:$I$40=$I28),--($J$7:$J$40=$J28),--($K$7:$K$40=$K28),--($L$7:$L$40=$L28), --($M$7:$M$40=$M28), --('Seznam družstev'!$N28 <'Seznam družstev'!$N$7:$N$40)),\"\")","v":""},"",{"$f":"IF(A28<>\"\",COUNTIF($O$7:$O28,$O28)-1,\"\")","v":""},""]
[{"$f":"'Seznam družstev'!B29","v":""},{"$f":"IF('Seznam družstev'!P29<>\"\", 0,'Seznam družstev'!C29)","v":""},"",{"$f":"IF(A29<>\"\",SUMPRODUCT(--($C$7:$C$40=$C29),--('Seznam družstev'!$M29 <'Seznam družstev'!$M$7:$M$40)),\"\")","v":""},{"$f":"IF(B29<>\"\",SUMPRODUCT(--($C$7:$C$40=$C29),--($D$7:$D$40=$D29),--('Seznam družstev'!$L29 <'Seznam družstev'!$L$7:$L$40)),\"\")","v":""},{"$f":"IF(C29<>\"\",SUMPRODUCT(--($C$7:$C$40=$C29),--($D$7:$D$40=$D29),--($E$7:$E$40=$E29),--('Seznam družstev'!$K29 <'Seznam družstev'!$K$7:$K$40)),\"\")","v":""},{"$f":"IF(D29<>\"\",SUMPRODUCT(--($C$7:$C$40=$C29),--($D$7:$D$40=$D29),--($E$7:$E$40=$E29),--($F$7:$F$40=$F29),--('Seznam družstev'!$J29 <'Seznam družstev'!$J$7:$J$40)),\"\")","v":""},{"$f":"IF(E29<>\"\",SUMPRODUCT(--($C$7:$C$40=$C29),--($D$7:$D$40=$D29),--($E$7:$E$40=$E29),--($F$7:$F$40=$F29),--($G$7:$G$40=$G29),--('Seznam družstev'!$I29 <'Seznam družstev'!$I$7:$I$40)),\"\")","v":""},{"$f":"IF(E29<>\"\",SUMPRODUCT(--($C$7:$C$40=$C29),--($D$7:$D$40=$D29),--($E$7:$E$40=$E29),--($F$7:$F$40=$F29),--($G$7:$G$40=$G29),--($H$7:$H$40=$H29),--('Seznam družstev'!$H29 <'Seznam družstev'!$H$7:$H$40)),\"\")","v":""},{"$f":"IF(E29<>\"\",SUMPRODUCT(--($C$7:$C$40=$C29),--($D$7:$D$40=$D29),--($E$7:$E$40=$E29),--($F$7:$F$40=$F29),--($G$7:$G$40=$G29),--($H$7:$H$40=$H29),--($I$7:$I$40=$I29),--('Seznam družstev'!$G29 <'Seznam družstev'!$G$7:$G$40)),\"\")","v":""},{"$f":"IF(F29<>\"\",SUMPRODUCT(--($C$7:$C$40=$C29),--($D$7:$D$40=$D29),--($E$7:$E$40=$E29),--($F$7:$F$40=$F29),--($G$7:$G$40=$G29),--($H$7:$H$40=$H29),--($I$7:$I$40=$I29),--($J$7:$J$40=$J29), --('Seznam družstev'!$F29 <'Seznam družstev'!$F$7:$F$40)),\"\")","v":""},{"$f":"IF(F29<>\"\",SUMPRODUCT(--($C$7:$C$40=$C29),--($D$7:$D$40=$D29),--($E$7:$E$40=$E29),--($F$7:$F$40=$F29),--($G$7:$G$40=$G29),--($H$7:$H$40=$H29),--($I$7:$I$40=$I29),--($J$7:$J$40=$J29),--($K$7:$K$40=$K29), --('Seznam družstev'!$E29 <'Seznam družstev'!$E$7:$E$40)),\"\")","v":""},{"$f":"IF(F29<>\"\",SUMPRODUCT(--($C$7:$C$40=$C29),--($D$7:$D$40=$D29),--($E$7:$E$40=$E29),--($F$7:$F$40=$F29),--($G$7:$G$40=$G29),--($H$7:$H$40=$H29),--($I$7:$I$40=$I29),--($J$7:$J$40=$J29),--($K$7:$K$40=$K29),--($L$7:$L$40=$L29), --('Seznam družstev'!$D29 <'Seznam družstev'!$D$7:$D$40)),\"\")","v":""},{"$f":"IF(F29<>\"\",SUMPRODUCT(--($C$7:$C$40=$C29),--($D$7:$D$40=$D29),--($E$7:$E$40=$E29),--($F$7:$F$40=$F29),--($G$7:$G$40=$G29),--($H$7:$H$40=$H29),--($I$7:$I$40=$I29),--($J$7:$J$40=$J29),--($K$7:$K$40=$K29),--($L$7:$L$40=$L29), --($M$7:$M$40=$M29), --('Seznam družstev'!$N29 <'Seznam družstev'!$N$7:$N$40)),\"\")","v":""},"",{"$f":"IF(A29<>\"\",COUNTIF($O$7:$O29,$O29)-1,\"\")","v":""},""]
[{"$f":"'Seznam družstev'!B30","v":""},{"$f":"IF('Seznam družstev'!P30<>\"\", 0,'Seznam družstev'!C30)","v":""},"",{"$f":"IF(A30<>\"\",SUMPRODUCT(--($C$7:$C$40=$C30),--('Seznam družstev'!$M30 <'Seznam družstev'!$M$7:$M$40)),\"\")","v":""},{"$f":"IF(B30<>\"\",SUMPRODUCT(--($C$7:$C$40=$C30),--($D$7:$D$40=$D30),--('Seznam družstev'!$L30 <'Seznam družstev'!$L$7:$L$40)),\"\")","v":""},{"$f":"IF(C30<>\"\",SUMPRODUCT(--($C$7:$C$40=$C30),--($D$7:$D$40=$D30),--($E$7:$E$40=$E30),--('Seznam družstev'!$K30 <'Seznam družstev'!$K$7:$K$40)),\"\")","v":""},{"$f":"IF(D30<>\"\",SUMPRODUCT(--($C$7:$C$40=$C30),--($D$7:$D$40=$D30),--($E$7:$E$40=$E30),--($F$7:$F$40=$F30),--('Seznam družstev'!$J30 <'Seznam družstev'!$J$7:$J$40)),\"\")","v":""},{"$f":"IF(E30<>\"\",SUMPRODUCT(--($C$7:$C$40=$C30),--($D$7:$D$40=$D30),--($E$7:$E$40=$E30),--($F$7:$F$40=$F30),--($G$7:$G$40=$G30),--('Seznam družstev'!$I30 <'Seznam družstev'!$I$7:$I$40)),\"\")","v":""},{"$f":"IF(E30<>\"\",SUMPRODUCT(--($C$7:$C$40=$C30),--($D$7:$D$40=$D30),--($E$7:$E$40=$E30),--($F$7:$F$40=$F30),--($G$7:$G$40=$G30),--($H$7:$H$40=$H30),--('Seznam družstev'!$H30 <'Seznam družstev'!$H$7:$H$40)),\"\")","v":""},{"$f":"IF(E30<>\"\",SUMPRODUCT(--($C$7:$C$40=$C30),--($D$7:$D$40=$D30),--($E$7:$E$40=$E30),--($F$7:$F$40=$F30),--($G$7:$G$40=$G30),--($H$7:$H$40=$H30),--($I$7:$I$40=$I30),--('Seznam družstev'!$G30 <'Seznam družstev'!$G$7:$G$40)),\"\")","v":""},{"$f":"IF(F30<>\"\",SUMPRODUCT(--($C$7:$C$40=$C30),--($D$7:$D$40=$D30),--($E$7:$E$40=$E30),--($F$7:$F$40=$F30),--($G$7:$G$40=$G30),--($H$7:$H$40=$H30),--($I$7:$I$40=$I30),--($J$7:$J$40=$J30), --('Seznam družstev'!$F30 <'Seznam družstev'!$F$7:$F$40)),\"\")","v":""},{"$f":"IF(F30<>\"\",SUMPRODUCT(--($C$7:$C$40=$C30),--($D$7:$D$40=$D30),--($E$7:$E$40=$E30),--($F$7:$F$40=$F30),--($G$7:$G$40=$G30),--($H$7:$H$40=$H30),--($I$7:$I$40=$I30),--($J$7:$J$40=$J30),--($K$7:$K$40=$K30), --('Seznam družstev'!$E30 <'Seznam družstev'!$E$7:$E$40)),\"\")","v":""},{"$f":"IF(F30<>\"\",SUMPRODUCT(--($C$7:$C$40=$C30),--($D$7:$D$40=$D30),--($E$7:$E$40=$E30),--($F$7:$F$40=$F30),--($G$7:$G$40=$G30),--($H$7:$H$40=$H30),--($I$7:$I$40=$I30),--($J$7:$J$40=$J30),--($K$7:$K$40=$K30),--($L$7:$L$40=$L30), --('Seznam družstev'!$D30 <'Seznam družstev'!$D$7:$D$40)),\"\")","v":""},{"$f":"IF(F30<>\"\",SUMPRODUCT(--($C$7:$C$40=$C30),--($D$7:$D$40=$D30),--($E$7:$E$40=$E30),--($F$7:$F$40=$F30),--($G$7:$G$40=$G30),--($H$7:$H$40=$H30),--($I$7:$I$40=$I30),--($J$7:$J$40=$J30),--($K$7:$K$40=$K30),--($L$7:$L$40=$L30), --($M$7:$M$40=$M30), --('Seznam družstev'!$N30 <'Seznam družstev'!$N$7:$N$40)),\"\")","v":""},"",{"$f":"IF(A30<>\"\",COUNTIF($O$7:$O30,$O30)-1,\"\")","v":""},""]
[{"$f":"'Seznam družstev'!B31","v":""},{"$f":"IF('Seznam družstev'!P31<>\"\", 0,'Seznam družstev'!C31)","v":""},"",{"$f":"IF(A31<>\"\",SUMPRODUCT(--($C$7:$C$40=$C31),--('Seznam družstev'!$M31 <'Seznam družstev'!$M$7:$M$40)),\"\")","v":""},{"$f":"IF(B31<>\"\",SUMPRODUCT(--($C$7:$C$40=$C31),--($D$7:$D$40=$D31),--('Seznam družstev'!$L31 <'Seznam družstev'!$L$7:$L$40)),\"\")","v":""},{"$f":"IF(C31<>\"\",SUMPRODUCT(--($C$7:$C$40=$C31),--($D$7:$D$40=$D31),--($E$7:$E$40=$E31),--('Seznam družstev'!$K31 <'Seznam družstev'!$K$7:$K$40)),\"\")","v":""},{"$f":"IF(D31<>\"\",SUMPRODUCT(--($C$7:$C$40=$C31),--($D$7:$D$40=$D31),--($E$7:$E$40=$E31),--($F$7:$F$40=$F31),--('Seznam družstev'!$J31 <'Seznam družstev'!$J$7:$J$40)),\"\")","v":""},{"$f":"IF(E31<>\"\",SUMPRODUCT(--($C$7:$C$40=$C31),--($D$7:$D$40=$D31),--($E$7:$E$40=$E31),--($F$7:$F$40=$F31),--($G$7:$G$40=$G31),--('Seznam družstev'!$I31 <'Seznam družstev'!$I$7:$I$40)),\"\")","v":""},{"$f":"IF(E31<>\"\",SUMPRODUCT(--($C$7:$C$40=$C31),--($D$7:$D$40=$D31),--($E$7:$E$40=$E31),--($F$7:$F$40=$F31),--($G$7:$G$40=$G31),--($H$7:$H$40=$H31),--('Seznam družstev'!$H31 <'Seznam družstev'!$H$7:$H$40)),\"\")","v":""},{"$f":"IF(E31<>\"\",SUMPRODUCT(--($C$7:$C$40=$C31),--($D$7:$D$40=$D31),--($E$7:$E$40=$E31),--($F$7:$F$40=$F31),--($G$7:$G$40=$G31),--($H$7:$H$40=$H31),--($I$7:$I$40=$I31),--('Seznam družstev'!$G31 <'Seznam družstev'!$G$7:$G$40)),\"\")","v":""},{"$f":"IF(F31<>\"\",SUMPRODUCT(--($C$7:$C$40=$C31),--($D$7:$D$40=$D31),--($E$7:$E$40=$E31),--($F$7:$F$40=$F31),--($G$7:$G$40=$G31),--($H$7:$H$40=$H31),--($I$7:$I$40=$I31),--($J$7:$J$40=$J31), --('Seznam družstev'!$F31 <'Seznam družstev'!$F$7:$F$40)),\"\")","v":""},{"$f":"IF(F31<>\"\",SUMPRODUCT(--($C$7:$C$40=$C31),--($D$7:$D$40=$D31),--($E$7:$E$40=$E31),--($F$7:$F$40=$F31),--($G$7:$G$40=$G31),--($H$7:$H$40=$H31),--($I$7:$I$40=$I31),--($J$7:$J$40=$J31),--($K$7:$K$40=$K31), --('Seznam družstev'!$E31 <'Seznam družstev'!$E$7:$E$40)),\"\")","v":""},{"$f":"IF(F31<>\"\",SUMPRODUCT(--($C$7:$C$40=$C31),--($D$7:$D$40=$D31),--($E$7:$E$40=$E31),--($F$7:$F$40=$F31),--($G$7:$G$40=$G31),--($H$7:$H$40=$H31),--($I$7:$I$40=$I31),--($J$7:$J$40=$J31),--($K$7:$K$40=$K31),--($L$7:$L$40=$L31), --('Seznam družstev'!$D31 <'Seznam družstev'!$D$7:$D$40)),\"\")","v":""},{"$f":"IF(F31<>\"\",SUMPRODUCT(--($C$7:$C$40=$C31),--($D$7:$D$40=$D31),--($E$7:$E$40=$E31),--($F$7:$F$40=$F31),--($G$7:$G$40=$G31),--($H$7:$H$40=$H31),--($I$7:$I$40=$I31),--($J$7:$J$40=$J31),--($K$7:$K$40=$K31),--($L$7:$L$40=$L31), --($M$7:$M$40=$M31), --('Seznam družstev'!$N31 <'Seznam družstev'!$N$7:$N$40)),\"\")","v":""},"",{"$f":"IF(A31<>\"\",COUNTIF($O$7:$O31,$O31)-1,\"\")","v":""},""]
[{"$f":"'Seznam družstev'!B32","v":""},{"$f":"IF('Seznam družstev'!P32<>\"\", 0,'Seznam družstev'!C32)","v":""},"",{"$f":"IF(A32<>\"\",SUMPRODUCT(--($C$7:$C$40=$C32),--('Seznam družstev'!$M32 <'Seznam družstev'!$M$7:$M$40)),\"\")","v":""},{"$f":"IF(B32<>\"\",SUMPRODUCT(--($C$7:$C$40=$C32),--($D$7:$D$40=$D32),--('Seznam družstev'!$L32 <'Seznam družstev'!$L$7:$L$40)),\"\")","v":""},{"$f":"IF(C32<>\"\",SUMPRODUCT(--($C$7:$C$40=$C32),--($D$7:$D$40=$D32),--($E$7:$E$40=$E32),--('Seznam družstev'!$K32 <'Seznam družstev'!$K$7:$K$40)),\"\")","v":""},{"$f":"IF(D32<>\"\",SUMPRODUCT(--($C$7:$C$40=$C32),--($D$7:$D$40=$D32),--($E$7:$E$40=$E32),--($F$7:$F$40=$F32),--('Seznam družstev'!$J32 <'Seznam družstev'!$J$7:$J$40)),\"\")","v":""},{"$f":"IF(E32<>\"\",SUMPRODUCT(--($C$7:$C$40=$C32),--($D$7:$D$40=$D32),--($E$7:$E$40=$E32),--($F$7:$F$40=$F32),--($G$7:$G$40=$G32),--('Seznam družstev'!$I32 <'Seznam družstev'!$I$7:$I$40)),\"\")","v":""},{"$f":"IF(E32<>\"\",SUMPRODUCT(--($C$7:$C$40=$C32),--($D$7:$D$40=$D32),--($E$7:$E$40=$E32),--($F$7:$F$40=$F32),--($G$7:$G$40=$G32),--($H$7:$H$40=$H32),--('Seznam družstev'!$H32 <'Seznam družstev'!$H$7:$H$40)),\"\")","v":""},{"$f":"IF(E32<>\"\",SUMPRODUCT(--($C$7:$C$40=$C32),--($D$7:$D$40=$D32),--($E$7:$E$40=$E32),--($F$7:$F$40=$F32),--($G$7:$G$40=$G32),--($H$7:$H$40=$H32),--($I$7:$I$40=$I32),--('Seznam družstev'!$G32 <'Seznam družstev'!$G$7:$G$40)),\"\")","v":""},{"$f":"IF(F32<>\"\",SUMPRODUCT(--($C$7:$C$40=$C32),--($D$7:$D$40=$D32),--($E$7:$E$40=$E32),--($F$7:$F$40=$F32),--($G$7:$G$40=$G32),--($H$7:$H$40=$H32),--($I$7:$I$40=$I32),--($J$7:$J$40=$J32), --('Seznam družstev'!$F32 <'Seznam družstev'!$F$7:$F$40)),\"\")","v":""},{"$f":"IF(F32<>\"\",SUMPRODUCT(--($C$7:$C$40=$C32),--($D$7:$D$40=$D32),--($E$7:$E$40=$E32),--($F$7:$F$40=$F32),--($G$7:$G$40=$G32),--($H$7:$H$40=$H32),--($I$7:$I$40=$I32),--($J$7:$J$40=$J32),--($K$7:$K$40=$K32), --('Seznam družstev'!$E32 <'Seznam družstev'!$E$7:$E$40)),\"\")","v":""},{"$f":"IF(F32<>\"\",SUMPRODUCT(--($C$7:$C$40=$C32),--($D$7:$D$40=$D32),--($E$7:$E$40=$E32),--($F$7:$F$40=$F32),--($G$7:$G$40=$G32),--($H$7:$H$40=$H32),--($I$7:$I$40=$I32),--($J$7:$J$40=$J32),--($K$7:$K$40=$K32),--($L$7:$L$40=$L32), --('Seznam družstev'!$D32 <'Seznam družstev'!$D$7:$D$40)),\"\")","v":""},{"$f":"IF(F32<>\"\",SUMPRODUCT(--($C$7:$C$40=$C32),--($D$7:$D$40=$D32),--($E$7:$E$40=$E32),--($F$7:$F$40=$F32),--($G$7:$G$40=$G32),--($H$7:$H$40=$H32),--($I$7:$I$40=$I32),--($J$7:$J$40=$J32),--($K$7:$K$40=$K32),--($L$7:$L$40=$L32), --($M$7:$M$40=$M32), --('Seznam družstev'!$N32 <'Seznam družstev'!$N$7:$N$40)),\"\")","v":""},"",{"$f":"IF(A32<>\"\",COUNTIF($O$7:$O32,$O32)-1,\"\")","v":""},""]
[{"$f":"'Seznam družstev'!B33","v":""},{"$f":"IF('Seznam družstev'!P33<>\"\", 0,'Seznam družstev'!C33)","v":""},"",{"$f":"IF(A33<>\"\",SUMPRODUCT(--($C$7:$C$40=$C33),--('Seznam družstev'!$M33 <'Seznam družstev'!$M$7:$M$40)),\"\")","v":""},{"$f":"IF(B33<>\"\",SUMPRODUCT(--($C$7:$C$40=$C33),--($D$7:$D$40=$D33),--('Seznam družstev'!$L33 <'Seznam družstev'!$L$7:$L$40)),\"\")","v":""},{"$f":"IF(C33<>\"\",SUMPRODUCT(--($C$7:$C$40=$C33),--($D$7:$D$40=$D33),--($E$7:$E$40=$E33),--('Seznam družstev'!$K33 <'Seznam družstev'!$K$7:$K$40)),\"\")","v":""},{"$f":"IF(D33<>\"\",SUMPRODUCT(--($C$7:$C$40=$C33),--($D$7:$D$40=$D33),--($E$7:$E$40=$E33),--($F$7:$F$40=$F33),--('Seznam družstev'!$J33 <'Seznam družstev'!$J$7:$J$40)),\"\")","v":""},{"$f":"IF(E33<>\"\",SUMPRODUCT(--($C$7:$C$40=$C33),--($D$7:$D$40=$D33),--($E$7:$E$40=$E33),--($F$7:$F$40=$F33),--($G$7:$G$40=$G33),--('Seznam družstev'!$I33 <'Seznam družstev'!$I$7:$I$40)),\"\")","v":""},{"$f":"IF(E33<>\"\",SUMPRODUCT(--($C$7:$C$40=$C33),--($D$7:$D$40=$D33),--($E$7:$E$40=$E33),--($F$7:$F$40=$F33),--($G$7:$G$40=$G33),--($H$7:$H$40=$H33),--('Seznam družstev'!$H33 <'Seznam družstev'!$H$7:$H$40)),\"\")","v":""},{"$f":"IF(E33<>\"\",SUMPRODUCT(--($C$7:$C$40=$C33),--($D$7:$D$40=$D33),--($E$7:$E$40=$E33),--($F$7:$F$40=$F33),--($G$7:$G$40=$G33),--($H$7:$H$40=$H33),--($I$7:$I$40=$I33),--('Seznam družstev'!$G33 <'Seznam družstev'!$G$7:$G$40)),\"\")","v":""},{"$f":"IF(F33<>\"\",SUMPRODUCT(--($C$7:$C$40=$C33),--($D$7:$D$40=$D33),--($E$7:$E$40=$E33),--($F$7:$F$40=$F33),--($G$7:$G$40=$G33),--($H$7:$H$40=$H33),--($I$7:$I$40=$I33),--($J$7:$J$40=$J33), --('Seznam družstev'!$F33 <'Seznam družstev'!$F$7:$F$40)),\"\")","v":""},{"$f":"IF(F33<>\"\",SUMPRODUCT(--($C$7:$C$40=$C33),--($D$7:$D$40=$D33),--($E$7:$E$40=$E33),--($F$7:$F$40=$F33),--($G$7:$G$40=$G33),--($H$7:$H$40=$H33),--($I$7:$I$40=$I33),--($J$7:$J$40=$J33),--($K$7:$K$40=$K33), --('Seznam družstev'!$E33 <'Seznam družstev'!$E$7:$E$40)),\"\")","v":""},{"$f":"IF(F33<>\"\",SUMPRODUCT(--($C$7:$C$40=$C33),--($D$7:$D$40=$D33),--($E$7:$E$40=$E33),--($F$7:$F$40=$F33),--($G$7:$G$40=$G33),--($H$7:$H$40=$H33),--($I$7:$I$40=$I33),--($J$7:$J$40=$J33),--($K$7:$K$40=$K33),--($L$7:$L$40=$L33), --('Seznam družstev'!$D33 <'Seznam družstev'!$D$7:$D$40)),\"\")","v":""},{"$f":"IF(F33<>\"\",SUMPRODUCT(--($C$7:$C$40=$C33),--($D$7:$D$40=$D33),--($E$7:$E$40=$E33),--($F$7:$F$40=$F33),--($G$7:$G$40=$G33),--($H$7:$H$40=$H33),--($I$7:$I$40=$I33),--($J$7:$J$40=$J33),--($K$7:$K$40=$K33),--($L$7:$L$40=$L33), --($M$7:$M$40=$M33), --('Seznam družstev'!$N33 <'Seznam družstev'!$N$7:$N$40)),\"\")","v":""},"",{"$f":"IF(A33<>\"\",COUNTIF($O$7:$O33,$O33)-1,\"\")","v":""},""]
[{"$f":"'Seznam družstev'!B34","v":""},{"$f":"IF('Seznam družstev'!P34<>\"\", 0,'Seznam družstev'!C34)","v":""},"",{"$f":"IF(A34<>\"\",SUMPRODUCT(--($C$7:$C$40=$C34),--('Seznam družstev'!$M34 <'Seznam družstev'!$M$7:$M$40)),\"\")","v":""},{"$f":"IF(B34<>\"\",SUMPRODUCT(--($C$7:$C$40=$C34),--($D$7:$D$40=$D34),--('Seznam družstev'!$L34 <'Seznam družstev'!$L$7:$L$40)),\"\")","v":""},{"$f":"IF(C34<>\"\",SUMPRODUCT(--($C$7:$C$40=$C34),--($D$7:$D$40=$D34),--($E$7:$E$40=$E34),--('Seznam družstev'!$K34 <'Seznam družstev'!$K$7:$K$40)),\"\")","v":""},{"$f":"IF(D34<>\"\",SUMPRODUCT(--($C$7:$C$40=$C34),--($D$7:$D$40=$D34),--($E$7:$E$40=$E34),--($F$7:$F$40=$F34),--('Seznam družstev'!$J34 <'Seznam družstev'!$J$7:$J$40)),\"\")","v":""},{"$f":"IF(E34<>\"\",SUMPRODUCT(--($C$7:$C$40=$C34),--($D$7:$D$40=$D34),--($E$7:$E$40=$E34),--($F$7:$F$40=$F34),--($G$7:$G$40=$G34),--('Seznam družstev'!$I34 <'Seznam družstev'!$I$7:$I$40)),\"\")","v":""},{"$f":"IF(E34<>\"\",SUMPRODUCT(--($C$7:$C$40=$C34),--($D$7:$D$40=$D34),--($E$7:$E$40=$E34),--($F$7:$F$40=$F34),--($G$7:$G$40=$G34),--($H$7:$H$40=$H34),--('Seznam družstev'!$H34 <'Seznam družstev'!$H$7:$H$40)),\"\")","v":""},{"$f":"IF(E34<>\"\",SUMPRODUCT(--($C$7:$C$40=$C34),--($D$7:$D$40=$D34),--($E$7:$E$40=$E34),--($F$7:$F$40=$F34),--($G$7:$G$40=$G34),--($H$7:$H$40=$H34),--($I$7:$I$40=$I34),--('Seznam družstev'!$G34 <'Seznam družstev'!$G$7:$G$40)),\"\")","v":""},{"$f":"IF(F34<>\"\",SUMPRODUCT(--($C$7:$C$40=$C34),--($D$7:$D$40=$D34),--($E$7:$E$40=$E34),--($F$7:$F$40=$F34),--($G$7:$G$40=$G34),--($H$7:$H$40=$H34),--($I$7:$I$40=$I34),--($J$7:$J$40=$J34), --('Seznam družstev'!$F34 <'Seznam družstev'!$F$7:$F$40)),\"\")","v":""},{"$f":"IF(F34<>\"\",SUMPRODUCT(--($C$7:$C$40=$C34),--($D$7:$D$40=$D34),--($E$7:$E$40=$E34),--($F$7:$F$40=$F34),--($G$7:$G$40=$G34),--($H$7:$H$40=$H34),--($I$7:$I$40=$I34),--($J$7:$J$40=$J34),--($K$7:$K$40=$K34), --('Seznam družstev'!$E34 <'Seznam družstev'!$E$7:$E$40)),\"\")","v":""},{"$f":"IF(F34<>\"\",SUMPRODUCT(--($C$7:$C$40=$C34),--($D$7:$D$40=$D34),--($E$7:$E$40=$E34),--($F$7:$F$40=$F34),--($G$7:$G$40=$G34),--($H$7:$H$40=$H34),--($I$7:$I$40=$I34),--($J$7:$J$40=$J34),--($K$7:$K$40=$K34),--($L$7:$L$40=$L34), --('Seznam družstev'!$D34 <'Seznam družstev'!$D$7:$D$40)),\"\")","v":""},{"$f":"IF(F34<>\"\",SUMPRODUCT(--($C$7:$C$40=$C34),--($D$7:$D$40=$D34),--($E$7:$E$40=$E34),--($F$7:$F$40=$F34),--($G$7:$G$40=$G34),--($H$7:$H$40=$H34),--($I$7:$I$40=$I34),--($J$7:$J$40=$J34),--($K$7:$K$40=$K34),--($L$7:$L$40=$L34), --($M$7:$M$40=$M34), --('Seznam družstev'!$N34 <'Seznam družstev'!$N$7:$N$40)),\"\")","v":""},"",{"$f":"IF(A34<>\"\",COUNTIF($O$7:$O34,$O34)-1,\"\")","v":""},""]
[{"$f":"'Seznam družstev'!B35","v":""},{"$f":"IF('Seznam družstev'!P35<>\"\", 0,'Seznam družstev'!C35)","v":""},"",{"$f":"IF(A35<>\"\",SUMPRODUCT(--($C$7:$C$40=$C35),--('Seznam družstev'!$M35 <'Seznam družstev'!$M$7:$M$40)),\"\")","v":""},{"$f":"IF(B35<>\"\",SUMPRODUCT(--($C$7:$C$40=$C35),--($D$7:$D$40=$D35),--('Seznam družstev'!$L35 <'Seznam družstev'!$L$7:$L$40)),\"\")","v":""},{"$f":"IF(C35<>\"\",SUMPRODUCT(--($C$7:$C$40=$C35),--($D$7:$D$40=$D35),--($E$7:$E$40=$E35),--('Seznam družstev'!$K35 <'Seznam družstev'!$K$7:$K$40)),\"\")","v":""},{"$f":"IF(D35<>\"\",SUMPRODUCT(--($C$7:$C$40=$C35),--($D$7:$D$40=$D35),--($E$7:$E$40=$E35),--($F$7:$F$40=$F35),--('Seznam družstev'!$J35 <'Seznam družstev'!$J$7:$J$40)),\"\")","v":""},{"$f":"IF(E35<>\"\",SUMPRODUCT(--($C$7:$C$40=$C35),--($D$7:$D$40=$D35),--($E$7:$E$40=$E35),--($F$7:$F$40=$F35),--($G$7:$G$40=$G35),--('Seznam družstev'!$I35 <'Seznam družstev'!$I$7:$I$40)),\"\")","v":""},{"$f":"IF(E35<>\"\",SUMPRODUCT(--($C$7:$C$40=$C35),--($D$7:$D$40=$D35),--($E$7:$E$40=$E35),--($F$7:$F$40=$F35),--($G$7:$G$40=$G35),--($H$7:$H$40=$H35),--('Seznam družstev'!$H35 <'Seznam družstev'!$H$7:$H$40)),\"\")","v":""},{"$f":"IF(E35<>\"\",SUMPRODUCT(--($C$7:$C$40=$C35),--($D$7:$D$40=$D35),--($E$7:$E$40=$E35),--($F$7:$F$40=$F35),--($G$7:$G$40=$G35),--($H$7:$H$40=$H35),--($I$7:$I$40=$I35),--('Seznam družstev'!$G35 <'Seznam družstev'!$G$7:$G$40)),\"\")","v":""},{"$f":"IF(F35<>\"\",SUMPRODUCT(--($C$7:$C$40=$C35),--($D$7:$D$40=$D35),--($E$7:$E$40=$E35),--($F$7:$F$40=$F35),--($G$7:$G$40=$G35),--($H$7:$H$40=$H35),--($I$7:$I$40=$I35),--($J$7:$J$40=$J35), --('Seznam družstev'!$F35 <'Seznam družstev'!$F$7:$F$40)),\"\")","v":""},{"$f":"IF(F35<>\"\",SUMPRODUCT(--($C$7:$C$40=$C35),--($D$7:$D$40=$D35),--($E$7:$E$40=$E35),--($F$7:$F$40=$F35),--($G$7:$G$40=$G35),--($H$7:$H$40=$H35),--($I$7:$I$40=$I35),--($J$7:$J$40=$J35),--($K$7:$K$40=$K35), --('Seznam družstev'!$E35 <'Seznam družstev'!$E$7:$E$40)),\"\")","v":""},{"$f":"IF(F35<>\"\",SUMPRODUCT(--($C$7:$C$40=$C35),--($D$7:$D$40=$D35),--($E$7:$E$40=$E35),--($F$7:$F$40=$F35),--($G$7:$G$40=$G35),--($H$7:$H$40=$H35),--($I$7:$I$40=$I35),--($J$7:$J$40=$J35),--($K$7:$K$40=$K35),--($L$7:$L$40=$L35), --('Seznam družstev'!$D35 <'Seznam družstev'!$D$7:$D$40)),\"\")","v":""},{"$f":"IF(F35<>\"\",SUMPRODUCT(--($C$7:$C$40=$C35),--($D$7:$D$40=$D35),--($E$7:$E$40=$E35),--($F$7:$F$40=$F35),--($G$7:$G$40=$G35),--($H$7:$H$40=$H35),--($I$7:$I$40=$I35),--($J$7:$J$40=$J35),--($K$7:$K$40=$K35),--($L$7:$L$40=$L35), --($M$7:$M$40=$M35), --('Seznam družstev'!$N35 <'Seznam družstev'!$N$7:$N$40)),\"\")","v":""},"",{"$f":"IF(A35<>\"\",COUNTIF($O$7:$O35,$O35)-1,\"\")","v":""},""]
[{"$f":"'Seznam družstev'!B36","v":""},{"$f":"IF('Seznam družstev'!P36<>\"\", 0,'Seznam družstev'!C36)","v":""},"",{"$f":"IF(A36<>\"\",SUMPRODUCT(--($C$7:$C$40=$C36),--('Seznam družstev'!$M36 <'Seznam družstev'!$M$7:$M$40)),\"\")","v":""},{"$f":"IF(B36<>\"\",SUMPRODUCT(--($C$7:$C$40=$C36),--($D$7:$D$40=$D36),--('Seznam družstev'!$L36 <'Seznam družstev'!$L$7:$L$40)),\"\")","v":""},{"$f":"IF(C36<>\"\",SUMPRODUCT(--($C$7:$C$40=$C36),--($D$7:$D$40=$D36),--($E$7:$E$40=$E36),--('Seznam družstev'!$K36 <'Seznam družstev'!$K$7:$K$40)),\"\")","v":""},{"$f":"IF(D36<>\"\",SUMPRODUCT(--($C$7:$C$40=$C36),--($D$7:$D$40=$D36),--($E$7:$E$40=$E36),--($F$7:$F$40=$F36),--('Seznam družstev'!$J36 <'Seznam družstev'!$J$7:$J$40)),\"\")","v":""},{"$f":"IF(E36<>\"\",SUMPRODUCT(--($C$7:$C$40=$C36),--($D$7:$D$40=$D36),--($E$7:$E$40=$E36),--($F$7:$F$40=$F36),--($G$7:$G$40=$G36),--('Seznam družstev'!$I36 <'Seznam družstev'!$I$7:$I$40)),\"\")","v":""},{"$f":"IF(E36<>\"\",SUMPRODUCT(--($C$7:$C$40=$C36),--($D$7:$D$40=$D36),--($E$7:$E$40=$E36),--($F$7:$F$40=$F36),--($G$7:$G$40=$G36),--($H$7:$H$40=$H36),--('Seznam družstev'!$H36 <'Seznam družstev'!$H$7:$H$40)),\"\")","v":""},{"$f":"IF(E36<>\"\",SUMPRODUCT(--($C$7:$C$40=$C36),--($D$7:$D$40=$D36),--($E$7:$E$40=$E36),--($F$7:$F$40=$F36),--($G$7:$G$40=$G36),--($H$7:$H$40=$H36),--($I$7:$I$40=$I36),--('Seznam družstev'!$G36 <'Seznam družstev'!$G$7:$G$40)),\"\")","v":""},{"$f":"IF(F36<>\"\",SUMPRODUCT(--($C$7:$C$40=$C36),--($D$7:$D$40=$D36),--($E$7:$E$40=$E36),--($F$7:$F$40=$F36),--($G$7:$G$40=$G36),--($H$7:$H$40=$H36),--($I$7:$I$40=$I36),--($J$7:$J$40=$J36), --('Seznam družstev'!$F36 <'Seznam družstev'!$F$7:$F$40)),\"\")","v":""},{"$f":"IF(F36<>\"\",SUMPRODUCT(--($C$7:$C$40=$C36),--($D$7:$D$40=$D36),--($E$7:$E$40=$E36),--($F$7:$F$40=$F36),--($G$7:$G$40=$G36),--($H$7:$H$40=$H36),--($I$7:$I$40=$I36),--($J$7:$J$40=$J36),--($K$7:$K$40=$K36), --('Seznam družstev'!$E36 <'Seznam družstev'!$E$7:$E$40)),\"\")","v":""},{"$f":"IF(F36<>\"\",SUMPRODUCT(--($C$7:$C$40=$C36),--($D$7:$D$40=$D36),--($E$7:$E$40=$E36),--($F$7:$F$40=$F36),--($G$7:$G$40=$G36),--($H$7:$H$40=$H36),--($I$7:$I$40=$I36),--($J$7:$J$40=$J36),--($K$7:$K$40=$K36),--($L$7:$L$40=$L36), --('Seznam družstev'!$D36 <'Seznam družstev'!$D$7:$D$40)),\"\")","v":""},{"$f":"IF(F36<>\"\",SUMPRODUCT(--($C$7:$C$40=$C36),--($D$7:$D$40=$D36),--($E$7:$E$40=$E36),--($F$7:$F$40=$F36),--($G$7:$G$40=$G36),--($H$7:$H$40=$H36),--($I$7:$I$40=$I36),--($J$7:$J$40=$J36),--($K$7:$K$40=$K36),--($L$7:$L$40=$L36), --($M$7:$M$40=$M36), --('Seznam družstev'!$N36 <'Seznam družstev'!$N$7:$N$40)),\"\")","v":""},"",{"$f":"IF(A36<>\"\",COUNTIF($O$7:$O36,$O36)-1,\"\")","v":""},""]
[{"$f":"'Seznam družstev'!B37","v":""},{"$f":"IF('Seznam družstev'!P37<>\"\", 0,'Seznam družstev'!C37)","v":""},"",{"$f":"IF(A37<>\"\",SUMPRODUCT(--($C$7:$C$40=$C37),--('Seznam družstev'!$M37 <'Seznam družstev'!$M$7:$M$40)),\"\")","v":""},{"$f":"IF(B37<>\"\",SUMPRODUCT(--($C$7:$C$40=$C37),--($D$7:$D$40=$D37),--('Seznam družstev'!$L37 <'Seznam družstev'!$L$7:$L$40)),\"\")","v":""},{"$f":"IF(C37<>\"\",SUMPRODUCT(--($C$7:$C$40=$C37),--($D$7:$D$40=$D37),--($E$7:$E$40=$E37),--('Seznam družstev'!$K37 <'Seznam družstev'!$K$7:$K$40)),\"\")","v":""},{"$f":"IF(D37<>\"\",SUMPRODUCT(--($C$7:$C$40=$C37),--($D$7:$D$40=$D37),--($E$7:$E$40=$E37),--($F$7:$F$40=$F37),--('Seznam družstev'!$J37 <'Seznam družstev'!$J$7:$J$40)),\"\")","v":""},{"$f":"IF(E37<>\"\",SUMPRODUCT(--($C$7:$C$40=$C37),--($D$7:$D$40=$D37),--($E$7:$E$40=$E37),--($F$7:$F$40=$F37),--($G$7:$G$40=$G37),--('Seznam družstev'!$I37 <'Seznam družstev'!$I$7:$I$40)),\"\")","v":""},{"$f":"IF(E37<>\"\",SUMPRODUCT(--($C$7:$C$40=$C37),--($D$7:$D$40=$D37),--($E$7:$E$40=$E37),--($F$7:$F$40=$F37),--($G$7:$G$40=$G37),--($H$7:$H$40=$H37),--('Seznam družstev'!$H37 <'Seznam družstev'!$H$7:$H$40)),\"\")","v":""},{"$f":"IF(E37<>\"\",SUMPRODUCT(--($C$7:$C$40=$C37),--($D$7:$D$40=$D37),--($E$7:$E$40=$E37),--($F$7:$F$40=$F37),--($G$7:$G$40=$G37),--($H$7:$H$40=$H37),--($I$7:$I$40=$I37),--('Seznam družstev'!$G37 <'Seznam družstev'!$G$7:$G$40)),\"\")","v":""},{"$f":"IF(F37<>\"\",SUMPRODUCT(--($C$7:$C$40=$C37),--($D$7:$D$40=$D37),--($E$7:$E$40=$E37),--($F$7:$F$40=$F37),--($G$7:$G$40=$G37),--($H$7:$H$40=$H37),--($I$7:$I$40=$I37),--($J$7:$J$40=$J37), --('Seznam družstev'!$F37 <'Seznam družstev'!$F$7:$F$40)),\"\")","v":""},{"$f":"IF(F37<>\"\",SUMPRODUCT(--($C$7:$C$40=$C37),--($D$7:$D$40=$D37),--($E$7:$E$40=$E37),--($F$7:$F$40=$F37),--($G$7:$G$40=$G37),--($H$7:$H$40=$H37),--($I$7:$I$40=$I37),--($J$7:$J$40=$J37),--($K$7:$K$40=$K37), --('Seznam družstev'!$E37 <'Seznam družstev'!$E$7:$E$40)),\"\")","v":""},{"$f":"IF(F37<>\"\",SUMPRODUCT(--($C$7:$C$40=$C37),--($D$7:$D$40=$D37),--($E$7:$E$40=$E37),--($F$7:$F$40=$F37),--($G$7:$G$40=$G37),--($H$7:$H$40=$H37),--($I$7:$I$40=$I37),--($J$7:$J$40=$J37),--($K$7:$K$40=$K37),--($L$7:$L$40=$L37), --('Seznam družstev'!$D37 <'Seznam družstev'!$D$7:$D$40)),\"\")","v":""},{"$f":"IF(F37<>\"\",SUMPRODUCT(--($C$7:$C$40=$C37),--($D$7:$D$40=$D37),--($E$7:$E$40=$E37),--($F$7:$F$40=$F37),--($G$7:$G$40=$G37),--($H$7:$H$40=$H37),--($I$7:$I$40=$I37),--($J$7:$J$40=$J37),--($K$7:$K$40=$K37),--($L$7:$L$40=$L37), --($M$7:$M$40=$M37), --('Seznam družstev'!$N37 <'Seznam družstev'!$N$7:$N$40)),\"\")","v":""},"",{"$f":"IF(A37<>\"\",COUNTIF($O$7:$O37,$O37)-1,\"\")","v":""},""]
[{"$f":"'Seznam družstev'!B38","v":""},{"$f":"IF('Seznam družstev'!P38<>\"\", 0,'Seznam družstev'!C38)","v":""},"",{"$f":"IF(A38<>\"\",SUMPRODUCT(--($C$7:$C$40=$C38),--('Seznam družstev'!$M38 <'Seznam družstev'!$M$7:$M$40)),\"\")","v":""},{"$f":"IF(B38<>\"\",SUMPRODUCT(--($C$7:$C$40=$C38),--($D$7:$D$40=$D38),--('Seznam družstev'!$L38 <'Seznam družstev'!$L$7:$L$40)),\"\")","v":""},{"$f":"IF(C38<>\"\",SUMPRODUCT(--($C$7:$C$40=$C38),--($D$7:$D$40=$D38),--($E$7:$E$40=$E38),--('Seznam družstev'!$K38 <'Seznam družstev'!$K$7:$K$40)),\"\")","v":""},{"$f":"IF(D38<>\"\",SUMPRODUCT(--($C$7:$C$40=$C38),--($D$7:$D$40=$D38),--($E$7:$E$40=$E38),--($F$7:$F$40=$F38),--('Seznam družstev'!$J38 <'Seznam družstev'!$J$7:$J$40)),\"\")","v":""},{"$f":"IF(E38<>\"\",SUMPRODUCT(--($C$7:$C$40=$C38),--($D$7:$D$40=$D38),--($E$7:$E$40=$E38),--($F$7:$F$40=$F38),--($G$7:$G$40=$G38),--('Seznam družstev'!$I38 <'Seznam družstev'!$I$7:$I$40)),\"\")","v":""},{"$f":"IF(E38<>\"\",SUMPRODUCT(--($C$7:$C$40=$C38),--($D$7:$D$40=$D38),--($E$7:$E$40=$E38),--($F$7:$F$40=$F38),--($G$7:$G$40=$G38),--($H$7:$H$40=$H38),--('Seznam družstev'!$H38 <'Seznam družstev'!$H$7:$H$40)),\"\")","v":""},{"$f":"IF(E38<>\"\",SUMPRODUCT(--($C$7:$C$40=$C38),--($D$7:$D$40=$D38),--($E$7:$E$40=$E38),--($F$7:$F$40=$F38),--($G$7:$G$40=$G38),--($H$7:$H$40=$H38),--($I$7:$I$40=$I38),--('Seznam družstev'!$G38 <'Seznam družstev'!$G$7:$G$40)),\"\")","v":""},{"$f":"IF(F38<>\"\",SUMPRODUCT(--($C$7:$C$40=$C38),--($D$7:$D$40=$D38),--($E$7:$E$40=$E38),--($F$7:$F$40=$F38),--($G$7:$G$40=$G38),--($H$7:$H$40=$H38),--($I$7:$I$40=$I38),--($J$7:$J$40=$J38), --('Seznam družstev'!$F38 <'Seznam družstev'!$F$7:$F$40)),\"\")","v":""},{"$f":"IF(F38<>\"\",SUMPRODUCT(--($C$7:$C$40=$C38),--($D$7:$D$40=$D38),--($E$7:$E$40=$E38),--($F$7:$F$40=$F38),--($G$7:$G$40=$G38),--($H$7:$H$40=$H38),--($I$7:$I$40=$I38),--($J$7:$J$40=$J38),--($K$7:$K$40=$K38), --('Seznam družstev'!$E38 <'Seznam družstev'!$E$7:$E$40)),\"\")","v":""},{"$f":"IF(F38<>\"\",SUMPRODUCT(--($C$7:$C$40=$C38),--($D$7:$D$40=$D38),--($E$7:$E$40=$E38),--($F$7:$F$40=$F38),--($G$7:$G$40=$G38),--($H$7:$H$40=$H38),--($I$7:$I$40=$I38),--($J$7:$J$40=$J38),--($K$7:$K$40=$K38),--($L$7:$L$40=$L38), --('Seznam družstev'!$D38 <'Seznam družstev'!$D$7:$D$40)),\"\")","v":""},{"$f":"IF(F38<>\"\",SUMPRODUCT(--($C$7:$C$40=$C38),--($D$7:$D$40=$D38),--($E$7:$E$40=$E38),--($F$7:$F$40=$F38),--($G$7:$G$40=$G38),--($H$7:$H$40=$H38),--($I$7:$I$40=$I38),--($J$7:$J$40=$J38),--($K$7:$K$40=$K38),--($L$7:$L$40=$L38), --($M$7:$M$40=$M38), --('Seznam družstev'!$N38 <'Seznam družstev'!$N$7:$N$40)),\"\")","v":""},"",{"$f":"IF(A38<>\"\",COUNTIF($O$7:$O38,$O38)-1,\"\")","v":""},""]
[{"$f":"'Seznam družstev'!B39","v":""},{"$f":"IF('Seznam družstev'!P39<>\"\", 0,'Seznam družstev'!C39)","v":""},"",{"$f":"IF(A39<>\"\",SUMPRODUCT(--($C$7:$C$40=$C39),--('Seznam družstev'!$M39 <'Seznam družstev'!$M$7:$M$40)),\"\")","v":""},{"$f":"IF(B39<>\"\",SUMPRODUCT(--($C$7:$C$40=$C39),--($D$7:$D$40=$D39),--('Seznam družstev'!$L39 <'Seznam družstev'!$L$7:$L$40)),\"\")","v":""},{"$f":"IF(C39<>\"\",SUMPRODUCT(--($C$7:$C$40=$C39),--($D$7:$D$40=$D39),--($E$7:$E$40=$E39),--('Seznam družstev'!$K39 <'Seznam družstev'!$K$7:$K$40)),\"\")","v":""},{"$f":"IF(D39<>\"\",SUMPRODUCT(--($C$7:$C$40=$C39),--($D$7:$D$40=$D39),--($E$7:$E$40=$E39),--($F$7:$F$40=$F39),--('Seznam družstev'!$J39 <'Seznam družstev'!$J$7:$J$40)),\"\")","v":""},{"$f":"IF(E39<>\"\",SUMPRODUCT(--($C$7:$C$40=$C39),--($D$7:$D$40=$D39),--($E$7:$E$40=$E39),--($F$7:$F$40=$F39),--($G$7:$G$40=$G39),--('Seznam družstev'!$I39 <'Seznam družstev'!$I$7:$I$40)),\"\")","v":""},{"$f":"IF(E39<>\"\",SUMPRODUCT(--($C$7:$C$40=$C39),--($D$7:$D$40=$D39),--($E$7:$E$40=$E39),--($F$7:$F$40=$F39),--($G$7:$G$40=$G39),--($H$7:$H$40=$H39),--('Seznam družstev'!$H39 <'Seznam družstev'!$H$7:$H$40)),\"\")","v":""},{"$f":"IF(E39<>\"\",SUMPRODUCT(--($C$7:$C$40=$C39),--($D$7:$D$40=$D39),--($E$7:$E$40=$E39),--($F$7:$F$40=$F39),--($G$7:$G$40=$G39),--($H$7:$H$40=$H39),--($I$7:$I$40=$I39),--('Seznam družstev'!$G39 <'Seznam družstev'!$G$7:$G$40)),\"\")","v":""},{"$f":"IF(F39<>\"\",SUMPRODUCT(--($C$7:$C$40=$C39),--($D$7:$D$40=$D39),--($E$7:$E$40=$E39),--($F$7:$F$40=$F39),--($G$7:$G$40=$G39),--($H$7:$H$40=$H39),--($I$7:$I$40=$I39),--($J$7:$J$40=$J39), --('Seznam družstev'!$F39 <'Seznam družstev'!$F$7:$F$40)),\"\")","v":""},{"$f":"IF(F39<>\"\",SUMPRODUCT(--($C$7:$C$40=$C39),--($D$7:$D$40=$D39),--($E$7:$E$40=$E39),--($F$7:$F$40=$F39),--($G$7:$G$40=$G39),--($H$7:$H$40=$H39),--($I$7:$I$40=$I39),--($J$7:$J$40=$J39),--($K$7:$K$40=$K39), --('Seznam družstev'!$E39 <'Seznam družstev'!$E$7:$E$40)),\"\")","v":""},{"$f":"IF(F39<>\"\",SUMPRODUCT(--($C$7:$C$40=$C39),--($D$7:$D$40=$D39),--($E$7:$E$40=$E39),--($F$7:$F$40=$F39),--($G$7:$G$40=$G39),--($H$7:$H$40=$H39),--($I$7:$I$40=$I39),--($J$7:$J$40=$J39),--($K$7:$K$40=$K39),--($L$7:$L$40=$L39), --('Seznam družstev'!$D39 <'Seznam družstev'!$D$7:$D$40)),\"\")","v":""},{"$f":"IF(F39<>\"\",SUMPRODUCT(--($C$7:$C$40=$C39),--($D$7:$D$40=$D39),--($E$7:$E$40=$E39),--($F$7:$F$40=$F39),--($G$7:$G$40=$G39),--($H$7:$H$40=$H39),--($I$7:$I$40=$I39),--($J$7:$J$40=$J39),--($K$7:$K$40=$K39),--($L$7:$L$40=$L39), --($M$7:$M$40=$M39), --('Seznam družstev'!$N39 <'Seznam družstev'!$N$7:$N$40)),\"\")","v":""},"",{"$f":"IF(A39<>\"\",COUNTIF($O$7:$O39,$O39)-1,\"\")","v":""},""]
[{"$f":"'Seznam družstev'!B40","v":""},{"$f":"IF('Seznam družstev'!P40<>\"\", 0,'Seznam družstev'!C40)","v":""},"",{"$f":"IF(A40<>\"\",SUMPRODUCT(--($C$7:$C$40=$C40),--('Seznam družstev'!$M40 <'Seznam družstev'!$M$7:$M$40)),\"\")","v":""},{"$f":"IF(B40<>\"\",SUMPRODUCT(--($C$7:$C$40=$C40),--($D$7:$D$40=$D40),--('Seznam družstev'!$L40 <'Seznam družstev'!$L$7:$L$40)),\"\")","v":""},{"$f":"IF(C40<>\"\",SUMPRODUCT(--($C$7:$C$40=$C40),--($D$7:$D$40=$D40),--($E$7:$E$40=$E40),--('Seznam družstev'!$K40 <'Seznam družstev'!$K$7:$K$40)),\"\")","v":""},{"$f":"IF(D40<>\"\",SUMPRODUCT(--($C$7:$C$40=$C40),--($D$7:$D$40=$D40),--($E$7:$E$40=$E40),--($F$7:$F$40=$F40),--('Seznam družstev'!$J40 <'Seznam družstev'!$J$7:$J$40)),\"\")","v":""},{"$f":"IF(E40<>\"\",SUMPRODUCT(--($C$7:$C$40=$C40),--($D$7:$D$40=$D40),--($E$7:$E$40=$E40),--($F$7:$F$40=$F40),--($G$7:$G$40=$G40),--('Seznam družstev'!$I40 <'Seznam družstev'!$I$7:$I$40)),\"\")","v":""},{"$f":"IF(E40<>\"\",SUMPRODUCT(--($C$7:$C$40=$C40),--($D$7:$D$40=$D40),--($E$7:$E$40=$E40),--($F$7:$F$40=$F40),--($G$7:$G$40=$G40),--($H$7:$H$40=$H40),--('Seznam družstev'!$H40 <'Seznam družstev'!$H$7:$H$40)),\"\")","v":""},{"$f":"IF(E40<>\"\",SUMPRODUCT(--($C$7:$C$40=$C40),--($D$7:$D$40=$D40),--($E$7:$E$40=$E40),--($F$7:$F$40=$F40),--($G$7:$G$40=$G40),--($H$7:$H$40=$H40),--($I$7:$I$40=$I40),--('Seznam družstev'!$G40 <'Seznam družstev'!$G$7:$G$40)),\"\")","v":""},{"$f":"IF(F40<>\"\",SUMPRODUCT(--($C$7:$C$40=$C40),--($D$7:$D$40=$D40),--($E$7:$E$40=$E40),--($F$7:$F$40=$F40),--($G$7:$G$40=$G40),--($H$7:$H$40=$H40),--($I$7:$I$40=$I40),--($J$7:$J$40=$J40), --('Seznam družstev'!$F40 <'Seznam družstev'!$F$7:$F$40)),\"\")","v":""},{"$f":"IF(F40<>\"\",SUMPRODUCT(--($C$7:$C$40=$C40),--($D$7:$D$40=$D40),--($E$7:$E$40=$E40),--($F$7:$F$40=$F40),--($G$7:$G$40=$G40),--($H$7:$H$40=$H40),--($I$7:$I$40=$I40),--($J$7:$J$40=$J40),--($K$7:$K$40=$K40), --('Seznam družstev'!$E40 <'Seznam družstev'!$E$7:$E$40)),\"\")","v":""},{"$f":"IF(F40<>\"\",SUMPRODUCT(--($C$7:$C$40=$C40),--($D$7:$D$40=$D40),--($E$7:$E$40=$E40),--($F$7:$F$40=$F40),--($G$7:$G$40=$G40),--($H$7:$H$40=$H40),--($I$7:$I$40=$I40),--($J$7:$J$40=$J40),--($K$7:$K$40=$K40),--($L$7:$L$40=$L40), --('Seznam družstev'!$D40 <'Seznam družstev'!$D$7:$D$40)),\"\")","v":""},{"$f":"IF(F40<>\"\",SUMPRODUCT(--($C$7:$C$40=$C40),--($D$7:$D$40=$D40),--($E$7:$E$40=$E40),--($F$7:$F$40=$F40),--($G$7:$G$40=$G40),--($H$7:$H$40=$H40),--($I$7:$I$40=$I40),--($J$7:$J$40=$J40),--($K$7:$K$40=$K40),--($L$7:$L$40=$L40), --($M$7:$M$40=$M40), --('Seznam družstev'!$N40 <'Seznam družstev'!$N$7:$N$40)),\"\")","v":""},"",{"$f":"IF(A40<>\"\",COUNTIF($O$7:$O40,$O40)-1,\"\")","v":""},""]